{"text_format":"1","workbook":"xlsx","n_sheets":31,"sheets":["Периметр ГК_4 кв_2020 предвар","1С 30.09","ФСД 30.09","ФСД 30.06","1C ","Периметр АЭПК_3_кв_ 2017","Периметр ГК","Лист6","Лист4","Список_компаний","Лист8","Лист7","Периметр АЭПК_2_кв_ 2017","Периметр АЭПК_1_кв_ 2017","Периметр АЭПК_4_кв_ 2016","Периметр ГК_4_кв_ 2016","Периметр АЭПК_3_кв_ 2016","Периметр АЭПК_2_кв_ 2016 ","Периметр АЭПК_1_кв_ 2016","Эффект доли 2015","Периметр АЭПК 9 месяцев 2015","Периметр АЭПК 6 месяцев 2015","Периметр АЭПК 3 месяца 2015","Периметр АЭПК 2013","Периметр АЭПК 1 полугодие 2014","Периметр АЭПК 9 месяцев 2014","Периметр АЭПК 12 месяцев 2014","Периметр АЭПК  2015","Лист1","Лист2","Лист3"],"not_rendered":{"charts":0,"images":0,"macros":0,"external_links":7,"defined_names":135,"comments":0,"pivot_tables":0},"unopened":[],"bounds":{"document_bytes":16777216,"sheet_cells":100000,"rows_first":2000,"rows_last":500,"rows_between":2000,"halvings":0,"cell_chars":16384,"cell_head_chars":4096},"cells_cut":0,"cells_raw":0,"read":"whole","date_system":"1900"}

{"sheet":"Периметр ГК_4 кв_2020 предвар","index":0,"n_rows":205,"n_cols":6,"rows_kept":205,"cut":false,"hidden":false,"merged":[]}
["№","Сокращенное название","ИНН","ГИД НСИ","Номер ЦФО","Полное название"]
[1,"ARAKO","CZ47152371",104,2010230922,"ARAKO spol. s r.o."]
[2,"EMSS Holdings","HE 245521",219340,2010230948,"EMSS Holdings Limited (ЭМСС ХОЛДИНГЗ ЛИМИТЕД)"]
[3,"Ganz","10806481-2-42",141186,2010820100,"Ganz Energetika Kft. ООО «Ганз Инженерное и Энергетическое Машиностроение»"]
[4,"INTERNEXCO GmbH (Швейцария)","CHE-255.290.400",407428,2010241000,"INTERNEXCO GmbH (Швейцария)"]
[5,"KWINDER HOLDINGS LIMITED",9909448220,219342,2010240310,"KWINDER HOLDINGS LIMITED"]
[6,"Mantra Resources Ltd.",833296300,193128,2010021600,"Mantra Resources Pty Ltd."]
[7,"NUKEM","204/115/21479",276,2010450107,"NUKEM Technologies GmbH"]
[8,"Nukem Technologies","204/115/21517",360342,2010450112,"Nukem Technologies Engineering Services GmbH"]
[9,"RAOS Project",386588,386588,2010932000,"RAOS Project Oy"]
[10,"RAOS Voima","2596476-2",340080,2010931000,"RAOS Voima Oy"]
[11,"REIN",7706759586,215514,2010930000,"АО \"Русатом Энерго Интернешнл\""]
[12,"ROSATOM FINANCE",9909431723,206017,2010940000,"ROSATOM FINANCE LTD (Росатом Финанс ЛТД)"]
[13,"TENEX-Japan",379387,126,2010241400,"KABUSHIKI KAISHA TENEX-JAPAN"]
[14,"TENEX-Korea","120-86-48471",125,2010241300,"TENEX-Korea Co., Ltd."]
[15,"TENEX-USA","68-068-0771",185864,2010242500,"TENEX-USA, Incorporated"]
[16,"TRADEWILL LIMITED","GB987386840",268,2010242400,"TRADEWILL LIMITED"]
[17,"UMATEX Composite Materials Trading","91310000MA1FW5B51F",513685,2010244200,"UMATEX Composite Materials Trading (Shanghai) Co.,Ltd."]
[18,"UMATEX Group Europe","CZ05556121",513680,2010243200,"UMATEX Group Europe s.r.o."]
[19,"UMP Trading","903.1.000.8205",389124,2010230952,"UMP Trading (Швейцария)"]
[20,"Uranium","88897 7170 RC0001",154744,2010021500,"Uranium One Inc."]
[21,"Uranium One Holding N.V.",817104549,254,2010021200,"Uranium One Holding N.V."]
[22,"Uranium One Trading AG","CHE-233.935.921 ",484676,2010021506,"Uranium One Trading AG"]
[23,"Аккую Нуклеар",310546698,261459,2010450108,"\"AKKUYU NUKLEER ANONIM SIRKETI\""]
[24,"АЛАБУГА-ВОЛОКНО",1646031132,228298,2010242201,"ООО \"Алабуга-Волокно\""]
[25,"Аргон",6454074501,121,2010240800,"ООО \"Аргон\""]
[26,"АРМЗ",7706016076,17,2010020000,"АО \"Атомредметзолото\""]
[27,"АРМЗ-Сервис",7708671295,24,2010020602,"ООО \"АРМЗ Сервис\""]
[28,"АСЭ",7701186067,153,2010450100,"АО \"Атомстройэкспорт\""]
[29,"АТА",7724560930,251,2010010000,"АО \"Альянстрансатом\""]
[30,"АТМ",7734242302,97,2010230915,"АО \"Атомтрубопроводмонтаж\""]
[31,"Атом-охрана",7734423210,592830,6020000000,"Акционерное общество \"Ведомственная охрана Росатома\""]
[32,"Атомбезопасность",7726447835,587324,3040000000,"Акционерное общество \"Координационный Центр по созданию систем безопасности и управления \"Атомбезопасность\""]
[33,"Атомгарант",9709035592,565061,2010592600,"АО \"НПФ Атомгарант\""]
[34,"Атомзащитаинформ",7706469319,593077,3070000000,"Акционерное общество \"Научно-технический и сертификационный центр по комплексной защите информации\""]
[35,"АтомКапитал",7706792008,308377,2010110000,"АО \"АтомКапитал\""]
[36,"Атомкомплект",7706738770,336,6090000000,"АО \"Атомкомплект\""]
[37,"АтомМедТехнолоджи-ДВ",2536279414,385789,2010933000,"ООО \"АтомМедТехнолоджи- Дальний Восток\""]
[38,"АТОМПРОЕКТ",7814417371,158,2010460000,"АО \"Научно-исследовательский и проектно-конструкторский институт энергетических технологий \"АТОМПРОЕКТ\""]
[39,"Атомспецтранс",7717609102,140,2010340000,"АО \"Атомспецтранс\""]
[40,"Атомтехэкспорт",7705408850,343,2010591900,"АО \"Атомтехэкспорт\""]
[41,"Атомтехэнерго",5029106714,141,2010350000,"АО по наладке, совершенствованию эксплуатации и организации управления атомных станций \"Атомтехэнерго\""]
[42,"Атомфлот",5192110268,230,3100000000,"ФГУП атомного флота (ФГУП \"Атомфлот\")"]
[43,"Атомфонд",9705044518,434693,2010592700,"АО НПФ «Атомфонд»"]
[44,"Атомэнергомаш",7706614573,88,2010230900,"АО \"Атомное и энергетическое машиностроение\" (АО \"Атомэнергомаш\")"]
[45,"Атомэнергопромсбыт",7725828549,365478,2010591320,"АО \"Атомэнергопромсбыт\""]
[46,"Атомэнергоремонт",5029112443,296,2010590700,"АО \"Атомэнергоремонт\""]
[47,"Атомэнергосбыт",7704228075,172,2010591300,"АО \"АтомЭнергоСбыт\""]
[48,"АТЦ СПб",7802687430,592431,3010000000,"Акционерное общество \"АВАРИЙНО-ТЕХНИЧЕСКИЙ ЦЕНТР РОСАТОМА\""]
[49,"АЭМ-технологии",7817311895,353,2010230904,"АО Инжиниринговая компания \"АЭМ-технологии\""]
[50,"АЭП",7701796320,143,2010360000,"АО  \"Атомэнергопроект\""]
[51,"АЭХК",3801098402,144,2010370000,"АО \"Ангарский электролизный химический комбинат\""]
[52,"Балтийская АЭС",3904612644,360,2010592100,"АО \"Балтийская АЭС\""]
[53,"ВДМУ",6143066681,303,2010620300,"ООО \"Волгодонское Монтажное Управление\""]
[54,"ВетроОГК",5036118291,261160,2010230956,"АО \"Ветроэнергетическая отдельная генерирующая компания\""]
[55,"ВетроОГК-2",9701098248,535643,2010230957,"АО  «Ветроэнергетическая отдельная генерирующая компания-2»"]
[56,"ВНИИА",7707074137,2,1020000000,"ФГУП \"Всероссийский научно-исследовательский институт автоматики им. Н.Л. Духова\""]
[57,"ВНИИАЭС",7721247141,348,2010591800,"АО\"Всеросийский научно-исследовательский институт по эксплуатации атомных электростанций\""]
[58,"ВНИИНМ",7734598490,148,2010400000,"Акционерное общество \"Высокотехнологический научно-исследовательский институт неорганических материалов имени академика А.А. Бочвара\""]
[59,"ВНИИХТ",7724675770,272,2010420000,"АО \"Ведущий научно-исследовательский институт химической технологии (ВНИИХТ)\""]
[60,"ВНИИЭФ",5254001230,14,1150000000,"ФГУП \"Российский федеральный ядерный центр–Всероссийский научно- исследовательский институт экспериментальной физики\" (ФГУП \"РФЯЦ-ВНИИЭФ\")"]
[61,"ВНИПИПромтехнологии",7724683379,150,2010430000,"АО \"Ведущий проектно-изыскательский и научно-исследовательский институт промышленной технологии\""]
[62,"ВО Изотоп",7704674312,145,2010380000,"АО \"Всерегиональное объединение \"Изотоп\""]
[63,"Гидрографическое предприятие",7812022096,192162,4190000000,"ФГУП «Гидрографическое предприятие»"]
[64,"Гидропресс",5036092340,184,2010710000,"АО \"Ордена Трудового Красного Знамени и ордена труда ЧССР - опытное конструкторское бюро \"ГИДРОПРЕСС\""]
[65,"Гиредмет",7706699062,279,2010470000,"АО \"Государственный научно-исследовательский проектный институт редкометаллической промышленности \"Гиредмет\""]
[66,"Гринатом",7706729736,246,2010900000,"АО \"Гринатом\""]
[67,"ГСПИ",7708697977,162,2010500000,"АО \"Государственный специализированный проектный институт\" (АО \"ГСПИ\")"]
[68,"ГХК",2452000401,222,3020000000,"ФГУП \"Горно-химический комбинат\""]
[69,"Далур",4506004751,87,2010230800,"АО \"Далур\""]
[70,"Дедал",5010036460,281,2010510000,"АО \"Научно-производственный комплекс \"Дедал\""]
[71,"ДЕЗ",7706730001,347,2010890000,"АО \"Дирекция Единого Заказа оборудования для АЭС\""]
[72,"ЗАЭС",7701763846,152,2010450000,"АО \"Всероссийское производственное объединение \"Зарубежатомэнергострой\" (АО \"ВПО \"ЗАЭС\")"]
[73,"ЗиО-Подольск",5036040729,100,2010230918,"ПАО \"Машиностроительный завод \"ЗиО Подольск\""]
[74,"ЗУКМ",7450045935,127,2010241600,"ООО \"Завод углеродных и композиционных материалов\""]
[75,"ИиС РФЯЦ - ВНИИЭФ",5254491506,481838,1150000006,"АО \"Инфраструктура и Сервис РФЯЦ - ВНИИЭФ\""]
[76,"ИК АСЭ",5260214123,176,2010620000,"АО Инжиниринговая компания \"АСЭ\""]
[77,"Инжект",6453142068,431594,2010601001,"ООО \"Научно-производственное предприятие «Инжект»"]
[78,"ИРМ",6639019655,163,2010540000,"АО \"Институт реакторных материалов\""]
[79,"Искра",2453014750,339,2010230001,"ООО \"Искра\""]
[80,"ИЦ РГЦ",7706689000,134,2010242300,"АО \"Инжиниринговый центр \"Русская газовая центрифуга\""]
[81,"КМЗ",3305004397,119,2010240600,"ПАО \"Ковровский механический завод\""]
[82,"Консист-ОС",7711077412,285,2010590317,"АО \"Консист-Оператор-Связи\""]
[83,"КОНЦЕРН ТИТАН-2",7827004484,116493,2010592500," АО\"КОНЦЕРН ТИТАН-2\""]
[84,"Красная Звезда",7726682003,217178,2010600000,"АО \"Красная Звезда\""]
[85,"Краун",7705833438,123,2010241100,"ООО \"Краун\""]
[86,"КЦ",7715020463,113,2010231300,"ПУБЛИЧНОЕ АКЦИОНЕРНОЕ ОБЩЕСТВО \"КОММЕРЧЕСКИЙ ЦЕНТР\""]
[87,"ЛЦ ЯТЦ",7706801975,329348,3090000000,"Акционерное общество \"ЛОГИСТИЧЕСКИЙ ЦЕНТР ЯТЦ\""]
[88,"Марс",7707058167,249966,1190000000,"ФГУП «Московское опытно-конструкторское бюро «Марс»"]
[89,"Маяк",7422000795,6,1070000000,"ФГУП \"Производственное объединение \"Маяк\""]
[90,"МЗП",7724558466,30,2010100000,"АО \"Московский завод полиметаллов\""]
[91,"Молния",7721730486,214196,2010740000,"АО \"Производственное объединение \"Машиностроительный завод \"Молния\""]
[92,"МСЗ",5053005918,46,2010230100,"ПАО \"Машиностроительный завод\""]
[93,"МСЗ-М",5053066861,59,2010230115,"ООО \"МСЗ-МЕХАНИКА\""]
[94,"Наука и инновации",7706760091,215181,4010000100,"АО \"Наука и инновации\""]
[95,"НЗХК",5410114184,61,2010230200,"ПАО \"Новосибирский завод химконцентратов\""]
[96,"НЗХК-Инструмент",5410021660,67,2010230207,"ООО \"НЗХК-Инструмент\""]
[97,"НЗХК-Энергия",5410028351,70,2010230210,"ООО \"НЗХК-Энергия\""]
[98,"НИИАР",7302040242,159,2010480000,"АО Государственный научный центр - Научно-исследовательский институт атомных реакторов (АО \"ГНЦ НИИАР\")"]
[99,"НИИАР-Генерация",7329008990,304288,2010970000,"ООО «НИИАР-ГЕНЕРАЦИЯ»"]
[100,"НИИГрафит",7720723422,219385,2010630000,"АО \"Государственный научно-исследовательский институт конструкционных материалов на основе графита \"НИИграфит\""]
[101,"НИИП",5027241394,449522,4070000000,"АО \"Научно-исследовательский институт приборов\""]
[102,"НИИТФА",7726606316,149,2010410000,"АО \"Научно-исследовательский институт технической физики и автоматизации (НИИТФА)\""]
[103,"НИИЭФА",7817331468,340028,4080000000,"АО «НИИЭФА им. Д.В. Ефремова»"]
[104,"НИКИМТ-Атомстрой",7715719854,164,2010550000,"АО \"НИКИМТ \"Атомстрой\""]
[105,"НИКИЭТ",7708698473,304,2010650000,"АО «Ордена Ленина Научно-исследовательский и конструкторский институт энерготехники имени Н.А. Доллежаля»"]
[106,"НИТИ",4714000067,240,4090000000,"ФГУП \"Научно-исследовательский технологический институт имени А.П. Александрова\""]
[107,"НИФХИ",7709944065,340270,4140000000,"АО \"Ордена Трудового Красного Знамени Научно-исследовательский физико-химический институт имени Л.Я. Карпова\" (НИФХИ)"]
[108,"НО РАО",5838009089,242,4110000000,"ФГУП \"Национальный оператор по обращению с радиоактивными отходами\""]
[109,"НоваВинд",9701087623,517363,2019000000,"АО «НоваВинд»"]
[110,"НПК ХПИ",7706688991,133,2010242200,"АО \"НПК \"Химпроминжиниринг\""]
[111,"НПО Луч",5036005308,237,4060000000,"ФГУП \"Научно-исследовательский институт Научно-производственное объединение \"Луч\""]
[112,"НПО РИ",7802846922,338909,4010000000,"АО \"Радиевый институт им. В.Г. Хлопина\""]
[113,"НПО Центротех",6629020796,129,2010241800,"ООО \"Научно-производсвенное объединение\"Центротех\"\""]
[114,"НТЦ ЯФИ",7802441926,182,2010690000,"АО \"Научно-технический центр \"Ядерно-физические исследования\""]
[115,"Обесп РФЯЦ-ВНИИЭФ",5254081010,32,2010150000,"АО \"Обеспечение РФЯЦ-ВНИИЭФ\""]
[116,"ОДЦ УГР",7024033350,177333,2010780500,"АО \"Опытно-демонстрационный центр вывода из эксплуатации уран-графитовых ядерных реакторов\""]
[117,"ОИК",7706751361,367,2010910000,"ООО \"Объединенная инновационная корпорация\""]
[118,"ОК РСК",7706704146,204,2010860000,"АО \"Объединенная компания “Разделительно-сублиматный комплекс”"]
[119,"ОКБМ",5259077666,185,2010720000,"АО \"Опытное Конструкторское Бюро Машиностроения имени И.И. Африкантова\""]
[120,"Первая горнорудная компания",7703197508,298588,2010021800,"АО «Первая горнорудная компания»"]
[121,"ПО Север",5410079229,592356,1080000000,"Акционерное общество \"Производственное Объединение \"Север\""]
[122,"ППГХО",7530000048,84,2010230400,"ПАО \"Приаргунское производственное горно-химическое объединение\""]
[123,"Препрег-Дубна",5010043203,319635,2010253100,"ООО \"Препрег-Дубна\""]
[124,"Препрег-СКМ",7729632610,223386,2010252100,"АО \"Препрег – Современные Композиционные Материалы\""]
[125,"Промышленные инновации",7725524660,112,2010231200,"АО \"Промышленные инновации\""]
[126,"ПРОРЫВ",7708332920,555845,2010880000,"АО \"Прорыв\""]
[127,"ПСЗ",7405000428,9,1100000000,"ФГУП \"Приборостроительный завод\""]
[128,"ПСР",7721699740,368,2010592000,"АО \"Производственная система \"ПСР\""]
[129,"РАДОН",7704009700,133437,3110000000,"ФГУП \"РАДОН\""]
[130,"РАОС",7725413350,532934,2010230912,"АО \"Русатом Оверсиз\""]
[131,"РАСУ",7734358970,417501,2010990000," АО \"Русатом Автоматизированные системы управления\""]
[132,"РБМ",7713190205,23,2010020600,"АО \"РУСБУРМАШ\""]
[133,"РИР",7706757331,208117,2010920000,"Акционерное общество \"Русатом Инфраструктурные решения\""]
[134,"РИР-Лесной",6681010060,567019,2021000100,"ООО \"Русатом Инфраструктурные решения-Лесной\""]
[135,"РИР-Саров",5254493302,576325,2021000200,"ООО \"Инфраструктурные решения – город Саров» "]
[136,"Росэнергоатом",7721632827,166,2010590000,"АО \"Российский концерн по производству электрической и тепловой энергии на атомных станциях \"Росэнергоатом\""]
[137,"РСП",7726667090,198346,4180000000,"АО \"Русский сверхпроводник \""]
[138,"Русатом Вотэр Азия",0,595632,2021000400,"ТОО \"СП \"Русатом Вотэр Азия\""]
[139,"Русатом Гринвэй",9706006265,650467,2011900000,"АО \"Русатом Гринвэй\""]
[140,"Русатом Сервис",7705966318,224845,2010592200,"АО \"Русатом Сервис\""]
[141,"Русреактор",7726367354,430687,2010991000,"АО \"Русатом растворные реакторы\""]
[142,"РХК",7726396281,486175,2011000000,"АО \"Русатом Хэлскеа\""]
[143,"РЦП",7017465328,624150,2021000500,"ООО \"Региональные цифровые платформы\""]
[144,"РЭМКО",5036076690,95,2010230911,"АО \"Русская ЭнергоМашиностроительная Компания\""]
[145,"С-плюс",7720325407,428981,2010630100,"Общество с ограниченной ответственностью \"С- плюс\""]
[146,"Сайпрус",9909449262,98,2010230916,"ATOMENERGOMASH CYPRUS LIMITED ЧК \"Атомэнергомаш Сайпрус Лимитед\""]
[147,"СвердНИИхиммаш",6664003909,41,2010200000,"АО \"Свердловский научно-исследовательский институт химического машиностроения (\"СвердНИИхиммаш\")\""]
[148,"СГК",5254082550,35,2010150300,"АО \"Саровская Генерирующая Компания\""]
[149,"СЕЗАМ",6916000521,132117,2010450114,"АО «СЕЗАМ» "]
[150,"СМБ",7706433961,431962,2010992000,"ООО \"Системы Мониторинга \"Беркут\""]
[151,"СМУ№1ооо",5260234539,301,2010620100,"ООО \"Строительно-монтажное управление № 1\""]
[152,"СНИИП",7734592593,179,2010660000,"АО \"Специализированный научно-исследовательский институт приборостроения\" (АО \"СНИИП\")"]
[153,"СПб ИЗОТОП",7840393624,189,2010750000,"АО \"Санкт-Петербургский \"ИЗОТОП\""]
[154,"СТСК",5254082630,34,2010150200,"АО \"Саровская Теплосетевая Компания\""]
[155,"СХК",7024029499,192,2010780000,"АО \"Сибирский химический комбинат\""]
[156,"СЭСК",5254082581,33,2010150100,"АО \"Саровская Электросетевая Компания\""]
[157,"ТВЭЛ",7706123550,45,2010230000,"АО \"ТВЭЛ\""]
[158,"ТВЭЛ-Строй",7726523814,111,2010231100,"АО \"ТВЭЛ-СТРОИ\""]
[159,"ТЕНЕКС-Сервис",7706604582,267,2010240100,"АО \"ТЕНЕКС-Сервис\""]
[160,"Тепловодоканал",1837004370,77,2010230306,"ООО \"Тепловодоканал\""]
[161,"Технопарк-Технология",5216017711,331,4150000000,"АО \"Технопарк-Технология\""]
[162,"Техснабэкспорт",7706039242,114,2010240000,"АО \"Техснабэкспорт\""]
[163,"Точмаш",3329051460,151,2010440000,"АО \"Владимирское производственное объединение \"Точмаш\""]
[164,"Точмаш-авто",3329064483,201363,2010440300,"ООО \"Точмаш-авто\""]
[165,"Трест РСЭМ",6916013425,132192,2010620400,"ООО \"Трест Росспецэнергомонтаж\""]
[166,"ТРИНИТИ",7751002460,391705,4030000000,"АО \"Государственный научный центр Российской Федерации Троицкий институт инновационных и термоядерных исследований\""]
[167,"ТЦ ТЕНЕКС",7706609414,115,2010240200,"ЗАО \"Технологический центр \"ТЕНЕКС\""]
[168,"УАЗ",7706804447,339228,6010000000,"АО \"Управление административными зданиями\""]
[169,"УК Нижние котлы",7726390113,470332,2010411000,"АО \"Управляющая компания индустриального парка \"Нижние котлы\""]
[170,"УУГ",7706641432,18,2010020100,"АО \"Ураниум Уан Груп\""]
[171,"УЭМЗ",6670480610,592328,1120000000,"Акционерное общество \"Уральский электромеханический завод\""]
[172,"УЭХК",6629022962,196,2010800000,"АО \"Уральский электрохимический комбинат\""]
[173,"ФЭИ",4025442583,390564,4040000000,"АО \"Государственный научный центр Российской Федерации - Физико-энергетический институт имени А.И. Лейпунского\""]
[174,"ФЭО",4714004270,231,3260000000,"ФГУП \"Федеральный экологический оператор\""]
[175,"Хиагда","0302001219",86,2010230700,"АО \"Хиагда\""]
[176,"ХК АЭМ",9705144030,648784,2011400000,"ООО «Холдинговая компания АЭМ»"]
[177,"ЦВТД",7726750415,366881,2010911000,"ООО «Центр высокотехнологичной диагностики»"]
[178,"ЦентрАтом",7706723156,329,2010870000,"АО \"Центр управления непрофильными активами атомной отрасли\""]
[179,"ЦКБМ",7806394392,197,2010820000,"АО \"Центральное конструкторское бюро машиностроения\""]
[180,"ЦНИИТМАШ",7723564851,31,2010140000,"АО \"Научно-производственное объединение \"Центральный научно-исследовательский институт технологии машиностроения\""]
[181,"ЦОУ",3801085668,122,2010240900,"АО \"Центр по обогащению урана\""]
[182,"ЦПиРУГ",9706002422,616475,2021000000,"Акционерное общество \"ЦИФРОВЫЕ ПЛАТФОРМЫ И РЕШЕНИЯ УМНОГО ГОРОДА\" "]
[183,"ЧМЗ",1829008035,71,2010230300,"АО \"Чепецкий механический завод\""]
[184,"ЧУ ПЦИТЭР",7734269417,204687,5160000000,"Частное учреждение \"Проектный центр ИТЭР\" "]
[185,"ЭГМК",1402047530,21,2010020400,"АО \"Эльконский горно-металлургический комбинат\""]
[186,"Экоальянс",6629026420,190116,2010800800,"ООО \"Экоальянс\""]
[187,"Эксп №2",2901255495,390341,1140000000,"АО \"Экспедиция № 2\""]
[188,"Элерон",7724313681,396021,4100000000,"АО \"Специальное научно-производственное объединение \"Элерон\""]
[189,"Энергомашспецсталь",2106005156,361,2010230943,"ПАО \"Энергомашспецсталь\""]
[190,"Энергоспецмонтаж",7718083574,136,2010270000,"ПАО \"Энергоспецмонтаж\""]
[191,"ЭНИЦ",5035037441,198,2010830000,"АО \"Электрогорский научно-исследовательский центр по безопасности атомных электростанций\""]
[192,"ЭХЗ",2453013555,200,2010840000,"АО \"Производственное объединение \"Электрохимический завод\""]
[193,"ЯМТ-Снежинск",7459003496,387083,2010912000,"ООО \"Ядерные медицинские технологии-Снежинск\""]
[194,"TITAN2 IC",821101,579950,2010592510,"TITAN2 IC ICTAS INSAAT ANONIM SIRKETI"]
[195,"ВНИИТФ",7423000572,10,1110000000,"ФГУП \"Российский Федеральный Ядерный Центр - Всероссийский научно-исследовательский институт технической физики имени академика Е.И. Забабахина\""]
[196,"Старт",5838013374,540737,1090000000,"АО \"Федеральный научно-производственный центр \"Производственное объединение \"Старт\" имени М.В. Проценко\""]
[197,"ПО Север",5410079229,592356,1080000000,"Акционерное общество \"Производственное Объединение \"Север\""]
[198,"ЭХП",6630002336,5,1050000000,"ФГУП \"Комбинат \"Электрохимприбор\""]
[199,"АЭПК",7706664260,16,2010000000,"АО \"Атомный энергопромышленный комплекс\" (АО \"Атомэнергопром\")"]
[200,"Госкорпорация Росатом",7706413348,250,"0000000002","Государственная корпорация по атомной энергии \"Росатом\""]
[201,"ИФТП",5010036527,284,2010560000,"АО \"Институт физико-технических проблем\""]
[202,"Русатом Карго",9706000986,603433,2011000005,"ООО «Русатом Карго»"]
[203,"РЦР",7726447225,586362,2011000003,"ООО \"Русатом-Цифровые решения\""]
[204,"ЧУ Наука и Инновации",9706001411,609862,4010000200,"ЧАСТНОЕ УЧРЕЖДЕНИЕ ПО ОБЕСПЕЧЕНИЮ НАУЧНОГО РАЗВИТИЯ АТОМНОЙ ОТРАСЛИ \"НАУКА И ИННОВАЦИИ\""]

{"sheet":"1С 30.09","index":1,"n_rows":153,"n_cols":38,"rows_kept":153,"cut":false,"hidden":true,"merged":[]}
["N","Организация","Метод консолидации","Комментарий","Версия состава собственников","Индекс контроля в периоде","Дата вхождения в периметр","Валюта показателей","Чистые активы на начало периода","Чистые активы на конец периода","Чистые активы оборот","Полная доля владения на начало периода","Полная доля владения на конец периода","Полная доля владения оборот","Денежный эквивалентв ч а на начало периода","Денежный эквивалентв ч а на конец периода","Денежный эквивалентв ч а оборот","Гудвилл на начало периода","Гудвилл на конец периода","Гудвилл оборот","Инвестиции на начало периода","Инвестиции на конец периода","Инвестиции оборот","Процент привилегированных акций на начало периода","Процент привилегированных акций на конец периода","Процент привилегированных акций оборот","Период на момент приобретения","Период на момент выбытия","Сценарий на момент приобретения","Сценарий на момент выбытия","Предыдущий метод консолидации","Дата потери контроля","Валюта организации","Признак2","Группа трансформации","Тип контроля","Контролируемая доля владения","Доля прочих владельцев"]
[1,"ARAKO","Полная",{"$f":"VLOOKUP(B2,#REF!,2,0)","v":{"$error":"#REF!"}},"2010230922 ARAKO",0,"01.01.0001 0:00:00",null,0,0,0,0,100,100,0,0,0,0,0,0,0,0,0,0,0,0,null,null,null,null,null,"01.01.0001 0:00:00",null,null,null,null,76.459999999999994,0]
[2,"EMSS Holdings","Полная",{"$f":"VLOOKUP(B3,#REF!,2,0)","v":{"$error":"#REF!"}},"2010230948 EMSS Holdings",0,"01.01.0001 0:00:00",null,0,0,0,0,50.0002,50.0002,0,0,0,0,0,0,0,0,0,0,0,0,null,null,null,null,null,"01.01.0001 0:00:00",null,null,null,null,50,0]
[3,"Ganz","Полная",{"$f":"VLOOKUP(B4,#REF!,2,0)","v":{"$error":"#REF!"}},"2010820100 Ganz",0,"01.01.0001 0:00:00",null,0,0,0,0,100,100,0,0,0,0,0,0,0,0,0,0,0,0,null,null,null,null,null,"01.01.0001 0:00:00",null,null,null,null,100,0]
[4,"INTERNEXCO GmbH (Швейцария)","Полная",{"$f":"VLOOKUP(B5,#REF!,2,0)","v":{"$error":"#REF!"}},"2010241000 INTERNEXCO GmbH (Швейцария)",0,"01.01.0001 0:00:00",null,0,0,0,0,100,100,0,0,0,0,0,0,0,0,0,0,0,0,null,null,null,null,null,"01.01.0001 0:00:00",null,null,null,null,100,0]
[5,"KWINDER HOLDINGS LIMITED","Полная",{"$f":"VLOOKUP(B6,#REF!,2,0)","v":{"$error":"#REF!"}},"2010240310 KWINDER HOLDINGS LIMITED",0,"01.01.0001 0:00:00",null,0,0,0,0,100,100,0,0,0,0,0,0,0,0,0,0,0,0,null,null,null,null,null,"01.01.0001 0:00:00",null,null,null,null,100,0]
[6,"Mantra Resources Ltd.","Полная",{"$f":"VLOOKUP(B7,#REF!,2,0)","v":{"$error":"#REF!"}},"2010021600 Mantra Resources Ltd.",0,"01.01.0001 0:00:00",null,0,0,0,0,98.898700000000005,98.898700000000005,0,0,0,0,0,0,0,0,0,0,0,0,null,null,null,null,null,"01.01.0001 0:00:00",null,null,null,null,86.09,0]
[7,"RAOS Project","Полная",{"$f":"VLOOKUP(B8,#REF!,2,0)","v":{"$error":"#REF!"}},"2010932000 RAOS Project",0,"01.01.0001 0:00:00",null,0,0,0,0,62.789200000000001,62.789200000000001,0,0,0,0,0,0,0,0,0,0,0,0,null,null,null,null,null,"01.01.0001 0:00:00",null,null,null,null,100,0]
[8,"RAOS Voima","Полная",{"$f":"VLOOKUP(B9,#REF!,2,0)","v":{"$error":"#REF!"}},"2010931000 RAOS Voima",0,"01.01.0001 0:00:00",null,0,0,0,0,62.789200000000001,62.789200000000001,0,0,0,0,0,0,0,0,0,0,0,0,null,null,null,null,null,"01.01.0001 0:00:00",null,null,null,null,100,0]
[9,"REIN","Полная",{"$f":"VLOOKUP(B10,#REF!,2,0)","v":{"$error":"#REF!"}},"2010930000 REIN",0,"01.01.0001 0:00:00",null,0,0,0,0,62.789200000000001,62.789200000000001,0,0,0,0,0,0,0,0,0,0,0,0,null,null,null,null,null,"01.01.0001 0:00:00",null,null,null,null,62.79,0]
[10,"ROSATOM FINANCE","Полная",{"$f":"VLOOKUP(B11,#REF!,2,0)","v":{"$error":"#REF!"}},"2010940000 ROSATOM FINANCE",0,"01.01.0001 0:00:00",null,0,0,0,0,100,100,0,0,0,0,0,0,0,0,0,0,0,0,null,null,null,null,null,"01.01.0001 0:00:00",null,null,null,null,100,0]
[11,"TENAM","Полная",{"$f":"VLOOKUP(B12,#REF!,2,0)","v":{"$error":"#REF!"}},"2010242500 TENAM",0,"01.01.0001 0:00:00",null,0,0,0,0,100,100,0,0,0,0,0,0,0,0,0,0,0,0,null,null,null,null,null,"01.01.0001 0:00:00",null,null,null,null,100,0]
[12,"TENEX-Japan","Полная",{"$f":"VLOOKUP(B13,#REF!,2,0)","v":{"$error":"#REF!"}},"2010241400 TENEX-Japan",0,"01.01.0001 0:00:00",null,0,0,0,0,100,100,0,0,0,0,0,0,0,0,0,0,0,0,null,null,null,null,null,"01.01.0001 0:00:00",null,null,null,null,100,0]
[13,"TENEX-Korea","Полная",{"$f":"VLOOKUP(B14,#REF!,2,0)","v":{"$error":"#REF!"}},"2010241300 TENEX-Korea",0,"01.01.0001 0:00:00",null,0,0,0,0,100,100,0,0,0,0,0,0,0,0,0,0,0,0,null,null,null,null,null,"01.01.0001 0:00:00",null,null,null,null,100,0]
[14,"TRADEWILL LIMITED","Полная",{"$f":"VLOOKUP(B15,#REF!,2,0)","v":{"$error":"#REF!"}},"2010242400 TRADEWILL LIMITED",0,"01.01.0001 0:00:00",null,0,0,0,0,100,100,0,0,0,0,0,0,0,0,0,0,0,0,null,null,null,null,null,"01.01.0001 0:00:00",null,null,null,null,100,0]
[15,"UMATEX Composite Materials Trading","Полная",{"$f":"VLOOKUP(B16,#REF!,2,0)","v":{"$error":"#REF!"}},"2010244200 UMATEX Composite Materials Trading",0,"01.01.0001 0:00:00",null,0,0,0,0,76.883200000000002,76.883200000000002,0,0,0,0,0,0,0,0,0,0,0,0,null,null,null,null,null,"01.01.0001 0:00:00",null,null,null,null,100,0]
[16,"UMATEX Group Europe","Полная",{"$f":"VLOOKUP(B17,#REF!,2,0)","v":{"$error":"#REF!"}},"2010243200 UMATEX Group Europe",0,"01.01.0001 0:00:00",null,0,0,0,0,76.883200000000002,76.883200000000002,0,0,0,0,0,0,0,0,0,0,0,0,null,null,null,null,null,"01.01.0001 0:00:00",null,null,null,null,100,0]
[17,"UMP Trading","Полная",{"$f":"VLOOKUP(B18,#REF!,2,0)","v":{"$error":"#REF!"}},"2010230952 UMP Trading",0,"01.01.0001 0:00:00",null,0,0,0,0,50.0002,50.0002,0,0,0,0,0,0,0,0,0,0,0,0,null,null,null,null,null,"01.01.0001 0:00:00",null,null,null,null,100,0]
[18,"Uranium","Полная",{"$f":"VLOOKUP(B19,#REF!,2,0)","v":{"$error":"#REF!"}},"2010021500 Uranium",0,"01.01.0001 0:00:00",null,0,0,0,0,99.733400000000003,99.733400000000003,0,0,0,0,0,0,0,0,0,0,0,0,null,null,null,null,null,"01.01.0001 0:00:00",null,null,null,null,100,0]
[19,"Uranium One Holding N.V.","Полная",{"$f":"VLOOKUP(B20,#REF!,2,0)","v":{"$error":"#REF!"}},"2010021200 Uranium One Holding N.V.",0,"01.01.0001 0:00:00",null,0,0,0,0,99.733400000000003,99.733400000000003,0,0,0,0,0,0,0,0,0,0,0,0,null,null,null,null,null,"01.01.0001 0:00:00",null,null,null,null,100,0]
[20,"Uranium One Trading AG","Полная",{"$f":"VLOOKUP(B21,#REF!,2,0)","v":{"$error":"#REF!"}},"2010021506 Uranium One Trading AG",0,"01.01.0001 0:00:00",null,0,0,0,0,99.733400000000003,99.733400000000003,0,0,0,0,0,0,0,0,0,0,0,0,null,null,null,null,null,"01.01.0001 0:00:00",null,null,null,null,100,0]
[21,"Аккую Нуклеар","Полная",{"$f":"VLOOKUP(B22,#REF!,2,0)","v":{"$error":"#REF!"}},"2010450108 Аккую Нуклеар",0,"01.01.0001 0:00:00",null,0,0,0,0,66.065600000000003,66.065600000000003,0,0,0,0,0,0,0,0,0,0,0,0,null,null,null,null,null,"01.01.0001 0:00:00",null,null,null,null,96.91,0]
[22,"АЛАБУГА-ВОЛОКНО","Полная",{"$f":"VLOOKUP(B23,#REF!,2,0)","v":{"$error":"#REF!"}},"2010242201 АЛАБУГА-ВОЛОКНО",0,"01.01.0001 0:00:00",null,0,0,0,0,76.883200000000002,76.883200000000002,0,0,0,0,0,0,0,0,0,0,0,0,null,null,null,null,null,"01.01.0001 0:00:00",null,null,null,null,100,0]
[23,"Аргон","Полная",{"$f":"VLOOKUP(B24,#REF!,2,0)","v":{"$error":"#REF!"}},"2010240800 Аргон",0,"01.01.0001 0:00:00",null,0,0,0,0,76.883200000000002,76.883200000000002,0,0,0,0,0,0,0,0,0,0,0,0,null,null,null,null,null,"01.01.0001 0:00:00",null,null,null,null,100,0]
[24,"АРМЗ","Полная",{"$f":"VLOOKUP(B25,#REF!,2,0)","v":{"$error":"#REF!"}},"2010020000 АРМЗ",0,"01.01.0001 0:00:00",null,0,0,0,0,98.763800000000003,98.763800000000003,0,0,0,0,0,0,0,0,0,0,0,0,null,null,null,null,null,"01.01.0001 0:00:00",null,null,null,null,98.76,0]
[25,"АРМЗ-Сервис","Полная",{"$f":"VLOOKUP(B26,#REF!,2,0)","v":{"$error":"#REF!"}},"2010020602 АРМЗ-Сервис",0,"01.01.0001 0:00:00",null,0,0,0,0,97.400899999999993,97.400899999999993,0,0,0,0,0,0,0,0,0,0,0,0,null,null,null,null,null,"01.01.0001 0:00:00",null,null,null,null,100,0]
[26,"АТА","Полная",{"$f":"VLOOKUP(B27,#REF!,2,0)","v":{"$error":"#REF!"}},"2010010000 АТА",0,"01.01.0001 0:00:00",null,0,0,0,0,100,100,0,0,0,0,0,0,0,0,0,0,0,0,null,null,null,null,null,"01.01.0001 0:00:00",null,null,null,null,100,0]
[27,"АТМ","Полная",{"$f":"VLOOKUP(B28,#REF!,2,0)","v":{"$error":"#REF!"}},"2010230915 АТМ",0,"01.01.0001 0:00:00",null,0,0,0,0,51,51,0,0,0,0,0,0,0,0,0,0,0,0,null,null,null,null,null,"01.01.0001 0:00:00",null,null,null,null,51,0]
[28,"АтомИнвест","Долевое участие",{"$f":"VLOOKUP(B29,#REF!,2,0)","v":{"$error":"#REF!"}},"2010630200 АтомИнвест",0,"01.01.0001 0:00:00",null,0,0,0,0,39.4026,39.4026,0,0,0,0,0,0,0,0,0,0,0,0,null,null,null,null,null,"01.01.0001 0:00:00",null,null,null,null,51,0]
[29,"АтомМедТехнолоджи-ДВ","Полная",{"$f":"VLOOKUP(B30,#REF!,2,0)","v":{"$error":"#REF!"}},"2010933000 АтомМедТехнолоджи-ДВ",0,"01.01.0001 0:00:00",null,0,0,0,0,99.9893,99.9893,0,0,0,0,0,0,0,0,0,0,0,0,null,null,null,null,null,"01.01.0001 0:00:00",null,null,null,null,100,0]
[30,"Атомспецтранс","Полная",{"$f":"VLOOKUP(B31,#REF!,2,0)","v":{"$error":"#REF!"}},"2010340000 Атомспецтранс",0,"01.01.0001 0:00:00",null,0,0,0,0,80.087000000000003,80.087000000000003,0,0,0,0,0,0,0,0,0,0,0,0,null,null,null,null,null,"01.01.0001 0:00:00",null,null,null,null,80.09,0]
[31,"Атомтехэкспорт","Полная",{"$f":"VLOOKUP(B32,#REF!,2,0)","v":{"$error":"#REF!"}},"2010591900 Атомтехэкспорт",0,"01.01.0001 0:00:00",null,0,0,0,0,86.791600000000003,86.791600000000003,0,0,0,0,0,0,0,0,0,0,0,0,null,null,null,null,null,"01.01.0001 0:00:00",null,null,null,null,100,0]
[32,"Атомтехэнерго","Полная",{"$f":"VLOOKUP(B33,#REF!,2,0)","v":{"$error":"#REF!"}},"2010350000 Атомтехэнерго",0,"01.01.0001 0:00:00",null,0,0,0,0,86.496700000000004,86.496700000000004,0,0,0,0,0,0,0,0,0,0,0,0,null,null,null,null,null,"01.01.0001 0:00:00",null,null,null,null,100,0]
[33,"Атомэнергомаш","Полная",{"$f":"VLOOKUP(B34,#REF!,2,0)","v":{"$error":"#REF!"}},"2010230900 Атомэнергомаш",0,"01.01.0001 0:00:00",null,0,0,0,0,100,100,0,0,0,0,0,0,0,0,0,0,0,0,null,null,null,null,null,"01.01.0001 0:00:00",null,null,null,null,100,0]
[34,"Атомэнергопромсбыт","Полная",{"$f":"VLOOKUP(B35,#REF!,2,0)","v":{"$error":"#REF!"}},"2010591320 Атомэнергопромсбыт",0,"01.01.0001 0:00:00",null,0,0,0,0,100,100,0,0,0,0,0,0,0,0,0,0,0,0,null,null,null,null,null,"01.01.0001 0:00:00",null,null,null,null,100,0]
[35,"Атомэнергоремонт","Полная",{"$f":"VLOOKUP(B36,#REF!,2,0)","v":{"$error":"#REF!"}},"2010590700 Атомэнергоремонт",0,"01.01.0001 0:00:00",null,0,0,0,0,86.496700000000004,86.496700000000004,0,0,0,0,0,0,0,0,0,0,0,0,null,null,null,null,null,"01.01.0001 0:00:00",null,null,null,null,100,0]
[36,"Атомэнергосбыт","Полная",{"$f":"VLOOKUP(B37,#REF!,2,0)","v":{"$error":"#REF!"}},"2010591300 Атомэнергосбыт",0,"01.01.0001 0:00:00",null,0,0,0,0,86.496700000000004,86.496700000000004,0,0,0,0,0,0,0,0,0,0,0,0,null,null,null,null,null,"01.01.0001 0:00:00",null,null,null,null,100,0]
[37,"АЭМ-лизинг","Полная",{"$f":"VLOOKUP(B38,#REF!,2,0)","v":{"$error":"#REF!"}},"2010230902 АЭМ-лизинг",0,"01.01.0001 0:00:00",null,0,0,0,0,100,100,0,0,0,0,0,0,0,0,0,0,0,0,null,null,null,null,null,"01.01.0001 0:00:00",null,null,null,null,100,0]
[38,"АЭМ-технологии","Полная",{"$f":"VLOOKUP(B39,#REF!,2,0)","v":{"$error":"#REF!"}},"2010230904 АЭМ-технологии",0,"01.01.0001 0:00:00",null,0,0,0,0,99.95,99.95,0,0,0,0,0,0,0,0,0,0,0,0,null,null,null,null,null,"01.01.0001 0:00:00",null,null,null,null,99.95,0]
[39,"АЭПК","Полная",{"$f":"VLOOKUP(B40,#REF!,2,0)","v":{"$error":"#REF!"}},"2010000000 АЭПК",0,"01.01.0001 0:00:00",null,0,0,0,0,100,100,0,0,0,0,0,0,0,0,0,0,0,0,null,null,null,null,null,"01.01.0001 0:00:00",null,null,null,null,0,0]
[40,"АЭХК","Полная",{"$f":"VLOOKUP(B41,#REF!,2,0)","v":{"$error":"#REF!"}},"2010370000 АЭХК",0,"01.01.0001 0:00:00",null,0,0,0,0,100,100,0,0,0,0,0,0,0,0,0,0,0,0,null,null,null,null,null,"01.01.0001 0:00:00",null,null,null,null,100,0]
[41,"Балтийская АЭС","Полная",{"$f":"VLOOKUP(B42,#REF!,2,0)","v":{"$error":"#REF!"}},"2010592100 Балтийская АЭС",0,"01.01.0001 0:00:00",null,0,0,0,0,86.496700000000004,86.496700000000004,0,0,0,0,0,0,0,0,0,0,0,0,null,null,null,null,null,"01.01.0001 0:00:00",null,null,null,null,100,0]
[42,"Вента","Полная",{"$f":"VLOOKUP(B43,#REF!,2,0)","v":{"$error":"#REF!"}},"2010050000 Вента",0,"01.01.0001 0:00:00",null,0,0,0,0,74.84,74.84,0,0,0,0,0,0,0,0,0,0,0,0,null,null,null,null,null,"01.01.0001 0:00:00",null,null,null,null,74.84,0]
[43,"ВНИИАМ (АЭПК)","Не консолидируется",{"$f":"VLOOKUP(B44,#REF!,2,0)","v":{"$error":"#REF!"}},"2010390000 ВНИИАМ (АЭПК)",0,"01.01.0001 0:00:00",null,0,0,0,0,0,0,0,0,0,0,0,0,0,0,0,0,0,0,null,null,null,null,null,"01.01.0001 0:00:00",null,null,null,null,0,0]
[44,"ВНИИАЭС","Полная",{"$f":"VLOOKUP(B45,#REF!,2,0)","v":{"$error":"#REF!"}},"2010591800 ВНИИАЭС",0,"01.01.0001 0:00:00",null,0,0,0,0,86.496700000000004,86.496700000000004,0,0,0,0,0,0,0,0,0,0,0,0,null,null,null,null,null,"01.01.0001 0:00:00",null,null,null,null,100,0]
[45,"ВНИИНМ","Полная",{"$f":"VLOOKUP(B46,#REF!,2,0)","v":{"$error":"#REF!"}},"2010400000 ВНИИНМ",0,"01.01.0001 0:00:00",null,0,0,0,0,88.023499999999999,88.023499999999999,0,0,0,0,0,0,0,0,0,0,0,0,null,null,null,null,null,"01.01.0001 0:00:00",null,null,null,null,88.02,0]
[46,"ВНИИХТ","Полная",{"$f":"VLOOKUP(B47,#REF!,2,0)","v":{"$error":"#REF!"}},"2010420000 ВНИИХТ",0,"01.01.0001 0:00:00",null,0,0,0,0,96.754599999999996,96.754599999999996,0,0,0,0,0,0,0,0,0,0,0,0,null,null,null,null,null,"01.01.0001 0:00:00",null,null,null,null,96.75,0]
[47,"ВНИПИПромтехнологии","Полная",{"$f":"VLOOKUP(B48,#REF!,2,0)","v":{"$error":"#REF!"}},"2010430000 ВНИПИПромтехнологии",0,"01.01.0001 0:00:00",null,0,0,0,0,98.763800000000003,98.763800000000003,0,0,0,0,0,0,0,0,0,0,0,0,null,null,null,null,null,"01.01.0001 0:00:00",null,null,null,null,100,0]
[48,"Гидропресс","Полная",{"$f":"VLOOKUP(B49,#REF!,2,0)","v":{"$error":"#REF!"}},"2010710000 Гидропресс",0,"01.01.0001 0:00:00",null,0,0,0,0,99.876599999999996,99.876599999999996,0,0,0,0,0,0,0,0,0,0,0,0,null,null,null,null,null,"01.01.0001 0:00:00",null,null,null,null,99.88,0]
[49,"Гиредмет","Полная",{"$f":"VLOOKUP(B50,#REF!,2,0)","v":{"$error":"#REF!"}},"2010470000 Гиредмет",0,"01.01.0001 0:00:00",null,0,0,0,0,90.756200000000007,90.756200000000007,0,0,0,0,0,0,0,0,0,0,0,0,null,null,null,null,null,"01.01.0001 0:00:00",null,null,null,null,94.48,0]
[50,"Гринатом","Полная",{"$f":"VLOOKUP(B51,#REF!,2,0)","v":{"$error":"#REF!"}},"2010900000 Гринатом",0,"01.01.0001 0:00:00",null,0,0,0,0,100,100,0,0,0,0,0,0,0,0,0,0,0,0,null,null,null,null,null,"01.01.0001 0:00:00",null,null,null,null,100,0]
[51,"ГСПИ","Полная",{"$f":"VLOOKUP(B52,#REF!,2,0)","v":{"$error":"#REF!"}},"2010500000 ГСПИ",0,"01.01.0001 0:00:00",null,0,0,0,0,100,100,0,0,0,0,0,0,0,0,0,0,0,0,null,null,null,null,null,"01.01.0001 0:00:00",null,null,null,null,100,0]
[52,"Далур","Полная",{"$f":"VLOOKUP(B53,#REF!,2,0)","v":{"$error":"#REF!"}},"2010230800 Далур",0,"01.01.0001 0:00:00",null,0,0,0,0,97.667500000000004,97.667500000000004,0,0,0,0,0,0,0,0,0,0,0,0,null,null,null,null,null,"01.01.0001 0:00:00",null,null,null,null,98.89,0]
[53,"Дедал","Полная",{"$f":"VLOOKUP(B54,#REF!,2,0)","v":{"$error":"#REF!"}},"2010510000 Дедал",0,"01.01.0001 0:00:00",null,0,0,0,0,100,100,0,0,0,0,0,0,0,0,0,0,0,0,null,null,null,null,null,"01.01.0001 0:00:00",null,null,null,null,100,0]
[54,"ДЕЗ","Полная",{"$f":"VLOOKUP(B55,#REF!,2,0)","v":{"$error":"#REF!"}},"2010890000 ДЕЗ",0,"01.01.0001 0:00:00",null,0,0,0,0,100,100,0,0,0,0,0,0,0,0,0,0,0,0,null,null,null,null,null,"01.01.0001 0:00:00",null,null,null,null,100,0]
[55,"ЖТЭЦ","Полная",{"$f":"VLOOKUP(B56,#REF!,2,0)","v":{"$error":"#REF!"}},"2010551000 ЖТЭЦ",0,"01.01.0001 0:00:00",null,0,0,0,0,100,100,0,0,0,0,0,0,0,0,0,0,0,0,null,null,null,null,null,"01.01.0001 0:00:00",null,null,null,null,100,0]
[56,"ЗАЭС","Полная",{"$f":"VLOOKUP(B57,#REF!,2,0)","v":{"$error":"#REF!"}},"2010450000 ЗАЭС",0,"01.01.0001 0:00:00",null,0,0,0,0,86.496700000000004,86.496700000000004,0,0,0,0,0,0,0,0,0,0,0,0,null,null,null,null,null,"01.01.0001 0:00:00",null,null,null,null,100,0]
[57,"ЗиО-Подольск","Полная",{"$f":"VLOOKUP(B58,#REF!,2,0)","v":{"$error":"#REF!"}},"2010230918 ЗиО-Подольск",0,"01.01.0001 0:00:00",null,0,0,0,0,99.520799999999994,99.520799999999994,0,0,0,0,0,0,0,0,0,0,0,0,null,null,null,null,null,"01.01.0001 0:00:00",null,null,null,null,99.52,0]
[58,"ЗИОМАР","Полная",{"$f":"VLOOKUP(B59,#REF!,2,0)","v":{"$error":"#REF!"}},"2010230917 ЗИОМАР",0,"01.01.0001 0:00:00",null,0,0,0,0,100,100,0,0,0,0,0,0,0,0,0,0,0,0,null,null,null,null,null,"01.01.0001 0:00:00",null,null,null,null,100,0]
[59,"ЗУКМ","Полная",{"$f":"VLOOKUP(B60,#REF!,2,0)","v":{"$error":"#REF!"}},"2010241600 ЗУКМ",0,"01.01.0001 0:00:00",null,0,0,0,0,76.875500000000002,76.875500000000002,0,0,0,0,0,0,0,0,0,0,0,0,null,null,null,null,null,"01.01.0001 0:00:00",null,null,null,null,100,0]
[60,"ИРМ","Полная",{"$f":"VLOOKUP(B61,#REF!,2,0)","v":{"$error":"#REF!"}},"2010540000 ИРМ",0,"01.01.0001 0:00:00",null,0,0,0,0,93.071799999999996,93.071799999999996,0,0,0,0,0,0,0,0,0,0,0,0,null,null,null,null,null,"01.01.0001 0:00:00",null,null,null,null,93.07,0]
[61,"Искра","Полная",{"$f":"VLOOKUP(B62,#REF!,2,0)","v":{"$error":"#REF!"}},"2010230001 Искра",0,"01.01.0001 0:00:00",null,0,0,0,0,99.998999999999995,99.998999999999995,0,0,0,0,0,0,0,0,0,0,0,0,null,null,null,null,null,"01.01.0001 0:00:00",null,null,null,null,100,0]
[62,"ИЦ РГЦ","Полная",{"$f":"VLOOKUP(B63,#REF!,2,0)","v":{"$error":"#REF!"}},"2010242300 ИЦ РГЦ",0,"01.01.0001 0:00:00",null,0,0,0,0,100,100,0,0,0,0,0,0,0,0,0,0,0,0,null,null,null,null,null,"01.01.0001 0:00:00",null,null,null,null,100,0]
[63,"КМЗ","Полная",{"$f":"VLOOKUP(B64,#REF!,2,0)","v":{"$error":"#REF!"}},"2010240600 КМЗ",0,"01.01.0001 0:00:00",null,0,0,0,0,96.797700000000006,96.797700000000006,0,0,0,0,0,0,0,0,0,0,0,0,null,null,null,null,null,"01.01.0001 0:00:00",null,null,null,null,96.8,0]
[64,"Консист-ОС","Полная",{"$f":"VLOOKUP(B65,#REF!,2,0)","v":{"$error":"#REF!"}},"2010590317 Консист-ОС",0,"01.01.0001 0:00:00",null,0,0,0,0,86.496700000000004,86.496700000000004,0,0,0,0,0,0,0,0,0,0,0,0,null,null,null,null,null,"01.01.0001 0:00:00",null,null,null,null,100,0]
[65,"КОНЦЕРН ТИТАН-2","Долевое участие",{"$f":"VLOOKUP(B66,#REF!,2,0)","v":{"$error":"#REF!"}},"2010592500 КОНЦЕРН ТИТАН-2",0,"01.01.0001 0:00:00",null,0,0,0,0,43.248399999999997,43.248399999999997,0,0,0,0,0,0,0,0,0,0,0,0,null,null,null,null,null,"01.01.0001 0:00:00",null,null,null,null,50,0]
[66,"Красная Звезда","Полная",{"$f":"VLOOKUP(B67,#REF!,2,0)","v":{"$error":"#REF!"}},"2010600000 Красная Звезда",0,"01.01.0001 0:00:00",null,0,0,0,0,94.499700000000004,94.499700000000004,0,0,0,0,0,0,0,0,0,0,0,0,null,null,null,null,null,"01.01.0001 0:00:00",null,null,null,null,94.5,0]
[67,"Краун","Полная",{"$f":"VLOOKUP(B68,#REF!,2,0)","v":{"$error":"#REF!"}},"2010241100 Краун",0,"01.01.0001 0:00:00",null,0,0,0,0,100,100,0,0,0,0,0,0,0,0,0,0,0,0,null,null,null,null,null,"01.01.0001 0:00:00",null,null,null,null,100,0]
[68,"КЦ","Полная",{"$f":"VLOOKUP(B69,#REF!,2,0)","v":{"$error":"#REF!"}},"2010231300 КЦ",0,"01.01.0001 0:00:00",null,0,0,0,0,97.82,97.82,0,0,0,0,0,0,0,0,0,0,0,0,null,null,null,null,null,"01.01.0001 0:00:00",null,null,null,null,97.82,0]
[69,"ЛЗ Петрозаводскмаш","Полная",{"$f":"VLOOKUP(B70,#REF!,2,0)","v":{"$error":"#REF!"}},"2010242601 ЛЗ Петрозаводскмаш",0,"01.01.0001 0:00:00",null,0,0,0,0,99.95,99.95,0,0,0,0,0,0,0,0,0,0,0,0,null,null,null,null,null,"01.01.0001 0:00:00",null,null,null,null,100,0]
[70,"МЗП","Полная",{"$f":"VLOOKUP(B71,#REF!,2,0)","v":{"$error":"#REF!"}},"2010100000 МЗП",0,"01.01.0001 0:00:00",null,0,0,0,0,100,100,0,0,0,0,0,0,0,0,0,0,0,0,null,null,null,null,null,"01.01.0001 0:00:00",null,null,null,null,100,0]
[71,"Молния","Полная",{"$f":"VLOOKUP(B72,#REF!,2,0)","v":{"$error":"#REF!"}},"2010740000 Молния",0,"01.01.0001 0:00:00",null,0,0,0,0,100,100,0,0,0,0,0,0,0,0,0,0,0,0,null,null,null,null,null,"01.01.0001 0:00:00",null,null,null,null,100,0]
[72,"МСЗ","Полная",{"$f":"VLOOKUP(B73,#REF!,2,0)","v":{"$error":"#REF!"}},"2010230100 МСЗ",0,"01.01.0001 0:00:00",null,0,0,0,0,74.451700000000002,74.451700000000002,0,0,0,0,0,0,0,0,0,0,0,0,null,null,null,null,null,"01.01.0001 0:00:00",null,null,null,null,74.45,0]
[73,"МСЗ-М","Полная",{"$f":"VLOOKUP(B74,#REF!,2,0)","v":{"$error":"#REF!"}},"2010230115 МСЗ-М",0,"01.01.0001 0:00:00",null,0,0,0,0,74.451700000000002,74.451700000000002,0,0,0,0,0,0,0,0,0,0,0,0,null,null,null,null,null,"01.01.0001 0:00:00",null,null,null,null,100,0]
[74,"Наука и инновации","Полная",{"$f":"VLOOKUP(B75,#REF!,2,0)","v":{"$error":"#REF!"}},"4010000100 Наука и инновации",0,"01.01.0001 0:00:00",null,0,0,0,0,100,100,0,0,0,0,0,0,0,0,0,0,0,0,null,null,null,null,null,"01.01.0001 0:00:00",null,null,null,null,100,0]
[75,"НЗХК","Полная",{"$f":"VLOOKUP(B76,#REF!,2,0)","v":{"$error":"#REF!"}},"2010230200 НЗХК",0,"01.01.0001 0:00:00",null,0,0,0,0,88.509,88.509,0,0,0,0,0,0,0,0,0,0,0,0,null,null,null,null,null,"01.01.0001 0:00:00",null,null,null,null,88.51,0]
[76,"НЗХК-Инструмент","Полная",{"$f":"VLOOKUP(B77,#REF!,2,0)","v":{"$error":"#REF!"}},"2010230207 НЗХК-Инструмент",0,"01.01.0001 0:00:00",null,0,0,0,0,88.509,88.509,0,0,0,0,0,0,0,0,0,0,0,0,null,null,null,null,null,"01.01.0001 0:00:00",null,null,null,null,100,0]
[77,"НЗХК-Энергия","Полная",{"$f":"VLOOKUP(B78,#REF!,2,0)","v":{"$error":"#REF!"}},"2010230210 НЗХК-Энергия",0,"01.01.0001 0:00:00",null,0,0,0,0,88.509,88.509,0,0,0,0,0,0,0,0,0,0,0,0,null,null,null,null,null,"01.01.0001 0:00:00",null,null,null,null,100,0]
[78,"Нижние котлы-ДУ","Полная",{"$f":"VLOOKUP(B79,#REF!,2,0)","v":{"$error":"#REF!"}},"2010411100 Нижние котлы-ДУ",0,"01.01.0001 0:00:00",null,0,0,0,0,95.554500000000004,95.554500000000004,0,0,0,0,0,0,0,0,0,0,0,0,null,null,null,null,null,"01.01.0001 0:00:00",null,null,null,null,100,0]
[79,"НИИАР","Не консолидируется",{"$f":"VLOOKUP(B80,#REF!,2,0)","v":{"$error":"#REF!"}},"2010480000 НИИАР",0,"01.01.0001 0:00:00",null,0,0,0,0,49.092700000000001,49.092700000000001,0,0,0,0,0,0,0,0,0,0,0,0,null,null,null,null,null,"01.01.0001 0:00:00",null,null,null,null,49.09,0]
[80,"НИИАР-Генерация","Не консолидируется",{"$f":"VLOOKUP(B81,#REF!,2,0)","v":{"$error":"#REF!"}},"2010970000 НИИАР-Генерация",0,"01.01.0001 0:00:00",null,0,0,0,0,49.092700000000001,49.092700000000001,0,0,0,0,0,0,0,0,0,0,0,0,null,null,null,null,null,"01.01.0001 0:00:00",null,null,null,null,100,0]
[81,"НИИГрафит","Полная",{"$f":"VLOOKUP(B82,#REF!,2,0)","v":{"$error":"#REF!"}},"2010630000 НИИГрафит",0,"01.01.0001 0:00:00",null,0,0,0,0,77.260000000000005,77.260000000000005,0,0,0,0,0,0,0,0,0,0,0,0,null,null,null,null,null,"01.01.0001 0:00:00",null,null,null,null,77.260000000000005,0]
[82,"НИИТФА","Полная",{"$f":"VLOOKUP(B83,#REF!,2,0)","v":{"$error":"#REF!"}},"2010410000 НИИТФА",0,"01.01.0001 0:00:00",null,0,0,0,0,95.554500000000004,95.554500000000004,0,0,0,0,0,0,0,0,0,0,0,0,null,null,null,null,null,"01.01.0001 0:00:00",null,null,null,null,95.55,0]
[83,"НИКИМТ-Атомстрой","Полная",{"$f":"VLOOKUP(B84,#REF!,2,0)","v":{"$error":"#REF!"}},"2010550000 НИКИМТ-Атомстрой",0,"01.01.0001 0:00:00",null,0,0,0,0,100,100,0,0,0,0,0,0,0,0,0,0,0,0,null,null,null,null,null,"01.01.0001 0:00:00",null,null,null,null,100,0]
[84,"НИКИЭТ","Полная",{"$f":"VLOOKUP(B85,#REF!,2,0)","v":{"$error":"#REF!"}},"2010650000 НИКИЭТ",0,"01.01.0001 0:00:00",null,0,0,0,0,56.884399999999999,56.884399999999999,0,0,0,0,0,0,0,0,0,0,0,0,null,null,null,null,null,"01.01.0001 0:00:00",null,null,null,null,56.88,0]
[85,"ННКЦ","Полная",{"$f":"VLOOKUP(B86,#REF!,2,0)","v":{"$error":"#REF!"}},"2010241900 ННКЦ",0,"01.01.0001 0:00:00",null,0,0,0,0,100,100,0,0,0,0,0,0,0,0,0,0,0,0,null,null,null,null,null,"01.01.0001 0:00:00",null,null,null,null,100,0]
[86,"НоваВинд","Полная",{"$f":"VLOOKUP(B87,#REF!,2,0)","v":{"$error":"#REF!"}},"2019000000 НоваВинд",0,"01.01.0001 0:00:00",null,0,0,0,0,100,100,0,0,0,0,0,0,0,0,0,0,0,0,null,null,null,null,null,"01.01.0001 0:00:00",null,null,null,null,100,0]
[87,"НПК ХПИ","Полная",{"$f":"VLOOKUP(B88,#REF!,2,0)","v":{"$error":"#REF!"}},"2010242200 НПК ХПИ",0,"01.01.0001 0:00:00",null,0,0,0,0,76.883200000000002,76.883200000000002,0,0,0,0,0,0,0,0,0,0,0,0,null,null,null,null,null,"01.01.0001 0:00:00",null,null,null,null,76.88,0]
[88,"НПО Центротех","Полная",{"$f":"VLOOKUP(B89,#REF!,2,0)","v":{"$error":"#REF!"}},"2010241800 НПО Центротех",0,"01.01.0001 0:00:00",null,0,0,0,0,100,100,0,0,0,0,0,0,0,0,0,0,0,0,null,null,null,null,null,"01.01.0001 0:00:00",null,null,null,null,100,0]
[89,"НТЦ ЯФИ","Полная",{"$f":"VLOOKUP(B90,#REF!,2,0)","v":{"$error":"#REF!"}},"2010690000 НТЦ ЯФИ",0,"01.01.0001 0:00:00",null,0,0,0,0,100,100,0,0,0,0,0,0,0,0,0,0,0,0,null,null,null,null,null,"01.01.0001 0:00:00",null,null,null,null,100,0]
[90,"Обесп РФЯЦ-ВНИИЭФ","Полная",{"$f":"VLOOKUP(B91,#REF!,2,0)","v":{"$error":"#REF!"}},"2010150000 Обесп РФЯЦ-ВНИИЭФ",0,"01.01.0001 0:00:00",null,0,0,0,0,100,100,0,0,0,0,0,0,0,0,0,0,0,0,null,null,null,null,null,"01.01.0001 0:00:00",null,null,null,null,100,0]
[91,"ОДЦ УГР","Полная",{"$f":"VLOOKUP(B92,#REF!,2,0)","v":{"$error":"#REF!"}},"2010780500 ОДЦ УГР",0,"01.01.0001 0:00:00",null,0,0,0,0,100,100,0,0,0,0,0,0,0,0,0,0,0,0,null,null,null,null,null,"01.01.0001 0:00:00",null,null,null,null,100,0]
[92,"ОЗТМиТС","Полная",{"$f":"VLOOKUP(B93,#REF!,2,0)","v":{"$error":"#REF!"}},"2010700000 ОЗТМиТС",0,"01.01.0001 0:00:00",null,0,0,0,0,100,100,0,0,0,0,0,0,0,0,0,0,0,0,null,null,null,null,null,"01.01.0001 0:00:00",null,null,null,null,100,0]
[93,"ОИК","Полная",{"$f":"VLOOKUP(B94,#REF!,2,0)","v":{"$error":"#REF!"}},"2010910000 ОИК",0,"01.01.0001 0:00:00",null,0,0,0,0,66.849999999999994,66.849999999999994,0,0,0,0,0,0,0,0,0,0,0,0,null,null,null,null,null,"01.01.0001 0:00:00",null,null,null,null,66.849999999999994,0]
[94,"ОК РСК","Полная",{"$f":"VLOOKUP(B95,#REF!,2,0)","v":{"$error":"#REF!"}},"2010860000 ОК РСК",0,"01.01.0001 0:00:00",null,0,0,0,0,100,100,0,0,0,0,0,0,0,0,0,0,0,0,null,null,null,null,null,"01.01.0001 0:00:00",null,null,null,null,100,0]
[95,"ОКБМ","Полная",{"$f":"VLOOKUP(B96,#REF!,2,0)","v":{"$error":"#REF!"}},"2010720000 ОКБМ",0,"01.01.0001 0:00:00",null,0,0,0,0,60.467599999999997,60.467599999999997,0,0,0,0,0,0,0,0,0,0,0,0,null,null,null,null,null,"01.01.0001 0:00:00",null,null,null,null,60.47,0]
[96,"ОТЭК","Полная",{"$f":"VLOOKUP(B97,#REF!,2,0)","v":{"$error":"#REF!"}},"2010920000 ОТЭК",0,"01.01.0001 0:00:00",null,0,0,0,0,95.348799999999997,95.348799999999997,0,0,0,0,0,0,0,0,0,0,0,0,null,null,null,null,null,"01.01.0001 0:00:00",null,null,null,null,100,0]
[97,"Первая горнорудная компания","Полная",{"$f":"VLOOKUP(B98,#REF!,2,0)","v":{"$error":"#REF!"}},"2010021800 Первая горнорудная компания",0,"01.01.0001 0:00:00",null,0,0,0,0,98.535499999999999,98.535499999999999,0,0,0,0,0,0,0,0,0,0,0,0,null,null,null,null,null,"01.01.0001 0:00:00",null,null,null,null,99.77,0]
[98,"ППГХО","Полная",{"$f":"VLOOKUP(B99,#REF!,2,0)","v":{"$error":"#REF!"}},"2010230400 ППГХО",0,"01.01.0001 0:00:00",null,0,0,0,0,93.371300000000005,93.371300000000005,0,0,0,0,0,0,0,0,0,0,0,0,null,null,null,null,null,"01.01.0001 0:00:00",null,null,null,null,94.54,0]
[99,"Препрег-Дубна","Не консолидируется",{"$f":"VLOOKUP(B100,#REF!,2,0)","v":{"$error":"#REF!"}},"2010253100 Препрег-Дубна",0,"01.01.0001 0:00:00",null,0,0,0,0,6.8617999999999997,6.8617999999999997,0,0,0,0,0,0,0,0,0,0,0,0,null,null,null,null,null,"01.01.0001 0:00:00",null,null,null,null,100,0]
[100,"Препрег-СКМ","Не консолидируется",{"$f":"VLOOKUP(B101,#REF!,2,0)","v":{"$error":"#REF!"}},"2010252100 Препрег-СКМ",0,"01.01.0001 0:00:00",null,0,0,0,0,6.8617999999999997,6.8617999999999997,0,0,0,0,0,0,0,0,0,0,0,0,null,null,null,null,null,"01.01.0001 0:00:00",null,null,null,null,8.93,0]
[101,"Промышленные инновации","Полная",{"$f":"VLOOKUP(B102,#REF!,2,0)","v":{"$error":"#REF!"}},"2010231200 Промышленные инновации",0,"01.01.0001 0:00:00",null,0,0,0,0,100,100,0,0,0,0,0,0,0,0,0,0,0,0,null,null,null,null,null,"01.01.0001 0:00:00",null,null,null,null,100,0]
[102,"ПРОРЫВ","Полная",{"$f":"VLOOKUP(B103,#REF!,2,0)","v":{"$error":"#REF!"}},"2010880000 ПРОРЫВ",0,"01.01.0001 0:00:00",null,0,0,0,0,100,100,0,0,0,0,0,0,0,0,0,0,0,0,null,null,null,null,null,"01.01.0001 0:00:00",null,null,null,null,100,0]
[103,"ПСР","Полная",{"$f":"VLOOKUP(B104,#REF!,2,0)","v":{"$error":"#REF!"}},"2010592000 ПСР",0,"01.01.0001 0:00:00",null,0,0,0,0,100,100,0,0,0,0,0,0,0,0,0,0,0,0,null,null,null,null,null,"01.01.0001 0:00:00",null,null,null,null,100,0]
[104,"РАОС","Полная",{"$f":"VLOOKUP(B105,#REF!,2,0)","v":{"$error":"#REF!"}},"2010230912 РАОС",0,"01.01.0001 0:00:00",null,0,0,0,0,100,100,0,0,0,0,0,0,0,0,0,0,0,0,null,null,null,null,null,"01.01.0001 0:00:00",null,null,null,null,100,0]
[105,"РАСУ","Полная",{"$f":"VLOOKUP(B106,#REF!,2,0)","v":{"$error":"#REF!"}},"2010990000 РАСУ",0,"01.01.0001 0:00:00",null,0,0,0,0,100,100,0,0,0,0,0,0,0,0,0,0,0,0,null,null,null,null,null,"01.01.0001 0:00:00",null,null,null,null,100,0]
[106,"РБМ","Полная",{"$f":"VLOOKUP(B107,#REF!,2,0)","v":{"$error":"#REF!"}},"2010020600 РБМ",0,"01.01.0001 0:00:00",null,0,0,0,0,98.763800000000003,98.763800000000003,0,0,0,0,0,0,0,0,0,0,0,0,null,null,null,null,null,"01.01.0001 0:00:00",null,null,null,null,100,0]
[107,"Росэнергоатом","Полная",{"$f":"VLOOKUP(B108,#REF!,2,0)","v":{"$error":"#REF!"}},"2010590000 Росэнергоатом",0,"01.01.0001 0:00:00",null,0,0,0,0,86.496700000000004,86.496700000000004,0,0,0,0,0,0,0,0,0,0,0,0,null,null,null,null,null,"01.01.0001 0:00:00",null,null,null,null,86.5,0]
[108,"Русатом Сервис","Полная",{"$f":"VLOOKUP(B109,#REF!,2,0)","v":{"$error":"#REF!"}},"2010592200 Русатом Сервис",0,"01.01.0001 0:00:00",null,0,0,0,0,86.791600000000003,86.791600000000003,0,0,0,0,0,0,0,0,0,0,0,0,null,null,null,null,null,"01.01.0001 0:00:00",null,null,null,null,100,0]
[109,"Русреактор","Полная",{"$f":"VLOOKUP(B110,#REF!,2,0)","v":{"$error":"#REF!"}},"2010991000 Русреактор",0,"01.01.0001 0:00:00",null,0,0,0,0,100,100,0,0,0,0,0,0,0,0,0,0,0,0,null,null,null,null,null,"01.01.0001 0:00:00",null,null,null,null,100,0]
[110,"РХК","Полная",{"$f":"VLOOKUP(B111,#REF!,2,0)","v":{"$error":"#REF!"}},"2011000000 РХК",0,"01.01.0001 0:00:00",null,0,0,0,0,100,100,0,0,0,0,0,0,0,0,0,0,0,0,null,null,null,null,null,"01.01.0001 0:00:00",null,null,null,null,100,0]
[111,"РЭМКО","Полная",{"$f":"VLOOKUP(B112,#REF!,2,0)","v":{"$error":"#REF!"}},"2010230911 РЭМКО",0,"01.01.0001 0:00:00",null,0,0,0,0,100,100,0,0,0,0,0,0,0,0,0,0,0,0,null,null,null,null,null,"01.01.0001 0:00:00",null,null,null,null,100,0]
[112,"С-плюс","Долевое участие",{"$f":"VLOOKUP(B113,#REF!,2,0)","v":{"$error":"#REF!"}},"2010630100 С-плюс",0,"01.01.0001 0:00:00",null,0,0,0,0,39.4026,39.4026,0,0,0,0,0,0,0,0,0,0,0,0,null,null,null,null,null,"01.01.0001 0:00:00",null,null,null,null,51,0]
[113,"Сайпрус","Полная",{"$f":"VLOOKUP(B114,#REF!,2,0)","v":{"$error":"#REF!"}},"2010230916 Сайпрус",0,"01.01.0001 0:00:00",null,0,0,0,0,100,100,0,0,0,0,0,0,0,0,0,0,0,0,null,null,null,null,null,"01.01.0001 0:00:00",null,null,null,null,100,0]
[114,"СвердНИИхиммаш","Полная",{"$f":"VLOOKUP(B115,#REF!,2,0)","v":{"$error":"#REF!"}},"2010200000 СвердНИИхиммаш",0,"01.01.0001 0:00:00",null,0,0,0,0,91.614000000000004,91.614000000000004,0,0,0,0,0,0,0,0,0,0,0,0,null,null,null,null,null,"01.01.0001 0:00:00",null,null,null,null,92.02,0]
[115,"СГК","Полная",{"$f":"VLOOKUP(B116,#REF!,2,0)","v":{"$error":"#REF!"}},"2010150300 СГК",0,"01.01.0001 0:00:00",null,0,0,0,0,100,100,0,0,0,0,0,0,0,0,0,0,0,0,null,null,null,null,null,"01.01.0001 0:00:00",null,null,null,null,100,0]
[116,"СЕТЕС","Полная",{"$f":"VLOOKUP(B117,#REF!,2,0)","v":{"$error":"#REF!"}},"2010550001 СЕТЕС",0,"01.01.0001 0:00:00",null,0,0,0,0,100,100,0,0,0,0,0,0,0,0,0,0,0,0,null,null,null,null,null,"01.01.0001 0:00:00",null,null,null,null,100,0]
[117,"СМБ","Полная",{"$f":"VLOOKUP(B118,#REF!,2,0)","v":{"$error":"#REF!"}},"2010992000 СМБ",0,"01.01.0001 0:00:00",null,0,0,0,0,100,100,0,0,0,0,0,0,0,0,0,0,0,0,null,null,null,null,null,"01.01.0001 0:00:00",null,null,null,null,100,0]
[118,"СНИИП","Полная",{"$f":"VLOOKUP(B119,#REF!,2,0)","v":{"$error":"#REF!"}},"2010660000 СНИИП",0,"01.01.0001 0:00:00",null,0,0,0,0,100,100,0,0,0,0,0,0,0,0,0,0,0,0,null,null,null,null,null,"01.01.0001 0:00:00",null,null,null,null,100,0]
[119,"СПб ИЗОТОП","Полная",{"$f":"VLOOKUP(B120,#REF!,2,0)","v":{"$error":"#REF!"}},"2010750000 СПб ИЗОТОП",0,"01.01.0001 0:00:00",null,0,0,0,0,100,100,0,0,0,0,0,0,0,0,0,0,0,0,null,null,null,null,null,"01.01.0001 0:00:00",null,null,null,null,100,0]
[120,"СТСК","Полная",{"$f":"VLOOKUP(B121,#REF!,2,0)","v":{"$error":"#REF!"}},"2010150200 СТСК",0,"01.01.0001 0:00:00",null,0,0,0,0,100,100,0,0,0,0,0,0,0,0,0,0,0,0,null,null,null,null,null,"01.01.0001 0:00:00",null,null,null,null,100,0]
[121,"СХК","Полная",{"$f":"VLOOKUP(B122,#REF!,2,0)","v":{"$error":"#REF!"}},"2010780000 СХК",0,"01.01.0001 0:00:00",null,0,0,0,0,95.441100000000006,95.441100000000006,0,0,0,0,0,0,0,0,0,0,0,0,null,null,null,null,null,"01.01.0001 0:00:00",null,null,null,null,95.44,0]
[122,"ТВЭЛ","Полная",{"$f":"VLOOKUP(B123,#REF!,2,0)","v":{"$error":"#REF!"}},"2010230000 ТВЭЛ",0,"01.01.0001 0:00:00",null,0,0,0,0,100,100,0,0,0,0,0,0,0,0,0,0,0,0,null,null,null,null,null,"01.01.0001 0:00:00",null,null,null,null,100,0]
[123,"ТВЭЛ-Строй","Полная",{"$f":"VLOOKUP(B124,#REF!,2,0)","v":{"$error":"#REF!"}},"2010231100 ТВЭЛ-Строй",0,"01.01.0001 0:00:00",null,0,0,0,0,90.746399999999994,90.746399999999994,0,0,0,0,0,0,0,0,0,0,0,0,null,null,null,null,null,"01.01.0001 0:00:00",null,null,null,null,100,0]
[124,"ТЕНЕКС-Сервис","Полная",{"$f":"VLOOKUP(B125,#REF!,2,0)","v":{"$error":"#REF!"}},"2010240100 ТЕНЕКС-Сервис",0,"01.01.0001 0:00:00",null,0,0,0,0,100,100,0,0,0,0,0,0,0,0,0,0,0,0,null,null,null,null,null,"01.01.0001 0:00:00",null,null,null,null,100,0]
[125,"Тепловодоканал","Полная",{"$f":"VLOOKUP(B126,#REF!,2,0)","v":{"$error":"#REF!"}},"2010230306 Тепловодоканал",0,"01.01.0001 0:00:00",null,0,0,0,0,100,100,0,0,0,0,0,0,0,0,0,0,0,0,null,null,null,null,null,"01.01.0001 0:00:00",null,null,null,null,100,0]
[126,"Техснабэкспорт","Полная",{"$f":"VLOOKUP(B127,#REF!,2,0)","v":{"$error":"#REF!"}},"2010240000 Техснабэкспорт",0,"01.01.0001 0:00:00",null,0,0,0,0,100,100,0,0,0,0,0,0,0,0,0,0,0,0,null,null,null,null,null,"01.01.0001 0:00:00",null,null,null,null,100,0]
[127,"Точмаш","Полная",{"$f":"VLOOKUP(B128,#REF!,2,0)","v":{"$error":"#REF!"}},"2010440000 Точмаш",0,"01.01.0001 0:00:00",null,0,0,0,0,100,100,0,0,0,0,0,0,0,0,0,0,0,0,null,null,null,null,null,"01.01.0001 0:00:00",null,null,null,null,100,0]
[128,"Точмаш-авто","Полная",{"$f":"VLOOKUP(B129,#REF!,2,0)","v":{"$error":"#REF!"}},"2010440300 Точмаш-авто",0,"01.01.0001 0:00:00",null,0,0,0,0,100,100,0,0,0,0,0,0,0,0,0,0,0,0,null,null,null,null,null,"01.01.0001 0:00:00",null,null,null,null,100,0]
[129,"Трест САЭМ","Полная",{"$f":"VLOOKUP(B130,#REF!,2,0)","v":{"$error":"#REF!"}},"2010230929 Трест САЭМ",0,"01.01.0001 0:00:00",null,0,0,0,0,90,90,0,0,0,0,0,0,0,0,0,0,0,0,null,null,null,null,null,"01.01.0001 0:00:00",null,null,null,null,90,0]
[130,"ТЦ ТЕНЕКС","Полная",{"$f":"VLOOKUP(B131,#REF!,2,0)","v":{"$error":"#REF!"}},"2010240200 ТЦ ТЕНЕКС",0,"01.01.0001 0:00:00",null,0,0,0,0,76.114400000000003,76.114400000000003,0,0,0,0,0,0,0,0,0,0,0,0,null,null,null,null,null,"01.01.0001 0:00:00",null,null,null,null,99,0]
[131,"УДК Горное","Полная",{"$f":"VLOOKUP(B132,#REF!,2,0)","v":{"$error":"#REF!"}},"2010020200 УДК Горное",0,"01.01.0001 0:00:00",null,0,0,0,0,98.763800000000003,98.763800000000003,0,0,0,0,0,0,0,0,0,0,0,0,null,null,null,null,null,"01.01.0001 0:00:00",null,null,null,null,100,0]
[132,"УК Нижние котлы","Полная",{"$f":"VLOOKUP(B133,#REF!,2,0)","v":{"$error":"#REF!"}},"2010411000 УК Нижние котлы",0,"01.01.0001 0:00:00",null,0,0,0,0,95.554500000000004,95.554500000000004,0,0,0,0,0,0,0,0,0,0,0,0,null,null,null,null,null,"01.01.0001 0:00:00",null,null,null,null,100,0]
[133,"Уралприбор","Полная",{"$f":"VLOOKUP(B134,#REF!,2,0)","v":{"$error":"#REF!"}},"2010242000 Уралприбор",0,"01.01.0001 0:00:00",null,0,0,0,0,100,100,0,0,0,0,0,0,0,0,0,0,0,0,null,null,null,null,null,"01.01.0001 0:00:00",null,null,null,null,100,0]
[134,"УУГ","Полная",{"$f":"VLOOKUP(B135,#REF!,2,0)","v":{"$error":"#REF!"}},"2010020100 УУГ",0,"01.01.0001 0:00:00",null,0,0,0,0,99.733400000000003,99.733400000000003,0,0,0,0,0,0,0,0,0,0,0,0,null,null,null,null,null,"01.01.0001 0:00:00",null,null,null,null,100,0]
[135,"УЭХК","Полная",{"$f":"VLOOKUP(B136,#REF!,2,0)","v":{"$error":"#REF!"}},"2010800000 УЭХК",0,"01.01.0001 0:00:00",null,0,0,0,0,87.49,87.49,0,0,0,0,0,0,0,0,0,0,0,0,null,null,null,null,null,"01.01.0001 0:00:00",null,null,null,null,74.989999999999995,0]
[136,"Хиагда","Полная",{"$f":"VLOOKUP(B137,#REF!,2,0)","v":{"$error":"#REF!"}},"2010230700 Хиагда",0,"01.01.0001 0:00:00",null,0,0,0,0,98.763800000000003,98.763800000000003,0,0,0,0,0,0,0,0,0,0,0,0,null,null,null,null,null,"01.01.0001 0:00:00",null,null,null,null,100,0]
[137,"ЦВТД","Полная",{"$f":"VLOOKUP(B138,#REF!,2,0)","v":{"$error":"#REF!"}},"2010911000 ЦВТД",0,"01.01.0001 0:00:00",null,0,0,0,0,98.933099999999996,98.933099999999996,0,0,0,0,0,0,0,0,0,0,0,0,null,null,null,null,null,"01.01.0001 0:00:00",null,null,null,null,100,0]
[138,"ЦентрАтом","Полная",{"$f":"VLOOKUP(B139,#REF!,2,0)","v":{"$error":"#REF!"}},"2010870000 ЦентрАтом",0,"01.01.0001 0:00:00",null,0,0,0,0,100,100,0,0,0,0,0,0,0,0,0,0,0,0,null,null,null,null,null,"01.01.0001 0:00:00",null,null,null,null,100,0]
[139,"ЦКБМ","Полная",{"$f":"VLOOKUP(B140,#REF!,2,0)","v":{"$error":"#REF!"}},"2010820000 ЦКБМ",0,"01.01.0001 0:00:00",null,0,0,0,0,100,100,0,0,0,0,0,0,0,0,0,0,0,0,null,null,null,null,null,"01.01.0001 0:00:00",null,null,null,null,100,0]
[140,"ЦНИИТМАШ","Полная",{"$f":"VLOOKUP(B141,#REF!,2,0)","v":{"$error":"#REF!"}},"2010140000 ЦНИИТМАШ",0,"01.01.0001 0:00:00",null,0,0,0,0,61.112699999999997,61.112699999999997,0,0,0,0,0,0,0,0,0,0,0,0,null,null,null,null,null,"01.01.0001 0:00:00",null,null,null,null,61.13,0]
[141,"ЦОиС ОЛенКур","Полная",{"$f":"VLOOKUP(B142,#REF!,2,0)","v":{"$error":"#REF!"}},"2010290000 ЦОиС ОЛенКур",0,"01.01.0001 0:00:00",null,0,0,0,0,100,100,0,0,0,0,0,0,0,0,0,0,0,0,null,null,null,null,null,"01.01.0001 0:00:00",null,null,null,null,100,0]
[142,"ЦУФС","слился с Центратом",{"$f":"VLOOKUP(B143,#REF!,2,0)","v":{"$error":"#REF!"}},"6080000000 ЦУФС",0,"01.01.0001 0:00:00",null,0,0,0,0,0,0,0,0,0,0,0,0,0,0,0,0,0,0,null,null,null,null,null,"01.01.0001 0:00:00",null,null,null,null,100,0]
[143,"ЧМЗ","Полная",{"$f":"VLOOKUP(B144,#REF!,2,0)","v":{"$error":"#REF!"}},"2010230300 ЧМЗ",0,"01.01.0001 0:00:00",null,0,0,0,0,100,100,0,0,0,0,0,0,0,0,0,0,0,0,null,null,null,null,null,"01.01.0001 0:00:00",null,null,null,null,100,0]
[144,"ЭГМК","Полная",{"$f":"VLOOKUP(B145,#REF!,2,0)","v":{"$error":"#REF!"}},"2010020400 ЭГМК",0,"01.01.0001 0:00:00",null,0,0,0,0,98.763800000000003,98.763800000000003,0,0,0,0,0,0,0,0,0,0,0,0,null,null,null,null,null,"01.01.0001 0:00:00",null,null,null,null,100,0]
[145,"Экоальянс","Полная",{"$f":"VLOOKUP(B146,#REF!,2,0)","v":{"$error":"#REF!"}},"2010800800 Экоальянс",0,"01.01.0001 0:00:00",null,0,0,0,0,90.742599999999996,90.742599999999996,0,0,0,0,0,0,0,0,0,0,0,0,null,null,null,null,null,"01.01.0001 0:00:00",null,null,null,null,100,0]
[146,"ЭЛЕМАШ-ТЭК","Полная",{"$f":"VLOOKUP(B147,#REF!,2,0)","v":{"$error":"#REF!"}},"2010230110 ЭЛЕМАШ-ТЭК",0,"01.01.0001 0:00:00",null,0,0,0,0,74.451700000000002,74.451700000000002,0,0,0,0,0,0,0,0,0,0,0,0,null,null,null,null,null,"01.01.0001 0:00:00",null,null,null,null,100,0]
[147,"Энергомашспецсталь","Долевое участие",{"$f":"VLOOKUP(B148,#REF!,2,0)","v":{"$error":"#REF!"}},"2010230943 Энергомашспецсталь",0,"01.01.0001 0:00:00",null,0,0,0,0,46.338700000000003,46.338700000000003,0,0,0,0,0,0,0,0,0,0,0,0,null,null,null,null,null,"01.01.0001 0:00:00",null,null,null,null,92.68,0]
[148,"ЭНИЦ","Полная",{"$f":"VLOOKUP(B149,#REF!,2,0)","v":{"$error":"#REF!"}},"2010830000 ЭНИЦ",0,"01.01.0001 0:00:00",null,0,0,0,0,86.496700000000004,86.496700000000004,0,0,0,0,0,0,0,0,0,0,0,0,null,null,null,null,null,"01.01.0001 0:00:00",null,null,null,null,100,0]
[149,"ЭХЗ","Полная",{"$f":"VLOOKUP(B150,#REF!,2,0)","v":{"$error":"#REF!"}},"2010840000 ЭХЗ",0,"01.01.0001 0:00:00",null,0,0,0,0,100,100,0,0,0,0,0,0,0,0,0,0,0,0,null,null,null,null,null,"01.01.0001 0:00:00",null,null,null,null,100,0]
[150,"ЯМТ-Снежинск","Полная",{"$f":"VLOOKUP(B151,#REF!,2,0)","v":{"$error":"#REF!"}},"2010912000 ЯМТ-Снежинск",0,"01.01.0001 0:00:00",null,0,0,0,0,76,76,0,0,0,0,0,0,0,0,0,0,0,0,null,null,null,null,null,"01.01.0001 0:00:00",null,null,null,null,76,0]
[151,"Атомфонд","Полная",{"$f":"VLOOKUP(B152,#REF!,2,0)","v":{"$error":"#REF!"}},"2010592700 Атомфонд",0,"01.01.0001 0:00:00",null,0,0,0,0,56.7607,56.7607,0,0,0,0,0,0,0,0,0,0,0,0,null,null,null,null,null,"01.01.0001 0:00:00",null,null,null,null,0,0]
[152,"Атомгарант","Полная",{"$f":"VLOOKUP(B153,#REF!,2,0)","v":{"$error":"#REF!"}},"2010592600 Атомгарант",0,"01.01.0001 0:00:00",null,0,0,0,0,56.761099999999999,56.761099999999999,0,0,0,0,0,0,0,0,0,0,0,0,null,null,null,null,null,"01.01.0001 0:00:00",null,null,null,null,0,0]

{"sheet":"ФСД 30.09","index":2,"n_rows":419,"n_cols":11,"rows_kept":419,"cut":false,"hidden":true,"merged":[]}
[]
["Сокращенное название","ИНН","ГИД НСИ","Номер ЦФО","Полное название","Организации Госкорпорации «Росатом», \n предоставляют информацию для финансовой отчетности (ФСД)  и осуществляют сверку в Портале ВГО.","Организации Госкорпорации «Росатом», включены в периметр ПФА","Включена в Периметр АЭПК по МСФО","Включена в Периметр ГК по МСФО","Признак КГН","Компании с эффективной долей Госкорпорации \"Росатом\" более 50%, но по которым планируется мероприятия по отчуждению акций/долей в уставном капитале, или находящиеся  в стадии ликвидации/реорганизации или банкротства"]
["Гос.контракты","Гос.контракты",10011]
["Внешние контрагенты","Внешние контрагенты",10015,null,null,"Нет",null,"Нет","Нет"]
["Физические лица","Физические лица",10000,null,null,"Нет",null,"Нет","Нет"]
["НДС с авансов","НДС с авансов",10018,null,null,"Нет",null,"Нет","Нет"]
["ARAKO","CZ47152371",104,2010230922,"ARAKO spol. s r.o.","Да","Да","Да","Да"]
["UMATEX Group Europe","CZ05556121",513680,2010243200,"UMATEX Group Europe s.r.o.","Да","Да","Да","Да"]
["UMATEX Composite Materials Trading","91310000MA1FW5B51F",513685,2010244200,"UMATEX Composite Materials Trading (Shanghai) Co.,Ltd.","Да","Да","Да","Да"]
["Uranium One Holding N.V.",817104549,254,2010021200,"Uranium One Holding N.V.","Да","Да","Да","Да"]
["Uranium One Trading AG","CHE-233.935.921 ",484676,2010021506,"Uranium One Trading AG","Да","Да","Да","Да"]
["INTERNEXCO GmbH (Швейцария)","CHE-255.290.400",407428,2010241000,"INTERNEXCO GmbH (Швейцария)","Да","Да","Да","Да"]
["Ganz","10806481-2-42",141186,2010820100,"Ganz Energetika Kft. ООО «Ганз Инженерное и Энергетическое Машиностроение»","Да","Да","Да","Да"]
["Mantra Resources Ltd.",833296300,193128,2010021600,"Mantra Resources Pty Ltd.","Да","Да","Да","Да"]
["NUKEM","204/115/21479",276,2010450107,"NUKEM Technologies GmbH","Да","Да",null,"Да"]
["Nukem Technologies","204/115/21517",360342,2010450112,"Nukem Technologies Engineering Services GmbH","Да","Да",null,"Да"]
["KWINDER HOLDINGS LIMITED","12277016L",219342,2010240310,"KWINDER HOLDINGS LIMITED","Да",null,"Да","Да"]
["Uranium","88897 7170 RC0001",154744,2010021500,"Uranium One Inc.","Да","Да","Да","Да"]
["UMP Trading","903.1.000.8205",389124,2010230952,"UMP Trading (Швейцария)","Да","Да","Да","Да"]
["ROSATOM FINANCE",9909431723,206017,2010940000,"ROSATOM FINANCE LTD (Росатом Финанс ЛТД)","Да","Да","Да","Да"]
["RAOS Voima","2596476-2",340080,2010931000,"RAOS Voima Oy","Да","Да","Да","Да"]
["RAOS Project",386588,386588,2010932000,"RAOS Project Oy","Да","Да","Да","Да"]
["TRADEWILL LIMITED","GB987386840",268,2010242400,"TRADEWILL LIMITED","Да","Да","Да","Да"]
["TENAM","68-068-0771",185864,2010242500,"TENAM Corporation","Да","Да","Да","Да"]
["TENEX-Japan",379387,126,2010241400,"KABUSHIKI KAISHA TENEX-JAPAN","Да","Да","Да","Да"]
["TENEX-Korea","120-86-48471",125,2010241300,"TENEX-Korea Co., Ltd.","Да","Да","Да","Да"]
["EMSS Holdings","HE 245521",219340,2010230948,"EMSS Holdings Limited (ЭМСС ХОЛДИНГЗ ЛИМИТЕД)","Да","Да","Да","Да"]
["АКМЭ-Инжиниринг",7706729140,337,4160000000,"АО \"АКМЭ-Инжиниринг\"","Да","Да","сп","сп"]
["АЛАБУГА-ВОЛОКНО",1646031132,228298,2010242201,"ООО \"Алабуга-Волокно\"","Да","Да","Да","Да"]
["Аргон",6454074501,121,2010240800,"ООО \"Аргон\"","Да","Да","Да","Да"]
["АРМЗ",7706016076,17,2010020000,"АО \"Атомредметзолото\"","Да","Да","Да","Да","Да"]
["Аккую Нуклеар",310546698,261459,2010450108,"\"AKKUYU NUKLEER ANONIM SIRKETI\"","Да","Да","Да","Да"]
["АСЭ",7701186067,153,2010450100,"АО \"Атомстройэкспорт\"","Да","Да",null,"Да","Да"]
["АТА",7724560930,251,2010010000,"АО \"Альянстрансатом\"","Да","Да","Да","Да","Да"]
["АТМ",7734242302,97,2010230915,"АО \"Атомтрубопроводмонтаж\"","Да","Да","Да","Да"]
["АтомИнвест",7720398363,523235,2010630200,"ООО «АтомИнвест» ","Да","Да","Да","Да"]
["АтомМедТехнолоджи-ДВ",2536279414,385789,2010933000,"ООО \"АтомМедТехнолоджи- Дальний Восток\"","Да","Да","Да","Да"]
["Атомбезопасность",5042009244,224,3040000000,"ФГУП \"Координационный Центр по созданию систем безопасности и управления \"Атомбезопасность\"","Да","Да",null,"Да"]
["Атомзащитаинформ",7706031557,227,3070000000,"ФГУП \"Научно-технический и сертификационный центр по комплексной защите информации\"","Да","Да",null,"Да"]
["Атомкомплект",7706738770,336,6090000000,"АО \"Атомкомплект\"","Да","Да",null,"Да"]
["Атом-охрана",7706289940,334,6020000000,"ФГУП \"Ведомственная охрана Росатома\"","Да","Да",null,"Да"]
["Атомспецтранс",7717609102,140,2010340000,"АО \"Атомспецтранс\"","Да","Да","Да","Да"]
["Атомтехэнерго",5029106714,141,2010350000,"АО по наладке, совершенствованию эксплуатации и организации управления атомных станций \"Атомтехэнерго\"","Да","Да","Да","Да","Да"]
["Атомфлот",5192110268,230,3100000000,"ФГУП атомного флота (ФГУП \"Атомфлот\")","Да","Да",null,"Да"]
["Атомэнергомаш",7706614573,88,2010230900,"АО \"Атомное и энергетическое машиностроение\" (АО \"Атомэнергомаш\")","Да","Да","Да","Да","Да"]
["Атомэнергосбыт",7704228075,172,2010591300,"АО \"АтомЭнергоСбыт\"","Да","Да","Да","Да"]
["Атомэнергоремонт",5029112443,296,2010590700,"АО \"Атомэнергоремонт\"","Да","Да","Да","Да","Да"]
["Атомтехэкспорт",7705408850,343,2010591900,"АО \"Атомтехэкспорт\"","Да","Да","Да","Да"]
["Атомэнергопромсбыт",7725828549,365478,2010591320,"АО \"Атомэнергопромсбыт\"","Да","Да","Да","Да"]
["АтомКапитал",7706792008,308377,2010110000,"АО \"АтомКапитал\"","Да","Да","","Да"]
["АТОМПРОЕКТ",7814417371,158,2010460000,"АО \"Научно-исследовательский и проектно-конструкторский институт энергетических технологий \"АТОМПРОЕКТ\"","Да","Да",null,"Да","Да"]
["АТЦ СПб",7802145892,221,3010000000,"ФГУП \"Аварийно-технический центр Минатома России\" (г. Санкт-Петербург)","Да","Да",null,"Да"]
["АЭМ-технологии",7817311895,353,2010230904,"АО Инжиниринговая компания \"АЭМ-технологии\"","Да","Да","Да","Да","Да"]
["АЭМ-лизинг",7706673635,90,2010230902,"АО \"АЭМ-лизинг\"","Да","Да","Да","Да"]
["АЭП",7701796320,143,2010360000,"АО  \"Атомэнергопроект\"","Да","Да",null,"Да","Да"]
["АЭПК",7706664260,16,2010000000,"АО \"Атомный энергопромышленный комплекс\" (АО \"Атомэнергопром\")","Да","Да","Да","Да","Да"]
["АЭХК",3801098402,144,2010370000,"АО \"Ангарский электролизный химический комбинат\"","Да","Да","Да","Да","Да"]
["Балтийская АЭС",3904612644,360,2010592100,"АО \"Балтийская АЭС\"","Да",null,"Да","Да"]
["ВО Изотоп",7704674312,145,2010380000,"АО \"Всерегиональное объединение \"Изотоп\"","Да","Да",null,"Да"]
["Вента",6624002377,28,2010050000,"ОАО \"Нижнетуринский машиностроительный завод \"Вента\"","Да","Да","Да","Да"]
["ВетроОГК",5036118291,261160,2010230956,"АО \"Ветроэнергетическая отдельная генерирующая компания\"","Да","Да",null,"Да"]
["ВНИИА",7707074137,2,1020000000,"ФГУП \"Всероссийский научно-исследовательский институт автоматики им. Н.Л. Духова\"","Да","Да",null,"Да"]
["ВНИИАЭС",7721247141,348,2010591800,"АО\"Всеросийский научно-исследовательский институт по эксплуатации атомных электростанций\"","Да","Да","Да","Да","Да"]
["ВНИИАМ (АЭПК)",7743654609,147,2010390000,"АО \"Всероссийский научно-исследовательский и проектно-конструкторский институт атомного энергетического машиностроения (ВНИИАМ)\"","Да","Да","Да","Да"]
["ВНИИНМ",7734598490,148,2010400000,"АО \"Всероссийский научно-исследовательский институт неорганических материалов имени академика А.А. Бочвара\"","Да","Да","Да","Да","Да"]
["ВНИИТФ",7423000572,10,1110000000,"ФГУП \"Российский Федеральный Ядерный Центр - Всероссийский научно-исследовательский институт технической физики имени академика Е.И. Забабахина\"","Да","Да",null,"Да"]
["ВНИИХТ",7724675770,272,2010420000,"АО \"Ведущий научно-исследовательский институт химической технологии (ВНИИХТ)\"","Да","Да","Да","Да"]
["ВНИИЭФ",5254001230,14,1150000000,"ФГУП \"Российский федеральный ядерный центр–Всероссийский научно- исследовательский институт экспериментальной физики\" (ФГУП \"РФЯЦ-ВНИИЭФ\")","Да","Да",null,"Да"]
["ВНИПИПромтехнологии",7724683379,150,2010430000,"АО \"Ведущий проектно-изыскательский и научно-исследовательский институт промышленной технологии\"","Да","Да","Да","Да","Да"]
["Гидропресс",5036092340,184,2010710000,"АО \"Ордена Трудового Красного Знамени и ордена труда ЧССР - опытное конструкторское бюро \"ГИДРОПРЕСС\"","Да","Да","Да","Да","Да"]
["Гиредмет",7706699062,279,2010470000,"АО \"Государственный научно-исследовательский проектный институт редкометаллической промышленности \"Гиредмет\"","Да","Да","Да","Да"]
["Госкорпорация Росатом",7706413348,250,"0000000002","Государственная корпорация по атомной энергии \"Росатом\"","Да","Да",null,"Да","Да"]
["Гринатом",7706729736,246,2010900000,"АО \"Гринатом\"","Да","Да","Да","Да"]
["ГСПИ",7708697977,162,2010500000,"АО \"Государственный специализированный проектный институт\" (АО \"ГСПИ\")","Да","Да","Да","Да"]
["ГХК",2452000401,222,3020000000,"ФГУП \"Горно-химический комбинат\"","Да","Да",null,"Да"]
["Далур",4506004751,87,2010230800,"АО \"Далур\"","Да","Да","Да","Да","Да"]
["Дедал",5010036460,281,2010510000,"АО \"Научно-производственный комплекс \"Дедал\"","Да","Да","Да","Да"]
["ДЕЗ",7706730001,347,2010890000,"АО \"Дирекция Единого Заказа оборудования для АЭС\"","Да","Да","Да","Да","Да"]
["АРМЗ-Сервис",7708671295,24,2010020602,"ООО \"АРМЗ Сервис\"","Да","Да","Да","Да","Да"]
["ЗАЭС",7701763846,152,2010450000,"АО \"Всероссийское производственное объединение \"Зарубежатомэнергострой\" (АО \"ВПО \"ЗАЭС\")","Да","Да","Да","Да"]
["ЗИОМАР",5036039258,99,2010230917,"АО \"Инжиниринговая компания \"ЗИОМАР\"","Да","Да","Да","Да"]
["ЗиО-Подольск",5036040729,100,2010230918,"ПАО \"Машиностроительный завод \"ЗиО Подольск\"","Да","Да","Да","Да","Да"]
["ЗУКМ",7450045935,127,2010241600,"ООО \"Завод углеродных и композиционных материалов\"","Да","Да","Да","Да"]
["ИРМ",6639019655,163,2010540000,"АО \"Институт реакторных материалов\"","Да","Да","Да","Да"]
["ИиС РФЯЦ - ВНИИЭФ",5254491506,481838,1150000006,"АО \"Инфраструктура и Сервис РФЯЦ - ВНИИЭФ\"","Да",null,null,"Да"]
["ИЦ РГЦ",7706689000,134,2010242300,"АО \"Инжиниринговый центр \"Русская газовая центрифуга\"","Да","Да","Да","Да"]
["Искра",2453014750,339,2010230001,"ООО \"Искра\"","Да","Да","Да","Да"]
["ЖТЭЦ",2458013365,367574,2010551000,"АО \"Железногорская ТЭЦ\"","Да","Да","Да","Да"]
["КМЗ",3305004397,119,2010240600,"ПАО \"Ковровский механический завод\"","Да","Да","Да","Да","Да"]
["Красная Звезда",7726682003,217178,2010600000,"АО \"Красная Звезда\"","Да","Да","Да","Да"]
["Краун",7705833438,123,2010241100,"ООО \"Краун\"","Да","Да","Да","Да"]
["Консист-ОС",7711077412,285,2010590317,"АО \"Консист-Оператор-Связи\"","Да","Да","Да","Да"]
["КОНЦЕРН ТИТАН-2",7827004484,116493,2010592500," АО\"КОНЦЕРН ТИТАН-2\"","Да",null,"Да","Да"]
["КЦ",7715020463,113,2010231300,"АО \"Коммерческий центр\"","Да",null,"Да","Да"]
["ЛЗ Петрозаводскмаш",1001201343,359,2010242601,"ООО Литейный завод  \"Петрозаводскмаш»","Да","Да","Да","Да"]
["Маяк",7422000795,6,1070000000,"ФГУП \"Производственное объединение \"Маяк\"","Да","Да",null,"Да"]
["Марс",7707058167,249966,1190000000,"ФГУП «Московское опытно-конструкторское бюро «Марс»","Да","Да",null,"Да"]
["МЗП",7724558466,30,2010100000,"АО \"Московский завод полиметаллов\"","Да","Да","Да","Да","Да"]
["Молния",7721730486,214196,2010740000,"АО \"Производственное объединение \"Машиностроительный завод \"Молния\"","Да","Да","Да","Да"]
["МСЗ-М",5053066861,59,2010230115,"ООО \"МСЗ-МЕХАНИКА\"","Да",null,"Да","Да"]
["МСЗ",5053005918,46,2010230100,"ПАО \"Машиностроительный завод\"","Да","Да","Да","Да"]
["Наука и инновации",7706760091,215181,4010000100,"АО \"Наука и инновации\"","Да","Да","Да","Да"]
["НИИГрафит",7720723422,219385,2010630000,"АО \"Государственный научно-исследовательский институт конструкционных материалов на основе графита \"НИИграфит\"","Да","Да","Да","Да"]
["НИАЭП-Сервис",6916015670,302,2010620200,"ООО \"НИАЭП-Сервис\"","Да","Да",null,"Да"]
["НИИАР-ГЕНЕРАЦИЯ",7329008990,304288,2010970000,"ООО «НИИАР-ГЕНЕРАЦИЯ»","Да","Да","Да","Да"]
["НЗХК-Инструмент",5410021660,67,2010230207,"ООО \"НЗХК-Инструмент\"","Да",null,"Да","Да"]
["НЗХК-Энергия",5410028351,70,2010230210,"ООО \"НЗХК-Энергия\"","Да",null,"Да","Да"]
["ННКЦ",6629020806,130,2010241900,"ООО \"Новоуральский научно-конструкторский центр\"","Да",null,"Да","Да"]
["НЗХК",5410114184,61,2010230200,"ПАО \"Новосибирский завод химконцентратов\"","Да","Да","Да","Да"]
["ИК АСЭ",5260214123,176,2010620000,"АО Инжиниринговая компания \"АСЭ\"","Да","Да",null,"Да","Да"]
["НИИАР",7302040242,159,2010480000,"АО Государственный научный центр - Научно-исследовательский институт атомных реакторов (АО \"ГНЦ НИИАР\")","Да","Да","Да","Да"]
["НИИП",5027241394,449522,4070000000,"АО \"Научно-исследовательский институт приборов\"","Да","Да",null,"Да"]
["НИИТФА",7726606316,149,2010410000,"АО \"Научно-исследовательский институт технической физики и автоматизации (НИИТФА)\"","Да","Да","Да","Да","Да"]
["НИИЭФА",7817331468,340028,4080000000,"АО «НИИЭФА им. Д.В. Ефремова»","Да","Да",null,"Да"]
["НИКИМТ-Атомстрой",7715719854,164,2010550000,"АО \"НИКИМТ \"Атомстрой\"","Да","Да","Да","Да"]
["НИКИЭТ",7708698473,304,2010650000,"АО «Ордена Ленина Научно-исследовательский и конструкторский институт энерготехники имени Н.А. Доллежаля»","Да","Да","Да","Да"]
["НИТИ",4714000067,240,4090000000,"ФГУП \"Научно-исследовательский технологический институт имени А.П. Александрова\"","Да","Да",null,"Да"]
["НИФХИ",7709944065,340270,4140000000,"АО \"Ордена Трудового Красного Знамени Научно-исследовательский физико-химический институт имени Л.Я. Карпова\" (НИФХИ)","Да","Да",null,"Да"]
["Нижние котлы - ДУ",null,10020,2010411100,"Акционерное общество \"Управляющая компания индустриального парка \"Нижние котлы\"\", Доверительный управляющий","Да",null,"Да","Да"]
["НПК ХПИ",7706688991,133,2010242200,"АО \"НПК \"Химпроминжиниринг\"","Да","Да","Да","Да"]
["НПО Луч",5036005308,237,4060000000,"ФГУП \"Научно-исследовательский институт Научно-производственное объединение \"Луч\"","Да","Да",null,"Да"]
["НПО РИ",7802846922,338909,4010000000,"АО \"Радиевый институт им. В.Г. Хлопина\"","Да","Да",null,"Да"]
["НО РАО",5838009089,242,4110000000,"ФГУП \"Национальный оператор по обращению с радиоактивными отходами\"","Да","Да",null,"Да"]
["НоваВинд",9701087623,517363,2019000000,"АО «НоваВинд»","Да","Да","Да","Да"]
["НТЦ ЯФИ",7802441926,182,2010690000,"АО \"Научно-технический центр \"Ядерно-физические исследования\"","Да","Да","Да","Да"]
["Обесп РФЯЦ-ВНИИЭФ",5254081010,32,2010150000,"АО \"Обеспечение РФЯЦ-ВНИИЭФ\"","Да","Да","Да","Да"]
["ОТЭК",7706757331,208117,2010920000,"АО «Объединённая теплоэнергетическая компания»","Да","Да","Да","Да"]
["ТВЭЛ-КЦ",5256065824,203,2010840400,"АО \"ТВЭЛ-Корпоративный центр\""]
["ОЗТМиТС",7726633119,183,2010700000,"АО \"Опытный завод тугоплавких металлов и твердых сплавов\" (АО \"ОЗТМиТС\")","Да","Да","Да","Да"]
["ОИК",7706751361,367,2010910000,"ООО \"Объединенная инновационная корпорация\"","Да","Да","Да","Да"]
["ОК РСК",7706704146,204,2010860000,"АО \"Объединенная компания “Разделительно-сублиматный комплекс”","Да","Да","Да","Да"]
["ОКБМ",5259077666,185,2010720000,"АО \"Опытное Конструкторское Бюро Машиностроения имени И.И. Африкантова\"","Да","Да","Да","Да","Да"]
["ОДЦ УГР",7024033350,177333,2010780500,"АО \"Опытно-демонстрационный центр вывода из эксплуатации уран-графитовых ядерных реакторов\"","Да","Да","Да","Да"]
["Первая горнорудная компания",7703197508,298588,2010021800,"АО «Первая горнорудная компания»","да",null,"да","да"]
["ПО Север",5410101900,7,1080000000,"ФГУП Производственное объединение \"Север\"","Да","Да",null,"Да"]
["Прорыв",7708332920,555845,2010880000,"АО \"Прорыв\"","Да","Да","Да","Да"]
["Препрег-СКМ",7729632610,223386,2010252100,"АО \"Препрег – Современные Композиционные Материалы\"","Да","Да","Да","Да"]
["Препрег-Дубна",5010043203,319635,2010253100,"ООО \"Препрег-Дубна\"","Да","Да","Да","Да"]
["ППГХО",7530000048,84,2010230400,"ПАО \"Приаргунское производственное горно-химическое объединение\"","Да","Да","Да","Да","Да"]
["ПСЗ",7405000428,9,1100000000,"ФГУП \"Приборостроительный завод\"","Да","Да",null,"Да"]
["ПСР",7721699740,368,2010592000,"АО \"Производственная система \"ПСР\"","Да","Да","Да","Да"]
["Промышленные инновации",7725524660,112,2010231200,"АО \"Промышленные инновации\"","Да","Да","Да","Да"]
["Простое товарищество Русреактор-ВНИИЭФ",null,10019,2010991100,"Простое товарищество Русреактор-ВНИИЭФ","Да",null,null,"Да"]
["РАДОН",7704009700,133437,3110000000,"ФГУП \"РАДОН\"","Да","Да",null,"Да"]
["РАСУ",7734358970,417501,2010990000," АО \"Русатом Автоматизированные системы управления\"","Да","Да","Да","Да"]
["РАОС",7725413350,532934,2010230912,"АО \"Русатом Оверсиз\"","Да","Да","Да","Да","Да"]
["РБМ",7713190205,23,2010020600,"АО \"РУСБУРМАШ\"","Да","Да","Да","Да","Да"]
["Росэнергоатом",7721632827,166,2010590000,"АО \"Российский концерн по производству электрической и тепловой энергии на атомных станциях \"Росэнергоатом\"","Да","Да","Да","Да","Да"]
["РосРАО",4714004270,231,3260000000,"ФГУП \"Предприятие по обращению с радиоактивными отходами \"РосРАО\"","Да","Да",null,"Да"]
["РХК",7726396281,486175,2011000000,"АО \"Русатом Хэлскеа\"","Да","Да","Да","Да"]
["REIN",7706759586,215514,2010930000,"АО \"Русатом Энерго Интернешнл\"","Да","Да","Да","Да"]
["Русатом Сервис",7705966318,224845,2010592200,"АО \"Русатом Сервис\"","Да","Да","Да","Да"]
["Русреактор",7726367354,430687,2010991000,"АО \"Русатом растворные реакторы\"","Да","Да","Да","Да"]
["РСП",7726667090,198346,4180000000,"АО \"Русский сверхпроводник \"","Да","Да",null,"Да"]
["РЭМКО",5036076690,95,2010230911,"АО \"Русская ЭнергоМашиностроительная Компания\"","Да","Да","Да","Да"]
["С-плюс",7720325407,428981,2010630100,"Общество с ограниченной ответственностью \"С- плюс\"","Да","Да","Да","Да"]
["Сайпрус",9909449262,98,2010230916,"ATOMENERGOMASH CYPRUS LIMITED ЧК \"Атомэнергомаш Сайпрус Лимитед\"","Да","Да","Да","Да"]
["СвердНИИхиммаш",6664003909,41,2010200000,"АО \"Свердловский научно-исследовательский институт химического машиностроения (\"СвердНИИхиммаш\")\"","Да","Да","Да","Да"]
["СГК",5254082550,35,2010150300,"АО \"Саровская Генерирующая Компания\"","Да","Да","Да","Да"]
["СКЦ",7706187089,228,3080000000,"ФГУП \"Ситуационно-Кризисный Центр Федерального агентства по атомной энергии\"","Да","Да",null,"Да"]
["СМБ",7706433961,431962,2010992000,"ООО \"Системы Мониторинга \"Беркут\"","Да","Да","Да","Да"]
["СНИИП",7734592593,179,2010660000,"АО \"Специализированный научно-исследовательский институт приборостроения\" (АО \"СНИИП\")","Да","Да","Да","Да"]
["СПб ИЗОТОП",7840393624,189,2010750000,"АО \"Санкт-Петербургский \"ИЗОТОП\"","Да","Да","Да","Да"]
["СТСК",5254082630,34,2010150200,"АО \"Саровская Теплосетевая Компания\"","Да","Да","Да","Да"]
["Старт",5838013374,540737,1090000000,"АО \"Федеральный научно-производственный центр \"Производственное объединение \"Старт\" имени М.В. Проценко\"","Да","Да",null,"Да"]
["СЕТЕС",7024037370,316804,2010550001,"АО \"Северские теплосистемы\"","Да","Да","Да","Да"]
["СХК",7024029499,192,2010780000,"АО \"Сибирский химический комбинат\"","Да","Да","Да","Да","Да"]
["СЭСК",5254082581,33,2010150100,"АО \"Саровская Электросетевая Компания\"","Да","Да",null,"Да"]
["Тепловодоканал",1837004370,77,2010230306,"ООО \"Тепловодоканал\"","Да",null,"Да","Да"]
["Точмаш-авто",3329064483,201363,2010440300,"ООО \"Точмаш-авто\"","Да",null,"Да","Да"]
["ТВЭЛ",7706123550,45,2010230000,"АО \"ТВЭЛ\"","Да","Да","Да","Да","Да"]
["ТВЭЛ-Строй",7726523814,111,2010231100,"АО \"ТВЭЛ-СТРОИ\"","Да",null,"Да","Да"]
["ТЕНЕКС-Сервис",7706604582,267,2010240100,"АО \"ТЕНЕКС-Сервис\"","Да","Да","Да","Да","Да"]
["Технопарк-Технология",5216017711,331,4150000000,"АО \"Технопарк-Технология\"","Да","Да",null,"Да"]
["Техснабэкспорт",7706039242,114,2010240000,"АО \"Техснабэкспорт\"","Да","Да","Да","Да","Да"]
["Точмаш",3329051460,151,2010440000,"АО \"Владимирское производственное объединение \"Точмаш\"","Да","Да","Да","Да"]
["ТРИНИТИ",7751002460,391705,4030000000,"АО \"Государственный научный центр Российской Федерации Троицкий институт инновационных и термоядерных исследований\"","Да","Да",null,"Да"]
["Трест РСЭМ",6916013425,132192,2010620400,"ООО \"Трест Росспецэнергомонтаж\"","Да","Да",null,"Да","Да"]
["Трест САЭМ",7719632308,265,2010230929,"АО \"Трест \"СпецАтомЭнергоМонтаж\"","Да",null,"Да","Да"]
["ТЦ ТЕНЕКС",7706609414,115,2010240200,"ЗАО \"Технологический центр \"ТЕНЕКС\"","Да","Да","Да","Да"]
["Уралприбор",6629020789,131,2010242000,"ООО \"Новоуральский приборный завод\"","Да",null,"Да","Да"]
["УАЗ",7706804447,339228,6010000000,"АО \"Управление административными зданиями\"","Да","Да",null,"Да"]
["УУГ",7706641432,18,2010020100,"АО \"Ураниум Уан Груп\"","Да","Да","Да","Да"]
["УК Нижние котлы",7726390113,470332,2010411000,"АО \"Управляющая компания индустриального парка \"Нижние котлы\"","Да","Да","Да","Да"]
["УДК Горное",7536087140,19,2010020200,"АО \"Уранодобывающая компания \"Горное\"","Да",null,"Да","Да"]
["НПО Центротех",6629020796,129,2010241800,"ООО \"Научно-производсвенное объединение\"Центротех\"\"","Да","Да","Да","Да","Да"]
["УЭМЗ",6608004641,11,1120000000,"ФГУП \"Уральский электромеханический завод\"","Да","Да",null,"Да"]
["УЭХК",6629022962,196,2010800000,"АО \"Уральский электрохимический комбинат\"","Да","Да","Да","Да"]
["ФЦЯРБ",7706801975,329348,3090000000,"АО \"Федеральный центр ядерной и радиационной безопасности\"","Да","Да",null,"Да"]
["ФЭИ",4025442583,390564,4040000000,"АО \"Государственный научный центр Российской Федерации - Физико-энергетический институт имени А.И. Лейпунского\"","Да","Да",null,"Да"]
["Хиагда","0302001219",86,2010230700,"АО \"Хиагда\"","Да","Да","Да","Да","Да"]
["ЦВТД",7726750415,366881,2010911000,"ООО «Центр высокотехнологичной диагностики»","Да","Да","Да","Да"]
["Центр энергоэффективности ИНТЕР РАО ЕЭС",7704765961,362,2010591306,"ООО «Центр энергоэффективности ИНТЕР РАО ЕЭС»",null,null,"сп","сп"]
["ЦентрАтом",7706723156,329,2010870000,"АО \"Центр управления непрофильными активами атомной отрасли\"","Да","Да","Да","Да"]
["ЦКБМ",7806394392,197,2010820000,"АО \"Центральное конструкторское бюро машиностроения\"","Да","Да","Да","Да","Да"]
["ЦНИИТМАШ",7723564851,31,2010140000,"АО \"Научно-производственное объединение \"Центральный научно-исследовательский институт технологии машиностроения\"","Да","Да","Да","Да","Да"]
["ЦОиС ОЛенКур",5024076079,271,2010290000,"АО \"Центр отдыха и спорта \"ОЛенКур \"","Да","Да","Да","Да"]
["ЦОУ",3801085668,122,2010240900,"АО \"Центр по обогащению урана\"",null,null,"сп","сп"]
["ЦУФС",7715470328,395865,6080000000,"АО \"Центр управления федеральной собственностью\"","Да","Да","Да","Да"]
["ЧМЗ",1829008035,71,2010230300,"АО \"Чепецкий механический завод\"","Да","Да","Да","Да","Да"]
["ЧУ ПЦИТЭР",7734269417,204687,5160000000,"Частное учреждение \"Проектный центр ИТЭР\" ",null,null,null,"да"]
["ЭЛЕМАШ-ТЭК",5053055010,54,2010230110,"ООО \"ЭЛЕМАШ-ТЭК\"","Да",null,"Да","Да"]
["Экоальянс",6629026420,190116,2010800800,"ООО \"Экоальянс\"","Да","Да","Да","Да"]
["ЭГМК",1402047530,21,2010020400,"АО \"Эльконский горно-металлургический комбинат\"","Да","Да","Да","Да"]
["ЭГМК-проект",1402048660,330,2060000000,"АО \"ЭГМК-проект\"","Да","Да"," "]
["Эксп №2",2901255495,390341,1140000000,"АО \"Экспедиция № 2\"","Да","Да",null,"Да"]
["Элерон",7724313681,396021,4100000000,"АО \"Специальное научно-производственное объединение \"Элерон\"","Да","Да",null,"Да"]
["Энергомашспецсталь",2106005156,361,2010230943,"ПАО \"Энергомашспецсталь\"","Да","Да","Да","Да"]
["Энергоспецмонтаж",7718083574,136,2010270000,"ПАО \"Энергоспецмонтаж\"","Да","Да",null,"Да"]
["ЭНИЦ",5035037441,198,2010830000,"АО \"Электрогорский научно-исследовательский центр по безопасности атомных электростанций\"","Да",null,"Да","Да"]
["ЭХЗ",2453013555,200,2010840000,"АО \"Производственное объединение \"Электрохимический завод\"","Да","Да","Да","Да","Да"]
["ЭХП",6630002336,5,1050000000,"ФГУП \"Комбинат \"Электрохимприбор\"","Да","Да",null,"Да"]
["ЯМТ-Снежинск",7459003496,387083,2010912000,"ООО \"Ядерные медицинские технологии-Снежинск\"","Да","Да","Да","Да"]
["Canada Limited","80931 9247 RC0001",251789,2010021520,"8524645 Canada Limited"]
["Cheetah Resources s.a.r.l.",20092434304,257652,2010021501,"Cheetah Resources s.a.r.l."]
["Headspring Investments (PTY.) Ltd.","2010/0624",230025,2010021310,"Headspring Investments (Proprietary) Limited"]
["Liges","CZ 279 33 270",149623,2010230913,"Liges s.r.o."]
["Likuyu Resources Limited",124215706,481212,2010021702,"Likuyu Resources Limited"]
["Mantra Tanzania Limited","105-158-750",210119,2010021630,"Mantra Tanzania Limited"]
["Mantra Uranium South Africa (Pty) Ltd",9214145147,293830,2010021660,"Mantra Uranium South Africa (Pty) Ltd"]
["Namtumbo Resources Pty Ltd",882627035,481209,2010021703,"Namtumbo Resources Pty Ltd"]
["Nyanza Goldfields Limited","115-109-731",296836,2010021640,"Nyanza Goldfields Limited"]
["OmegaCorp Minerais Limitada",400132852,300825,2010021671,"OmegaCorp Minerais Limitada"]
["Raims",7247740,205526,2010380200,"RAIMS Limited"]
["Red Wind B. V. ",858167360,533917,2010230958,"Red Wind B. V. "]
["Runex","4705199-01-1",154796,2010021100,"Runex Uranium (Pty.) Ltd."]
["Ruvuma Resources Limited","115-110-829",296838,2010021650,"Ruvuma Resources Limited"]
["Uranium One Exploration Pty Ltd",859064780,481214,2010021701,"Uranium One Exploration Pty Ltd"]
["Uranium One Friesland",854088325,474468,2010021510,"Uranium One Friesland Cooperatief"]
["Uranium One Investments Inc.","10561 0190 RC0002",476191,2010021503,"Uranium One Investments Inc."]
["Uranium One Technical Services",null,481215,2010021661,"Uranium One Technical Services (Pty) Ltd"]
["RAOS Energy",null,488812,2010935000,"RAOS Energy Enerji Yatırımları Danışmanlığı Anonim Şirketi"]
["VPR","GB981159595",154774,2010021300,"VOSTOK POWER RESOURCES LIMITED"]
["ААЭМ",5036083578,258,2010230928,"ООО \"Турбинные технологии ААЭМ\" "]
["АвтоДом",5035043950,367912,2010830300,"ООО «АВТОДОМ»"]
["Автотранс – А",6143038846,297557,2010242640,"ООО «Автотранс – А»"]
["Автохозяйство Уртуйское",7530012621,162559,2010230405,"ООО \"Автохозяйство Уртуйское\""]
["АПМ",2080209,219343,2010590318,"ООО \"Ассоциация предприятий Минатома\""]
["АРМЗ Намибия","2010/0109",219867,2010021400,"ARMZ NAMIBIA (PROPRIETARY) LIMITED"]
["АТОММАШ-СЕРВИС",6143083535,365614,2010242651,"ООО \"АТОММАШ-СЕРВИС\""]
["АтомТеплоСбыт",7709733339,345,2010591305,"ООО \"АтомТеплоСбыт\""]
["АтомТеплоЭлектроСеть",7705923730,179781,2010591307,"ООО \"АтомТеплоЭлектроСеть\""]
["Атомтранс",6724008446,297,2010590800,"АО \"Атомтранс\""]
["Балаковская АЭС-Авто",6439071143,287,2010590301,"ООО \"Балаковская АЭС – Авто\""]
["БАЭС-2",6609007758,170,2010590900,"АО \"Белоярская АЭС-2\""]
["Белоярская АЭС-Авто",6639019528,288,2010590303,"ООО \"Белоярская АЭС – Авто\""]
["Березка",2448005630,211874,2010840010,"ООО \"Санаторий -профилакторий \"Березка\""]
["Былина",5445101362,62,2010230201,"АО \"Пансионат \"Былина\""]
["ВАЭС-Сервис",6143072318,127283,2010590305,"ООО \"Волгодонская АЭС-Сервис\""]
["ВДМУ",6143066681,303,2010620300,"ООО \"Волгодонское Монтажное Управление\""]
["ВетроОГК-2",9701098248,535643,2010230957,"АО  «Ветроэнергетическая отдельная генерирующая компания-2»"]
["ВНИИАМ(АЭМ – технологии)",6143059719,127226,2010230966,"АО \"Волгодонский научно-исследовательский и проектно-конструкторский институт атомного машиностроения\""]
["ВНИИАСУ",7721566412,174298,2010660100,"АО \"ВНИИАЭС АСУ ТП\""]
["Геостар",5213000558,253,2010020901,"ООО \"Фирма \"Геостар\""]
["ГК Глазов",1837003961,75,2010230304,"ООО \"Гостиничный комплекс \"Глазов\""]
["Гуанья",1000000001,481088,1070020000,"СК \"Харбинская  компания с ограниченной ответственностью по новым радиационным технологиям Гуанья\" "]
["Далур-Сервис",4506009051,153118,2010230802,"ООО \"Далур-Сервис\""]
["ЗЭП",6629027216,213663,2010800900,"ООО \"Завод электрохимических преобразователей\""]
["Изотоп Ектб",6672219595,256,2010070000,"АО \"Изотоп\" г. Екатеринбург"]
["Изотоп техно",101553117,161,2010480300,"СЗАО \"Изотопные технологии\""]
["ИКАО",7704670879,155680,2010590400,"АО \"Ипотечная компания атомной отрасли\"",null,null,null,null,"да"]
["ИКБ ВНИИАЭС",7725727702,269343,2010830200,"АО \"Инженерно-Конструкторское Бюро ВНИИАЭС\""]
["Инжект",6453142068,431594,2010601001,"ООО \"Научно-производственное предприятие «Инжект»"]
["ИНТЕР СМАРТ",3329032065,317836,2010231201,"ООО \"ИНТЕР СМАРТ\""]
["Итманово",5213004023,25,2010020900,"ООО \"Агрофирма \"Итманово\""]
["ИФ Пионер",3329064081,199121,2010440100,"ООО \"Инструментальная фирма \"Пионер\""]
["ИФТП",5010036527,284,2010560000,"АО \"Институт физико-технических проблем\""]
["КАЭС-Сервис",6916015990,132232,2010590306,"ООО \"Калининская АЭС - Сервис\""]
["КИАЭ-НИИАР",110106102189908,306003,2010480200,"СП \"Пекинская КИАЭ-НИИАР компания радиоизотопов с ограниченной ответственностью\""]
["КМ",5410043399,222683,2010230212,"ООО \"Катодные Материалы\""]
["КМЗ Спецмаш",3305709037,172959,2010240700,"АО \"КМЗ-Спецмаш\""]
["КМЗ-Авто",3305709196,199315,2010240601,"ООО \"КМЗ-АВТО\""]
["Кольская АЭС-Авто",5117065288,290,2010590307,"ООО \"Кольская АЭС – Авто\""]
["Комбинат питания СХК",7024032205,169278,2010780300,"ООО \"Комбинат питания\""]
["КУЖФ",5254082616,39,2010150800,"ООО \"Компания по управлению жилищным фондом\""]
["КурскАЭС-Сервис",4634010454,291,2010590308,"ООО \"Курская  АЭС-Сервис\""]
["Курчатовец",4007017120,284547,2010290010,"ООО «Курчатовец»"]
["Ленинградская АЭС – Авто",4714023385,292,2010590309,"ООО \"Ленинградская АЭС – Авто\""]
["ЛОК Колонтаево",5031009115,47,2010230101,"АО \"Лечебно-оздоровительный комплекс \"Дом отдыха Колонтаево\""]
["Лунное",1402046871,22,2010020500,"АО \"Лунное\""]
["Медсанчасть",6143057983,184628,2010242650,"ООО Медицинская компания «Медсанчасть»"]
["МЦ Изумруд",6629026340,193100,2010800600,"ООО \"Медицинский Центр \"Изумруд\""]
["МЦКДМ",7423024076,399172,1110000006,"ООО \"Международный центр компьютерного дизайна материалов\""]
["МЦОУ",3801091245,128,2010241700,"АО \"Международный центр по обогащению урана\""]
["НЗХК-Инжиниринг",5410027319,69,2010230209,"АО \"НЗХК-Инжиниринг\""]
["НИЦАЭС",5019021966,314,2010670100,"АО \"Научно-испытательный центр оборудования атомных электростанций\""]
["Нововоронежская АЭС – Авто",3651008478,293,2010590310,"ООО \"Нововоронежская АЭС – Авто\""]
["НП-Атом",7734667104,225805,2010403000,"ЗАО  \"НП -Атом\""]
["НПП НАНОЭЛЕКТРО",7734653790,204504,2010402000,"ООО \"Научно-производственное предприятие \"НАНОЭЛЕКТРО\""]
["Объединенные урановые предприятия",7705849332,26,2010021000,"ООО \"Объединенные урановые предприятия\" ",null,null,null,null,"да"]
["ОКБ КИПиА ГХК",2452044014,462826,3020060000,"ООО «ОКБ КИПиА ГХК»"]
["ОКТБ ИС",5047125572,215147,2010730000,"АО \"Отраслевое конструкторско-технологическое бюро по разработке современных технологий и производства изделий из стекла\""]
["ООО АРАКО",7817323763,222715,2010231022,"ООО \"АРАКО\""]
["Опыт",5036035447,"149639",5036035447,"АО «Опытное предприятие атомно-энергетического и нефтехимического машиностроения»"]
["ПЗМсервис",1001156891,187796,2010242630,"ООО ПЗМ-Сервис"]
["ПНФ Термоксид",6609000583,99018,2010592300,"АО «ПНФ «Термоксид»"]
["Прибор-сервис(СХК)",7024034587,208961,2010780800,"ООО \"Прибор-сервис\""]
["Прибор-Сервис(ЧМЗ)",1837005119,81,2010230310,"ООО \"Прибор-Сервис\""]
["Промпарксервис",3329065342,202477,2010440400,"ООО \"Промпарксервис\""]
["ПРЭХ ГХК",2452040122,337037,3020050000,"ООО «ПРЭХ ГХК»"]
["ПЭС",7530012639,168317,2010230407,"ООО \"Предприятие Электросвязи\""]
["РАС-Менеджмент",7736554699,356,2010230935,"АО «РусАтомСтрой-Менеджмент»"]
["РБМ-Казахстан",70540003292,252,2010020601,"ТОО \"СП \"Русбурмаш-Казахстан\""]
["РМЗ",7530012660,168307,2010230408,"ООО \"Ремонтно-механический завод\""]
["РМЗ ГХК",2452201891,299816,3020040000,"ООО \"Ремонтно-механический завод Горно-химического комбината\""]
["Рудник 6",7530012614,162226,2010230406,"ООО \"Рудник 6\""]
["РР-Энергия",7726704313,293674,2010960000,"ООО \"РР-Энергия\""]
["РУСАТ",7724424381,null,2010262000,"ООО «Русатом-Аддитивные технологии»"]
["Русатом Гринвэй",7706452851,543924,2011900000,"ООО \"Русатом Гринвэй\""]
["СаровГаз",5254082542,36,2010150400,"АО \"Саровская Газоснабжающая Компания\""]
["САЭС-Сервис",6724008661,295,2010590315,"ООО \"Смоленская АЭС- Сервис\""]
["СибРегионПромсервис",7024034570,210989,2010780700,"ООО \"СибРегионПромсервис\""]
["Синий Утёс",7014041634,177085,2010780100,"ООО \"Санаторий Синий Утёс\""]
["СПЮ ГХК",2452040108,339103,3020000001,"ООО \"Санаторий-профилакторий Юбилейный Горно-химического комбината\""]
["СМРП ГХК",2452201901,301720,3020000002,"ООО \"Строительно-монтажное ремонтное производство Горно-химического комбината\""]
["СМУ№1ооо",5260234539,301,2010620100,"ООО \"Строительно-монтажное управление № 1\"",null,null,null,null,"да"]
["СП Чепца",1837004309,76,2010230305,"ООО \"Санаторий-профилакторий \"Чепца\""]
["Станкомаш",3329064290,201365,2010440200,"ООО \"Станкомаш\""]
["СТК",7024034001,205297,2010780400,"ООО \"Северская телефонная компания\""]
["Стрельцовский СРТ",7530012491,260,2010230403,"ООО \"Стрельцовский строительно-ремонтный трест\""]
["СТС",2452201637,292795,3020000003,"ООО \"Станция теплоснабжения\""]
["СЦ Прогресс",3801120337,284648,2010370100,"ООО \"Сервисный центр \"Прогресс\""]
["Телевизионный центр",7530003426,259,2010230401,"АО \"Телевизионный центр\""]
["Телеком ГХК",2452201651,294831,3020000004,"ООО \"Телеком ГХК\""]
["ТЕНЕКС-Логистика",7706607400,117,2010240400,"АО \"ТЕНЕКС-Логистика\""]
["Техэнерго-ЭХП","7701927935","402234",1051000000,"ООО \"Техэнерго - Электрохимприбор\"",null,null,null,"сп"]
["Трансэнерго",7423023178,197744,1110020000,"АО \"Трансэнерго\""]
["УАТ НЗХК",5410153786,65,2010230205,"АО \"Управление автомобильным транспортом НЗХК\""]
["УАТ Северск",7024034428,204870,2010781000,"ООО «Управление автомобильного транспорта»"]
["УГК-Холдинг",7451382644,399601,1110000002,"ООО \"Уральский Генерирующий Конверсионный Холдинг\"",null,null,null,"сп"]
["УЖТ",2452201644,294541,3020000005,"ООО \"Управление железнодорожного транспорта\""]
["УКИПСМ","0253018827",218924,2010590320,"ООО \"Управляющая компания Индустриального парка строительных материалов\""]
["ППГХО-Услуги",7530012519,261,2010230404,"ООО \"ППГХО-Услуги\""]
["Центротех",7805416607,327,2010840500,"АО \"Центротех - СПб\""]
["ЦИРФРИ",7802809705,377574,4011000000,"ООО «Центр изотопов и радиофармпрепаратов Радиевого института»"]
["ЦКО ООО",5216000193,225731,1150000005,"ООО \"Центр компетенции и обучения\""]
["ЦПТИ",7724779465,203706,2010231400,"АО \"Центральный проектно-технологический институт\""]
["ЭИЗ",7811411780,178,2010640000,"АО \"Санкт-Петербургский Научно-Исследовательский Изыскательский Институт \"Энергоизыскания\""]
["ЭЛЕМАШ-МАГНИТ",5053054810,53,2010230109,"ООО \"ЭЛЕМАШ МАГНИТ\""]
["ЭЛЕМАШ-СТП",5053066854,58,2010230114,"ООО \"ЭЛЕМАШ- СПЕЦТРУБПРОКАТ\""]
["ЭнергоАвтотранс",5254082648,173052,2010150600,"ООО \"ЭнергоАвтотранс\""]
["Энергоатоминвест",4027055893,169,2010590300,"ООО \"Энергоатоминвест\""]
["Энергоремонт",1837004362,78,2010230307,"ООО \"Энергоремонт\""]
["Энергосервисная компания",7024034594,212643,2010780600,"ООО \"Энергосервисная  компания\""]
["ЭНПРАН",7706716631,150158,6080010000,"АО \"Энергопроманалитика\""]
["АСЭ-Финанс",7705762628,154,2010450101,"ООО «Атомстройэкспорт- Финанс»",null,null,null,null,null,"да"]
["Ленатомэнергострой",4714023642,191,2010770000,"АО \"Специализированное строительно-монтажное управление \"Ленатомэнергострой\"",null,null,null,null,null,"да"]
["ПЗМ-ТНП",1001169266,187798,2010242660,"ООО «ПетрозаводскМаш – ТНП»",null,null,null,null,null,"да"]
["УМПК",7422032148,132635,2010450109,"ЗАО \"Уральская монтажно- промышленная компания\"",null,null,null,null,null,"да"]
["Частные учреждения \"Росатома\",  предоставляют отчетность КВАРТАЛЬНО"]
["ЧУ ЦТРПЭ",7706414704,96799,5100000000,"Частное учреждение \"Центр третейского регулирования и правовой экспертизы\""]
["ЧУ СГИК",7705096054,96825,5090000000,"Частное учреждение \"Служба генерального инспектора Государственной корпорации по атомной энергии \"Росатом\""]
["ЧУ ЦАА",5029133115,96981,5150000000,"Частное учреждение \"Центральный архив атомной отрасли  Государственной корпорации по атомной энергии \"Росатом\""]
["ЧУ ПРОРЫВ",7726485277,292959,5170000000,"ЧУ ГК \"Росатом\" \"Инновационно-технологический центр проекта \"ПРОРЫВ\""]
["ЧУ ОЦКС",7706470770,293823,5120000000,"ЧУ ГК \"Росатом\" \"Отраслевой центр капитального строительства\""]
["ЧУ ИКЦ",7725351697,318855,5180000000,"Частное учреждение \"Историко-культурный центр\""]
["ЧУ Атомстандарт",7706416170,386744,5190000000,"Частное учреждение \"Институт технического регулирования, обеспечения единства измерений и стандартизации Росатома\" "]
["ЧУ СКЦ Росатома",7706445460,481198,5210000000,"Частное учреждение по информационно- аналитическому обеспечению \"Ситуационно-Кризисный Центр Росатома\""]
["ЧУ Атом-регион",7706422695,409863,5110000000,"Частное учреждение по сопровождению реализации территориальных проектов атомной отрасли \"Атом-регион\""]
["ЧУ РМС",7706471614,379434,2010980001,"Частное учреждение обеспечения развития международной региональной сети атомного энергопромышленного комплекса \"Русатом-Международная Сеть\""]
["АНО КАР",7706470787,293828,6100000000,"Автономная некоммерческая организация \"Корпоративная Академия Госкорпорации \"Росатом\""]
["АНО ТАР",4025450383,514998,5500000000,"АНО ДПО «Техническая академия Росатома»"]
[null,null,null,null,"Прочие организации для  заполнения  ИНН на листе 58.02"]
["1-НПФ фонд",7724186930,151080,2039000000,"1- НПФ (Негосударственный пенсионный фонд \"Первый национальный пенсионный фонд\")"]
["FAIR GmbH (ФАИР)",99999999,321765,null,"\"Facility for Antiproton and Ion Research in Europe GmbH»"]
["Nuclear Power Alliance a.s.",1781570,325852,2010450111,"Nuclear Power Alliance a.s."]
["PASEK - stavebni firma spol. s.r.o.",25281607,249010,null,"PASEK - stavebni firma spol. s.r.o."]
["Rosatom Africa (Pty) Ltd","2014/073014/07",374593,null,"Rosatom Africa (Pty) Ltd "]
["Rosatom Asia PTE. LTD","201411806N",374580,null,"Rosatom Asia PTE. LTD"]
["Rosatom Central Europe s.r.o.",3033716,368503,null,"Rosatom Central Europe s.r.o."]
["Rosatom France SARL",804720555,374631,null,"Rosatom France SARL"]
["Tri Alpha Energy, Inc.",22222222,null,null,"Tri Alpha Energy"]
["Uranium One Australia Pty Ltd.",94057007,null,null,"Uranium One Australia Pty Ltd."]
["А.С.Т.",5254021525,339382,null,"Общество с ограниченной ответственностью «А.С.Т.»"]
["Ансертэко",7706026412,152124,2010470001,"Общество с ограниченной ответственностью \"Аналитический, сертификационный и эколого-аналитический центр \"Ансертэко\""]
["Атом-спорт",3801111332,195880,null," Автономная некоммерческая организация по спортивно-оздоровительной работе «Атом-спорт». "]
["Атомстройинвест",7705570531,275,2010450106,"ООО «Атомстройинвест»"]
["АЭС Северо-Запад",7801268130,354,2010591302,"Открытое акционерное общество «АтомЭнергоСбыт Северо-Запад»"]
["БИТЕХ",5254023547,232664,1150010000,"Закрытое акционерное общество \"Базовые исследования и технологии\""]
["БСУ-1",6639012579,130985,null,"Общество с ограниченной ответственностью \"БСУ-1\""]
["Взрывиспытания",5040006777,179676,1110000001,"Закрытое акционерно общество \"Инженерно-технический центр независимой экспертизы безопасности и сертификации взрывчатых материалов\""]
["ВНИИЭФ \"ТАНИК\"",5254001945,190718,1150000003,"Закрытое акционерное общество \"ВНИИЭФ, телевидение, автоматика, научные исследования, коммерция\""]
["Газета \"Город Номер\"",5254021677,203910,1150000001,"Закрытое акционерное общество \"Газета \"Город №\""]
["Гидроаппарат",5254019396,218326,null,"Закрытое акционерное общество «Гидроаппарат»"]
["ГЭМ",5036105172,149666,2010230927,"Открытое акционерное общество «Группа «Энергетическое Машиностроение»"]
["Иж-Астро",1831010987,176484,2010230350,"Открытое акционерное общество «Акционерное страховое общество «Иж-Астро»"]
["Издательская фирма \"Нейва-пресс\"",6629000366,106518,null," Общество с ограниченной ответственностью \" Издательская фирма \"Нейва-пресс\""]
["Квантовые технологии",5018049479,267200,1150070000,"Закрытое акционерное общество \"Межотраслевой научно-технический центр \"Квантовые технологии\""]
["Компания  ЦАУ",2076748,493609,null,"Компания с ограниченной ответственностью \"Центрально-Азиатская урановая компания\""]
["Кривское",4003003825,241159,null,"Закрытое акционерное общество \"Агропромышленная фирма \"Кривское\""]
["МА Титан",6607000411,153566,2010470002,"Закрытое акционерное общество \"Межгосударственная ассоциация Титан\""]
["МХО ИАЭ",7724180826,150448,1020000001,"Закрытое акционерное общество \"Московский филиал международного хозяйственного объединения \"Интрератомэнерго\""]
["МЭА",28612007575,413222,null,"ЗАО «МЕЦАМОРЭНЕРГОАТОМ» "]
["НПО \"САТИС\"",5254025248,268477,null,"Общество с ограниченной ответственностью \"Научно-производственное объединение \"Саровские атомные технологии и информационные системы\""]
["НПП Термотекс",5029040598,112469,2010800001,"Общество с ограниченной ответственостью  \"Научно-производственнное предприяитие \"Термотекс\""]
["НТА \"Актис\"",4025004928,123943,null,"Научно-техническая Ассоциация \"Компьютерные технологии и информационные системы в научных исследованиях\""]
["Нуклеарконтроль",7726030128,116016,null,"Закрытое акционерное общество \"Нуклеарконтроль\""]
["ООО «РОСАТОМ ВЕ»",39255244,null,null,"ООО «РОСАТОМ ВОСТОЧНАЯ ЕВРОПА»"]
["Прогресс",5037004040,125227,null,"Открытое акционерное общество\n «Протвинский Опытный завод «Прогресс»\n"]
["РАДЭФ",5254483760,243957,null,"Общество с ограниченной ответственностью \"РАДЭФ\""]
["РАОТЕХ",7719202457,113700,2010591802,"Закрытое акционерное общество «РАОТЕХ»"]
["Редметсервис",7717036589,232705,null,"Общество с ограниченной ответственностью \"Редметсервис\""]
["РОСАТОМ ЛАТИНСКАЯ АМЕРИКА",44444444,409317,null,"РОСАТОМ ЛАТИНСКАЯ АМЕРИКА, ООО"]
["САРОВ-ВОЛГОГАЗ",5254026273,125783,1150000004,"Общество с ограниченной ответственностью \"Научно-производственное объединение \"САРОВ-ВОЛГОГАЗ\""]
["Сервис",7423022400,435251,1110010000,"Открытое акционерное общество \"Сервис\""]
["СКЭМ",2312032555,151528,2010230950,"Открытое акционерное общество\n «Севкавэнергомонтаж»               \n\n\n\n"]
["СЭлС",5406222395,238604,1080000001,"Открытое акционерное общество \"Силовая электроника Сибири\""]
["ТД ГЭМ-Белгород",3123283361,243820,null,"Общество с ограниченной ответственностью «Торговый дом «ГЭМ-Белгород»"]
["Титан",5254018339,null,null,"Закрытое акционерное общество «Титан»"]
["ТОО «Росатом Центральная Азия»",141240022860,397923,null,"Товарищество с ограниченной ответственностью \"Росатом Центральная Азия\""]
["Триада",7825436390,116291,2010591700,"Закрытое акционерное общество \"Триада\""]
["ФБВТ",7703530990,233992,null,"Открытое акционерное общество \"Фондовая биржа высоких технологий\""]
["ФРЗТ",6600001442,217382,null,"Открытое акционерное общество \"Фонд развития заречного технополиса\""]
["ЦИМТ",7722816908,null,null,"Общество с ограниченной ответственностью \"Центр инновационных медицинских технологий\""]
["ЭКОцентр",7405003891,123489,null,"Общество с ограниченной ответственностью \"Центр экономического развития\""]
["ЭЛЕМАШ-ЭНЕРГО",5053020289,150821,null,"Общество с ограниченной ответственностью «ЭЛЕМАШ-ЭНЕРГО»"]
[null,null,null,null,"Компании ФГУП в которых есть доля владения"]
["ЭКА",5054002290,109132,4061000000,"Открытое акционерное общество «ЭКА»"]
["КП",5254482357,203903,1150040000,"Общество с ограниченной ответственностью \"Комплексный проект\""]

{"sheet":"ФСД 30.06","index":3,"n_rows":422,"n_cols":11,"rows_kept":422,"cut":false,"hidden":true,"merged":[]}
[]
["Сокращенное название","ИНН","ГИД НСИ","Номер ЦФО","Полное название","Организации Госкорпорации «Росатом», \n предоставляют информацию для финансовой отчетности (ФСД)  и осуществляют сверку в Портале ВГО.","Организации Госкорпорации «Росатом», включены в периметр ПФА","Включена в Периметр АЭПК по МСФО","Включена в Периметр ГК по МСФО","Признак КГН","Компании с эффективной долей Госкорпорации \"Росатом\" более 50%, но по которым планируется мероприятия по отчуждению акций/долей в уставном капитале, или находящиеся  в стадии ликвидации/реорганизации или банкротства"]
["Гос.контракты","Гос.контракты",10011]
["Внешние контрагенты","Внешние контрагенты",10015,null,null,"Нет",null,"Нет","Нет"]
["Физические лица","Физические лица",10000,null,null,"Нет",null,"Нет","Нет"]
["НДС с авансов","НДС с авансов",10018,null,null,"Нет",null,"Нет","Нет"]
["ARAKO","CZ47152371",104,2010230922,"ARAKO spol. s r.o.","Да","Да","Да","Да"]
["UMATEX Group Europe","CZ05556121",513680,2010243200,"UMATEX Group Europe s.r.o.","Да","Да","Да","Да"]
["UMATEX Composite Materials Trading","91310000MA1FW5B51F",513685,2010244200,"UMATEX Composite Materials Trading (Shanghai) Co.,Ltd.","Да","Да","Да","Да"]
["Uranium One Holding N.V.",817104549,254,2010021200,"Uranium One Holding N.V.","Да","Да","Да","Да"]
["Uranium One Trading AG","CHE-233.935.921 ",484676,2010021506,"Uranium One Trading AG","Да","Да","Да","Да"]
["INTERNEXCO GmbH (Швейцария)","CHE-255.290.400",407428,2010241000,"INTERNEXCO GmbH (Швейцария)","Да","Да","Да","Да"]
["Ganz","10806481-2-42",141186,2010820100,"Ganz Energetika Kft. ООО «Ганз Инженерное и Энергетическое Машиностроение»","Да","Да","Да","Да"]
["Mantra Resources Ltd.",833296300,193128,2010021600,"Mantra Resources Pty Ltd.","Да","Да","Да","Да"]
["NUKEM","204/115/21479",276,2010450107,"NUKEM Technologies GmbH","Да","Да",null,"Да"]
["Nukem Technologies","204/115/21517",360342,2010450112,"Nukem Technologies Engineering Services GmbH","Да","Да",null,"Да"]
["KWINDER HOLDINGS LIMITED","12277016L",219342,2010240310,"KWINDER HOLDINGS LIMITED","Да",null,"Да","Да"]
["Uranium","88897 7170 RC0001",154744,2010021500,"Uranium One Inc.","Да","Да","Да","Да"]
["UMP Trading","903.1.000.8205",389124,2010230952,"UMP Trading (Швейцария)","Да","Да","Да","Да"]
["ROSATOM FINANCE",9909431723,206017,2010940000,"ROSATOM FINANCE LTD (Росатом Финанс ЛТД)","Да","Да","Да","Да"]
["RAOS Voima","2596476-2",340080,2010931000,"RAOS Voima Oy","Да","Да","Да","Да"]
["RAOS Project",386588,386588,2010932000,"RAOS Project Oy","Да","Да","Да","Да"]
["TRADEWILL LIMITED","GB987386840",268,2010242400,"TRADEWILL LIMITED","Да","Да","Да","Да"]
["TENAM","68-068-0771",185864,2010242500,"TENAM Corporation","Да","Да","Да","Да"]
["TENEX-Japan",379387,126,2010241400,"KABUSHIKI KAISHA TENEX-JAPAN","Да","Да","Да","Да"]
["TENEX-Korea","120-86-48471",125,2010241300,"TENEX-Korea Co., Ltd.","Да","Да","Да","Да"]
["EMSS Holdings","HE 245521",219340,2010230948,"EMSS Holdings Limited (ЭМСС ХОЛДИНГЗ ЛИМИТЕД)","Да","Да","Да","Да"]
["АКМЭ-Инжиниринг",7706729140,337,4160000000,"АО \"АКМЭ-Инжиниринг\"","Да","Да","сп","сп"]
["АЛАБУГА-ВОЛОКНО",1646031132,228298,2010242201,"ООО \"Алабуга-Волокно\"","Да","Да","Да","Да"]
["Аргон",6454074501,121,2010240800,"ООО \"Аргон\"","Да","Да","Да","Да"]
["АРМЗ",7706016076,17,2010020000,"АО \"Атомредметзолото\"","Да","Да","Да","Да","Да"]
["Аккую Нуклеар",310546698,261459,2010450108,"\"AKKUYU NUKLEER ANONIM SIRKETI\"","Да","Да","Да","Да"]
["АСЭ",7701186067,153,2010450100,"АО \"Атомстройэкспорт\"","Да","Да",null,"Да","Да"]
["АТА",7724560930,251,2010010000,"АО \"Альянстрансатом\"","Да","Да","Да","Да","Да"]
["АТМ",7734242302,97,2010230915,"АО \"Атомтрубопроводмонтаж\"","Да","Да","Да","Да"]
["АтомИнвест",7720398363,523235,2010630200,"ООО «АтомИнвест» ","Да","Да","Да","Да"]
["АтомМедТехнолоджи-ДВ",2536279414,385789,2010933000,"ООО \"АтомМедТехнолоджи- Дальний Восток\"","Да","Да","Да","Да"]
["Атомбезопасность",5042009244,224,3040000000,"ФГУП \"Координационный Центр по созданию систем безопасности и управления \"Атомбезопасность\"","Да","Да",null,"Да"]
["Атомзащитаинформ",7706031557,227,3070000000,"ФГУП \"Научно-технический и сертификационный центр по комплексной защите информации\"","Да","Да",null,"Да"]
["Атомкомплект",7706738770,336,6090000000,"АО \"Атомкомплект\"","Да","Да",null,"Да"]
["Атом-охрана",7706289940,334,6020000000,"ФГУП \"Ведомственная охрана Росатома\"","Да","Да",null,"Да"]
["Атомспецтранс",7717609102,140,2010340000,"АО \"Атомспецтранс\"","Да","Да","Да","Да"]
["Атомтехэнерго",5029106714,141,2010350000,"АО по наладке, совершенствованию эксплуатации и организации управления атомных станций \"Атомтехэнерго\"","Да","Да","Да","Да","Да"]
["Атомфлот",5192110268,230,3100000000,"ФГУП атомного флота (ФГУП \"Атомфлот\")","Да","Да",null,"Да"]
["Атомэнергомаш",7706614573,88,2010230900,"АО \"Атомное и энергетическое машиностроение\" (АО \"Атомэнергомаш\")","Да","Да","Да","Да","Да"]
["Атомэнергосбыт",7704228075,172,2010591300,"АО \"АтомЭнергоСбыт\"","Да","Да","Да","Да"]
["Атомэнергоремонт",5029112443,296,2010590700,"АО \"Атомэнергоремонт\"","Да","Да","Да","Да","Да"]
["Атомтехэкспорт",7705408850,343,2010591900,"АО \"Атомтехэкспорт\"","Да","Да","Да","Да"]
["Атомэнергопромсбыт",7725828549,365478,2010591320,"АО \"Атомэнергопромсбыт\"","Да","Да","Да","Да"]
["АтомКапитал",7706792008,308377,2010110000,"АО \"АтомКапитал\"","Да","Да","","Да"]
["АТОМПРОЕКТ",7814417371,158,2010460000,"АО \"Научно-исследовательский и проектно-конструкторский институт энергетических технологий \"АТОМПРОЕКТ\"","Да","Да",null,"Да","Да"]
["АТЦ СПб",7802145892,221,3010000000,"ФГУП \"Аварийно-технический центр Минатома России\" (г. Санкт-Петербург)","Да","Да",null,"Да"]
["АЭМ-технологии",7817311895,353,2010230904,"АО Инжиниринговая компания \"АЭМ-технологии\"","Да","Да","Да","Да","Да"]
["АЭМ-лизинг",7706673635,90,2010230902,"АО \"АЭМ-лизинг\"","Да","Да","Да","Да"]
["АЭП",7701796320,143,2010360000,"АО  \"Атомэнергопроект\"","Да","Да",null,"Да","Да"]
["АЭПК",7706664260,16,2010000000,"АО \"Атомный энергопромышленный комплекс\" (АО \"Атомэнергопром\")","Да","Да","Да","Да","Да"]
["АЭХК",3801098402,144,2010370000,"АО \"Ангарский электролизный химический комбинат\"","Да","Да","Да","Да","Да"]
["Балтийская АЭС",3904612644,360,2010592100,"АО \"Балтийская АЭС\"","Да",null,"Да","Да"]
["ВО Изотоп",7704674312,145,2010380000,"АО \"Всерегиональное объединение \"Изотоп\"","Да","Да",null,"Да"]
["Вента",6624002377,28,2010050000,"ОАО \"Нижнетуринский машиностроительный завод \"Вента\"","Да","Да","Да","Да"]
["ВетроОГК",5036118291,261160,2010230956,"АО \"Ветроэнергетическая отдельная генерирующая компания\"","Да","Да",null,"Да"]
["ВНИИА",7707074137,2,1020000000,"ФГУП \"Всероссийский научно-исследовательский институт автоматики им. Н.Л. Духова\"","Да","Да",null,"Да"]
["ВНИИАЭС",7721247141,348,2010591800,"АО\"Всеросийский научно-исследовательский институт по эксплуатации атомных электростанций\"","Да","Да","Да","Да","Да"]
["ВНИИАМ (АЭПК)",7743654609,147,2010390000,"АО \"Всероссийский научно-исследовательский и проектно-конструкторский институт атомного энергетического машиностроения (ВНИИАМ)\"","Да","Да","Да","Да"]
["ВНИИНМ",7734598490,148,2010400000,"АО \"Всероссийский научно-исследовательский институт неорганических материалов имени академика А.А. Бочвара\"","Да","Да","Да","Да","Да"]
["ВНИИТФ",7423000572,10,1110000000,"ФГУП \"Российский Федеральный Ядерный Центр - Всероссийский научно-исследовательский институт технической физики имени академика Е.И. Забабахина\"","Да","Да",null,"Да"]
["ВНИИХТ",7724675770,272,2010420000,"АО \"Ведущий научно-исследовательский институт химической технологии (ВНИИХТ)\"","Да","Да","Да","Да"]
["ВНИИЭФ",5254001230,14,1150000000,"ФГУП \"Российский федеральный ядерный центр–Всероссийский научно- исследовательский институт экспериментальной физики\" (ФГУП \"РФЯЦ-ВНИИЭФ\")","Да","Да",null,"Да"]
["ВНИПИПромтехнологии",7724683379,150,2010430000,"АО \"Ведущий проектно-изыскательский и научно-исследовательский институт промышленной технологии\"","Да","Да","Да","Да","Да"]
["Гидропресс",5036092340,184,2010710000,"АО \"Ордена Трудового Красного Знамени и ордена труда ЧССР - опытное конструкторское бюро \"ГИДРОПРЕСС\"","Да","Да","Да","Да","Да"]
["Гиредмет",7706699062,279,2010470000,"АО \"Государственный научно-исследовательский проектный институт редкометаллической промышленности \"Гиредмет\"","Да","Да","Да","Да"]
["Госкорпорация Росатом",7706413348,250,"0000000002","Государственная корпорация по атомной энергии \"Росатом\"","Да","Да",null,"Да","Да"]
["Гринатом",7706729736,246,2010900000,"АО \"Гринатом\"","Да","Да","Да","Да"]
["ГСПИ",7708697977,162,2010500000,"АО \"Государственный специализированный проектный институт\" (АО \"ГСПИ\")","Да","Да","Да","Да"]
["ГХК",2452000401,222,3020000000,"ФГУП \"Горно-химический комбинат\"","Да","Да",null,"Да"]
["Далур",4506004751,87,2010230800,"АО \"Далур\"","Да","Да","Да","Да","Да"]
["Дедал",5010036460,281,2010510000,"АО \"Научно-производственный комплекс \"Дедал\"","Да","Да","Да","Да"]
["ДЕЗ",7706730001,347,2010890000,"АО \"Дирекция Единого Заказа оборудования для АЭС\"","Да","Да","Да","Да","Да"]
["АРМЗ-Сервис",7708671295,24,2010020602,"ООО \"АРМЗ Сервис\"","Да","Да","Да","Да","Да"]
["ЗАЭС",7701763846,152,2010450000,"АО \"Всероссийское производственное объединение \"Зарубежатомэнергострой\" (АО \"ВПО \"ЗАЭС\")","Да","Да","Да","Да"]
["ЗИОМАР",5036039258,99,2010230917,"АО \"Инжиниринговая компания \"ЗИОМАР\"","Да","Да","Да","Да"]
["ЗиО-Подольск",5036040729,100,2010230918,"ПАО \"Машиностроительный завод \"ЗиО Подольск\"","Да","Да","Да","Да","Да"]
["ЗУКМ",7450045935,127,2010241600,"ООО \"Завод углеродных и композиционных материалов\"","Да","Да","Да","Да"]
["ИРМ",6639019655,163,2010540000,"АО \"Институт реакторных материалов\"","Да","Да","Да","Да"]
["ИиС РФЯЦ - ВНИИЭФ",5254491506,481838,1150000006,"АО \"Инфраструктура и Сервис РФЯЦ - ВНИИЭФ\"","Да",null,null,"Да"]
["ИЦ РГЦ",7706689000,134,2010242300,"АО \"Инжиниринговый центр \"Русская газовая центрифуга\"","Да","Да","Да","Да"]
["Искра",2453014750,339,2010230001,"ООО \"Искра\"","Да","Да","Да","Да"]
["ЖТЭЦ",2458013365,367574,2010551000,"АО \"Железногорская ТЭЦ\"","Да","Да","Да","Да"]
["КМЗ",3305004397,119,2010240600,"ПАО \"Ковровский механический завод\"","Да","Да","Да","Да","Да"]
["Красная Звезда",7726682003,217178,2010600000,"АО \"Красная Звезда\"","Да","Да","Да","Да"]
["Краун",7705833438,123,2010241100,"ООО \"Краун\"","Да","Да","Да","Да"]
["Консист-ОС",7711077412,285,2010590317,"АО \"Консист-Оператор-Связи\"","Да","Да","Да","Да"]
["КЦ",7715020463,113,2010231300,"АО \"Коммерческий центр\"","Да",null,"Да","Да"]
["ЛЗ Петрозаводскмаш",1001201343,359,2010242601,"ООО Литейный завод  \"Петрозаводскмаш»","Да","Да","Да","Да"]
["Маяк",7422000795,6,1070000000,"ФГУП \"Производственное объединение \"Маяк\"","Да","Да",null,"Да"]
["Марс",7707058167,249966,1190000000,"ФГУП «Московское опытно-конструкторское бюро «Марс»","Да","Да",null,"Да"]
["МЗП",7724558466,30,2010100000,"АО \"Московский завод полиметаллов\"","Да","Да","Да","Да","Да"]
["Молния",7721730486,214196,2010740000,"АО \"Производственное объединение \"Машиностроительный завод \"Молния\"","Да","Да","Да","Да"]
["МСЗ-М",5053066861,59,2010230115,"ООО \"МСЗ-МЕХАНИКА\"","Да",null,"Да","Да"]
["МСЗ",5053005918,46,2010230100,"ПАО \"Машиностроительный завод\"","Да","Да","Да","Да"]
["Наука и инновации",7706760091,215181,4010000100,"АО \"Наука и инновации\"","Да","Да","Да","Да"]
["НИИГрафит",7720723422,219385,2010630000,"АО \"Государственный научно-исследовательский институт конструкционных материалов на основе графита \"НИИграфит\"","Да","Да","Да","Да"]
["НИАЭП-Сервис",6916015670,302,2010620200,"ООО \"НИАЭП-Сервис\"","Да","Да",null,"Да"]
["НИИАР-ГЕНЕРАЦИЯ",7329008990,304288,2010970000,"ООО «НИИАР-ГЕНЕРАЦИЯ»","Да","Да","Да","Да"]
["НЗХК-Инструмент",5410021660,67,2010230207,"ООО \"НЗХК-Инструмент\"","Да",null,"Да","Да"]
["НЗХК-Энергия",5410028351,70,2010230210,"ООО \"НЗХК-Энергия\"","Да",null,"Да","Да"]
["ННКЦ",6629020806,130,2010241900,"ООО \"Новоуральский научно-конструкторский центр\"","Да",null,"Да","Да"]
["НЗХК",5410114184,61,2010230200,"ПАО \"Новосибирский завод химконцентратов\"","Да","Да","Да","Да"]
["ИК АСЭ",5260214123,176,2010620000,"АО Инжиниринговая компания \"АСЭ\"","Да","Да",null,"Да","Да"]
["НИИАР",7302040242,159,2010480000,"АО Государственный научный центр - Научно-исследовательский институт атомных реакторов (АО \"ГНЦ НИИАР\")","Да","Да","Да","Да"]
["НИИП",5027241394,449522,4070000000,"АО \"Научно-исследовательский институт приборов\"","Да","Да",null,"Да"]
["НИИТФА",7726606316,149,2010410000,"АО \"Научно-исследовательский институт технической физики и автоматизации (НИИТФА)\"","Да","Да","Да","Да","Да"]
["НИИЭФА",7817331468,340028,4080000000,"АО «НИИЭФА им. Д.В. Ефремова»","Да","Да",null,"Да"]
["НИКИМТ-Атомстрой",7715719854,164,2010550000,"АО \"НИКИМТ \"Атомстрой\"","Да","Да","Да","Да"]
["НИКИЭТ",7708698473,304,2010650000,"АО «Ордена Ленина Научно-исследовательский и конструкторский институт энерготехники имени Н.А. Доллежаля»","Да","Да","Да","Да"]
["НИТИ",4714000067,240,4090000000,"ФГУП \"Научно-исследовательский технологический институт имени А.П. Александрова\"","Да","Да",null,"Да"]
["НИФХИ",7709944065,340270,4140000000,"АО \"Ордена Трудового Красного Знамени Научно-исследовательский физико-химический институт имени Л.Я. Карпова\" (НИФХИ)","Да","Да",null,"Да"]
["Нижние котлы - ДУ",null,10020,2010411100,"Акционерное общество \"Управляющая компания индустриального парка \"Нижние котлы\"\", Доверительный управляющий","Да",null,"Да","Да"]
["НПК ХПИ",7706688991,133,2010242200,"АО \"НПК \"Химпроминжиниринг\"","Да","Да","Да","Да"]
["НПО Луч",5036005308,237,4060000000,"ФГУП \"Научно-исследовательский институт Научно-производственное объединение \"Луч\"","Да","Да",null,"Да"]
["НПО РИ",7802846922,338909,4010000000,"АО \"Радиевый институт им. В.Г. Хлопина\"","Да","Да",null,"Да"]
["НО РАО",5838009089,242,4110000000,"ФГУП \"Национальный оператор по обращению с радиоактивными отходами\"","Да","Да",null,"Да"]
["НоваВинд",9701087623,517363,2019000000,"АО «НоваВинд»","Да","Да","Да","Да"]
["НТЦ ЯФИ",7802441926,182,2010690000,"АО \"Научно-технический центр \"Ядерно-физические исследования\"","Да","Да","Да","Да"]
["Обесп РФЯЦ-ВНИИЭФ",5254081010,32,2010150000,"АО \"Обеспечение РФЯЦ-ВНИИЭФ\"","Да","Да","Да","Да"]
["ОТЭК",7706757331,208117,2010920000,"АО «Объединённая теплоэнергетическая компания»","Да","Да","Да","Да"]
["ОКБ-НН",5256065824,203,2010840400,"АО \"ОКБ - Нижний Новгород\""]
["ОЗТМиТС",7726633119,183,2010700000,"АО \"Опытный завод тугоплавких металлов и твердых сплавов\" (АО \"ОЗТМиТС\")","Да","Да","Да","Да"]
["ОИК",7706751361,367,2010910000,"ООО \"Объединенная инновационная корпорация\"","Да","Да","Да","Да"]
["ОК РСК",7706704146,204,2010860000,"АО \"Объединенная компания “Разделительно-сублиматный комплекс”","Да","Да","Да","Да"]
["ОКБМ",5259077666,185,2010720000,"АО \"Опытное Конструкторское Бюро Машиностроения имени И.И. Африкантова\"","Да","Да","Да","Да","Да"]
["ОДЦ УГР",7024033350,177333,2010780500,"АО \"Опытно-демонстрационный центр вывода из эксплуатации уран-графитовых ядерных реакторов\"","Да","Да","Да","Да"]
["Первая горнорудная компания",7703197508,298588,2010021800,"АО «Первая горнорудная компания»","да",null,"да","да"]
["ПО Север",5410101900,7,1080000000,"ФГУП Производственное объединение \"Север\"","Да","Да",null,"Да"]
["Прорыв",7708332920,555845,2010880000,"АО \"Прорыв\"","Да",null,"Да","Да"]
["ППГХО",7530000048,84,2010230400,"ПАО \"Приаргунское производственное горно-химическое объединение\"","Да","Да","Да","Да","Да"]
["ПСЗ",7405000428,9,1100000000,"ФГУП \"Приборостроительный завод\"","Да","Да",null,"Да"]
["ПСР",7721699740,368,2010592000,"АО \"Производственная система \"ПСР\"","Да","Да","Да","Да"]
["Промышленные инновации",7725524660,112,2010231200,"АО \"Промышленные инновации\"","Да","Да","Да","Да"]
["Простое товарищество Русреактор-ВНИИЭФ",null,10019,2010991100,"Простое товарищество Русреактор-ВНИИЭФ","Да",null,null,"Да"]
["РАДОН",7704009700,133437,3110000000,"ФГУП \"РАДОН\"","Да","Да",null,"Да"]
["РАСУ",7734358970,417501,2010990000," АО \"Русатом Автоматизированные системы управления\"","Да","Да","Да","Да"]
["РАОС",7725413350,532934,2010230912,"АО \"Русатом Оверсиз\"","Да","Да","Да","Да","Да"]
["РБМ",7713190205,23,2010020600,"АО \"РУСБУРМАШ\"","Да","Да","Да","Да","Да"]
["Росэнергоатом",7721632827,166,2010590000,"АО \"Российский концерн по производству электрической и тепловой энергии на атомных станциях \"Росэнергоатом\"","Да","Да","Да","Да","Да"]
["РосРАО",4714004270,231,3260000000,"ФГУП \"Предприятие по обращению с радиоактивными отходами \"РосРАО\"","Да","Да",null,"Да"]
["РХК",7726396281,486175,2011000000,"АО \"Русатом Хэлскеа\"","Да","Да","Да","Да"]
["REIN",7706759586,215514,2010930000,"АО \"Русатом Энерго Интернешнл\"","Да","Да","Да","Да"]
["Русатом Сервис",7705966318,224845,2010592200,"АО \"Русатом Сервис\"","Да","Да","Да","Да"]
["Русреактор",7726367354,430687,2010991000,"АО \"Русатом растворные реакторы\"","Да","Да","Да","Да"]
["РСП",7726667090,198346,4180000000,"АО \"Русский сверхпроводник \"","Да","Да",null,"Да"]
["РЭМКО",5036076690,95,2010230911,"АО \"Русская ЭнергоМашиностроительная Компания\"","Да","Да","Да","Да"]
["С-плюс",7720325407,428981,2010630100,"Общество с ограниченной ответственностью \"С- плюс\"","Да","Да","Да","Да"]
["Сайпрус",9909449262,98,2010230916,"ATOMENERGOMASH CYPRUS LIMITED ЧК \"Атомэнергомаш Сайпрус Лимитед\"","Да","Да","Да","Да"]
["СвердНИИхиммаш",6664003909,41,2010200000,"АО \"Свердловский научно-исследовательский институт химического машиностроения (\"СвердНИИхиммаш\")\"","Да","Да","Да","Да"]
["СГК",5254082550,35,2010150300,"АО \"Саровская Генерирующая Компания\"","Да","Да","Да","Да"]
["СКЦ",7706187089,228,3080000000,"ФГУП \"Ситуационно-Кризисный Центр Федерального агентства по атомной энергии\"","Да","Да",null,"Да"]
["СМБ",7706433961,431962,2010992000,"ООО \"Системы Мониторинга \"Беркут\"","Да","Да","Да","Да"]
["СНИИП",7734592593,179,2010660000,"АО \"Специализированный научно-исследовательский институт приборостроения\" (АО \"СНИИП\")","Да","Да","Да","Да"]
["СПб ИЗОТОП",7840393624,189,2010750000,"АО \"Санкт-Петербургский \"ИЗОТОП\"","Да","Да","Да","Да"]
["СТСК",5254082630,34,2010150200,"АО \"Саровская Теплосетевая Компания\"","Да","Да","Да","Да"]
["Старт",5838013374,540737,1090000000,"АО \"Федеральный научно-производственный центр \"Производственное объединение \"Старт\" имени М.В. Проценко\"","Да","Да",null,"Да"]
["СЕТЕС",7024037370,316804,2010550001,"АО \"Северские теплосистемы\"","Да","Да","Да","Да"]
["СХК",7024029499,192,2010780000,"АО \"Сибирский химический комбинат\"","Да","Да","Да","Да","Да"]
["СЭСК",5254082581,33,2010150100,"АО \"Саровская Электросетевая Компания\"","Да","Да",null,"Да"]
["Тепловодоканал",1837004370,77,2010230306,"ООО \"Тепловодоканал\"","Да",null,"Да","Да"]
["Точмаш-авто",3329064483,201363,2010440300,"ООО \"Точмаш-авто\"","Да",null,"Да","Да"]
["ТВЭЛ",7706123550,45,2010230000,"АО \"ТВЭЛ\"","Да","Да","Да","Да","Да"]
["ТВЭЛ-Строй",7726523814,111,2010231100,"АО \"ТВЭЛ-СТРОИ\"","Да",null,"Да","Да"]
["ТЕНЕКС-Сервис",7706604582,267,2010240100,"АО \"ТЕНЕКС-Сервис\"","Да","Да","Да","Да","Да"]
["Технопарк-Технология",5216017711,331,4150000000,"АО \"Технопарк-Технология\"","Да","Да",null,"Да"]
["Техснабэкспорт",7706039242,114,2010240000,"АО \"Техснабэкспорт\"","Да","Да","Да","Да","Да"]
["Точмаш",3329051460,151,2010440000,"АО \"Владимирское производственное объединение \"Точмаш\"","Да","Да","Да","Да"]
["ТРИНИТИ",7751002460,391705,4030000000,"АО \"Государственный научный центр Российской Федерации Троицкий институт инновационных и термоядерных исследований\"","Да","Да",null,"Да"]
["Трест РСЭМ",6916013425,132192,2010620400,"ООО \"Трест Росспецэнергомонтаж\"","Да","Да",null,"Да","Да"]
["Трест САЭМ",7719632308,265,2010230929,"АО \"Трест \"СпецАтомЭнергоМонтаж\"","Да",null,"Да","Да"]
["ТЦ ТЕНЕКС",7706609414,115,2010240200,"ЗАО \"Технологический центр \"ТЕНЕКС\"","Да","Да","Да","Да"]
["Уралприбор",6629020789,131,2010242000,"ООО \"Новоуральский приборный завод\"","Да",null,"Да","Да"]
["УАЗ",7706804447,339228,6010000000,"АО \"Управление административными зданиями\"","Да","Да",null,"Да"]
["УУГ",7706641432,18,2010020100,"АО \"Ураниум Уан Груп\"","Да","Да","Да","Да"]
["УК Нижние котлы",7726390113,470332,2010411000,"АО \"Управляющая компания индустриального парка \"Нижние котлы\"","Да","Да","Да","Да"]
["УДК Горное",7536087140,19,2010020200,"АО \"Уранодобывающая компания \"Горное\"","Да",null,"Да","Да"]
["НПО Центротех",6629020796,129,2010241800,"ООО \"Научно-производсвенное объединение\"Центротех\"\"","Да","Да","Да","Да","Да"]
["УЭМЗ",6608004641,11,1120000000,"ФГУП \"Уральский электромеханический завод\"","Да","Да",null,"Да"]
["УЭХК",6629022962,196,2010800000,"АО \"Уральский электрохимический комбинат\"","Да","Да","Да","Да"]
["ФЦЯРБ",7706801975,329348,3090000000,"АО \"Федеральный центр ядерной и радиационной безопасности\"","Да","Да",null,"Да"]
["ФЭИ",4025442583,390564,4040000000,"АО \"Государственный научный центр Российской Федерации - Физико-энергетический институт имени А.И. Лейпунского\"","Да","Да",null,"Да"]
["Хиагда","0302001219",86,2010230700,"АО \"Хиагда\"","Да","Да","Да","Да","Да"]
["ЦВТД",7726750415,366881,2010911000,"ООО «Центр высокотехнологичной диагностики»","Да","Да","Да","Да"]
["Центр энергоэффективности ИНТЕР РАО ЕЭС",7704765961,362,2010591306,"ООО «Центр энергоэффективности ИНТЕР РАО ЕЭС»",null,null,"сп","сп"]
["ЦентрАтом",7706723156,329,2010870000,"АО \"Центр управления непрофильными активами атомной отрасли\"","Да","Да","Да","Да"]
["ЦКБМ",7806394392,197,2010820000,"АО \"Центральное конструкторское бюро машиностроения\"","Да","Да","Да","Да","Да"]
["ЦНИИТМАШ",7723564851,31,2010140000,"АО \"Научно-производственное объединение \"Центральный научно-исследовательский институт технологии машиностроения\"","Да","Да","Да","Да","Да"]
["ЦОиС ОЛенКур",5024076079,271,2010290000,"АО \"Центр отдыха и спорта \"ОЛенКур \"","Да","Да","Да","Да"]
["ЦОУ",3801085668,122,2010240900,"АО \"Центр по обогащению урана\"",null,null,"сп","сп"]
["ЦУФС",7715470328,395865,6080000000,"АО \"Центр управления федеральной собственностью\"","Да","Да","Да","Да"]
["ЧМЗ",1829008035,71,2010230300,"АО \"Чепецкий механический завод\"","Да","Да","Да","Да","Да"]
["ЧУ ПЦИТЭР",7734269417,204687,5160000000,"Частное учреждение \"Проектный центр ИТЭР\" ",null,null,null,"да"]
["ЭЛЕМАШ-ТЭК",5053055010,54,2010230110,"ООО \"ЭЛЕМАШ-ТЭК\"","Да",null,"Да","Да"]
["Экоальянс",6629026420,190116,2010800800,"ООО \"Экоальянс\"","Да","Да","Да","Да"]
["ЭГМК",1402047530,21,2010020400,"АО \"Эльконский горно-металлургический комбинат\"","Да","Да","Да","Да"]
["ЭГМК-проект",1402048660,330,2060000000,"АО \"ЭГМК-проект\"","Да","Да"," "]
["Эксп №2",2901255495,390341,1140000000,"АО \"Экспедиция № 2\"","Да","Да",null,"Да"]
["Элерон",7724313681,396021,4100000000,"АО \"Специальное научно-производственное объединение \"Элерон\"","Да","Да",null,"Да"]
["Энергомашспецсталь",2106005156,361,2010230943,"ПАО \"Энергомашспецсталь\"","Да","Да","Да","Да"]
["Энергоспецмонтаж",7718083574,136,2010270000,"ПАО \"Энергоспецмонтаж\"","Да","Да",null,"Да"]
["ЭНИЦ",5035037441,198,2010830000,"АО \"Электрогорский научно-исследовательский центр по безопасности атомных электростанций\"","Да",null,"Да","Да"]
["ЭХЗ",2453013555,200,2010840000,"АО \"Производственное объединение \"Электрохимический завод\"","Да","Да","Да","Да","Да"]
["ЭХП",6630002336,5,1050000000,"ФГУП \"Комбинат \"Электрохимприбор\"","Да","Да",null,"Да"]
["ЯМТ-Снежинск",7459003496,387083,2010912000,"ООО \"Ядерные медицинские технологии-Снежинск\"","Да","Да","Да","Да"]
["Canada Limited","80931 9247 RC0001",251789,2010021520,"8524645 Canada Limited"]
["Cheetah Resources s.a.r.l.",20092434304,257652,2010021501,"Cheetah Resources s.a.r.l."]
["Headspring Investments (PTY.) Ltd.","2010/0624",230025,2010021310,"Headspring Investments (Proprietary) Limited"]
["Liges","CZ 279 33 270",149623,2010230913,"Liges s.r.o."]
["Likuyu Resources Limited",124215706,481212,2010021702,"Likuyu Resources Limited"]
["Mantra East Africa Limited",138090,296835,2010021620,"Mantra East Africa Limited"]
["Mantra Tanzania Limited","105-158-750",210119,2010021630,"Mantra Tanzania Limited"]
["Mantra Uranium South Africa (Pty) Ltd",9214145147,293830,2010021660,"Mantra Uranium South Africa (Pty) Ltd"]
["Namtumbo Resources Pty Ltd",882627035,481209,2010021703,"Namtumbo Resources Pty Ltd"]
["Nyanza Goldfields Limited","115-109-731",296836,2010021640,"Nyanza Goldfields Limited"]
["OmegaCorp Minerais Limitada",400132852,300825,2010021671,"OmegaCorp Minerais Limitada"]
["Raims",7247740,205526,2010380200,"RAIMS Limited"]
["Reviss Servis Limited","HE 48824",365,1070010000,"Reviss Servis Limited"]
["Red Wind B. V. ",858167360,533917,2010230958,"Red Wind B. V. "]
["Runex","4705199-01-1",154796,2010021100,"Runex Uranium (Pty.) Ltd."]
["Ruvuma Resources Limited","115-110-829",296838,2010021650,"Ruvuma Resources Limited"]
["Uranium One Exploration Pty Ltd",859064780,481214,2010021701,"Uranium One Exploration Pty Ltd"]
["Uranium One Friesland",854088325,474468,2010021510,"Uranium One Friesland Cooperatief"]
["Uranium One Investments Inc.","10561 0190 RC0002",476191,2010021503,"Uranium One Investments Inc."]
["Uranium One Technical Services",null,481215,2010021661,"Uranium One Technical Services (Pty) Ltd"]
["RAOS Energy",null,488812,2010935000,"RAOS Energy Enerji Yatırımları Danışmanlığı Anonim Şirketi"]
["VPR","GB981159595",154774,2010021300,"VOSTOK POWER RESOURCES LIMITED"]
["ААЭМ",5036083578,258,2010230928,"ООО \"Турбинные технологии ААЭМ\" "]
["АвтоДом",5035043950,367912,2010830300,"ООО «АВТОДОМ»"]
["Автотранс – А",6143038846,297557,2010242640,"ООО «Автотранс – А»"]
["Автохозяйство Уртуйское",7530012621,162559,2010230405,"ООО \"Автохозяйство Уртуйское\""]
["АПМ",2080209,219343,2010590318,"ООО \"Ассоциация предприятий Минатома\""]
["АРМЗ Намибия","2010/0109",219867,2010021400,"ARMZ NAMIBIA (PROPRIETARY) LIMITED"]
["АТОММАШ-СЕРВИС",6143083535,365614,2010242651,"ООО \"АТОММАШ-СЕРВИС\""]
["АтомТеплоСбыт",7709733339,345,2010591305,"ООО \"АтомТеплоСбыт\""]
["АтомТеплоЭлектроСеть",7705923730,179781,2010591307,"ООО \"АтомТеплоЭлектроСеть\""]
["Атомтранс",6724008446,297,2010590800,"АО \"Атомтранс\""]
["АТП",7530012614,162226,2010230406,"ООО \"Автотранспортные перевозки\""]
["Балаковская АЭС-Авто",6439071143,287,2010590301,"ООО \"Балаковская АЭС – Авто\""]
["БАЭС-2",6609007758,170,2010590900,"АО \"Белоярская АЭС-2\""]
["Белоярская АЭС-Авто",6639019528,288,2010590303,"ООО \"Белоярская АЭС – Авто\""]
["Березка",2448005630,211874,2010840010,"ООО \"Санаторий -профилакторий \"Березка\""]
["Былина",5445101362,62,2010230201,"АО \"Пансионат \"Былина\""]
["ВАЭС-Сервис",6143072318,127283,2010590305,"ООО \"Волгодонская АЭС-Сервис\""]
["ВДМУ",6143066681,303,2010620300,"ООО \"Волгодонское Монтажное Управление\""]
["ВетроОГК-2",9701098248,535643,2010230957,"АО  «Ветроэнергетическая отдельная генерирующая компания-2»"]
["ВНИИАМ(АЭМ – технологии)",6143059719,127226,2010230966,"АО \"Волгодонский научно-исследовательский и проектно-конструкторский институт атомного машиностроения\""]
["ВНИИАСУ",7721566412,174298,2010660100,"АО \"ВНИИАЭС АСУ ТП\""]
["ВНИИЭФ-Гарант",5254025015,213050,1150000008,"АО Негосударственный пенсионный Фонд «ВНИИЭФ-Гарант»"]
["Геостар",5213000558,253,2010020901,"ООО \"Фирма \"Геостар\""]
["ГК Глазов",1837003961,75,2010230304,"ООО \"Гостиничный комплекс \"Глазов\""]
["Гуанья",1000000001,481088,1070020000,"СК \"Харбинская  компания с ограниченной ответственностью по новым радиационным технологиям Гуанья\" "]
["Далур-Сервис",4506009051,153118,2010230802,"ООО \"Далур-Сервис\""]
["ЗЭП",6629027216,213663,2010800900,"ООО \"Завод электрохимических преобразователей\""]
["Изотоп Ектб",6672219595,256,2010070000,"АО \"Изотоп\" г. Екатеринбург"]
["Изотоп техно",101553117,161,2010480300,"СЗАО \"Изотопные технологии\""]
["ИКАО",7704670879,155680,2010590400,"АО \"Ипотечная компания атомной отрасли\"",null,null,null,null,"да"]
["ИКБ ВНИИАЭС",7725727702,269343,2010830200,"АО \"Инженерно-Конструкторское Бюро ВНИИАЭС\""]
["Инжект",6453087730,201839,2010601001,"ООО \"Научно-производственное предприятие «Инжект»"]
["ИНТЕР СМАРТ",3329032065,317836,2010231201,"ООО \"ИНТЕР СМАРТ\""]
["Итманово",5213004023,25,2010020900,"ООО \"Агрофирма \"Итманово\""]
["ИФ Пионер",3329064081,199121,2010440100,"ООО \"Инструментальная фирма \"Пионер\""]
["ИФТП",5010036527,284,2010560000,"АО \"Институт физико-технических проблем\""]
["КАЭС-Сервис",6916015990,132232,2010590306,"ООО \"Калининская АЭС - Сервис\""]
["КИАЭ-НИИАР",110106102189908,306003,2010480200,"СП \"Пекинская КИАЭ-НИИАР компания радиоизотопов с ограниченной ответственностью\""]
["КМ",5410043399,222683,2010230212,"ООО \"Катодные Материалы\""]
["КМЗ Спецмаш",3305709037,172959,2010240700,"АО \"КМЗ-Спецмаш\""]
["КМЗ-Авто",3305709196,199315,2010240601,"ООО \"КМЗ-АВТО\""]
["Кольская АЭС-Авто",5117065288,290,2010590307,"ООО \"Кольская АЭС – Авто\""]
["Комбинат питания СХК",7024032205,169278,2010780300,"ООО \"Комбинат питания\""]
["КУЖФ",5254082616,39,2010150800,"ООО \"Компания по управлению жилищным фондом\""]
["КурскАЭС-Сервис",4634010454,291,2010590308,"ООО \"Курская  АЭС-Сервис\""]
["Курчатовец",4007017120,284547,2010290010,"ООО «Курчатовец»"]
["Ленинградская АЭС – Авто",4714023385,292,2010590309,"ООО \"Ленинградская АЭС – Авто\""]
["ЛОК Колонтаево",5031009115,47,2010230101,"АО \"Лечебно-оздоровительный комплекс \"Дом отдыха Колонтаево\""]
["Лунное",1402046871,22,2010020500,"АО \"Лунное\""]
["Медсанчасть",6143057983,184628,2010242650,"ООО Медицинская компания «Медсанчасть»"]
["МЦ Изумруд",6629026340,193100,2010800600,"ООО \"Медицинский Центр \"Изумруд\""]
["МЦКДМ",7423024076,399172,1110000006,"ООО \"Международный центр компьютерного дизайна материалов\""]
["МЦОУ",3801091245,128,2010241700,"АО \"Международный центр по обогащению урана\""]
["НЗХК-Инжиниринг",5410027319,69,2010230209,"АО \"НЗХК-Инжиниринг\""]
["НИЦАЭС",5019021966,314,2010670100,"АО \"Научно-испытательный центр оборудования атомных электростанций\""]
["Нововоронежская АЭС – Авто",3651008478,293,2010590310,"ООО \"Нововоронежская АЭС – Авто\""]
["НП-Атом",7734667104,225805,2010403000,"ЗАО  \"НП -Атом\""]
["НПП НАНОЭЛЕКТРО",7734653790,204504,2010402000,"ООО \"Научно-производственное предприятие \"НАНОЭЛЕКТРО\""]
["Объединенные урановые предприятия",7705849332,26,2010021000,"ООО \"Объединенные урановые предприятия\" ",null,null,null,null,"да"]
["ОКБ КИПиА ГХК",2452044014,462826,3020060000,"ООО «ОКБ КИПиА ГХК»"]
["ОКТБ ИС",5047125572,215147,2010730000,"АО \"Отраслевое конструкторско-технологическое бюро по разработке современных технологий и производства изделий из стекла\""]
["ООО АРАКО",7817323763,222715,2010231022,"ООО \"АРАКО\""]
["Опыт",5036035447,"149639",5036035447,"АО «Опытное предприятие атомно-энергетического и нефтехимического машиностроения»"]
["Оргстройпроект",3801069786,40,2010170000,"АО \"Сибирский проектно-изыскательский институт \"Оргстройпроект\""]
["ПЗМсервис",1001156891,187796,2010242630,"ООО ПЗМ-Сервис"]
["ПНФ Термоксид",6609000583,99018,2010592300,"АО «ПНФ «Термоксид»"]
["Прибор-сервис(СХК)",7024034587,208961,2010780800,"ООО \"Прибор-сервис\""]
["Прибор-Сервис(ЧМЗ)",1837005119,81,2010230310,"ООО \"Прибор-Сервис\""]
["Промпарксервис",3329065342,202477,2010440400,"ООО \"Промпарксервис\""]
["ПРЭХ ГХК",2452040122,337037,3020050000,"ООО «ПРЭХ ГХК»"]
["ПЭС",7530012639,168317,2010230407,"ООО \"Предприятие Электросвязи\""]
["РАС-Менеджмент",7736554699,356,2010230935,"АО «РусАтомСтрой-Менеджмент»"]
["РБМ-Казахстан",70540003292,252,2010020601,"ТОО \"СП \"Русбурмаш-Казахстан\""]
["РМЗ",7530012660,168307,2010230408,"ООО \"Ремонтно-механический завод\""]
["РМЗ ГХК",2452201891,299816,3020040000,"ООО \"Ремонтно-механический завод Горно-химического комбината\""]
["РР-Энергия",7726704313,293674,2010960000,"ООО \"РР-Энергия\""]
["РУСАТ",7724424381,null,2010262000,"ООО «Русатом-Аддитивные технологии»"]
["Русатом Гринвэй",7706452851,543924,2011900000,"ООО \"Русатом Гринвэй\""]
["СаровГаз",5254082542,36,2010150400,"АО \"Саровская Газоснабжающая Компания\""]
["САЭС-Сервис",6724008661,295,2010590315,"ООО \"Смоленская АЭС- Сервис\""]
["СибРегионПромсервис",7024034570,210989,2010780700,"ООО \"СибРегионПромсервис\""]
["Синий Утёс",7014041634,177085,2010780100,"ООО \"Санаторий Синий Утёс\""]
["СПЮ ГХК",2452040108,339103,3020000001,"ООО \"Санаторий-профилакторий Юбилейный Горно-химического комбината\""]
["СМРП ГХК",2452201901,301720,3020000002,"ООО \"Строительно-монтажное ремонтное производство Горно-химического комбината\""]
["СМУ№1ооо",5260234539,301,2010620100,"ООО \"Строительно-монтажное управление № 1\"",null,null,null,null,"да"]
["СП Чепца",1837004309,76,2010230305,"ООО \"Санаторий-профилакторий \"Чепца\""]
["Станкомаш",3329064290,201365,2010440200,"ООО \"Станкомаш\""]
["СТК",7024034001,205297,2010780400,"ООО \"Северская телефонная компания\""]
["Стрельцовский СРТ",7530012491,260,2010230403,"ООО \"Стрельцовский строительно-ремонтный трест\""]
["СТС",2452201637,292795,3020000003,"ООО \"Станция теплоснабжения\""]
["СЦ Прогресс",3801120337,284648,2010370100,"ООО \"Сервисный центр \"Прогресс\""]
["Телевизионный центр",7530003426,259,2010230401,"АО \"Телевизионный центр\""]
["Телеком ГХК",2452201651,294831,3020000004,"ООО \"Телеком ГХК\""]
["ТЕНЕКС-Логистика",7706607400,117,2010240400,"АО \"ТЕНЕКС-Логистика\""]
["Технатом",7718160684,136290,2010592201,"ЗАО \"Технатом\""]
["Техэнерго-ЭХП","7701927935","402234",1051000000,"ООО \"Техэнерго - Электрохимприбор\"",null,null,null,"сп"]
["Трансэнерго",7423023178,197744,1110020000,"АО \"Трансэнерго\""]
["УАТ НЗХК",5410153786,65,2010230205,"АО \"Управление автомобильным транспортом НЗХК\""]
["УАТ Северск",7024034428,204870,2010781000,"ООО «Управление автомобильного транспорта»"]
["УГК-Холдинг",7451382644,399601,1110000002,"ООО \"Уральский Генерирующий Конверсионный Холдинг\"",null,null,null,"сп"]
["УЖТ",2452201644,294541,3020000005,"ООО \"Управление железнодорожного транспорта\""]
["УКИПСМ","0253018827",218924,2010590320,"ООО \"Управляющая компания Индустриального парка строительных материалов\""]
["ППГХО-Услуги",7530012519,261,2010230404,"ООО \"ППГХО-Услуги\""]
["УЭХК-ТЕЛЕКОМ",6629026082,177696,2010800500,"ООО \"УЭХК-ТЕЛЕКОМ\""]
["Центротех",7805416607,327,2010840500,"АО \"Центротех - СПб\""]
["ЦИРФРИ",7802809705,377574,4011000000,"ООО «Центр изотопов и радиофармпрепаратов Радиевого института»"]
["ЦКО ООО",5216000193,225731,1150000005,"ООО \"Центр компетенции и обучения\""]
["ЦПТИ",7724779465,203706,2010231400,"АО \"Центральный проектно-технологический институт\""]
["ЭИЗ",7811411780,178,2010640000,"АО \"Санкт-Петербургский Научно-Исследовательский Изыскательский Институт \"Энергоизыскания\""]
["ЭЛЕМАШ-МАГНИТ",5053054810,53,2010230109,"ООО \"ЭЛЕМАШ МАГНИТ\""]
["ЭЛЕМАШ-СТП",5053066854,58,2010230114,"ООО \"ЭЛЕМАШ- СПЕЦТРУБПРОКАТ\""]
["ЭнергоАвтотранс",5254082648,173052,2010150600,"ООО \"ЭнергоАвтотранс\""]
["Энергоатоминвест",4027055893,169,2010590300,"ООО \"Энергоатоминвест\""]
["Энергоремонт",1837004362,78,2010230307,"ООО \"Энергоремонт\""]
["Энергосервисная компания",7024034594,212643,2010780600,"ООО \"Энергосервисная  компания\""]
["ЭНПРАН",7706716631,150158,6080010000,"АО \"Энергопроманалитика\""]
["АСЭ-Финанс",7705762628,154,2010450101,"ООО «Атомстройэкспорт- Финанс»",null,null,null,null,null,"да"]
["Ленатомэнергострой",4714023642,191,2010770000,"АО \"Специализированное строительно-монтажное управление \"Ленатомэнергострой\"",null,null,null,null,null,"да"]
["ПЗМ-ТНП",1001169266,187798,2010242660,"ООО «ПетрозаводскМаш – ТНП»",null,null,null,null,null,"да"]
["УМПК",7422032148,132635,2010450109,"ЗАО \"Уральская монтажно- промышленная компания\"",null,null,null,null,null,"да"]
["Частные учреждения \"Росатома\",  предоставляют отчетность КВАРТАЛЬНО"]
["ЧУ ЦТРПЭ",7706414704,96799,5100000000,"Частное учреждение \"Центр третейского регулирования и правовой экспертизы\""]
["ЧУ СГИК",7705096054,96825,5090000000,"Частное учреждение \"Служба генерального инспектора Государственной корпорации по атомной энергии \"Росатом\""]
["ЧУ ЦАА",5029133115,96981,5150000000,"Частное учреждение \"Центральный архив атомной отрасли  Государственной корпорации по атомной энергии \"Росатом\""]
["ЧУ ПРОРЫВ",7726485277,292959,5170000000,"ЧУ ГК \"Росатом\" \"Инновационно-технологический центр проекта \"ПРОРЫВ\""]
["ЧУ ОЦКС",7706470770,293823,5120000000,"ЧУ ГК \"Росатом\" \"Отраслевой центр капитального строительства\""]
["ЧУ ИКЦ",7725351697,318855,5180000000,"Частное учреждение \"Историко-культурный центр\""]
["ЧУ Атомстандарт",7706416170,386744,5190000000,"Частное учреждение \"Институт технического регулирования, обеспечения единства измерений и стандартизации Росатома\" "]
["ЧУ СКЦ Росатома",7706445460,481198,5210000000,"Частное учреждение по информационно- аналитическому обеспечению \"Ситуационно-Кризисный Центр Росатома\""]
["ЧУ Атом-регион",7706422695,409863,5110000000,"Частное учреждение по сопровождению реализации территориальных проектов атомной отрасли \"Атом-регион\""]
["ЧУ РМС",7706471614,379434,2010980001,"Частное учреждение обеспечения развития международной региональной сети атомного энергопромышленного комплекса \"Русатом-Международная Сеть\""]
["АНО КАР",7706470787,293828,6100000000,"Автономная некоммерческая организация \"Корпоративная Академия Госкорпорации \"Росатом\""]
["АНО ТАР",4025450383,514998,5500000000,"АНО ДПО «Техническая академия Росатома»"]
[null,null,null,null,"Прочие организации для  заполнения  ИНН на листе 58.02"]
["1-НПФ фонд",7724186930,151080,2039000000,"1- НПФ (Негосударственный пенсионный фонд \"Первый национальный пенсионный фонд\")"]
["FAIR GmbH (ФАИР)",99999999,321765,null,"\"Facility for Antiproton and Ion Research in Europe GmbH»"]
["Nuclear Power Alliance a.s.",1781570,325852,2010450111,"Nuclear Power Alliance a.s."]
["PASEK - stavebni firma spol. s.r.o.",25281607,249010,null,"PASEK - stavebni firma spol. s.r.o."]
["Rosatom Africa (Pty) Ltd","2014/073014/07",374593,null,"Rosatom Africa (Pty) Ltd "]
["Rosatom Asia PTE. LTD","201411806N",374580,null,"Rosatom Asia PTE. LTD"]
["Rosatom Central Europe s.r.o.",3033716,368503,null,"Rosatom Central Europe s.r.o."]
["Rosatom France SARL",804720555,374631,null,"Rosatom France SARL"]
["Tri Alpha Energy, Inc.",22222222,null,null,"Tri Alpha Energy"]
["Uranium One Australia Pty Ltd.",94057007,null,null,"Uranium One Australia Pty Ltd."]
["А.С.Т.",5254021525,339382,null,"Общество с ограниченной ответственностью «А.С.Т.»"]
["Ансертэко",7706026412,152124,2010470001,"Общество с ограниченной ответственностью \"Аналитический, сертификационный и эколого-аналитический центр \"Ансертэко\""]
["Атом-спорт",3801111332,195880,null," Автономная некоммерческая организация по спортивно-оздоровительной работе «Атом-спорт». "]
["Атомстройинвест",7705570531,275,2010450106,"ООО «Атомстройинвест»"]
["АЭС Северо-Запад",7801268130,354,2010591302,"Открытое акционерное общество «АтомЭнергоСбыт Северо-Запад»"]
["БИТЕХ",5254023547,232664,1150010000,"Закрытое акционерное общество \"Базовые исследования и технологии\""]
["БСУ-1",6639012579,130985,null,"Общество с ограниченной ответственностью \"БСУ-1\""]
["Взрывиспытания",5040006777,179676,1110000001,"Закрытое акционерно общество \"Инженерно-технический центр независимой экспертизы безопасности и сертификации взрывчатых материалов\""]
["ВНИИЭФ \"ТАНИК\"",5254001945,190718,1150000003,"Закрытое акционерное общество \"ВНИИЭФ, телевидение, автоматика, научные исследования, коммерция\""]
["Газета \"Город Номер\"",5254021677,203910,1150000001,"Закрытое акционерное общество \"Газета \"Город №\""]
["Гидроаппарат",5254019396,218326,null,"Закрытое акционерное общество «Гидроаппарат»"]
["ГЭМ",5036105172,149666,2010230927,"Открытое акционерное общество «Группа «Энергетическое Машиностроение»"]
["Иж-Астро",1831010987,176484,2010230350,"Открытое акционерное общество «Акционерное страховое общество «Иж-Астро»"]
["Издательская фирма \"Нейва-пресс\"",6629000366,106518,null," Общество с ограниченной ответственностью \" Издательская фирма \"Нейва-пресс\""]
["Квантовые технологии",5018049479,267200,1150070000,"Закрытое акционерное общество \"Межотраслевой научно-технический центр \"Квантовые технологии\""]
["Компания  ЦАУ",2076748,493609,null,"Компания с ограниченной ответственностью \"Центрально-Азиатская урановая компания\""]
["Кривское",4003003825,241159,null,"Закрытое акционерное общество \"Агропромышленная фирма \"Кривское\""]
["МА Титан",6607000411,153566,2010470002,"Закрытое акционерное общество \"Межгосударственная ассоциация Титан\""]
["МХО ИАЭ",7724180826,150448,1020000001,"Закрытое акционерное общество \"Московский филиал международного хозяйственного объединения \"Интрератомэнерго\""]
["МЭА",28612007575,413222,null,"ЗАО «МЕЦАМОРЭНЕРГОАТОМ» "]
["НПО \"САТИС\"",5254025248,268477,null,"Общество с ограниченной ответственностью \"Научно-производственное объединение \"Саровские атомные технологии и информационные системы\""]
["НПП Термотекс",5029040598,112469,2010800001,"Общество с ограниченной ответственостью  \"Научно-производственнное предприяитие \"Термотекс\""]
["НТА \"Актис\"",4025004928,123943,null,"Научно-техническая Ассоциация \"Компьютерные технологии и информационные системы в научных исследованиях\""]
["Нуклеарконтроль",7726030128,116016,null,"Закрытое акционерное общество \"Нуклеарконтроль\""]
["ООО «РОСАТОМ ВЕ»",39255244,null,null,"ООО «РОСАТОМ ВОСТОЧНАЯ ЕВРОПА»"]
["Прогресс",5037004040,125227,null,"Открытое акционерное общество\n «Протвинский Опытный завод «Прогресс»\n"]
["РАДЭФ",5254483760,243957,null,"Общество с ограниченной ответственностью \"РАДЭФ\""]
["РАОТЕХ",7719202457,113700,2010591802,"Закрытое акционерное общество «РАОТЕХ»"]
["Редметсервис",7717036589,232705,null,"Общество с ограниченной ответственностью \"Редметсервис\""]
["РОСАТОМ ЛАТИНСКАЯ АМЕРИКА",44444444,409317,null,"РОСАТОМ ЛАТИНСКАЯ АМЕРИКА, ООО"]
["САРОВ-ВОЛГОГАЗ",5254026273,125783,1150000004,"Общество с ограниченной ответственностью \"Научно-производственное объединение \"САРОВ-ВОЛГОГАЗ\""]
["Сервис",7423022400,435251,1110010000,"Открытое акционерное общество \"Сервис\""]
["СКЭМ",2312032555,151528,2010230950,"Открытое акционерное общество\n «Севкавэнергомонтаж»               \n\n\n\n"]
["СЭлС",5406222395,238604,1080000001,"Открытое акционерное общество \"Силовая электроника Сибири\""]
["ТД ГЭМ-Белгород",3123283361,243820,null,"Общество с ограниченной ответственностью «Торговый дом «ГЭМ-Белгород»"]
["Титан",5254018339,null,null,"Закрытое акционерное общество «Титан»"]
["ТОО «Росатом Центральная Азия»",141240022860,397923,null,"Товарищество с ограниченной ответственностью \"Росатом Центральная Азия\""]
["Триада",7825436390,116291,2010591700,"Закрытое акционерное общество \"Триада\""]
["ФБВТ",7703530990,233992,null,"Открытое акционерное общество \"Фондовая биржа высоких технологий\""]
["ФРЗТ",6600001442,217382,null,"Открытое акционерное общество \"Фонд развития заречного технополиса\""]
["ЦИМТ",7722816908,null,null,"Общество с ограниченной ответственностью \"Центр инновационных медицинских технологий\""]
["ЭКОцентр",7405003891,123489,null,"Общество с ограниченной ответственностью \"Центр экономического развития\""]
["ЭЛЕМАШ-ЭНЕРГО",5053020289,150821,null,"Общество с ограниченной ответственностью «ЭЛЕМАШ-ЭНЕРГО»"]
[null,null,null,null,"Компании ФГУП в которых есть доля владения"]
["ЭКА",5054002290,109132,4061000000,"Открытое акционерное общество «ЭКА»"]
["КП",5254482357,203903,1150040000,"Общество с ограниченной ответственностью \"Комплексный проект\""]

{"sheet":"1C ","index":4,"n_rows":148,"n_cols":38,"rows_kept":148,"cut":false,"hidden":true,"merged":[]}
["N","Организация","Метод консолидации","Комментарий","Версия состава собственников","Индекс контроля в периоде","Дата вхождения в периметр","Валюта показателей","Чистые активы на начало периода","Чистые активы на конец периода","Чистые активы оборот","Полная доля владения на начало периода","Полная доля владения на конец периода","Полная доля владения оборот","Денежный эквивалентв ч а на начало периода","Денежный эквивалентв ч а на конец периода","Денежный эквивалентв ч а оборот","Гудвилл на начало периода","Гудвилл на конец периода","Гудвилл оборот","Инвестиции на начало периода","Инвестиции на конец периода","Инвестиции оборот","Процент привилегированных акций на начало периода","Процент привилегированных акций на конец периода","Процент привилегированных акций оборот","Период на момент приобретения","Период на момент выбытия","Сценарий на момент приобретения","Сценарий на момент выбытия","Предыдущий метод консолидации","Дата потери контроля","Валюта организации","Признак2","Группа трансформации","Тип контроля","Контролируемая доля владения","Доля прочих владельцев"]
[1,"ARAKO","Полная",null,"2010230922 ARAKO",0,"01.01.0001 0:00:00",null,0,0,0,0,100,100,0,0,0,0,0,0,0,0,0,0,0,0,null,null,null,null,null,"01.01.0001 0:00:00",null,null,null,null,76.459999999999994,0]
[2,"EMSS Holdings","Полная",null,"2010230948 EMSS Holdings",0,"01.01.0001 0:00:00",null,0,0,0,0,50.0002,50.0002,0,0,0,0,0,0,0,0,0,0,0,0,null,null,null,null,null,"01.01.0001 0:00:00",null,null,null,null,50,0]
[3,"Ganz","Полная",null,"2010820100 Ganz",0,"01.01.0001 0:00:00",null,0,0,0,0,100,100,0,0,0,0,0,0,0,0,0,0,0,0,null,null,null,null,null,"01.01.0001 0:00:00",null,null,null,null,100,0]
[4,"INTERNEXCO GmbH (Швейцария)","Полная",null,"INTERNEXCO GmbH (Швейцария)",0,"01.01.0001 0:00:00",null,0,0,0,0,100,100,0,0,0,0,0,0,0,0,0,0,0,0,null,null,null,null,null,"01.01.0001 0:00:00",null,null,null,null,100,0]
[5,"KWINDER HOLDINGS LIMITED","Полная",null,"2010240310 KWINDER HOLDINGS LIMITED",0,"01.01.0001 0:00:00",null,0,0,0,0,100,100,0,0,0,0,0,0,0,0,0,0,0,0,null,null,null,null,null,"01.01.0001 0:00:00",null,null,null,null,100,0]
[6,"Mantra Resources Ltd.","Полная",null,"2010021600 Mantra Resources Ltd.",0,"01.01.0001 0:00:00",null,0,0,0,0,98.898700000000005,98.898700000000005,0,0,0,0,0,0,0,0,0,0,0,0,null,null,null,null,null,"01.01.0001 0:00:00",null,null,null,null,86.09,0]
[7,"RAOS Project","Полная",null,"2010932000 RAOS Project",0,"01.01.0001 0:00:00",null,0,0,0,0,59.895000000000003,59.895000000000003,0,0,0,0,0,0,0,0,0,0,0,0,null,null,null,null,null,"01.01.0001 0:00:00",null,null,null,null,100,0]
[8,"RAOS Voima","Полная",null,"2010931000 RAOS Voima",0,"01.01.0001 0:00:00",null,0,0,0,0,59.895000000000003,59.895000000000003,0,0,0,0,0,0,0,0,0,0,0,0,null,null,null,null,null,"01.01.0001 0:00:00",null,null,null,null,100,0]
[9,"REIN","Полная",null,"2010930000 REIN",0,"01.01.0001 0:00:00",null,0,0,0,0,59.895000000000003,59.895000000000003,0,0,0,0,0,0,0,0,0,0,0,0,null,null,null,null,null,"01.01.0001 0:00:00",null,null,null,null,59.9,0]
[10,"ROSATOM FINANCE","Полная",null,"2010940000 ROSATOM FINANCE",0,"01.01.0001 0:00:00",null,0,0,0,0,100,100,0,0,0,0,0,0,0,0,0,0,0,0,null,null,null,null,null,"01.01.0001 0:00:00",null,null,null,null,100,0]
[11,"TENAM","Полная",null,"2010242500 TENAM",0,"01.01.0001 0:00:00",null,0,0,0,0,100,100,0,0,0,0,0,0,0,0,0,0,0,0,null,null,null,null,null,"01.01.0001 0:00:00",null,null,null,null,100,0]
[12,"TENEX-Japan","Полная",null,"2010241400 TENEX-Japan",0,"01.01.0001 0:00:00",null,0,0,0,0,100,100,0,0,0,0,0,0,0,0,0,0,0,0,null,null,null,null,null,"01.01.0001 0:00:00",null,null,null,null,100,0]
[13,"TENEX-Korea","Полная",null,"2010241300 TENEX-Korea",0,"01.01.0001 0:00:00",null,0,0,0,0,100,100,0,0,0,0,0,0,0,0,0,0,0,0,null,null,null,null,null,"01.01.0001 0:00:00",null,null,null,null,100,0]
[14,"TRADEWILL LIMITED","Полная",null,"2010242400 TRADEWILL LIMITED",0,"01.01.0001 0:00:00",null,0,0,0,0,100,100,0,0,0,0,0,0,0,0,0,0,0,0,null,null,null,null,null,"01.01.0001 0:00:00",null,null,null,null,100,0]
[15,"UMATEX Composite Materials Trading","Полная",null,"2010244200 UMATEX Composite Materials Trading",0,"01.01.0001 0:00:00",null,0,0,0,0,76.883200000000002,76.883200000000002,0,0,0,0,0,0,0,0,0,0,0,0,null,null,null,null,null,"01.01.0001 0:00:00",null,null,null,null,100,0]
[16,"UMATEX Group Europe","Полная",null,"2010243200 UMATEX Group Europe",0,"01.01.0001 0:00:00",null,0,0,0,0,76.883200000000002,76.883200000000002,0,0,0,0,0,0,0,0,0,0,0,0,null,null,null,null,null,"01.01.0001 0:00:00",null,null,null,null,100,0]
[17,"UMP Trading","Полная",null,"2010230952 UMP Trading",0,"01.01.0001 0:00:00",null,0,0,0,0,50.0002,50.0002,0,0,0,0,0,0,0,0,0,0,0,0,null,null,null,null,null,"01.01.0001 0:00:00",null,null,null,null,100,0]
[18,"Uranium","Полная",null,"2010021500 Uranium",0,"01.01.0001 0:00:00",null,0,0,0,0,99.733400000000003,99.733400000000003,0,0,0,0,0,0,0,0,0,0,0,0,null,null,null,null,null,"01.01.0001 0:00:00",null,null,null,null,100,0]
[19,"Uranium One Holding N.V.","Полная",null,"2010021200 Uranium One Holding N.V.",0,"01.01.0001 0:00:00",null,0,0,0,0,99.733400000000003,99.733400000000003,0,0,0,0,0,0,0,0,0,0,0,0,null,null,null,null,null,"01.01.0001 0:00:00",null,null,null,null,100,0]
[20,"Uranium One Trading AG","Полная",null,"2010021506 Uranium One Trading AG",0,"01.01.0001 0:00:00",null,0,0,0,0,99.733400000000003,99.733400000000003,0,0,0,0,0,0,0,0,0,0,0,0,null,null,null,null,null,"01.01.0001 0:00:00",null,null,null,null,100,0]
[21,"Аккую Нуклеар","Полная",null,"2010450108 Аккую Нуклеар",0,"01.01.0001 0:00:00",null,0,0,0,0,64.121399999999994,64.121399999999994,0,0,0,0,0,0,0,0,0,0,0,0,null,null,null,null,null,"01.01.0001 0:00:00",null,null,null,null,96.91,0]
[22,"АЛАБУГА-ВОЛОКНО","Полная",null,"2010242201 АЛАБУГА-ВОЛОКНО",0,"01.01.0001 0:00:00",null,0,0,0,0,76.883200000000002,76.883200000000002,0,0,0,0,0,0,0,0,0,0,0,0,null,null,null,null,null,"01.01.0001 0:00:00",null,null,null,null,100,0]
[23,"Аргон","Полная",null,"2010240800 Аргон",0,"01.01.0001 0:00:00",null,0,0,0,0,76.883200000000002,76.883200000000002,0,0,0,0,0,0,0,0,0,0,0,0,null,null,null,null,null,"01.01.0001 0:00:00",null,null,null,null,99.99,0]
[24,"АРМЗ","Полная",null,"2010020000 АРМЗ",0,"01.01.0001 0:00:00",null,0,0,0,0,98.763800000000003,98.763800000000003,0,0,0,0,0,0,0,0,0,0,0,0,null,null,null,null,null,"01.01.0001 0:00:00",null,null,null,null,98.76,0]
[25,"АРМЗ-Сервис","Полная",null,"2010020602 АРМЗ-Сервис",0,"01.01.0001 0:00:00",null,0,0,0,0,97.400899999999993,97.400899999999993,0,0,0,0,0,0,0,0,0,0,0,0,null,null,null,null,null,"01.01.0001 0:00:00",null,null,null,null,100,0]
[26,"АТА","Полная",null,"2010010000 АТА",0,"01.01.0001 0:00:00",null,0,0,0,0,100,100,0,0,0,0,0,0,0,0,0,0,0,0,null,null,null,null,null,"01.01.0001 0:00:00",null,null,null,null,100,0]
[27,"АТМ","Полная",null,"2010230915 АТМ",0,"01.01.0001 0:00:00",null,0,0,0,0,51,51,0,0,0,0,0,0,0,0,0,0,0,0,null,null,null,null,null,"01.01.0001 0:00:00",null,null,null,null,51,0]
[28,"АтомИнвест","Долевое участие",null,"2010630200 АтомИнвест",0,"01.01.0001 0:00:00",null,0,0,0,0,39.4026,39.4026,0,0,0,0,0,0,0,0,0,0,0,0,null,null,null,null,null,"01.01.0001 0:00:00",null,null,null,null,51,0]
[29,"АтомМедТехнолоджи-ДВ","Полная",null,"2010933000 АтомМедТехнолоджи-ДВ",0,"01.01.0001 0:00:00",null,0,0,0,0,99.9893,99.9893,0,0,0,0,0,0,0,0,0,0,0,0,null,null,null,null,null,"01.01.0001 0:00:00",null,null,null,null,100,0]
[30,"Атомспецтранс","Полная",null,"2010340000 Атомспецтранс",0,"01.01.0001 0:00:00",null,0,0,0,0,80.087000000000003,80.087000000000003,0,0,0,0,0,0,0,0,0,0,0,0,null,null,null,null,null,"01.01.0001 0:00:00",null,null,null,null,80.09,0]
[31,"Атомтехэкспорт","Полная",null,"2010591900 Атомтехэкспорт",0,"01.01.0001 0:00:00",null,0,0,0,0,87.787599999999998,87.787599999999998,0,0,0,0,0,0,0,0,0,0,0,0,null,null,null,null,null,"01.01.0001 0:00:00",null,null,null,null,100,0]
[32,"Атомтехэнерго","Полная",null,"2010350000 Атомтехэнерго",0,"01.01.0001 0:00:00",null,0,0,0,0,87.515100000000004,87.515100000000004,0,0,0,0,0,0,0,0,0,0,0,0,null,null,null,null,null,"01.01.0001 0:00:00",null,null,null,null,100,0]
[33,"Атомэнергомаш","Полная",null,"2010230900 Атомэнергомаш",0,"01.01.0001 0:00:00",null,0,0,0,0,100,100,0,0,0,0,0,0,0,0,0,0,0,0,null,null,null,null,null,"01.01.0001 0:00:00",null,null,null,null,100,0]
[34,"Атомэнергопромсбыт","Полная",null,"2010591320 Атомэнергопромсбыт",0,"01.01.0001 0:00:00",null,0,0,0,0,100,100,0,0,0,0,0,0,0,0,0,0,0,0,null,null,null,null,null,"01.01.0001 0:00:00",null,null,null,null,100,0]
[35,"Атомэнергоремонт","Полная",null,"2010590700 Атомэнергоремонт",0,"01.01.0001 0:00:00",null,0,0,0,0,87.515100000000004,87.515100000000004,0,0,0,0,0,0,0,0,0,0,0,0,null,null,null,null,null,"01.01.0001 0:00:00",null,null,null,null,100,0]
[36,"Атомэнергосбыт","Полная",null,"2010591300 Атомэнергосбыт",0,"01.01.0001 0:00:00",null,0,0,0,0,87.515100000000004,87.515100000000004,0,0,0,0,0,0,0,0,0,0,0,0,null,null,null,null,null,"01.01.0001 0:00:00",null,null,null,null,100,0]
[37,"АЭМ-лизинг","Полная",null,"2010230902 АЭМ-лизинг",0,"01.01.0001 0:00:00",null,0,0,0,0,100,100,0,0,0,0,0,0,0,0,0,0,0,0,null,null,null,null,null,"01.01.0001 0:00:00",null,null,null,null,100,0]
[38,"АЭМ-технологии","Полная",null,"2010230904 АЭМ-технологии",0,"01.01.0001 0:00:00",null,0,0,0,0,100,100,0,0,0,0,0,0,0,0,0,0,0,0,null,null,null,null,null,"01.01.0001 0:00:00",null,null,null,null,100,0]
[39,"АЭПК","Полная",null,"2010000000 АЭПК",0,"01.01.0001 0:00:00",null,0,0,0,0,100,100,0,0,0,0,0,0,0,0,0,0,0,0,null,null,null,null,null,"01.01.0001 0:00:00",null,null,null,null,0,0]
[40,"АЭХК","Полная",null,"2010370000 АЭХК",0,"01.01.0001 0:00:00",null,0,0,0,0,100,100,0,0,0,0,0,0,0,0,0,0,0,0,null,null,null,null,null,"01.01.0001 0:00:00",null,null,null,null,100,0]
[41,"Балтийская АЭС","Полная",null,"2010592100 Балтийская АЭС",0,"01.01.0001 0:00:00",null,0,0,0,0,87.515100000000004,87.515100000000004,0,0,0,0,0,0,0,0,0,0,0,0,null,null,null,null,null,"01.01.0001 0:00:00",null,null,null,null,100,0]
[42,"Вента","Полная",null,"2010050000 Вента",0,"01.01.0001 0:00:00",null,0,0,0,0,74.84,74.84,0,0,0,0,0,0,0,0,0,0,0,0,null,null,null,null,null,"01.01.0001 0:00:00",null,null,null,null,74.84,0]
[43,"ВНИИАМ (АЭПК)","Не консолидируется",null,"2010390000 ВНИИАМ (АЭПК)",0,"01.01.0001 0:00:00",null,0,0,0,0,0,0,0,0,0,0,0,0,0,0,0,0,0,0,null,null,null,null,null,"01.01.0001 0:00:00",null,null,null,null,0,0]
[44,"ВНИИАЭС","Полная",null,"2010591800 ВНИИАЭС",0,"01.01.0001 0:00:00",null,0,0,0,0,87.515100000000004,87.515100000000004,0,0,0,0,0,0,0,0,0,0,0,0,null,null,null,null,null,"01.01.0001 0:00:00",null,null,null,null,100,0]
[45,"ВНИИНМ","Полная",null,"2010400000 ВНИИНМ",0,"01.01.0001 0:00:00",null,0,0,0,0,88.023499999999999,88.023499999999999,0,0,0,0,0,0,0,0,0,0,0,0,null,null,null,null,null,"01.01.0001 0:00:00",null,null,null,null,88.02,0]
[46,"ВНИИХТ","Полная",null,"2010420000 ВНИИХТ",0,"01.01.0001 0:00:00",null,0,0,0,0,96.754599999999996,96.754599999999996,0,0,0,0,0,0,0,0,0,0,0,0,null,null,null,null,null,"01.01.0001 0:00:00",null,null,null,null,96.75,0]
[47,"ВНИПИПромтехнологии","Полная",null,"2010430000 ВНИПИПромтехнологии",0,"01.01.0001 0:00:00",null,0,0,0,0,98.763800000000003,98.763800000000003,0,0,0,0,0,0,0,0,0,0,0,0,null,null,null,null,null,"01.01.0001 0:00:00",null,null,null,null,100,0]
[48,"Гидропресс","Полная",null,"2010710000 Гидропресс",0,"01.01.0001 0:00:00",null,0,0,0,0,99.876599999999996,99.876599999999996,0,0,0,0,0,0,0,0,0,0,0,0,null,null,null,null,null,"01.01.0001 0:00:00",null,null,null,null,99.88,0]
[49,"Гиредмет","Полная",null,"2010470000 Гиредмет",0,"01.01.0001 0:00:00",null,0,0,0,0,90.756200000000007,90.756200000000007,0,0,0,0,0,0,0,0,0,0,0,0,null,null,null,null,null,"01.01.0001 0:00:00",null,null,null,null,94.48,0]
[50,"Гринатом","Полная",null,"2010900000 Гринатом",0,"01.01.0001 0:00:00",null,0,0,0,0,100,100,0,0,0,0,0,0,0,0,0,0,0,0,null,null,null,null,null,"01.01.0001 0:00:00",null,null,null,null,100,0]
[51,"ГСПИ","Полная",null,"2010500000 ГСПИ",0,"01.01.0001 0:00:00",null,0,0,0,0,100,100,0,0,0,0,0,0,0,0,0,0,0,0,null,null,null,null,null,"01.01.0001 0:00:00",null,null,null,null,100,0]
[52,"Далур","Полная",null,"2010230800 Далур",0,"01.01.0001 0:00:00",null,0,0,0,0,97.667500000000004,97.667500000000004,0,0,0,0,0,0,0,0,0,0,0,0,null,null,null,null,null,"01.01.0001 0:00:00",null,null,null,null,98.89,0]
[53,"Дедал","Полная",null,"2010510000 Дедал",0,"01.01.0001 0:00:00",null,0,0,0,0,100,100,0,0,0,0,0,0,0,0,0,0,0,0,null,null,null,null,null,"01.01.0001 0:00:00",null,null,null,null,100,0]
[54,"ДЕЗ","Полная",null,"2010890000 ДЕЗ",0,"01.01.0001 0:00:00",null,0,0,0,0,100,100,0,0,0,0,0,0,0,0,0,0,0,0,null,null,null,null,null,"01.01.0001 0:00:00",null,null,null,null,100,0]
[55,"ЖТЭЦ","Полная",null,"2010551000 ЖТЭЦ",0,"01.01.0001 0:00:00",null,0,0,0,0,100,100,0,0,0,0,0,0,0,0,0,0,0,0,null,null,null,null,null,"01.01.0001 0:00:00",null,null,null,null,100,0]
[56,"ЗАЭС","Полная",null,"2010450000 ЗАЭС",0,"01.01.0001 0:00:00",null,0,0,0,0,87.515100000000004,87.515100000000004,0,0,0,0,0,0,0,0,0,0,0,0,null,null,null,null,null,"01.01.0001 0:00:00",null,null,null,null,100,0]
[57,"ЗиО-Подольск","Полная",null,"2010230918 ЗиО-Подольск",0,"01.01.0001 0:00:00",null,0,0,0,0,99.520799999999994,99.520799999999994,0,0,0,0,0,0,0,0,0,0,0,0,null,null,null,null,null,"01.01.0001 0:00:00",null,null,null,null,99.52,0]
[58,"ЗИОМАР","Полная",null,"2010230917 ЗИОМАР",0,"01.01.0001 0:00:00",null,0,0,0,0,100,100,0,0,0,0,0,0,0,0,0,0,0,0,null,null,null,null,null,"01.01.0001 0:00:00",null,null,null,null,100,0]
[59,"ЗУКМ","Полная",null,"2010241600 ЗУКМ",0,"01.01.0001 0:00:00",null,0,0,0,0,76.875500000000002,76.875500000000002,0,0,0,0,0,0,0,0,0,0,0,0,null,null,null,null,null,"01.01.0001 0:00:00",null,null,null,null,100,0]
[60,"ИРМ","Полная",null,"2010540000 ИРМ",0,"01.01.0001 0:00:00",null,0,0,0,0,93.071799999999996,93.071799999999996,0,0,0,0,0,0,0,0,0,0,0,0,null,null,null,null,null,"01.01.0001 0:00:00",null,null,null,null,93.07,0]
[61,"Искра","Полная",null,"2010230001 Искра",0,"01.01.0001 0:00:00",null,0,0,0,0,99.998999999999995,99.998999999999995,0,0,0,0,0,0,0,0,0,0,0,0,null,null,null,null,null,"01.01.0001 0:00:00",null,null,null,null,100,0]
[62,"ИЦ РГЦ","Полная",null,"2010242300 ИЦ РГЦ",0,"01.01.0001 0:00:00",null,0,0,0,0,100,100,0,0,0,0,0,0,0,0,0,0,0,0,null,null,null,null,null,"01.01.0001 0:00:00",null,null,null,null,100,0]
[63,"КМЗ","Полная",null,"2010240600 КМЗ",0,"01.01.0001 0:00:00",null,0,0,0,0,94.201899999999995,94.201899999999995,0,0,0,0,0,0,0,0,0,0,0,0,null,null,null,null,null,"01.01.0001 0:00:00",null,null,null,null,94.2,0]
[64,"Консист-ОС","Полная",null,"2010590317 Консист-ОС",0,"01.01.0001 0:00:00",null,0,0,0,0,87.515100000000004,87.515100000000004,0,0,0,0,0,0,0,0,0,0,0,0,null,null,null,null,null,"01.01.0001 0:00:00",null,null,null,null,100,0]
[65,"Красная Звезда","Полная",null,"2010600000 Красная Звезда",0,"01.01.0001 0:00:00",null,0,0,0,0,94.456599999999995,94.456599999999995,0,0,0,0,0,0,0,0,0,0,0,0,null,null,null,null,null,"01.01.0001 0:00:00",null,null,null,null,94.46,0]
[66,"Краун","Полная",null,"2010241100 Краун",0,"01.01.0001 0:00:00",null,0,0,0,0,100,100,0,0,0,0,0,0,0,0,0,0,0,0,null,null,null,null,null,"01.01.0001 0:00:00",null,null,null,null,100,0]
[67,"КЦ","Полная",null,"2010231300 КЦ",0,"01.01.0001 0:00:00",null,0,0,0,0,97.82,97.82,0,0,0,0,0,0,0,0,0,0,0,0,null,null,null,null,null,"01.01.0001 0:00:00",null,null,null,null,97.82,0]
[68,"ЛЗ Петрозаводскмаш","Полная",null,"2010242601 ЛЗ Петрозаводскмаш",0,"01.01.0001 0:00:00",null,0,0,0,0,100,100,0,0,0,0,0,0,0,0,0,0,0,0,null,null,null,null,null,"01.01.0001 0:00:00",null,null,null,null,100,0]
[69,"МЗП","Полная",null,"2010100000 МЗП",0,"01.01.0001 0:00:00",null,0,0,0,0,100,100,0,0,0,0,0,0,0,0,0,0,0,0,null,null,null,null,null,"01.01.0001 0:00:00",null,null,null,null,100,0]
[70,"Молния","Полная",null,"2010740000 Молния",0,"01.01.0001 0:00:00",null,0,0,0,0,100,100,0,0,0,0,0,0,0,0,0,0,0,0,null,null,null,null,null,"01.01.0001 0:00:00",null,null,null,null,100,0]
[71,"МСЗ","Полная",null,"2010230100 МСЗ",0,"01.01.0001 0:00:00",null,0,0,0,0,74.451700000000002,74.451700000000002,0,0,0,0,0,0,0,0,0,0,0,0,null,null,null,null,null,"01.01.0001 0:00:00",null,null,null,null,74.45,0]
[72,"МСЗ-М","Полная",null,"2010230115 МСЗ-М",0,"01.01.0001 0:00:00",null,0,0,0,0,74.451700000000002,74.451700000000002,0,0,0,0,0,0,0,0,0,0,0,0,null,null,null,null,null,"01.01.0001 0:00:00",null,null,null,null,100,0]
[73,"Наука и инновации","Полная",null,"4010000100 Наука и инновации",0,"01.01.0001 0:00:00",null,0,0,0,0,100,100,0,0,0,0,0,0,0,0,0,0,0,0,null,null,null,null,null,"01.01.0001 0:00:00",null,null,null,null,100,0]
[74,"НЗХК","Полная",null,"2010230200 НЗХК",0,"01.01.0001 0:00:00",null,0,0,0,0,88.509,88.509,0,0,0,0,0,0,0,0,0,0,0,0,null,null,null,null,null,"01.01.0001 0:00:00",null,null,null,null,88.51,0]
[75,"НЗХК-Инструмент","Полная",null,"2010230207 НЗХК-Инструмент",0,"01.01.0001 0:00:00",null,0,0,0,0,88.509,88.509,0,0,0,0,0,0,0,0,0,0,0,0,null,null,null,null,null,"01.01.0001 0:00:00",null,null,null,null,100,0]
[76,"НЗХК-Энергия","Полная",null,"2010230210 НЗХК-Энергия",0,"01.01.0001 0:00:00",null,0,0,0,0,88.509,88.509,0,0,0,0,0,0,0,0,0,0,0,0,null,null,null,null,null,"01.01.0001 0:00:00",null,null,null,null,100,0]
[77,"Нижние котлы-ДУ","Полная",null,"2010410000 Нижние котлы-ДУ",0,"01.01.0001 0:00:00",null,0,0,0,0,95.554500000000004,95.554500000000004,0,0,0,0,0,0,0,0,0,0,0,0,null,null,null,null,null,"01.01.0001 0:00:00",null,null,null,null,95.55,0]
[78,"НИИАР","Полная",null,"2010480000 НИИАР",0,"01.01.0001 0:00:00",null,0,0,0,0,52.410800000000002,52.410800000000002,0,0,0,0,0,0,0,0,0,0,0,0,null,null,null,null,null,"01.01.0001 0:00:00",null,null,null,null,52.41,0]
[79,"НИИАР-Генерация","Полная",null,"2010970000 НИИАР-Генерация",0,"01.01.0001 0:00:00",null,0,0,0,0,52.410800000000002,52.410800000000002,0,0,0,0,0,0,0,0,0,0,0,0,null,null,null,null,null,"01.01.0001 0:00:00",null,null,null,null,100,0]
[80,"НИИГрафит","Полная",null,"2010630000 НИИГрафит",0,"01.01.0001 0:00:00",null,0,0,0,0,77.260000000000005,77.260000000000005,0,0,0,0,0,0,0,0,0,0,0,0,null,null,null,null,null,"01.01.0001 0:00:00",null,null,null,null,77.260000000000005,0]
[81,"НИИТФА","Полная",null,"2010410000 НИИТФА",0,"01.01.0001 0:00:00",null,0,0,0,0,95.554500000000004,95.554500000000004,0,0,0,0,0,0,0,0,0,0,0,0,null,null,null,null,null,"01.01.0001 0:00:00",null,null,null,null,95.55,0]
[82,"НИКИМТ-Атомстрой","Полная",null,"2010550000 НИКИМТ-Атомстрой",0,"01.01.0001 0:00:00",null,0,0,0,0,100,100,0,0,0,0,0,0,0,0,0,0,0,0,null,null,null,null,null,"01.01.0001 0:00:00",null,null,null,null,100,0]
[83,"НИКИЭТ","Полная",null,"2010650000 НИКИЭТ",0,"01.01.0001 0:00:00",null,0,0,0,0,57.454599999999999,57.454599999999999,0,0,0,0,0,0,0,0,0,0,0,0,null,null,null,null,null,"01.01.0001 0:00:00",null,null,null,null,57.45,0]
[84,"ННКЦ","Полная",null,"2010241900 ННКЦ",0,"01.01.0001 0:00:00",null,0,0,0,0,100,100,0,0,0,0,0,0,0,0,0,0,0,0,null,null,null,null,null,"01.01.0001 0:00:00",null,null,null,null,100,0]
[85,"НоваВинд","Полная",null,"2019000000 НоваВинд",0,"01.01.0001 0:00:00",null,0,0,0,0,100,100,0,0,0,0,0,0,0,0,0,0,0,0,null,null,null,null,null,"01.01.0001 0:00:00",null,null,null,null,100,0]
[86,"НПК ХПИ","Полная",null,"2010242200 НПК ХПИ",0,"01.01.0001 0:00:00",null,0,0,0,0,76.883200000000002,76.883200000000002,0,0,0,0,0,0,0,0,0,0,0,0,null,null,null,null,null,"01.01.0001 0:00:00",null,null,null,null,76.88,0]
[87,"НПО Центротех","Полная",null,"2010241800 НПО Центротех",0,"01.01.0001 0:00:00",null,0,0,0,0,100,100,0,0,0,0,0,0,0,0,0,0,0,0,null,null,null,null,null,"01.01.0001 0:00:00",null,null,null,null,100,0]
[88,"НТЦ ЯФИ","Полная",null,"2010690000 НТЦ ЯФИ",0,"01.01.0001 0:00:00",null,0,0,0,0,100,100,0,0,0,0,0,0,0,0,0,0,0,0,null,null,null,null,null,"01.01.0001 0:00:00",null,null,null,null,100,0]
[89,"Обесп РФЯЦ-ВНИИЭФ","Полная",null,"2010150000 Обесп РФЯЦ-ВНИИЭФ",0,"01.01.0001 0:00:00",null,0,0,0,0,100,100,0,0,0,0,0,0,0,0,0,0,0,0,null,null,null,null,null,"01.01.0001 0:00:00",null,null,null,null,100,0]
[90,"ОДЦ УГР","Полная",null,"2010780500 ОДЦ УГР",0,"01.01.0001 0:00:00",null,0,0,0,0,100,100,0,0,0,0,0,0,0,0,0,0,0,0,null,null,null,null,null,"01.01.0001 0:00:00",null,null,null,null,100,0]
[91,"ОЗТМиТС","Полная",null,"2010700000 ОЗТМиТС",0,"01.01.0001 0:00:00",null,0,0,0,0,100,100,0,0,0,0,0,0,0,0,0,0,0,0,null,null,null,null,null,"01.01.0001 0:00:00",null,null,null,null,100,0]
[92,"ОИК","Полная",null,"2010910000 ОИК",0,"01.01.0001 0:00:00",null,0,0,0,0,66.849999999999994,66.849999999999994,0,0,0,0,0,0,0,0,0,0,0,0,null,null,null,null,null,"01.01.0001 0:00:00",null,null,null,null,66.849999999999994,0]
[93,"ОК РСК","Полная",null,"2010860000 ОК РСК",0,"01.01.0001 0:00:00",null,0,0,0,0,100,100,0,0,0,0,0,0,0,0,0,0,0,0,null,null,null,null,null,"01.01.0001 0:00:00",null,null,null,null,100,0]
[94,"ОКБМ","Полная",null,"2010720000 ОКБМ",0,"01.01.0001 0:00:00",null,0,0,0,0,60.882899999999999,60.882899999999999,0,0,0,0,0,0,0,0,0,0,0,0,null,null,null,null,null,"01.01.0001 0:00:00",null,null,null,null,60.88,0]
[95,"ОТЭК","Полная",null,"2010920000 ОТЭК",0,"01.01.0001 0:00:00",null,0,0,0,0,95.348799999999997,95.348799999999997,0,0,0,0,0,0,0,0,0,0,0,0,null,null,null,null,null,"01.01.0001 0:00:00",null,null,null,null,100,0]
[96,"Первая горнорудная компания","Полная",null,"2010021800 Первая горнорудная компания",0,"01.01.0001 0:00:00",null,0,0,0,0,98.535499999999999,98.535499999999999,0,0,0,0,0,0,0,0,0,0,0,0,null,null,null,null,null,"01.01.0001 0:00:00",null,null,null,null,99.77,0]
[97,"ППГХО","Полная",null,"2010230400 ППГХО",0,"01.01.0001 0:00:00",null,0,0,0,0,93.371300000000005,93.371300000000005,0,0,0,0,0,0,0,0,0,0,0,0,null,null,null,null,null,"01.01.0001 0:00:00",null,null,null,null,94.54,0]
[98,"Промышленные инновации","Полная",null,"2010231200 Промышленные инновации",0,"01.01.0001 0:00:00",null,0,0,0,0,100,100,0,0,0,0,0,0,0,0,0,0,0,0,null,null,null,null,null,"01.01.0001 0:00:00",null,null,null,null,100,0]
[99,"ПСР","Полная",null,"2010592000 ПСР",0,"01.01.0001 0:00:00",null,0,0,0,0,100,100,0,0,0,0,0,0,0,0,0,0,0,0,null,null,null,null,null,"01.01.0001 0:00:00",null,null,null,null,100,0]
[100,"РАОС","Полная",null,"2010230912 РАОС",0,"01.01.0001 0:00:00",null,0,0,0,0,100,100,0,0,0,0,0,0,0,0,0,0,0,0,null,null,null,null,null,"01.01.0001 0:00:00",null,null,null,null,100,0]
[101,"РАСУ","Полная",null,"2010990000 РАСУ",0,"01.01.0001 0:00:00",null,0,0,0,0,100,100,0,0,0,0,0,0,0,0,0,0,0,0,null,null,null,null,null,"01.01.0001 0:00:00",null,null,null,null,100,0]
[102,"РБМ","Полная",null,"2010020600 РБМ",0,"01.01.0001 0:00:00",null,0,0,0,0,98.763800000000003,98.763800000000003,0,0,0,0,0,0,0,0,0,0,0,0,null,null,null,null,null,"01.01.0001 0:00:00",null,null,null,null,100,0]
[103,"Росэнергоатом","Полная",null,"2010590000 Росэнергоатом",0,"01.01.0001 0:00:00",null,0,0,0,0,87.515100000000004,87.515100000000004,0,0,0,0,0,0,0,0,0,0,0,0,null,null,null,null,null,"01.01.0001 0:00:00",null,null,null,null,87.52,0]
[104,"Русатом Сервис","Полная",null,"2010592200 Русатом Сервис",0,"01.01.0001 0:00:00",null,0,0,0,0,87.787599999999998,87.787599999999998,0,0,0,0,0,0,0,0,0,0,0,0,null,null,null,null,null,"01.01.0001 0:00:00",null,null,null,null,100,0]
[105,"Русреактор","Полная",null,"2010991000 Русреактор",0,"01.01.0001 0:00:00",null,0,0,0,0,100,100,0,0,0,0,0,0,0,0,0,0,0,0,null,null,null,null,null,"01.01.0001 0:00:00",null,null,null,null,100,0]
[106,"РХК","Полная",null,"2011000000 РХК",0,"01.01.0001 0:00:00",null,0,0,0,0,100,100,0,0,0,0,0,0,0,0,0,0,0,0,null,null,null,null,null,"01.01.0001 0:00:00",null,null,null,null,100,0]
[107,"РЭМКО","Полная",null,"2010230911 РЭМКО",0,"01.01.0001 0:00:00",null,0,0,0,0,100,100,0,0,0,0,0,0,0,0,0,0,0,0,null,null,null,null,null,"01.01.0001 0:00:00",null,null,null,null,100,0]
[108,"С-плюс","Долевое участие",null,"2010630100 С-плюс",0,"01.01.0001 0:00:00",null,0,0,0,0,39.4026,39.4026,0,0,0,0,0,0,0,0,0,0,0,0,null,null,null,null,null,"01.01.0001 0:00:00",null,null,null,null,51,0]
[109,"Сайпрус","Полная",null,"2010230916 Сайпрус",0,"01.01.0001 0:00:00",null,0,0,0,0,100,100,0,0,0,0,0,0,0,0,0,0,0,0,null,null,null,null,null,"01.01.0001 0:00:00",null,null,null,null,100,0]
[110,"СвердНИИхиммаш","Полная",null,"2010200000 СвердНИИхиммаш",0,"01.01.0001 0:00:00",null,0,0,0,0,91.644900000000007,91.644900000000007,0,0,0,0,0,0,0,0,0,0,0,0,null,null,null,null,null,"01.01.0001 0:00:00",null,null,null,null,92.02,0]
[111,"СГК","Полная",null,"2010150300 СГК",0,"01.01.0001 0:00:00",null,0,0,0,0,100,100,0,0,0,0,0,0,0,0,0,0,0,0,null,null,null,null,null,"01.01.0001 0:00:00",null,null,null,null,100,0]
[112,"СЕТЕС","Полная",null,"2010550001 СЕТЕС",0,"01.01.0001 0:00:00",null,0,0,0,0,100,100,0,0,0,0,0,0,0,0,0,0,0,0,null,null,null,null,null,"01.01.0001 0:00:00",null,null,null,null,100,0]
[113,"СМБ","Полная",null,"2010992000 СМБ",0,"01.01.0001 0:00:00",null,0,0,0,0,100,100,0,0,0,0,0,0,0,0,0,0,0,0,null,null,null,null,null,"01.01.0001 0:00:00",null,null,null,null,100,0]
[114,"СНИИП","Полная",null,"2010660000 СНИИП",0,"01.01.0001 0:00:00",null,0,0,0,0,100,100,0,0,0,0,0,0,0,0,0,0,0,0,null,null,null,null,null,"01.01.0001 0:00:00",null,null,null,null,100,0]
[115,"СПб ИЗОТОП","Полная",null,"2010750000 СПб ИЗОТОП",0,"01.01.0001 0:00:00",null,0,0,0,0,100,100,0,0,0,0,0,0,0,0,0,0,0,0,null,null,null,null,null,"01.01.0001 0:00:00",null,null,null,null,100,0]
[116,"СТСК","Полная",null,"2010150200 СТСК",0,"01.01.0001 0:00:00",null,0,0,0,0,100,100,0,0,0,0,0,0,0,0,0,0,0,0,null,null,null,null,null,"01.01.0001 0:00:00",null,null,null,null,100,0]
[117,"СХК","Полная",null,"2010780000 СХК",0,"01.01.0001 0:00:00",null,0,0,0,0,95.441100000000006,95.441100000000006,0,0,0,0,0,0,0,0,0,0,0,0,null,null,null,null,null,"01.01.0001 0:00:00",null,null,null,null,95.44,0]
[118,"ТВЭЛ","Полная",null,"2010230000 ТВЭЛ",0,"01.01.0001 0:00:00",null,0,0,0,0,100,100,0,0,0,0,0,0,0,0,0,0,0,0,null,null,null,null,null,"01.01.0001 0:00:00",null,null,null,null,100,0]
[119,"ТВЭЛ-Строй","Полная",null,"2010231100 ТВЭЛ-Строй",0,"01.01.0001 0:00:00",null,0,0,0,0,90.746399999999994,90.746399999999994,0,0,0,0,0,0,0,0,0,0,0,0,null,null,null,null,null,"01.01.0001 0:00:00",null,null,null,null,100,0]
[120,"ТЕНЕКС-Сервис","Полная",null,"2010240100 ТЕНЕКС-Сервис",0,"01.01.0001 0:00:00",null,0,0,0,0,100,100,0,0,0,0,0,0,0,0,0,0,0,0,null,null,null,null,null,"01.01.0001 0:00:00",null,null,null,null,100,0]
[121,"Тепловодоканал","Полная",null,"2010230306 Тепловодоканал",0,"01.01.0001 0:00:00",null,0,0,0,0,100,100,0,0,0,0,0,0,0,0,0,0,0,0,null,null,null,null,null,"01.01.0001 0:00:00",null,null,null,null,100,0]
[122,"Техснабэкспорт","Полная",null,"2010240000 Техснабэкспорт",0,"01.01.0001 0:00:00",null,0,0,0,0,100,100,0,0,0,0,0,0,0,0,0,0,0,0,null,null,null,null,null,"01.01.0001 0:00:00",null,null,null,null,100,0]
[123,"Точмаш","Полная",null,"2010440000 Точмаш",0,"01.01.0001 0:00:00",null,0,0,0,0,100,100,0,0,0,0,0,0,0,0,0,0,0,0,null,null,null,null,null,"01.01.0001 0:00:00",null,null,null,null,100,0]
[124,"Точмаш-авто","Полная",null,"2010440300 Точмаш-авто",0,"01.01.0001 0:00:00",null,0,0,0,0,100,100,0,0,0,0,0,0,0,0,0,0,0,0,null,null,null,null,null,"01.01.0001 0:00:00",null,null,null,null,100,0]
[125,"Трест САЭМ","Полная",null,"2010230929 Трест САЭМ",0,"01.01.0001 0:00:00",null,0,0,0,0,90,90,0,0,0,0,0,0,0,0,0,0,0,0,null,null,null,null,null,"01.01.0001 0:00:00",null,null,null,null,90,0]
[126,"ТЦ ТЕНЕКС","Полная",null,"2010240200 ТЦ ТЕНЕКС",0,"01.01.0001 0:00:00",null,0,0,0,0,76.114400000000003,76.114400000000003,0,0,0,0,0,0,0,0,0,0,0,0,null,null,null,null,null,"01.01.0001 0:00:00",null,null,null,null,99,0]
[127,"УДК Горное","Полная",null,"2010020200 УДК Горное",0,"01.01.0001 0:00:00",null,0,0,0,0,98.763800000000003,98.763800000000003,0,0,0,0,0,0,0,0,0,0,0,0,null,null,null,null,null,"01.01.0001 0:00:00",null,null,null,null,100,0]
[128,"УК Нижние котлы","Полная",null,"2010411000 УК Нижние котлы",0,"01.01.0001 0:00:00",null,0,0,0,0,95.554500000000004,95.554500000000004,0,0,0,0,0,0,0,0,0,0,0,0,null,null,null,null,null,"01.01.0001 0:00:00",null,null,null,null,100,0]
[129,"Уралприбор","Полная",null,"2010242000 Уралприбор",0,"01.01.0001 0:00:00",null,0,0,0,0,100,100,0,0,0,0,0,0,0,0,0,0,0,0,null,null,null,null,null,"01.01.0001 0:00:00",null,null,null,null,100,0]
[130,"УУГ","Полная",null,"2010020100 УУГ",0,"01.01.0001 0:00:00",null,0,0,0,0,99.733400000000003,99.733400000000003,0,0,0,0,0,0,0,0,0,0,0,0,null,null,null,null,null,"01.01.0001 0:00:00",null,null,null,null,100,0]
[131,"УЭХК","Полная",null,"2010800000 УЭХК",0,"01.01.0001 0:00:00",null,0,0,0,0,87.49,87.49,0,0,0,0,0,0,0,0,0,0,0,0,null,null,null,null,null,"01.01.0001 0:00:00",null,null,null,null,74.989999999999995,0]
[132,"Хиагда","Полная",null,"2010230700 Хиагда",0,"01.01.0001 0:00:00",null,0,0,0,0,98.763800000000003,98.763800000000003,0,0,0,0,0,0,0,0,0,0,0,0,null,null,null,null,null,"01.01.0001 0:00:00",null,null,null,null,100,0]
[133,"ЦВТД","Полная",null,"2010911000 ЦВТД",0,"01.01.0001 0:00:00",null,0,0,0,0,98.933099999999996,98.933099999999996,0,0,0,0,0,0,0,0,0,0,0,0,null,null,null,null,null,"01.01.0001 0:00:00",null,null,null,null,100,0]
[134,"ЦентрАтом","Полная",null,"2010870000 ЦентрАтом",0,"01.01.0001 0:00:00",null,0,0,0,0,100,100,0,0,0,0,0,0,0,0,0,0,0,0,null,null,null,null,null,"01.01.0001 0:00:00",null,null,null,null,100,0]
[135,"ЦКБМ","Полная",null,"2010820000 ЦКБМ",0,"01.01.0001 0:00:00",null,0,0,0,0,100,100,0,0,0,0,0,0,0,0,0,0,0,0,null,null,null,null,null,"01.01.0001 0:00:00",null,null,null,null,100,0]
[136,"ЦНИИТМАШ","Полная",null,"2010140000 ЦНИИТМАШ",0,"01.01.0001 0:00:00",null,0,0,0,0,61.132100000000001,61.132100000000001,0,0,0,0,0,0,0,0,0,0,0,0,null,null,null,null,null,"01.01.0001 0:00:00",null,null,null,null,61.13,0]
[137,"ЦОиС ОЛенКур","Полная",null,"2010290000 ЦОиС ОЛенКур",0,"01.01.0001 0:00:00",null,0,0,0,0,100,100,0,0,0,0,0,0,0,0,0,0,0,0,null,null,null,null,null,"01.01.0001 0:00:00",null,null,null,null,100,0]
[138,"ЦУФС","Полная",null,"6080000000 ЦУФС",0,"01.01.0001 0:00:00",null,0,0,0,0,100,100,0,0,0,0,0,0,0,0,0,0,0,0,null,null,null,null,null,"01.01.0001 0:00:00",null,null,null,null,100,0]
[139,"ЧМЗ","Полная",null,"2010230300 ЧМЗ",0,"01.01.0001 0:00:00",null,0,0,0,0,100,100,0,0,0,0,0,0,0,0,0,0,0,0,null,null,null,null,null,"01.01.0001 0:00:00",null,null,null,null,100,0]
[140,"ЭГМК","Полная",null,"2010020400 ЭГМК",0,"01.01.0001 0:00:00",null,0,0,0,0,98.763800000000003,98.763800000000003,0,0,0,0,0,0,0,0,0,0,0,0,null,null,null,null,null,"01.01.0001 0:00:00",null,null,null,null,100,0]
[141,"Экоальянс","Полная",null,"2010800800 Экоальянс",0,"01.01.0001 0:00:00",null,0,0,0,0,90.742599999999996,90.742599999999996,0,0,0,0,0,0,0,0,0,0,0,0,null,null,null,null,null,"01.01.0001 0:00:00",null,null,null,null,100,0]
[142,"ЭЛЕМАШ-ТЭК","Полная",null,"2010230110 ЭЛЕМАШ-ТЭК",0,"01.01.0001 0:00:00",null,0,0,0,0,74.451700000000002,74.451700000000002,0,0,0,0,0,0,0,0,0,0,0,0,null,null,null,null,null,"01.01.0001 0:00:00",null,null,null,null,100,0]
[143,"Энергомашспецсталь","Долевое участие",null,"2010230943 Энергомашспецсталь",0,"01.01.0001 0:00:00",null,0,0,0,0,46.338700000000003,46.338700000000003,0,0,0,0,0,0,0,0,0,0,0,0,null,null,null,null,null,"01.01.0001 0:00:00",null,null,null,null,92.68,0]
[144,"ЭНИЦ","Полная",null,"2010830000 ЭНИЦ",0,"01.01.0001 0:00:00",null,0,0,0,0,87.515100000000004,87.515100000000004,0,0,0,0,0,0,0,0,0,0,0,0,null,null,null,null,null,"01.01.0001 0:00:00",null,null,null,null,100,0]
[145,"ЭХЗ","Полная",null,"2010840000 ЭХЗ",0,"01.01.0001 0:00:00",null,0,0,0,0,100,100,0,0,0,0,0,0,0,0,0,0,0,0,null,null,null,null,null,"01.01.0001 0:00:00",null,null,null,null,100,0]
[146,"ЯМТ-Снежинск","Полная",null,"2010912000 ЯМТ-Снежинск",0,"01.01.0001 0:00:00",null,0,0,0,0,76,76,0,0,0,0,0,0,0,0,0,0,0,0,null,null,null,null,null,"01.01.0001 0:00:00",null,null,null,null,76,0]
[147,"ПРОРЫВ","Полная",null,"2010880000 ПРОРЫВ",0,"01.01.0001 0:00:00",null,0,0,0,0,100,100,0,0,0,0,0,0,0,0,0,0,0,0,null,null,null,null,null,"01.01.0001 0:00:00",null,null,null,null,100,0]

{"sheet":"Периметр АЭПК_3_кв_ 2017","index":5,"n_rows":195,"n_cols":7,"rows_kept":195,"cut":false,"hidden":true,"merged":[]}
["№","Сокращенное название","ИНН","Номер ЦФО","Полное название","Включена в Периметр АЭПК по МСФО","Включена в Периметр ГК по МСФО"]
[1,"ARAKO","CZ47152371",2010230922,"ARAKO spol. s r.o.","Да",{"$f":"VLOOKUP(D2,'Периметр ГК_4_кв_ 2016'!D:F,3,0)","v":"Да"}]
[2,"EMSS Holdings","HE 245521",2010230948,"EMSS Holdings Limited (ЭМСС ХОЛДИНГЗ ЛИМИТЕД)","Да",{"$f":"VLOOKUP(D3,'Периметр ГК_4_кв_ 2016'!D:F,3,0)","v":"Да"}]
[3,"Ganz","10806481-2-42",2010820100,"Ganz Energetika Kft. ООО «Ганз Инженерное и Энергетическое Машиностроение»","Да",{"$f":"VLOOKUP(D4,'Периметр ГК_4_кв_ 2016'!D:F,3,0)","v":"Да"}]
[4,"INTERNEXCO",4023602999,2010241200,"INTERNEXCO GmbH","Да",{"$f":"VLOOKUP(D5,'Периметр ГК_4_кв_ 2016'!D:F,3,0)","v":"Да"}]
[5,"INTERNEXCO GmbH (Швейцария)","CHE-255.290.400",2010241000,"INTERNEXCO GmbH (Швейцария)","Да",{"$f":"VLOOKUP(D6,'Периметр ГК_4_кв_ 2016'!D:F,3,0)","v":"Да"}]
[6,"KWINDER HOLDINGS LIMITED","12277016L",2010240310,"KWINDER HOLDINGS LIMITED","Да",{"$f":"VLOOKUP(D7,'Периметр ГК_4_кв_ 2016'!D:F,3,0)","v":"Да"}]
[7,"Mantra Resources Ltd.",833296300,2010021600,"Mantra Resources Pty Ltd.","Да",{"$f":"VLOOKUP(D8,'Периметр ГК_4_кв_ 2016'!D:F,3,0)","v":"Да"}]
[8,"RAOS Project Oy",386588,2010932000,"RAOS Project Oy","Да",{"$f":"VLOOKUP(D9,'Периметр ГК_4_кв_ 2016'!D:F,3,0)","v":"Да"}]
[9,"REIN ",7706759586,2010930000,"АО \"Русатом Энерго Интернешнл\"","Да",{"$f":"VLOOKUP(D10,'Периметр ГК_4_кв_ 2016'!D:F,3,0)","v":"Да"}]
[10,"ROSATOM FINANCE","12286659G",2010940000,"ROSATOM FINANCE LTD (Росатом Финанс ЛТД)","Да",{"$f":"VLOOKUP(D11,'Периметр ГК_4_кв_ 2016'!D:F,3,0)","v":"Да"}]
[11,"TENAM","68-068-0771",2010242500,"TENAM Corporation","Да",{"$f":"VLOOKUP(D12,'Периметр ГК_4_кв_ 2016'!D:F,3,0)","v":"Да"}]
[12,"TRADEWILL LIMITED","GB987386840",2010242400,"TRADEWILL LIMITED","Да",{"$f":"VLOOKUP(D13,'Периметр ГК_4_кв_ 2016'!D:F,3,0)","v":"Да"}]
[13,"UMP Trading","903.1.000.8205",2010230952,"UMP Trading (Швейцария)","Да",{"$f":"VLOOKUP(D14,'Периметр ГК_4_кв_ 2016'!D:F,3,0)","v":"Да"}]
[14,"Uranium","88897 7170 RC0001",2010021500,"Uranium One Inc.","Да",{"$f":"VLOOKUP(D15,'Периметр ГК_4_кв_ 2016'!D:F,3,0)","v":"Да"}]
[15,"Uranium One Holding",817104549,2010021200,"Uranium One Holding N.V.","Да",{"$f":"VLOOKUP(D16,'Периметр ГК_4_кв_ 2016'!D:F,3,0)","v":"Да"}]
[16,"Аккую Нуклеар",310546698,2010450108,"АО\"Аккую Нуклеар\"","Да",{"$f":"VLOOKUP(D17,'Периметр ГК_4_кв_ 2016'!D:F,3,0)","v":"Да"}]
[17,"АЛАБУГА-ВОЛОКНО",1646031132,2010242201,"ООО \"Алабуга-Волокно\"","Да",{"$f":"VLOOKUP(D18,'Периметр ГК_4_кв_ 2016'!D:F,3,0)","v":"Да"}]
[18,"Аргон",6454074501,2010240800,"ООО \"Аргон\"","Да",{"$f":"VLOOKUP(D19,'Периметр ГК_4_кв_ 2016'!D:F,3,0)","v":"Да"}]
[19,"АРМЗ",7706016076,2010020000,"АО \"Урановый холдинг АРМЗ\" (\"Атомредметзолото\")","Да",{"$f":"VLOOKUP(D20,'Периметр ГК_4_кв_ 2016'!D:F,3,0)","v":"Да"}]
[20,"АРМЗ-Сервис",7708671295,2010020602,"Общество с ограниченной ответственностью \"АРМЗ Сервис\"","Да",{"$f":"VLOOKUP(D21,'Периметр ГК_4_кв_ 2016'!D:F,3,0)","v":"Да"}]
[21,"АТА",7724560930,2010010000,"АО \"Альянстрансатом\"","Да",{"$f":"VLOOKUP(D22,'Периметр ГК_4_кв_ 2016'!D:F,3,0)","v":"Да"}]
[22,"АТМ",7734242302,2010230915,"ЗАО \"Атомтрубопроводмонтаж\"","Да",{"$f":"VLOOKUP(D23,'Периметр ГК_4_кв_ 2016'!D:F,3,0)","v":"Да"}]
[23,"АтомМедТехнолоджи-ДВ",2536279414,2010933000,"ООО \"АтомМедТехнолоджи- Дальний Восток\"","Да",{"$f":"VLOOKUP(D24,'Периметр ГК_4_кв_ 2016'!D:F,3,0)","v":"Да"}]
[24,"АТОМПРОЕКТ",7814417371,2010460000,"АО \"Научно-исследовательский и проектно-конструкторский институт энергетических технологий \"АТОМПРОЕКТ\"","Да",{"$f":"VLOOKUP(D25,'Периметр ГК_4_кв_ 2016'!D:F,3,0)","v":"Да"}]
[25,"Атомспецтранс",7717609102,2010340000,"АО \"Атомспецтранс\"","Да",{"$f":"VLOOKUP(D26,'Периметр ГК_4_кв_ 2016'!D:F,3,0)","v":"Да"}]
[26,"Атомтехэкспорт",7705408850,2010591900,"АО \"Атомтехэкспорт\"","Да",{"$f":"VLOOKUP(D27,'Периметр ГК_4_кв_ 2016'!D:F,3,0)","v":"Да"}]
[27,"Атомтехэнерго",5029106714,2010350000,"АО по наладке, совершенствованию эксплуатации и организации управления атомных станций \"Атомтехэнерго\"","Да",{"$f":"VLOOKUP(D28,'Периметр ГК_4_кв_ 2016'!D:F,3,0)","v":"Да"}]
[28,"Атомэнергомаш",7706614573,2010230900,"АО \"Атомное и энергетическое машиностроение\" (АО \"Атомэнергомаш\")","Да",{"$f":"VLOOKUP(D29,'Периметр ГК_4_кв_ 2016'!D:F,3,0)","v":"Да"}]
[29,"Атомэнергопромсбыт",7725828549,2010591320,"АО \"Атомэнергопромсбыт\"","Да",{"$f":"VLOOKUP(D30,'Периметр ГК_4_кв_ 2016'!D:F,3,0)","v":"Да"}]
[30,"Атомэнергоремонт",5029112443,2010590700,"АО \"Атомэнергоремонт\"","Да",{"$f":"VLOOKUP(D31,'Периметр ГК_4_кв_ 2016'!D:F,3,0)","v":"Да"}]
[31,"Атомэнергосбыт",7704228075,2010591300,"АО \"АтомЭнергоСбыт\"","Да",{"$f":"VLOOKUP(D32,'Периметр ГК_4_кв_ 2016'!D:F,3,0)","v":"Да"}]
[32,"АЭМ-лизинг",7706673635,2010230902,"АО \"АЭМ-лизинг\"","Да",{"$f":"VLOOKUP(D33,'Периметр ГК_4_кв_ 2016'!D:F,3,0)","v":"Да"}]
[33,"АЭМ-технологии",7817311895,2010230904,"АО Инжиниринговая компания \"АЭМ-технологии\"","Да",{"$f":"VLOOKUP(D34,'Периметр ГК_4_кв_ 2016'!D:F,3,0)","v":"Да"}]
[34,"АЭПК",7706664260,2010000000,"АО \"Атомный энергопромышленный комплекс\" (АО \"Атомэнергопром\")","Да",{"$f":"VLOOKUP(D35,'Периметр ГК_4_кв_ 2016'!D:F,3,0)","v":"Да"}]
[35,"АЭХК",3801098402,2010370000,"АО \"Ангарский электролизный химический комбинат\"","Да",{"$f":"VLOOKUP(D36,'Периметр ГК_4_кв_ 2016'!D:F,3,0)","v":"Да"}]
[36,"Балтийская АЭС",3904612644,2010592100,"АО \"Балтийская АЭС\"","Да",{"$f":"VLOOKUP(D37,'Периметр ГК_4_кв_ 2016'!D:F,3,0)","v":"Да"}]
[37,"Вента",6624002377,2010050000,"ОАО \"Нижнетуринский машиностроительный завод \"Вента\"","Да",{"$f":"VLOOKUP(D38,'Периметр ГК_4_кв_ 2016'!D:F,3,0)","v":"Да"}]
[38,"ВНИИАМ",7743654609,2010390000,"АО \"Всероссийский научно-исследовательский и проектно-конструкторский институт атомного энергетического машиностроения (ВНИИАМ)\"","Да",{"$f":"VLOOKUP(D39,'Периметр ГК_4_кв_ 2016'!D:F,3,0)","v":"Да"}]
[39,"ВНИИАЭС",7721247141,2010591800,"АО\"Всеросийский научно-исследовательский институт по эксплуатации атомных электростанций\"","Да",{"$f":"VLOOKUP(D40,'Периметр ГК_4_кв_ 2016'!D:F,3,0)","v":"Да"}]
[40,"ВНИИНМ",7734598490,2010400000,"АО \"Всероссийский научно-исследовательский институт неорганических материалов имени академика А.А. Бочвара\"","Да",{"$f":"VLOOKUP(D41,'Периметр ГК_4_кв_ 2016'!D:F,3,0)","v":"Да"}]
[41,"ВНИИХТ",7724675770,2010420000,"АО \"Ведущий научно-исследовательский институт химической технологии (ВНИИХТ)\"","Да",{"$f":"VLOOKUP(D42,'Периметр ГК_4_кв_ 2016'!D:F,3,0)","v":"Да"}]
[42,"ВНИПИПромтехнологии",7724683379,2010430000,"АО \"Ведущий проектно-изыскательский и научно-исследовательский институт промышленной технологии\"","Да",{"$f":"VLOOKUP(D43,'Периметр ГК_4_кв_ 2016'!D:F,3,0)","v":"Да"}]
[43,"Гидропресс",5036092340,2010710000,"АО \"Ордена Трудового Красного Знамени и ордена труда ЧССР - опытное конструкторское бюро \"ГИДРОПРЕСС\"","Да",{"$f":"VLOOKUP(D44,'Периметр ГК_4_кв_ 2016'!D:F,3,0)","v":"Да"}]
[44,"Гиредмет",7706699062,2010470000,"АО \"Государственный научно-исследовательский проектный институт редкометаллической промышленности \"Гиредмет\"","Да",{"$f":"VLOOKUP(D45,'Периметр ГК_4_кв_ 2016'!D:F,3,0)","v":"Да"}]
[45,"Гринатом",7706729736,2010900000,"АО \"Гринатом\"","Да",{"$f":"VLOOKUP(D46,'Периметр ГК_4_кв_ 2016'!D:F,3,0)","v":"Да"}]
[46,"ГСПИ",7708697977,2010500000,"АО \"Государственный специализированный проектный институт\" (АО \"ГСПИ\")","Да",{"$f":"VLOOKUP(D47,'Периметр ГК_4_кв_ 2016'!D:F,3,0)","v":"Да"}]
[47,"Далур",4506004751,2010230800,"АО \"Далур\"","Да",{"$f":"VLOOKUP(D48,'Периметр ГК_4_кв_ 2016'!D:F,3,0)","v":"Да"}]
[48,"Дедал",5010036460,2010510000,"АО \"Научно-производственный комплекс \"Дедал\"","Да",{"$f":"VLOOKUP(D49,'Периметр ГК_4_кв_ 2016'!D:F,3,0)","v":"Да"}]
[49,"ДЕЗ",7706730001,2010890000,"АО \"Дирекция Единого Заказа оборудования для АЭС\"","Да",{"$f":"VLOOKUP(D50,'Периметр ГК_4_кв_ 2016'!D:F,3,0)","v":"Да"}]
[50,"ЖТЭЦ",2458013365,2010551000,"АО \"Железногорская ТЭЦ\"","Да",{"$f":"VLOOKUP(D51,'Периметр ГК_4_кв_ 2016'!D:F,3,0)","v":"Да"}]
[51,"ЗАЭС",7701763846,2010450000,"АО \"Всероссийское производственное объединение \"Зарубежатомэнергострой\" (АО \"ВПО \"ЗАЭС\")","Да",{"$f":"VLOOKUP(D52,'Периметр ГК_4_кв_ 2016'!D:F,3,0)","v":"Да"}]
[52,"ЗИОМАР",5036039258,2010230917,"АО \"Инжиниринговая компания \"ЗИОМАР\"","Да",{"$f":"VLOOKUP(D53,'Периметр ГК_4_кв_ 2016'!D:F,3,0)","v":"Да"}]
[53,"ЗиО-Подольск",5036040729,2010230918,"ПАО \"Машиностроительный завод \"ЗиО Подольск\"","Да",{"$f":"VLOOKUP(D54,'Периметр ГК_4_кв_ 2016'!D:F,3,0)","v":"Да"}]
[54,"ЗУКМ",7450045935,2010241600,"ООО \"Завод углеродных и композиционных материалов\"","Да",{"$f":"VLOOKUP(D55,'Периметр ГК_4_кв_ 2016'!D:F,3,0)","v":"Да"}]
[55,"ИРМ",6639019655,2010540000,"АО \"Институт реакторных материалов\"","Да",{"$f":"VLOOKUP(D56,'Периметр ГК_4_кв_ 2016'!D:F,3,0)","v":"Да"}]
[56,"Искра",2453014750,2010230001,"ООО \"Искра\"","Да",{"$f":"VLOOKUP(D57,'Периметр ГК_4_кв_ 2016'!D:F,3,0)","v":"Да"}]
[57,"ИЦ РГЦ",7706689000,2010242300,"АО \"Инжиниринговый центр \"Русская газовая центрифуга\"","Да",{"$f":"VLOOKUP(D58,'Периметр ГК_4_кв_ 2016'!D:F,3,0)","v":"Да"}]
[58,"КМЗ",3305004397,2010240600,"ПАО \"Ковровский механический завод\"","Да",{"$f":"VLOOKUP(D59,'Периметр ГК_4_кв_ 2016'!D:F,3,0)","v":"Да"}]
[59,"Красная Звезда",7726682003,2010600000,"АО \"Красная Звезда\"","Да",{"$f":"VLOOKUP(D60,'Периметр ГК_4_кв_ 2016'!D:F,3,0)","v":"Да"}]
[60,"Краун",7705833438,2010241100,"ООО \"Краун\"","Да",{"$f":"VLOOKUP(D61,'Периметр ГК_4_кв_ 2016'!D:F,3,0)","v":"Да"}]
[61,"КЦ",7715020463,2010231300,"АО \"Коммерческий центр\"","Да",{"$f":"VLOOKUP(D62,'Периметр ГК_4_кв_ 2016'!D:F,3,0)","v":"Да"}]
[62,"МЗП",7724558466,2010100000,"АО \"Московский завод полиметаллов\"","Да",{"$f":"VLOOKUP(D63,'Периметр ГК_4_кв_ 2016'!D:F,3,0)","v":"Да"}]
[63,"Молния",7721730486,2010740000,"АО \"Производственное объединение \"Машиностроительный завод \"Молния\"","Да",{"$f":"VLOOKUP(D64,'Периметр ГК_4_кв_ 2016'!D:F,3,0)","v":"Да"}]
[64,"МСЗ",5053005918,2010230100,"ПАО \"Машиностроительный завод\"","Да",{"$f":"VLOOKUP(D65,'Периметр ГК_4_кв_ 2016'!D:F,3,0)","v":"Да"}]
[65,"МСЗ-М",5053066861,2010230115,"ООО \"МСЗ-МЕХАНИКА\"","Да",{"$f":"VLOOKUP(D66,'Периметр ГК_4_кв_ 2016'!D:F,3,0)","v":"Да"}]
[66,"Наука и инновации",7706760091,4010000100,"АО \"Наука и инновации\"","Да",{"$f":"VLOOKUP(D67,'Периметр ГК_4_кв_ 2016'!D:F,3,0)","v":"Да"}]
[67,"НЗХК",5410114184,2010230200,"ПАО \"Новосибирский завод химконцентратов\"","Да",{"$f":"VLOOKUP(D68,'Периметр ГК_4_кв_ 2016'!D:F,3,0)","v":"Да"}]
[68,"НЗХК-Инструмент",5410021660,2010230207,"ООО \"НЗХК-Инструмент\"","Да",{"$f":"VLOOKUP(D69,'Периметр ГК_4_кв_ 2016'!D:F,3,0)","v":"Да"}]
[69,"НЗХК-Энергия",5410028351,2010230210,"ООО \"НЗХК-Энергия\"","Да",{"$f":"VLOOKUP(D70,'Периметр ГК_4_кв_ 2016'!D:F,3,0)","v":"Да"}]
[70,"НИИАР",7302040242,2010480000,"АО Государственный научный центр - Научно-исследовательский институт атомных реакторов (АО \"ГНЦ НИИАР\")","Да",{"$f":"VLOOKUP(D71,'Периметр ГК_4_кв_ 2016'!D:F,3,0)","v":"Да"}]
[71,"НИИАР-Генерация",7329008990,2010970000,"ООО «НИИАР-ГЕНЕРАЦИЯ»","Да",{"$f":"VLOOKUP(D72,'Периметр ГК_4_кв_ 2016'!D:F,3,0)","v":"Да"}]
[72,"НИИГрафит",7720723422,2010630000,"АО \"Государственный научно-исследовательский институт конструкционных материалов на основе графита \"НИИграфит\"","Да",{"$f":"VLOOKUP(D73,'Периметр ГК_4_кв_ 2016'!D:F,3,0)","v":"Да"}]
[73,"НИИТФА",7726606316,2010410000,"АО \"Научно-исследовательский институт технической физики и автоматизации (НИИТФА)\"","Да",{"$f":"VLOOKUP(D74,'Периметр ГК_4_кв_ 2016'!D:F,3,0)","v":"Да"}]
[74,"НИКИМТ-Атомстрой",7715719854,2010550000,"АО \"НИКИМТ \"Атомстрой\"","Да",{"$f":"VLOOKUP(D75,'Периметр ГК_4_кв_ 2016'!D:F,3,0)","v":"Да"}]
[75,"НИКИЭТ",7708698473,2010650000,"АО \"Научно-исследовательский и конструкторский институт энерготехники имени Н.А. Доллежаля\"","Да",{"$f":"VLOOKUP(D76,'Периметр ГК_4_кв_ 2016'!D:F,3,0)","v":"Да"}]
[76,"ННКЦ",6629020806,2010241900,"ООО \"Новоуральский научно-конструкторский центр\"","Да",{"$f":"VLOOKUP(D77,'Периметр ГК_4_кв_ 2016'!D:F,3,0)","v":"Да"}]
[77,"НПК ХПИ",7706688991,2010242200,"АО \"НПК \"Химпроминжиниринг\"","Да",{"$f":"VLOOKUP(D78,'Периметр ГК_4_кв_ 2016'!D:F,3,0)","v":"Да"}]
[78,"НТЦ ЯФИ",7802441926,2010690000,"АО \"Научно-технический центр \"Ядерно-физические исследования\"","Да",{"$f":"VLOOKUP(D79,'Периметр ГК_4_кв_ 2016'!D:F,3,0)","v":"Да"}]
[79,"Обесп РФЯЦ-ВНИИЭФ",5254081010,2010150000,"АО \"Обеспечение РФЯЦ-ВНИИЭФ\"","Да",{"$f":"VLOOKUP(D80,'Периметр ГК_4_кв_ 2016'!D:F,3,0)","v":"Да"}]
[80,"ОДЦ УГР",7024033350,2010780500,"АО \"Опытно-демонстрационный центр вывода из эксплуатации уран-графитовых ядерных реакторов\"","Да",{"$f":"VLOOKUP(D81,'Периметр ГК_4_кв_ 2016'!D:F,3,0)","v":"Да"}]
[81,"ОЗТМиТС",7726633119,2010700000,"АО \"Опытный завод тугоплавких металлов и твердых сплавов\" (АО \"ОЗТМиТС\")","Да",{"$f":"VLOOKUP(D82,'Периметр ГК_4_кв_ 2016'!D:F,3,0)","v":"Да"}]
[82,"ОИК",7706751361,2010910000,"ООО \"Объединенная инновационная корпорация\"","Да",{"$f":"VLOOKUP(D83,'Периметр ГК_4_кв_ 2016'!D:F,3,0)","v":"Да"}]
[83,"ОК РСК",7706704146,2010860000,"АО \"Объединенная компания “Разделительно-сублиматный комплекс”","Да",{"$f":"VLOOKUP(D84,'Периметр ГК_4_кв_ 2016'!D:F,3,0)","v":"Да"}]
[84,"ОКБМ",5259077666,2010720000,"АО \"Опытное Конструкторское Бюро Машиностроения имени И.И. Африкантова\"","Да",{"$f":"VLOOKUP(D85,'Периметр ГК_4_кв_ 2016'!D:F,3,0)","v":"Да"}]
[85,"ОТЭК",7706757331,2010920000,"АО «Объединённая теплоэнергетическая компания»","Да",{"$f":"VLOOKUP(D86,'Периметр ГК_4_кв_ 2016'!D:F,3,0)","v":"Да"}]
[86,"ППГХО",7530000048,2010230400,"ПАО \"Приаргунское производственное горно-химическое объединение\"","Да",{"$f":"VLOOKUP(D87,'Периметр ГК_4_кв_ 2016'!D:F,3,0)","v":"Да"}]
[87,"Промышленные инновации",7725524660,2010231200,"АО \"Промышленные инновации\"","Да",{"$f":"VLOOKUP(D88,'Периметр ГК_4_кв_ 2016'!D:F,3,0)","v":"Да"}]
[88,"ПСР",7721699740,2010592000,"АО \"Производственная система \"ПСР\"","Да",{"$f":"VLOOKUP(D89,'Периметр ГК_4_кв_ 2016'!D:F,3,0)","v":"Да"}]
[89,"РАОС Войма Ои","2596476-2",2010931000,"RAOS Voima Oy","Да",{"$f":"VLOOKUP(D90,'Периметр ГК_4_кв_ 2016'!D:F,3,0)","v":"Да"}]
[90,"РАСУ",7734358970,2010990000,"АО \"Русатом Автоматизированные Системы Управления\"","Да",{"$f":"VLOOKUP(D91,'Периметр ГК_4_кв_ 2016'!D:F,3,0)","v":"Да"}]
[91,"РБМ",7713190205,2010020600,"АО \"РУСБУРМАШ\"","Да",{"$f":"VLOOKUP(D92,'Периметр ГК_4_кв_ 2016'!D:F,3,0)","v":"Да"}]
[92,"Росэнергоатом",7721632827,2010590000,"АО \"Российский концерн по производству электрической и тепловой энергии на атомных станциях \"Росэнергоатом\"","Да",{"$f":"VLOOKUP(D93,'Периметр ГК_4_кв_ 2016'!D:F,3,0)","v":"Да"}]
[93,"Русатом Сервис",7705966318,2010592200,"АО \"Русатом Сервис\"","Да",{"$f":"VLOOKUP(D94,'Периметр ГК_4_кв_ 2016'!D:F,3,0)","v":"Да"}]
[94,"РЭМКО",5036076690,2010230911,"АО \"Русская ЭнергоМашиностроительная Компания\"","Да",{"$f":"VLOOKUP(D95,'Периметр ГК_4_кв_ 2016'!D:F,3,0)","v":"Да"}]
[95,"Сайпрус","12239379I",2010230916,"ATOMENERGOMASH CYPRUS LIMITED ЧК \"Атомэнергомаш Сайпрус Лимитед\"","Да",{"$f":"VLOOKUP(D96,'Периметр ГК_4_кв_ 2016'!D:F,3,0)","v":"Да"}]
[96,"СвердНИИхиммаш",6664003909,2010200000,"АО \"Свердловский научно-исследовательский институт химического машиностроения (\"СвердНИИхиммаш\")\"","Да",{"$f":"VLOOKUP(D97,'Периметр ГК_4_кв_ 2016'!D:F,3,0)","v":"Да"}]
[97,"СГК",5254082550,2010150300,"АО \"Саровская Генерирующая Компания\"","Да",{"$f":"VLOOKUP(D98,'Периметр ГК_4_кв_ 2016'!D:F,3,0)","v":"Да"}]
[98,"СЕТЕС",7024037370,2010550001,"АО \"Северские теплосистемы\"","Да",{"$f":"VLOOKUP(D99,'Периметр ГК_4_кв_ 2016'!D:F,3,0)","v":"Да"}]
[99,"СНИИП",7734592593,2010660000,"АО \"Специализированный научно-исследовательский институт приборостроения\" (АО \"СНИИП\")","Да",{"$f":"VLOOKUP(D100,'Периметр ГК_4_кв_ 2016'!D:F,3,0)","v":"Да"}]
[100,"СПб ИЗОТОП",7840393624,2010750000,"АО \"Санкт-Петербургский \"ИЗОТОП\"","Да",{"$f":"VLOOKUP(D101,'Периметр ГК_4_кв_ 2016'!D:F,3,0)","v":"Да"}]
[101,"СТСК",5254082630,2010150200,"АО \"Саровская Теплосетевая Компания\"","Да",{"$f":"VLOOKUP(D102,'Периметр ГК_4_кв_ 2016'!D:F,3,0)","v":"Да"}]
[102,"СХК",7024029499,2010780000,"АО \"Сибирский химический комбинат\"","Да",{"$f":"VLOOKUP(D103,'Периметр ГК_4_кв_ 2016'!D:F,3,0)","v":"Да"}]
[103,"ТВЭЛ",7706123550,2010230000,"АО \"ТВЭЛ\"","Да",{"$f":"VLOOKUP(D104,'Периметр ГК_4_кв_ 2016'!D:F,3,0)","v":"Да"}]
[104,"ТВЭЛ-Строй",7726523814,2010231100,"АО \"ТВЭЛ-СТРОИ\"","Да",{"$f":"VLOOKUP(D105,'Периметр ГК_4_кв_ 2016'!D:F,3,0)","v":"Да"}]
[105,"ТЕНЕКС-Сервис",7706604582,2010240100,"АО \"ТЕНЕКС-Сервис\"","Да",{"$f":"VLOOKUP(D106,'Периметр ГК_4_кв_ 2016'!D:F,3,0)","v":"Да"}]
[106,"Тепловодоканал",1837004370,2010230306,"ООО \"Тепловодоканал\"","Да",{"$f":"VLOOKUP(D107,'Периметр ГК_4_кв_ 2016'!D:F,3,0)","v":"Да"}]
[107,"Техснабэкспорт",7706039242,2010240000,"АО \"Техснабэкспорт\"","Да",{"$f":"VLOOKUP(D108,'Периметр ГК_4_кв_ 2016'!D:F,3,0)","v":"Да"}]
[108,"Точмаш",3329051460,2010440000,"АО \"Владимирское производственное объединение \"Точмаш\"","Да",{"$f":"VLOOKUP(D109,'Периметр ГК_4_кв_ 2016'!D:F,3,0)","v":"Да"}]
[109,"Точмаш-авто",3329064483,2010440300,"ООО \"Точмаш-авто\"","Да",{"$f":"VLOOKUP(D110,'Периметр ГК_4_кв_ 2016'!D:F,3,0)","v":"Да"}]
[110,"ТЦ ТЕНЕКС",7706609414,2010240200,"ЗАО \"Технологический центр \"ТЕНЕКС\"","Да",{"$f":"VLOOKUP(D111,'Периметр ГК_4_кв_ 2016'!D:F,3,0)","v":"Да"}]
[111,"УДК Горное",7536087140,2010020200,"АО \"Уранодобывающая компания \"Горное\"","Да",{"$f":"VLOOKUP(D112,'Периметр ГК_4_кв_ 2016'!D:F,3,0)","v":"Да"}]
[112,"НПО Центротех",6629020796,2010241800,{"$f":"[5]Список_компаний!$E$179","v":"ООО \"Научно-производсвенное объединение\"Центротех\"\""},"Да",{"$f":"VLOOKUP(D113,'Периметр ГК_4_кв_ 2016'!D:F,3,0)","v":"Да"}]
[113,"Уралприбор",6629020789,2010242000,"ООО \"Новоуральский приборный завод\"","Да",{"$f":"VLOOKUP(D114,'Периметр ГК_4_кв_ 2016'!D:F,3,0)","v":"Да"}]
[114,"УУГ",7706641432,2010020100,"АО \"Ураниум Уан Груп\"","Да",{"$f":"VLOOKUP(D115,'Периметр ГК_4_кв_ 2016'!D:F,3,0)","v":"Да"}]
[115,"УЭХК",6629022962,2010800000,"АО \"Уральский электрохимический комбинат\"","Да",{"$f":"VLOOKUP(D116,'Периметр ГК_4_кв_ 2016'!D:F,3,0)","v":"Да"}]
[116,"Хиагда","0302001219",2010230700,"АО \"Хиагда\"","Да",{"$f":"VLOOKUP(D117,'Периметр ГК_4_кв_ 2016'!D:F,3,0)","v":"Да"}]
[117,"ЦВТД",7726750415,2010911000,"ООО «Центр высокотехнологичной диагностики»","Да",{"$f":"VLOOKUP(D118,'Периметр ГК_4_кв_ 2016'!D:F,3,0)","v":"Да"}]
[118,"ЦентрАтом",7706723156,2010870000,"АО \"Центр управления непрофильными активами атомной отрасли\"","Да",{"$f":"VLOOKUP(D119,'Периметр ГК_4_кв_ 2016'!D:F,3,0)","v":"Да"}]
[119,"ЦКБМ",7806394392,2010820000,"АО \"Центральное конструкторское бюро машиностроения\"","Да",{"$f":"VLOOKUP(D120,'Периметр ГК_4_кв_ 2016'!D:F,3,0)","v":"Да"}]
[120,"ЦНИИТМАШ",7723564851,2010140000,"АО \"Научно-производственное объединение \"Центральный научно-исследовательский институт технологии машиностроения\"","Да",{"$f":"VLOOKUP(D121,'Периметр ГК_4_кв_ 2016'!D:F,3,0)","v":"Да"}]
[121,"ЦОиС ОЛенКур",5024076079,2010290000,"АО \"Центр отдыха и спорта \"ОЛенКур \"","Да",{"$f":"VLOOKUP(D122,'Периметр ГК_4_кв_ 2016'!D:F,3,0)","v":"Да"}]
[122,"ЧМЗ",1829008035,2010230300,"АО \"Чепецкий механический завод\"","Да",{"$f":"VLOOKUP(D123,'Периметр ГК_4_кв_ 2016'!D:F,3,0)","v":"Да"}]
[123,"ЭГМК",1402047530,2010020400,"АО \"Эльконский горно-металлургический комбинат\"","Да",{"$f":"VLOOKUP(D124,'Периметр ГК_4_кв_ 2016'!D:F,3,0)","v":"Да"}]
[124,"Экоальянс",6629026420,2010800800,"ООО \"Экоальянс\"","Да",{"$f":"VLOOKUP(D125,'Периметр ГК_4_кв_ 2016'!D:F,3,0)","v":"Да"}]
[125,"ЭЛЕМАШ-ТЭК",5053055010,2010230110,"ООО \"ЭЛЕМАШ-ТЭК\"","Да",{"$f":"VLOOKUP(D126,'Периметр ГК_4_кв_ 2016'!D:F,3,0)","v":"Да"}]
[126,"Русатом Оверсиз",7709735135,2010230912,"Общество с ограниченной ответственностью \"Русатом Оверсиз\"","Да",{"$f":"VLOOKUP(D127,'Периметр ГК_4_кв_ 2016'!D:F,3,0)","v":"Да"}]
[127,"Энергомашспецсталь",2106005156,2010230943,"ПАО \"Энергомашспецсталь\"","Да",{"$f":"VLOOKUP(D128,'Периметр ГК_4_кв_ 2016'!D:F,3,0)","v":"Да"}]
[128,"Энергоспецмонтаж",7718083574,2010270000,"ПАО \"Энергоспецмонтаж\"","Да",{"$f":"VLOOKUP(D129,'Периметр ГК_4_кв_ 2016'!D:F,3,0)","v":"Да"}]
[129,"ЭНИЦ",5035037441,2010830000,"АО \"Электрогорский научно-исследовательский центр по безопасности атомных электростанций\"","Да",{"$f":"VLOOKUP(D130,'Периметр ГК_4_кв_ 2016'!D:F,3,0)","v":"Да"}]
[130,"ЭХЗ",2453013555,2010840000,"АО \"Производственное объединение \"Электрохимический завод\"","Да",{"$f":"VLOOKUP(D131,'Периметр ГК_4_кв_ 2016'!D:F,3,0)","v":"Да"}]
[131,"ЯМТ-Снежинск",7459003496,2010912000,"ООО \"Ядерные медицинские технологии-Снежинск\"","Да",{"$f":"VLOOKUP(D132,'Периметр ГК_4_кв_ 2016'!D:F,3,0)","v":"Да"}]
[132,"Uranium One Trading AG","CHE-233.935.921 ",2010021506,"Uranium One Trading AG","Да","Да"]
[133,"ВетроОГК",5036118291,2010230956,"АО \"Ветроэнергетическая отдельная генерирующая компания\"","Да","Да"]
[134,"Консист-ОС",7711077412,2010590317,"АО \"Консист-Оператор-Связи\"","Да","Да"]
[135,"ЛЗ Петрозаводскмаш",1001201343,2010242601,"ООО Литейный завод  \"Петрозаводскмаш»","Да","Да"]
[136,"Русреактор",7726367354,2010991000,"АО \"Русатом растворные реакторы\"","Да","Да"]
[137,"РХК",7726396281,2011000000,"АО \"Русатом Хэлскеа\"","Да","Да"]
[138,"СМБ",7706433961,2010992000,"Общество с ограниченной ответственностью \"Системы Мониторинга \"Беркут\"","Да","Да"]
[139,"УК Нижние котлы",7726390113,2010411000,"Акционерное общество \"Управляющая компания индустриального парка \"Нижние котлы\"","Да","Да"]
[140,"АЭМ-активы",7706785593,6090010000,"ООО «АЭМ-активы»","Ликвидирован",{"$f":"VLOOKUP(D141,'Периметр ГК_4_кв_ 2016'!D:F,3,0)","v":"Да"}]
[141,"С-плюс",7720325407,2010630100,"Общество с ограниченной ответственностью \"С- плюс\"","Да","ДА"]
[142,"ЦУФС",7715470328,6080000000,"АО \"Центр управления федеральной собственностью\"","Да",{"$f":"VLOOKUP(D143,'Периметр ГК_4_кв_ 2016'!D:F,3,0)","v":"Да"}]
[143,"НоваВинд",9701087623,null,"АО \"НоваВинд\"","Да","Да"]
[144,"NUKEM","204/115/21479",2010450107,"NUKEM Technologies GmbH",null,{"$f":"VLOOKUP(D145,'Периметр ГК_4_кв_ 2016'!D:F,3,0)","v":"Да"}]
[145,"Nukem Technologies","204/115/21517",2010450112,"Nukem Technologies Engineering Services GmbH",null,{"$f":"VLOOKUP(D146,'Периметр ГК_4_кв_ 2016'!D:F,3,0)","v":"Да"}]
[146,"АСЭ",7701186067,2010450100,"АО \"Атомстройэкспорт\"",null,{"$f":"VLOOKUP(D147,'Периметр ГК_4_кв_ 2016'!D:F,3,0)","v":"Да"}]
[147,"АСЭ-Инжиниринг",7705856636,2010450103,"ООО \"АСЭ-Инжиниринг\"",null,{"$f":"VLOOKUP(D148,'Периметр ГК_4_кв_ 2016'!D:F,3,0)","v":"Да"}]
[148,"Атомбезопасность",5042009244,3040000000,"ФГУП \"Координационный Центр по созданию систем безопасности и управления \"Атомбезопасность\"",null,{"$f":"VLOOKUP(D149,'Периметр ГК_4_кв_ 2016'!D:F,3,0)","v":"Да"}]
[149,"Атомзащитаинформ",7706031557,3070000000,"ФГУП \"Научно-технический и сертификационный центр по комплексной защите информации\"",null,{"$f":"VLOOKUP(D150,'Периметр ГК_4_кв_ 2016'!D:F,3,0)","v":"Да"}]
[150,"Атомкомплект",7706738770,6090000000,"АО \"Атомкомплект\"",null,{"$f":"VLOOKUP(D151,'Периметр ГК_4_кв_ 2016'!D:F,3,0)","v":"Да"}]
[151,"Атом-охрана",7706289940,6020000000,"ФГУП \"Ведомственная охрана Росатома\"",null,{"$f":"VLOOKUP(D152,'Периметр ГК_4_кв_ 2016'!D:F,3,0)","v":"Да"}]
[152,"Атомфлот",5192110268,3100000000,"ФГУП атомного флота (ФГУП \"Атомфлот\")",null,{"$f":"VLOOKUP(D153,'Периметр ГК_4_кв_ 2016'!D:F,3,0)","v":"Да"}]
[153,"АтомКапитал",7706792008,2010110000,"АО \"АтомКапитал\"",null,{"$f":"VLOOKUP(D154,'Периметр ГК_4_кв_ 2016'!D:F,3,0)","v":"Да"}]
[154,"АТЦ СПб",7802145892,3010000000,"ФГУП \"Аварийно-технический центр Минатома России\" (г. Санкт-Петербург)",null,{"$f":"VLOOKUP(D155,'Периметр ГК_4_кв_ 2016'!D:F,3,0)","v":"Да"}]
[155,"АЭП",7701796320,2010360000,"АО  \"Атомэнергопроект\"",null,{"$f":"VLOOKUP(D156,'Периметр ГК_4_кв_ 2016'!D:F,3,0)","v":"Да"}]
[156,"Базальт",6432003698,1010000000,"ФГУП \"Базальт\"",null,{"$f":"VLOOKUP(D157,'Периметр ГК_4_кв_ 2016'!D:F,3,0)","v":"Да"}]
[157,"ВО Изотоп",7704674312,2010380000,"ОАО \"Всерегиональное объединение \"Изотоп\"",null,{"$f":"VLOOKUP(D158,'Периметр ГК_4_кв_ 2016'!D:F,3,0)","v":"Да"}]
[158,"ВНИИА",7707074137,1020000000,"ФГУП \"Всероссийский научно-исследовательский институт автоматики им. Н.Л. Духова\"",null,{"$f":"VLOOKUP(D159,'Периметр ГК_4_кв_ 2016'!D:F,3,0)","v":"Да"}]
[159,"ВНИИТФ",7423000572,1110000000,"ФГУП \"Российский Федеральный Ядерный Центр - Всероссийский научно-исследовательский институт технической физики имени академика Е.И. Забабахина\"",null,{"$f":"VLOOKUP(D160,'Периметр ГК_4_кв_ 2016'!D:F,3,0)","v":"Да"}]
[160,"ВНИИЭФ",5254001230,1150000000,"ФГУП \"Российский федеральный ядерный центр–Всероссийский научно- исследовательский институт экспериментальной физики\" (ФГУП \"РФЯЦ-ВНИИЭФ\")",null,{"$f":"VLOOKUP(D161,'Периметр ГК_4_кв_ 2016'!D:F,3,0)","v":"Да"}]
[161,"ВЭИ",7722026032,1170000000,"ФГУП \"Всероссийский электротехнический институт В.И. Ленина\"",null,{"$f":"VLOOKUP(D162,'Периметр ГК_4_кв_ 2016'!D:F,3,0)","v":"Да"}]
[162,"Госкорпорация \"Росатом\"",7706413348,"0000000002","Государственная корпорация по атомной энергии \"Росатом\"",null,{"$f":"VLOOKUP(D163,'Периметр ГК_4_кв_ 2016'!D:F,3,0)","v":"Да"}]
[163,"ГХК",2452000401,3020000000,"ФГУП \"Горно-химический комбинат\"",null,{"$f":"VLOOKUP(D164,'Периметр ГК_4_кв_ 2016'!D:F,3,0)","v":"Да"}]
[164,"Маяк",7422000795,1070000000,"ФГУП \"Производственное объединение \"Маяк\"",null,{"$f":"VLOOKUP(D165,'Периметр ГК_4_кв_ 2016'!D:F,3,0)","v":"Да"}]
[165,"НИАЭП-Сервис",6916015670,2010620200,"ООО \"НИАЭП-Сервис\"",null,{"$f":"VLOOKUP(D166,'Периметр ГК_4_кв_ 2016'!D:F,3,0)","v":"Да"}]
[166,"ИК АСЭ",5260214123,2010620000,"АО Инжиниринговая компания \"АСЭ\"",null,{"$f":"VLOOKUP(D167,'Периметр ГК_4_кв_ 2016'!D:F,3,0)","v":"Да"}]
[167,"НИИИС",5261000011,1130000000,"ФГУП федеральный научно-производственный центр \"Научно-исследовательский институт измерительных систем им. Ю.Е. Седакова\"",null,{"$f":"VLOOKUP(D168,'Периметр ГК_4_кв_ 2016'!D:F,3,0)","v":"Да"}]
[168,"НИИП",5027241394,4070000000,"АО \"Научно-исследовательский институт приборов\"",null,{"$f":"VLOOKUP(D169,'Периметр ГК_4_кв_ 2016'!D:F,3,0)","v":"Да"}]
[169,"НИИЭФА",7817331468,4080000000,"АО \"Научно-исследовательский институт электрофизической аппаратуры им. Д.В. Ефремова\"",null,{"$f":"VLOOKUP(D170,'Периметр ГК_4_кв_ 2016'!D:F,3,0)","v":"Да"}]
[170,"НИТИ",4714000067,4090000000,"ФГУП \"Научно-исследовательский технологический институт имени А.П. Александрова\"",null,{"$f":"VLOOKUP(D171,'Периметр ГК_4_кв_ 2016'!D:F,3,0)","v":"Да"}]
[171,"НИФХИ",7709944065,4140000000,"АО \"Научно-исследовательский физико-химический институт им. Л.Я. Карпова\" (НИФХИ)",null,{"$f":"VLOOKUP(D172,'Периметр ГК_4_кв_ 2016'!D:F,3,0)","v":"Да"}]
[172,"НПО Луч",5036005308,4060000000,"ФГУП \"Научно-исследовательский институт Научно-производственное объединение \"Луч\"",null,{"$f":"VLOOKUP(D173,'Периметр ГК_4_кв_ 2016'!D:F,3,0)","v":"Да"}]
[173,"НПО РИ",7802846922,4010000000,"АО \"Радиевый институт им. В.Г. Хлопина\"",null,{"$f":"VLOOKUP(D174,'Периметр ГК_4_кв_ 2016'!D:F,3,0)","v":"Да"}]
[174,"НО РАО",5838009089,4110000000,"ФГУП \"Национальный оператор по обращению с радиоактивными отходами\"",null,{"$f":"VLOOKUP(D175,'Периметр ГК_4_кв_ 2016'!D:F,3,0)","v":"Да"}]
[175,"ОзВЭИ",7722024973,1180000000,"ФГУП \"Опытный завод Всероссийского электротехнического института В.И. Ленина\"",null,{"$f":"VLOOKUP(D176,'Периметр ГК_4_кв_ 2016'!D:F,3,0)","v":"Да"}]
[176,"ПО Север",5410101900,1080000000,"ФГУП Производственное объединение \"Север\"",null,{"$f":"VLOOKUP(D177,'Периметр ГК_4_кв_ 2016'!D:F,3,0)","v":"Да"}]
[177,"ПСЗ",7405000428,1100000000,"ФГУП \"Приборостроительный завод\"",null,{"$f":"VLOOKUP(D178,'Периметр ГК_4_кв_ 2016'!D:F,3,0)","v":"Да"}]
[178,"РАДОН",7704009700,3110000000,"ФГУП \"РАДОН\"",null,{"$f":"VLOOKUP(D179,'Периметр ГК_4_кв_ 2016'!D:F,3,0)","v":"Да"}]
[179,"РосРАО",4714004270,3260000000,"ФГУП \"Предприятие по обращению с радиоактивными отходами \"РосРАО\"",null,{"$f":"VLOOKUP(D180,'Периметр ГК_4_кв_ 2016'!D:F,3,0)","v":"Да"}]
[180,"Русатом Оверсиз Инк",7706805049,2010980000,"АО \"Русатом Оверсиз Инк\"",null,{"$f":"VLOOKUP(D181,'Периметр ГК_4_кв_ 2016'!D:F,3,0)","v":"Да"}]
[181,"РСП",7726667090,4180000000,"АО \"Русский сверхпроводник \"",null,{"$f":"VLOOKUP(D182,'Периметр ГК_4_кв_ 2016'!D:F,3,0)","v":"Да"}]
[182,"СКЦ",7706187089,3080000000,"ФГУП \"Ситуационно-Кризисный Центр Федерального агентства по атомной энергии\"",null,{"$f":"VLOOKUP(D183,'Периметр ГК_4_кв_ 2016'!D:F,3,0)","v":"Да"}]
[183,"Старт",5838000953,1090000000,"ФГУП \"ФНЦП Производственное объединение \"Старт\" имени М.В. Проценко\"",null,{"$f":"VLOOKUP(D184,'Периметр ГК_4_кв_ 2016'!D:F,3,0)","v":"Да"}]
[184,"Технопарк-Технология",5216017711,4150000000,"АО \"Технопарк-Технология\"",null,{"$f":"VLOOKUP(D185,'Периметр ГК_4_кв_ 2016'!D:F,3,0)","v":"Да"}]
[185,"ТРИНИТИ",7751002460,4030000000,"АО \"Государственный научный центр Российской Федерации Троицкий институт инновационных и термоядерных исследований\"",null,{"$f":"VLOOKUP(D186,'Периметр ГК_4_кв_ 2016'!D:F,3,0)","v":"Да"}]
[186,"Трест РСЭМ",6916013425,2010620400,"ООО \"Трест Росспецэнергомонтаж\"",null,{"$f":"VLOOKUP(D187,'Периметр ГК_4_кв_ 2016'!D:F,3,0)","v":"Да"}]
[187,"УАЗ",7706804447,6010000000,"АО \"Управление административными зданиями\"",null,{"$f":"VLOOKUP(D188,'Периметр ГК_4_кв_ 2016'!D:F,3,0)","v":"Да"}]
[188,"УЭМЗ",6608004641,1120000000,"ФГУП \"Уральский электромеханический завод\"",null,{"$f":"VLOOKUP(D189,'Периметр ГК_4_кв_ 2016'!D:F,3,0)","v":"Да"}]
[189,"ФЦЯРБ",7706801975,3090000000,"АО \"Федеральный центр ядерной и радиационной безопасности\"",null,{"$f":"VLOOKUP(D190,'Периметр ГК_4_кв_ 2016'!D:F,3,0)","v":"Да"}]
[190,"ФЭИ",4025442583,4040000000,"АО \"Государственный научный центр Российской Федерации - Физико-энергетический институт имени А.И. Лейпунского\"",null,{"$f":"VLOOKUP(D191,'Периметр ГК_4_кв_ 2016'!D:F,3,0)","v":"Да"}]
[191,"ЦентрАтомКонсалт",7706638824,2010040000,"ОАО \"ЦентрАтомКонсалт\"",null,{"$f":"VLOOKUP(D192,'Периметр ГК_4_кв_ 2016'!D:F,3,0)","v":"Да"}]
[192,"Эксп №2",2901255495,1140000000,"АО \"Экспедиция № 2\"",null,{"$f":"VLOOKUP(D193,'Периметр ГК_4_кв_ 2016'!D:F,3,0)","v":"Да"}]
[193,"Элерон",7724313681,4100000000,"АО \"Специальное научно-производственное объединение \"Элерон\"",null,{"$f":"VLOOKUP(D194,'Периметр ГК_4_кв_ 2016'!D:F,3,0)","v":"Да"}]
[194,"ЭХП",6630002336,1050000000,"ФГУП \"Комбинат \"Электрохимприбор\"",null,{"$f":"VLOOKUP(D195,'Периметр ГК_4_кв_ 2016'!D:F,3,0)","v":"Да"}]

{"sheet":"Периметр ГК","index":6,"n_rows":195,"n_cols":6,"rows_kept":195,"cut":false,"hidden":true,"merged":[]}
["№","Сокращенное название","ИНН","Номер ЦФО","Полное название","Включена в Периметр ГК по МСФО"]
[1,"ARAKO","CZ47152371",2010230922,"ARAKO spol. s r.o.",{"$f":"VLOOKUP(D2,'Периметр ГК_4_кв_ 2016'!D:F,3,0)","v":"Да"}]
[2,"EMSS Holdings","HE 245521",2010230948,"EMSS Holdings Limited (ЭМСС ХОЛДИНГЗ ЛИМИТЕД)",{"$f":"VLOOKUP(D3,'Периметр ГК_4_кв_ 2016'!D:F,3,0)","v":"Да"}]
[3,"Ganz","10806481-2-42",2010820100,"Ganz Energetika Kft. ООО «Ганз Инженерное и Энергетическое Машиностроение»",{"$f":"VLOOKUP(D4,'Периметр ГК_4_кв_ 2016'!D:F,3,0)","v":"Да"}]
[4,"INTERNEXCO",4023602999,2010241200,"INTERNEXCO GmbH","ликвидирована в июне 2017"]
[5,"INTERNEXCO GmbH (Швейцария)","CHE-255.290.400",2010241000,"INTERNEXCO GmbH (Швейцария)",{"$f":"VLOOKUP(D6,'Периметр ГК_4_кв_ 2016'!D:F,3,0)","v":"Да"}]
[6,"KWINDER HOLDINGS LIMITED","12277016L",2010240310,"KWINDER HOLDINGS LIMITED",{"$f":"VLOOKUP(D7,'Периметр ГК_4_кв_ 2016'!D:F,3,0)","v":"Да"}]
[7,"Mantra Resources Ltd.",833296300,2010021600,"Mantra Resources Pty Ltd.",{"$f":"VLOOKUP(D8,'Периметр ГК_4_кв_ 2016'!D:F,3,0)","v":"Да"}]
[8,"RAOS Project Oy",386588,2010932000,"RAOS Project Oy",{"$f":"VLOOKUP(D9,'Периметр ГК_4_кв_ 2016'!D:F,3,0)","v":"Да"}]
[9,"REIN ",7706759586,2010930000,"АО \"Русатом Энерго Интернешнл\"",{"$f":"VLOOKUP(D10,'Периметр ГК_4_кв_ 2016'!D:F,3,0)","v":"Да"}]
[10,"ROSATOM FINANCE","12286659G",2010940000,"ROSATOM FINANCE LTD (Росатом Финанс ЛТД)",{"$f":"VLOOKUP(D11,'Периметр ГК_4_кв_ 2016'!D:F,3,0)","v":"Да"}]
[11,"TENAM","68-068-0771",2010242500,"TENAM Corporation",{"$f":"VLOOKUP(D12,'Периметр ГК_4_кв_ 2016'!D:F,3,0)","v":"Да"}]
[12,"TRADEWILL LIMITED","GB987386840",2010242400,"TRADEWILL LIMITED",{"$f":"VLOOKUP(D13,'Периметр ГК_4_кв_ 2016'!D:F,3,0)","v":"Да"}]
[13,"UMP Trading","903.1.000.8205",2010230952,"UMP Trading (Швейцария)",{"$f":"VLOOKUP(D14,'Периметр ГК_4_кв_ 2016'!D:F,3,0)","v":"Да"}]
[14,"Uranium","88897 7170 RC0001",2010021500,"Uranium One Inc.",{"$f":"VLOOKUP(D15,'Периметр ГК_4_кв_ 2016'!D:F,3,0)","v":"Да"}]
[15,"Uranium One Holding",817104549,2010021200,"Uranium One Holding N.V.",{"$f":"VLOOKUP(D16,'Периметр ГК_4_кв_ 2016'!D:F,3,0)","v":"Да"}]
[16,"Аккую Нуклеар",310546698,2010450108,"АО\"Аккую Нуклеар\"",{"$f":"VLOOKUP(D17,'Периметр ГК_4_кв_ 2016'!D:F,3,0)","v":"Да"}]
[17,"АЛАБУГА-ВОЛОКНО",1646031132,2010242201,"ООО \"Алабуга-Волокно\"",{"$f":"VLOOKUP(D18,'Периметр ГК_4_кв_ 2016'!D:F,3,0)","v":"Да"}]
[18,"Аргон",6454074501,2010240800,"ООО \"Аргон\"",{"$f":"VLOOKUP(D19,'Периметр ГК_4_кв_ 2016'!D:F,3,0)","v":"Да"}]
[19,"АРМЗ",7706016076,2010020000,"АО \"Урановый холдинг АРМЗ\" (\"Атомредметзолото\")",{"$f":"VLOOKUP(D20,'Периметр ГК_4_кв_ 2016'!D:F,3,0)","v":"Да"}]
[20,"АРМЗ-Сервис",7708671295,2010020602,"Общество с ограниченной ответственностью \"АРМЗ Сервис\"",{"$f":"VLOOKUP(D21,'Периметр ГК_4_кв_ 2016'!D:F,3,0)","v":"Да"}]
[21,"АТА",7724560930,2010010000,"АО \"Альянстрансатом\"",{"$f":"VLOOKUP(D22,'Периметр ГК_4_кв_ 2016'!D:F,3,0)","v":"Да"}]
[22,"АТМ",7734242302,2010230915,"ЗАО \"Атомтрубопроводмонтаж\"",{"$f":"VLOOKUP(D23,'Периметр ГК_4_кв_ 2016'!D:F,3,0)","v":"Да"}]
[23,"АтомМедТехнолоджи-ДВ",2536279414,2010933000,"ООО \"АтомМедТехнолоджи- Дальний Восток\"",{"$f":"VLOOKUP(D24,'Периметр ГК_4_кв_ 2016'!D:F,3,0)","v":"Да"}]
[24,"АТОМПРОЕКТ",7814417371,2010460000,"АО \"Научно-исследовательский и проектно-конструкторский институт энергетических технологий \"АТОМПРОЕКТ\"",{"$f":"VLOOKUP(D25,'Периметр ГК_4_кв_ 2016'!D:F,3,0)","v":"Да"}]
[25,"Атомспецтранс",7717609102,2010340000,"АО \"Атомспецтранс\"",{"$f":"VLOOKUP(D26,'Периметр ГК_4_кв_ 2016'!D:F,3,0)","v":"Да"}]
[26,"Атомтехэкспорт",7705408850,2010591900,"АО \"Атомтехэкспорт\"",{"$f":"VLOOKUP(D27,'Периметр ГК_4_кв_ 2016'!D:F,3,0)","v":"Да"}]
[27,"Атомтехэнерго",5029106714,2010350000,"АО по наладке, совершенствованию эксплуатации и организации управления атомных станций \"Атомтехэнерго\"",{"$f":"VLOOKUP(D28,'Периметр ГК_4_кв_ 2016'!D:F,3,0)","v":"Да"}]
[28,"Атомэнергомаш",7706614573,2010230900,"АО \"Атомное и энергетическое машиностроение\" (АО \"Атомэнергомаш\")",{"$f":"VLOOKUP(D29,'Периметр ГК_4_кв_ 2016'!D:F,3,0)","v":"Да"}]
[29,"Атомэнергопромсбыт",7725828549,2010591320,"АО \"Атомэнергопромсбыт\"",{"$f":"VLOOKUP(D30,'Периметр ГК_4_кв_ 2016'!D:F,3,0)","v":"Да"}]
[30,"Атомэнергоремонт",5029112443,2010590700,"АО \"Атомэнергоремонт\"",{"$f":"VLOOKUP(D31,'Периметр ГК_4_кв_ 2016'!D:F,3,0)","v":"Да"}]
[31,"Атомэнергосбыт",7704228075,2010591300,"АО \"АтомЭнергоСбыт\"",{"$f":"VLOOKUP(D32,'Периметр ГК_4_кв_ 2016'!D:F,3,0)","v":"Да"}]
[32,"АЭМ-лизинг",7706673635,2010230902,"АО \"АЭМ-лизинг\"",{"$f":"VLOOKUP(D33,'Периметр ГК_4_кв_ 2016'!D:F,3,0)","v":"Да"}]
[33,"АЭМ-технологии",7817311895,2010230904,"АО Инжиниринговая компания \"АЭМ-технологии\"",{"$f":"VLOOKUP(D34,'Периметр ГК_4_кв_ 2016'!D:F,3,0)","v":"Да"}]
[34,"АЭПК",7706664260,2010000000,"АО \"Атомный энергопромышленный комплекс\" (АО \"Атомэнергопром\")",{"$f":"VLOOKUP(D35,'Периметр ГК_4_кв_ 2016'!D:F,3,0)","v":"Да"}]
[35,"АЭХК",3801098402,2010370000,"АО \"Ангарский электролизный химический комбинат\"",{"$f":"VLOOKUP(D36,'Периметр ГК_4_кв_ 2016'!D:F,3,0)","v":"Да"}]
[36,"Балтийская АЭС",3904612644,2010592100,"АО \"Балтийская АЭС\"",{"$f":"VLOOKUP(D37,'Периметр ГК_4_кв_ 2016'!D:F,3,0)","v":"Да"}]
[37,"Вента",6624002377,2010050000,"ОАО \"Нижнетуринский машиностроительный завод \"Вента\"",{"$f":"VLOOKUP(D38,'Периметр ГК_4_кв_ 2016'!D:F,3,0)","v":"Да"}]
[38,"ВНИИАМ",7743654609,2010390000,"АО \"Всероссийский научно-исследовательский и проектно-конструкторский институт атомного энергетического машиностроения (ВНИИАМ)\"",{"$f":"VLOOKUP(D39,'Периметр ГК_4_кв_ 2016'!D:F,3,0)","v":"Да"}]
[39,"ВНИИАЭС",7721247141,2010591800,"АО\"Всеросийский научно-исследовательский институт по эксплуатации атомных электростанций\"",{"$f":"VLOOKUP(D40,'Периметр ГК_4_кв_ 2016'!D:F,3,0)","v":"Да"}]
[40,"ВНИИНМ",7734598490,2010400000,"АО \"Всероссийский научно-исследовательский институт неорганических материалов имени академика А.А. Бочвара\"",{"$f":"VLOOKUP(D41,'Периметр ГК_4_кв_ 2016'!D:F,3,0)","v":"Да"}]
[41,"ВНИИХТ",7724675770,2010420000,"АО \"Ведущий научно-исследовательский институт химической технологии (ВНИИХТ)\"",{"$f":"VLOOKUP(D42,'Периметр ГК_4_кв_ 2016'!D:F,3,0)","v":"Да"}]
[42,"ВНИПИПромтехнологии",7724683379,2010430000,"АО \"Ведущий проектно-изыскательский и научно-исследовательский институт промышленной технологии\"",{"$f":"VLOOKUP(D43,'Периметр ГК_4_кв_ 2016'!D:F,3,0)","v":"Да"}]
[43,"Гидропресс",5036092340,2010710000,"АО \"Ордена Трудового Красного Знамени и ордена труда ЧССР - опытное конструкторское бюро \"ГИДРОПРЕСС\"",{"$f":"VLOOKUP(D44,'Периметр ГК_4_кв_ 2016'!D:F,3,0)","v":"Да"}]
[44,"Гиредмет",7706699062,2010470000,"АО \"Государственный научно-исследовательский проектный институт редкометаллической промышленности \"Гиредмет\"",{"$f":"VLOOKUP(D45,'Периметр ГК_4_кв_ 2016'!D:F,3,0)","v":"Да"}]
[45,"Гринатом",7706729736,2010900000,"АО \"Гринатом\"",{"$f":"VLOOKUP(D46,'Периметр ГК_4_кв_ 2016'!D:F,3,0)","v":"Да"}]
[46,"ГСПИ",7708697977,2010500000,"АО \"Государственный специализированный проектный институт\" (АО \"ГСПИ\")",{"$f":"VLOOKUP(D47,'Периметр ГК_4_кв_ 2016'!D:F,3,0)","v":"Да"}]
[47,"Далур",4506004751,2010230800,"АО \"Далур\"",{"$f":"VLOOKUP(D48,'Периметр ГК_4_кв_ 2016'!D:F,3,0)","v":"Да"}]
[48,"Дедал",5010036460,2010510000,"АО \"Научно-производственный комплекс \"Дедал\"",{"$f":"VLOOKUP(D49,'Периметр ГК_4_кв_ 2016'!D:F,3,0)","v":"Да"}]
[49,"ДЕЗ",7706730001,2010890000,"АО \"Дирекция Единого Заказа оборудования для АЭС\"",{"$f":"VLOOKUP(D50,'Периметр ГК_4_кв_ 2016'!D:F,3,0)","v":"Да"}]
[50,"ЖТЭЦ",2458013365,2010551000,"АО \"Железногорская ТЭЦ\"",{"$f":"VLOOKUP(D51,'Периметр ГК_4_кв_ 2016'!D:F,3,0)","v":"Да"}]
[51,"ЗАЭС",7701763846,2010450000,"АО \"Всероссийское производственное объединение \"Зарубежатомэнергострой\" (АО \"ВПО \"ЗАЭС\")",{"$f":"VLOOKUP(D52,'Периметр ГК_4_кв_ 2016'!D:F,3,0)","v":"Да"}]
[52,"ЗИОМАР",5036039258,2010230917,"АО \"Инжиниринговая компания \"ЗИОМАР\"",{"$f":"VLOOKUP(D53,'Периметр ГК_4_кв_ 2016'!D:F,3,0)","v":"Да"}]
[53,"ЗиО-Подольск",5036040729,2010230918,"ПАО \"Машиностроительный завод \"ЗиО Подольск\"",{"$f":"VLOOKUP(D54,'Периметр ГК_4_кв_ 2016'!D:F,3,0)","v":"Да"}]
[54,"ЗУКМ",7450045935,2010241600,"ООО \"Завод углеродных и композиционных материалов\"",{"$f":"VLOOKUP(D55,'Периметр ГК_4_кв_ 2016'!D:F,3,0)","v":"Да"}]
[55,"ИРМ",6639019655,2010540000,"АО \"Институт реакторных материалов\"",{"$f":"VLOOKUP(D56,'Периметр ГК_4_кв_ 2016'!D:F,3,0)","v":"Да"}]
[56,"Искра",2453014750,2010230001,"ООО \"Искра\"",{"$f":"VLOOKUP(D57,'Периметр ГК_4_кв_ 2016'!D:F,3,0)","v":"Да"}]
[57,"ИЦ РГЦ",7706689000,2010242300,"АО \"Инжиниринговый центр \"Русская газовая центрифуга\"",{"$f":"VLOOKUP(D58,'Периметр ГК_4_кв_ 2016'!D:F,3,0)","v":"Да"}]
[58,"КМЗ",3305004397,2010240600,"ПАО \"Ковровский механический завод\"",{"$f":"VLOOKUP(D59,'Периметр ГК_4_кв_ 2016'!D:F,3,0)","v":"Да"}]
[59,"Красная Звезда",7726682003,2010600000,"АО \"Красная Звезда\"",{"$f":"VLOOKUP(D60,'Периметр ГК_4_кв_ 2016'!D:F,3,0)","v":"Да"}]
[60,"Краун",7705833438,2010241100,"ООО \"Краун\"",{"$f":"VLOOKUP(D61,'Периметр ГК_4_кв_ 2016'!D:F,3,0)","v":"Да"}]
[61,"КЦ",7715020463,2010231300,"АО \"Коммерческий центр\"",{"$f":"VLOOKUP(D62,'Периметр ГК_4_кв_ 2016'!D:F,3,0)","v":"Да"}]
[62,"МЗП",7724558466,2010100000,"АО \"Московский завод полиметаллов\"",{"$f":"VLOOKUP(D63,'Периметр ГК_4_кв_ 2016'!D:F,3,0)","v":"Да"}]
[63,"Молния",7721730486,2010740000,"АО \"Производственное объединение \"Машиностроительный завод \"Молния\"",{"$f":"VLOOKUP(D64,'Периметр ГК_4_кв_ 2016'!D:F,3,0)","v":"Да"}]
[64,"МСЗ",5053005918,2010230100,"ПАО \"Машиностроительный завод\"",{"$f":"VLOOKUP(D65,'Периметр ГК_4_кв_ 2016'!D:F,3,0)","v":"Да"}]
[65,"МСЗ-М",5053066861,2010230115,"ООО \"МСЗ-МЕХАНИКА\"",{"$f":"VLOOKUP(D66,'Периметр ГК_4_кв_ 2016'!D:F,3,0)","v":"Да"}]
[66,"Наука и инновации",7706760091,4010000100,"АО \"Наука и инновации\"",{"$f":"VLOOKUP(D67,'Периметр ГК_4_кв_ 2016'!D:F,3,0)","v":"Да"}]
[67,"НЗХК",5410114184,2010230200,"ПАО \"Новосибирский завод химконцентратов\"",{"$f":"VLOOKUP(D68,'Периметр ГК_4_кв_ 2016'!D:F,3,0)","v":"Да"}]
[68,"НЗХК-Инструмент",5410021660,2010230207,"ООО \"НЗХК-Инструмент\"",{"$f":"VLOOKUP(D69,'Периметр ГК_4_кв_ 2016'!D:F,3,0)","v":"Да"}]
[69,"НЗХК-Энергия",5410028351,2010230210,"ООО \"НЗХК-Энергия\"",{"$f":"VLOOKUP(D70,'Периметр ГК_4_кв_ 2016'!D:F,3,0)","v":"Да"}]
[70,"НИИАР",7302040242,2010480000,"АО Государственный научный центр - Научно-исследовательский институт атомных реакторов (АО \"ГНЦ НИИАР\")",{"$f":"VLOOKUP(D71,'Периметр ГК_4_кв_ 2016'!D:F,3,0)","v":"Да"}]
[71,"НИИАР-Генерация",7329008990,2010970000,"ООО «НИИАР-ГЕНЕРАЦИЯ»",{"$f":"VLOOKUP(D72,'Периметр ГК_4_кв_ 2016'!D:F,3,0)","v":"Да"}]
[72,"НИИГрафит",7720723422,2010630000,"АО \"Государственный научно-исследовательский институт конструкционных материалов на основе графита \"НИИграфит\"",{"$f":"VLOOKUP(D73,'Периметр ГК_4_кв_ 2016'!D:F,3,0)","v":"Да"}]
[73,"НИИТФА",7726606316,2010410000,"АО \"Научно-исследовательский институт технической физики и автоматизации (НИИТФА)\"",{"$f":"VLOOKUP(D74,'Периметр ГК_4_кв_ 2016'!D:F,3,0)","v":"Да"}]
[74,"НИКИМТ-Атомстрой",7715719854,2010550000,"АО \"НИКИМТ \"Атомстрой\"",{"$f":"VLOOKUP(D75,'Периметр ГК_4_кв_ 2016'!D:F,3,0)","v":"Да"}]
[75,"НИКИЭТ",7708698473,2010650000,"АО \"Научно-исследовательский и конструкторский институт энерготехники имени Н.А. Доллежаля\"",{"$f":"VLOOKUP(D76,'Периметр ГК_4_кв_ 2016'!D:F,3,0)","v":"Да"}]
[76,"ННКЦ",6629020806,2010241900,"ООО \"Новоуральский научно-конструкторский центр\"",{"$f":"VLOOKUP(D77,'Периметр ГК_4_кв_ 2016'!D:F,3,0)","v":"Да"}]
[77,"НПК ХПИ",7706688991,2010242200,"АО \"НПК \"Химпроминжиниринг\"",{"$f":"VLOOKUP(D78,'Периметр ГК_4_кв_ 2016'!D:F,3,0)","v":"Да"}]
[78,"НТЦ ЯФИ",7802441926,2010690000,"АО \"Научно-технический центр \"Ядерно-физические исследования\"",{"$f":"VLOOKUP(D79,'Периметр ГК_4_кв_ 2016'!D:F,3,0)","v":"Да"}]
[79,"Обесп РФЯЦ-ВНИИЭФ",5254081010,2010150000,"АО \"Обеспечение РФЯЦ-ВНИИЭФ\"",{"$f":"VLOOKUP(D80,'Периметр ГК_4_кв_ 2016'!D:F,3,0)","v":"Да"}]
[80,"ОДЦ УГР",7024033350,2010780500,"АО \"Опытно-демонстрационный центр вывода из эксплуатации уран-графитовых ядерных реакторов\"",{"$f":"VLOOKUP(D81,'Периметр ГК_4_кв_ 2016'!D:F,3,0)","v":"Да"}]
[81,"ОЗТМиТС",7726633119,2010700000,"АО \"Опытный завод тугоплавких металлов и твердых сплавов\" (АО \"ОЗТМиТС\")",{"$f":"VLOOKUP(D82,'Периметр ГК_4_кв_ 2016'!D:F,3,0)","v":"Да"}]
[82,"ОИК",7706751361,2010910000,"ООО \"Объединенная инновационная корпорация\"",{"$f":"VLOOKUP(D83,'Периметр ГК_4_кв_ 2016'!D:F,3,0)","v":"Да"}]
[83,"ОК РСК",7706704146,2010860000,"АО \"Объединенная компания “Разделительно-сублиматный комплекс”",{"$f":"VLOOKUP(D84,'Периметр ГК_4_кв_ 2016'!D:F,3,0)","v":"Да"}]
[84,"ОКБМ",5259077666,2010720000,"АО \"Опытное Конструкторское Бюро Машиностроения имени И.И. Африкантова\"",{"$f":"VLOOKUP(D85,'Периметр ГК_4_кв_ 2016'!D:F,3,0)","v":"Да"}]
[85,"ОТЭК",7706757331,2010920000,"АО «Объединённая теплоэнергетическая компания»",{"$f":"VLOOKUP(D86,'Периметр ГК_4_кв_ 2016'!D:F,3,0)","v":"Да"}]
[86,"ППГХО",7530000048,2010230400,"ПАО \"Приаргунское производственное горно-химическое объединение\"",{"$f":"VLOOKUP(D87,'Периметр ГК_4_кв_ 2016'!D:F,3,0)","v":"Да"}]
[87,"Промышленные инновации",7725524660,2010231200,"АО \"Промышленные инновации\"",{"$f":"VLOOKUP(D88,'Периметр ГК_4_кв_ 2016'!D:F,3,0)","v":"Да"}]
[88,"ПСР",7721699740,2010592000,"АО \"Производственная система \"ПСР\"",{"$f":"VLOOKUP(D89,'Периметр ГК_4_кв_ 2016'!D:F,3,0)","v":"Да"}]
[89,"РАОС Войма Ои","2596476-2",2010931000,"RAOS Voima Oy",{"$f":"VLOOKUP(D90,'Периметр ГК_4_кв_ 2016'!D:F,3,0)","v":"Да"}]
[90,"РАСУ",7734358970,2010990000,"АО \"Русатом Автоматизированные Системы Управления\"",{"$f":"VLOOKUP(D91,'Периметр ГК_4_кв_ 2016'!D:F,3,0)","v":"Да"}]
[91,"РБМ",7713190205,2010020600,"АО \"РУСБУРМАШ\"",{"$f":"VLOOKUP(D92,'Периметр ГК_4_кв_ 2016'!D:F,3,0)","v":"Да"}]
[92,"Росэнергоатом",7721632827,2010590000,"АО \"Российский концерн по производству электрической и тепловой энергии на атомных станциях \"Росэнергоатом\"",{"$f":"VLOOKUP(D93,'Периметр ГК_4_кв_ 2016'!D:F,3,0)","v":"Да"}]
[93,"Русатом Сервис",7705966318,2010592200,"АО \"Русатом Сервис\"",{"$f":"VLOOKUP(D94,'Периметр ГК_4_кв_ 2016'!D:F,3,0)","v":"Да"}]
[94,"РЭМКО",5036076690,2010230911,"АО \"Русская ЭнергоМашиностроительная Компания\"",{"$f":"VLOOKUP(D95,'Периметр ГК_4_кв_ 2016'!D:F,3,0)","v":"Да"}]
[95,"Сайпрус","12239379I",2010230916,"ATOMENERGOMASH CYPRUS LIMITED ЧК \"Атомэнергомаш Сайпрус Лимитед\"",{"$f":"VLOOKUP(D96,'Периметр ГК_4_кв_ 2016'!D:F,3,0)","v":"Да"}]
[96,"СвердНИИхиммаш",6664003909,2010200000,"АО \"Свердловский научно-исследовательский институт химического машиностроения (\"СвердНИИхиммаш\")\"",{"$f":"VLOOKUP(D97,'Периметр ГК_4_кв_ 2016'!D:F,3,0)","v":"Да"}]
[97,"СГК",5254082550,2010150300,"АО \"Саровская Генерирующая Компания\"",{"$f":"VLOOKUP(D98,'Периметр ГК_4_кв_ 2016'!D:F,3,0)","v":"Да"}]
[98,"СЕТЕС",7024037370,2010550001,"АО \"Северские теплосистемы\"",{"$f":"VLOOKUP(D99,'Периметр ГК_4_кв_ 2016'!D:F,3,0)","v":"Да"}]
[99,"СНИИП",7734592593,2010660000,"АО \"Специализированный научно-исследовательский институт приборостроения\" (АО \"СНИИП\")",{"$f":"VLOOKUP(D100,'Периметр ГК_4_кв_ 2016'!D:F,3,0)","v":"Да"}]
[100,"СПб ИЗОТОП",7840393624,2010750000,"АО \"Санкт-Петербургский \"ИЗОТОП\"",{"$f":"VLOOKUP(D101,'Периметр ГК_4_кв_ 2016'!D:F,3,0)","v":"Да"}]
[101,"СТСК",5254082630,2010150200,"АО \"Саровская Теплосетевая Компания\"",{"$f":"VLOOKUP(D102,'Периметр ГК_4_кв_ 2016'!D:F,3,0)","v":"Да"}]
[102,"СХК",7024029499,2010780000,"АО \"Сибирский химический комбинат\"",{"$f":"VLOOKUP(D103,'Периметр ГК_4_кв_ 2016'!D:F,3,0)","v":"Да"}]
[103,"ТВЭЛ",7706123550,2010230000,"АО \"ТВЭЛ\"",{"$f":"VLOOKUP(D104,'Периметр ГК_4_кв_ 2016'!D:F,3,0)","v":"Да"}]
[104,"ТВЭЛ-Строй",7726523814,2010231100,"АО \"ТВЭЛ-СТРОИ\"",{"$f":"VLOOKUP(D105,'Периметр ГК_4_кв_ 2016'!D:F,3,0)","v":"Да"}]
[105,"ТЕНЕКС-Сервис",7706604582,2010240100,"АО \"ТЕНЕКС-Сервис\"",{"$f":"VLOOKUP(D106,'Периметр ГК_4_кв_ 2016'!D:F,3,0)","v":"Да"}]
[106,"Тепловодоканал",1837004370,2010230306,"ООО \"Тепловодоканал\"",{"$f":"VLOOKUP(D107,'Периметр ГК_4_кв_ 2016'!D:F,3,0)","v":"Да"}]
[107,"Техснабэкспорт",7706039242,2010240000,"АО \"Техснабэкспорт\"",{"$f":"VLOOKUP(D108,'Периметр ГК_4_кв_ 2016'!D:F,3,0)","v":"Да"}]
[108,"Точмаш",3329051460,2010440000,"АО \"Владимирское производственное объединение \"Точмаш\"",{"$f":"VLOOKUP(D109,'Периметр ГК_4_кв_ 2016'!D:F,3,0)","v":"Да"}]
[109,"Точмаш-авто",3329064483,2010440300,"ООО \"Точмаш-авто\"",{"$f":"VLOOKUP(D110,'Периметр ГК_4_кв_ 2016'!D:F,3,0)","v":"Да"}]
[110,"ТЦ ТЕНЕКС",7706609414,2010240200,"ЗАО \"Технологический центр \"ТЕНЕКС\"",{"$f":"VLOOKUP(D111,'Периметр ГК_4_кв_ 2016'!D:F,3,0)","v":"Да"}]
[111,"УДК Горное",7536087140,2010020200,"АО \"Уранодобывающая компания \"Горное\"",{"$f":"VLOOKUP(D112,'Периметр ГК_4_кв_ 2016'!D:F,3,0)","v":"Да"}]
[112,"УЗГЦ",6629020796,2010241800,"ООО \"Уральский завод газовых центрифуг\"",{"$f":"VLOOKUP(D113,'Периметр ГК_4_кв_ 2016'!D:F,3,0)","v":"Да"}]
[113,"Уралприбор",6629020789,2010242000,"ООО \"Новоуральский приборный завод\"",{"$f":"VLOOKUP(D114,'Периметр ГК_4_кв_ 2016'!D:F,3,0)","v":"Да"}]
[114,"УУГ",7706641432,2010020100,"АО \"Ураниум Уан Груп\"",{"$f":"VLOOKUP(D115,'Периметр ГК_4_кв_ 2016'!D:F,3,0)","v":"Да"}]
[115,"УЭХК",6629022962,2010800000,"АО \"Уральский электрохимический комбинат\"",{"$f":"VLOOKUP(D116,'Периметр ГК_4_кв_ 2016'!D:F,3,0)","v":"Да"}]
[116,"Хиагда","0302001219",2010230700,"АО \"Хиагда\"",{"$f":"VLOOKUP(D117,'Периметр ГК_4_кв_ 2016'!D:F,3,0)","v":"Да"}]
[117,"ЦВТД",7726750415,2010911000,"ООО «Центр высокотехнологичной диагностики»",{"$f":"VLOOKUP(D118,'Периметр ГК_4_кв_ 2016'!D:F,3,0)","v":"Да"}]
[118,"ЦентрАтом",7706723156,2010870000,"АО \"Центр управления непрофильными активами атомной отрасли\"",{"$f":"VLOOKUP(D119,'Периметр ГК_4_кв_ 2016'!D:F,3,0)","v":"Да"}]
[119,"ЦКБМ",7806394392,2010820000,"АО \"Центральное конструкторское бюро машиностроения\"",{"$f":"VLOOKUP(D120,'Периметр ГК_4_кв_ 2016'!D:F,3,0)","v":"Да"}]
[120,"ЦНИИТМАШ",7723564851,2010140000,"АО \"Научно-производственное объединение \"Центральный научно-исследовательский институт технологии машиностроения\"",{"$f":"VLOOKUP(D121,'Периметр ГК_4_кв_ 2016'!D:F,3,0)","v":"Да"}]
[121,"ЦОиС ОЛенКур",5024076079,2010290000,"АО \"Центр отдыха и спорта \"ОЛенКур \"",{"$f":"VLOOKUP(D122,'Периметр ГК_4_кв_ 2016'!D:F,3,0)","v":"Да"}]
[122,"ЧМЗ",1829008035,2010230300,"АО \"Чепецкий механический завод\"",{"$f":"VLOOKUP(D123,'Периметр ГК_4_кв_ 2016'!D:F,3,0)","v":"Да"}]
[123,"ЭГМК",1402047530,2010020400,"АО \"Эльконский горно-металлургический комбинат\"",{"$f":"VLOOKUP(D124,'Периметр ГК_4_кв_ 2016'!D:F,3,0)","v":"Да"}]
[124,"Экоальянс",6629026420,2010800800,"ООО \"Экоальянс\"",{"$f":"VLOOKUP(D125,'Периметр ГК_4_кв_ 2016'!D:F,3,0)","v":"Да"}]
[125,"ЭЛЕМАШ-ТЭК",5053055010,2010230110,"ООО \"ЭЛЕМАШ-ТЭК\"",{"$f":"VLOOKUP(D126,'Периметр ГК_4_кв_ 2016'!D:F,3,0)","v":"Да"}]
[126,"Энергомашспецсталь",2106005156,2010230943,"ПАО \"Энергомашспецсталь\"",{"$f":"VLOOKUP(D127,'Периметр ГК_4_кв_ 2016'!D:F,3,0)","v":"Да"}]
[127,"Энергоспецмонтаж",7718083574,2010270000,"ПАО \"Энергоспецмонтаж\"",{"$f":"VLOOKUP(D128,'Периметр ГК_4_кв_ 2016'!D:F,3,0)","v":"Да"}]
[128,"ЭНИЦ",5035037441,2010830000,"АО \"Электрогорский научно-исследовательский центр по безопасности атомных электростанций\"",{"$f":"VLOOKUP(D129,'Периметр ГК_4_кв_ 2016'!D:F,3,0)","v":"Да"}]
[129,"ЭХЗ",2453013555,2010840000,"АО \"Производственное объединение \"Электрохимический завод\"",{"$f":"VLOOKUP(D130,'Периметр ГК_4_кв_ 2016'!D:F,3,0)","v":"Да"}]
[130,"ЯМТ-Снежинск",7459003496,2010912000,"ООО \"Ядерные медицинские технологии-Снежинск\"",{"$f":"VLOOKUP(D131,'Периметр ГК_4_кв_ 2016'!D:F,3,0)","v":"Да"}]
[131,"Uranium One Trading AG","CHE-233.935.921 ",2010021506,"Uranium One Trading AG","Да"]
[132,"ВетроОГК",5036118291,2010230956,"АО \"Ветроэнергетическая отдельная генерирующая компания\"","Да"]
[133,"Консист-ОС",7711077412,2010590317,"АО \"Консист-Оператор-Связи\"","Да"]
[134,"ЛЗ Петрозаводскмаш",1001201343,2010242601,"ООО Литейный завод  \"Петрозаводскмаш»","Да"]
[135,"Русреактор",7726367354,2010991000,"АО \"Русатом растворные реакторы\"","Да"]
[136,"РХК",7726396281,2011000000,"АО \"Русатом Хэлскеа\"","Да"]
[137,"СМБ",7706433961,2010992000,"Общество с ограниченной ответственностью \"Системы Мониторинга \"Беркут\"","Да"]
[138,"УК Нижние котлы",7726390113,2010411000,"Акционерное общество \"Управляющая компания индустриального парка \"Нижние котлы\"","Да"]
[139,"АЭМ-активы",7706785593,6090010000,"ООО «АЭМ-активы»","Ликвидирован"]
[140,"С-плюс",7720325407,2010630100,"Общество с ограниченной ответственностью \"С- плюс\"","Да"]
[141,"ЦУФС",7715470328,6080000000,"АО \"Центр управления федеральной собственностью\"",{"$f":"VLOOKUP(D142,'Периметр ГК_4_кв_ 2016'!D:F,3,0)","v":"Да"}]
[142,"НоваВинд",9701087623,null,"АО \"НоваВинд\"","Да"]
[143,"NUKEM","204/115/21479",2010450107,"NUKEM Technologies GmbH",{"$f":"VLOOKUP(D144,'Периметр ГК_4_кв_ 2016'!D:F,3,0)","v":"Да"}]
[144,"Nukem Technologies","204/115/21517",2010450112,"Nukem Technologies Engineering Services GmbH",{"$f":"VLOOKUP(D145,'Периметр ГК_4_кв_ 2016'!D:F,3,0)","v":"Да"}]
[145,"АСЭ",7701186067,2010450100,"АО \"Атомстройэкспорт\"",{"$f":"VLOOKUP(D146,'Периметр ГК_4_кв_ 2016'!D:F,3,0)","v":"Да"}]
[146,"АСЭ-Инжиниринг",7705856636,2010450103,"ООО \"АСЭ-Инжиниринг\"",{"$f":"VLOOKUP(D147,'Периметр ГК_4_кв_ 2016'!D:F,3,0)","v":"Да"}]
[147,"Атомбезопасность",5042009244,3040000000,"ФГУП \"Координационный Центр по созданию систем безопасности и управления \"Атомбезопасность\"",{"$f":"VLOOKUP(D148,'Периметр ГК_4_кв_ 2016'!D:F,3,0)","v":"Да"}]
[148,"Атомзащитаинформ",7706031557,3070000000,"ФГУП \"Научно-технический и сертификационный центр по комплексной защите информации\"",{"$f":"VLOOKUP(D149,'Периметр ГК_4_кв_ 2016'!D:F,3,0)","v":"Да"}]
[149,"Атомкомплект",7706738770,6090000000,"АО \"Атомкомплект\"",{"$f":"VLOOKUP(D150,'Периметр ГК_4_кв_ 2016'!D:F,3,0)","v":"Да"}]
[150,"Атом-охрана",7706289940,6020000000,"ФГУП \"Ведомственная охрана Росатома\"",{"$f":"VLOOKUP(D151,'Периметр ГК_4_кв_ 2016'!D:F,3,0)","v":"Да"}]
[151,"Атомфлот",5192110268,3100000000,"ФГУП атомного флота (ФГУП \"Атомфлот\")",{"$f":"VLOOKUP(D152,'Периметр ГК_4_кв_ 2016'!D:F,3,0)","v":"Да"}]
[152,"АтомКапитал",7706792008,2010110000,"АО \"АтомКапитал\"",{"$f":"VLOOKUP(D153,'Периметр ГК_4_кв_ 2016'!D:F,3,0)","v":"Да"}]
[153,"АТЦ СПб",7802145892,3010000000,"ФГУП \"Аварийно-технический центр Минатома России\" (г. Санкт-Петербург)",{"$f":"VLOOKUP(D154,'Периметр ГК_4_кв_ 2016'!D:F,3,0)","v":"Да"}]
[154,"АЭП",7701796320,2010360000,"АО  \"Атомэнергопроект\"",{"$f":"VLOOKUP(D155,'Периметр ГК_4_кв_ 2016'!D:F,3,0)","v":"Да"}]
[155,"Базальт",6432003698,1010000000,"ФГУП \"Базальт\"",{"$f":"VLOOKUP(D156,'Периметр ГК_4_кв_ 2016'!D:F,3,0)","v":"Да"}]
[156,"ВО Изотоп",7704674312,2010380000,"ОАО \"Всерегиональное объединение \"Изотоп\"",{"$f":"VLOOKUP(D157,'Периметр ГК_4_кв_ 2016'!D:F,3,0)","v":"Да"}]
[157,"ВНИИА",7707074137,1020000000,"ФГУП \"Всероссийский научно-исследовательский институт автоматики им. Н.Л. Духова\"",{"$f":"VLOOKUP(D158,'Периметр ГК_4_кв_ 2016'!D:F,3,0)","v":"Да"}]
[158,"ВНИИТФ",7423000572,1110000000,"ФГУП \"Российский Федеральный Ядерный Центр - Всероссийский научно-исследовательский институт технической физики имени академика Е.И. Забабахина\"",{"$f":"VLOOKUP(D159,'Периметр ГК_4_кв_ 2016'!D:F,3,0)","v":"Да"}]
[159,"ВНИИЭФ",5254001230,1150000000,"ФГУП \"Российский федеральный ядерный центр–Всероссийский научно- исследовательский институт экспериментальной физики\" (ФГУП \"РФЯЦ-ВНИИЭФ\")",{"$f":"VLOOKUP(D160,'Периметр ГК_4_кв_ 2016'!D:F,3,0)","v":"Да"}]
[160,"ВЭИ",7722026032,1170000000,"ФГУП \"Всероссийский электротехнический институт В.И. Ленина\"",{"$f":"VLOOKUP(D161,'Периметр ГК_4_кв_ 2016'!D:F,3,0)","v":"Да"}]
[161,"Госкорпорация \"Росатом\"",7706413348,"0000000002","Государственная корпорация по атомной энергии \"Росатом\"",{"$f":"VLOOKUP(D162,'Периметр ГК_4_кв_ 2016'!D:F,3,0)","v":"Да"}]
[162,"ГХК",2452000401,3020000000,"ФГУП \"Горно-химический комбинат\"",{"$f":"VLOOKUP(D163,'Периметр ГК_4_кв_ 2016'!D:F,3,0)","v":"Да"}]
[163,"Маяк",7422000795,1070000000,"ФГУП \"Производственное объединение \"Маяк\"",{"$f":"VLOOKUP(D164,'Периметр ГК_4_кв_ 2016'!D:F,3,0)","v":"Да"}]
[164,"НИАЭП-Сервис",6916015670,2010620200,"ООО \"НИАЭП-Сервис\"",{"$f":"VLOOKUP(D165,'Периметр ГК_4_кв_ 2016'!D:F,3,0)","v":"Да"}]
[165,"ИК АСЭ",5260214123,2010620000,"АО Инжиниринговая компания \"АСЭ\"",{"$f":"VLOOKUP(D166,'Периметр ГК_4_кв_ 2016'!D:F,3,0)","v":"Да"}]
[166,"НИИИС",5261000011,1130000000,"ФГУП федеральный научно-производственный центр \"Научно-исследовательский институт измерительных систем им. Ю.Е. Седакова\"",{"$f":"VLOOKUP(D167,'Периметр ГК_4_кв_ 2016'!D:F,3,0)","v":"Да"}]
[167,"НИИП",5027241394,4070000000,"АО \"Научно-исследовательский институт приборов\"",{"$f":"VLOOKUP(D168,'Периметр ГК_4_кв_ 2016'!D:F,3,0)","v":"Да"}]
[168,"НИИЭФА",7817331468,4080000000,"АО \"Научно-исследовательский институт электрофизической аппаратуры им. Д.В. Ефремова\"",{"$f":"VLOOKUP(D169,'Периметр ГК_4_кв_ 2016'!D:F,3,0)","v":"Да"}]
[169,"НИТИ",4714000067,4090000000,"ФГУП \"Научно-исследовательский технологический институт имени А.П. Александрова\"",{"$f":"VLOOKUP(D170,'Периметр ГК_4_кв_ 2016'!D:F,3,0)","v":"Да"}]
[170,"НИФХИ",7709944065,4140000000,"АО \"Научно-исследовательский физико-химический институт им. Л.Я. Карпова\" (НИФХИ)",{"$f":"VLOOKUP(D171,'Периметр ГК_4_кв_ 2016'!D:F,3,0)","v":"Да"}]
[171,"НПО Луч",5036005308,4060000000,"ФГУП \"Научно-исследовательский институт Научно-производственное объединение \"Луч\"",{"$f":"VLOOKUP(D172,'Периметр ГК_4_кв_ 2016'!D:F,3,0)","v":"Да"}]
[172,"НПО РИ",7802846922,4010000000,"АО \"Радиевый институт им. В.Г. Хлопина\"",{"$f":"VLOOKUP(D173,'Периметр ГК_4_кв_ 2016'!D:F,3,0)","v":"Да"}]
[173,"НО РАО",5838009089,4110000000,"ФГУП \"Национальный оператор по обращению с радиоактивными отходами\"",{"$f":"VLOOKUP(D174,'Периметр ГК_4_кв_ 2016'!D:F,3,0)","v":"Да"}]
[174,"ОзВЭИ",7722024973,1180000000,"ФГУП \"Опытный завод Всероссийского электротехнического института В.И. Ленина\"",{"$f":"VLOOKUP(D175,'Периметр ГК_4_кв_ 2016'!D:F,3,0)","v":"Да"}]
[175,"ПО Север",5410101900,1080000000,"ФГУП Производственное объединение \"Север\"",{"$f":"VLOOKUP(D176,'Периметр ГК_4_кв_ 2016'!D:F,3,0)","v":"Да"}]
[176,"ПСЗ",7405000428,1100000000,"ФГУП \"Приборостроительный завод\"",{"$f":"VLOOKUP(D177,'Периметр ГК_4_кв_ 2016'!D:F,3,0)","v":"Да"}]
[177,"РАДОН",7704009700,3110000000,"ФГУП \"РАДОН\"",{"$f":"VLOOKUP(D178,'Периметр ГК_4_кв_ 2016'!D:F,3,0)","v":"Да"}]
[178,"РосРАО",4714004270,3260000000,"ФГУП \"Предприятие по обращению с радиоактивными отходами \"РосРАО\"",{"$f":"VLOOKUP(D179,'Периметр ГК_4_кв_ 2016'!D:F,3,0)","v":"Да"}]
[179,"РСП",7726667090,4180000000,"АО \"Русский сверхпроводник \"",{"$f":"VLOOKUP(D180,'Периметр ГК_4_кв_ 2016'!D:F,3,0)","v":"Да"}]
[180,"СКЦ",7706187089,3080000000,"ФГУП \"Ситуационно-Кризисный Центр Федерального агентства по атомной энергии\"",{"$f":"VLOOKUP(D181,'Периметр ГК_4_кв_ 2016'!D:F,3,0)","v":"Да"}]
[181,"Старт",5838000953,1090000000,"ФГУП \"ФНЦП Производственное объединение \"Старт\" имени М.В. Проценко\"",{"$f":"VLOOKUP(D182,'Периметр ГК_4_кв_ 2016'!D:F,3,0)","v":"Да"}]
[182,"Технопарк-Технология",5216017711,4150000000,"АО \"Технопарк-Технология\"",{"$f":"VLOOKUP(D183,'Периметр ГК_4_кв_ 2016'!D:F,3,0)","v":"Да"}]
[183,"ТРИНИТИ",7751002460,4030000000,"АО \"Государственный научный центр Российской Федерации Троицкий институт инновационных и термоядерных исследований\"",{"$f":"VLOOKUP(D184,'Периметр ГК_4_кв_ 2016'!D:F,3,0)","v":"Да"}]
[184,"Трест РСЭМ",6916013425,2010620400,"ООО \"Трест Росспецэнергомонтаж\"",{"$f":"VLOOKUP(D185,'Периметр ГК_4_кв_ 2016'!D:F,3,0)","v":"Да"}]
[185,"УАЗ",7706804447,6010000000,"АО \"Управление административными зданиями\"",{"$f":"VLOOKUP(D186,'Периметр ГК_4_кв_ 2016'!D:F,3,0)","v":"Да"}]
[186,"УЭМЗ",6608004641,1120000000,"ФГУП \"Уральский электромеханический завод\"",{"$f":"VLOOKUP(D187,'Периметр ГК_4_кв_ 2016'!D:F,3,0)","v":"Да"}]
[187,"ФЦЯРБ",7706801975,3090000000,"АО \"Федеральный центр ядерной и радиационной безопасности\"",{"$f":"VLOOKUP(D188,'Периметр ГК_4_кв_ 2016'!D:F,3,0)","v":"Да"}]
[188,"ФЭИ",4025442583,4040000000,"АО \"Государственный научный центр Российской Федерации - Физико-энергетический институт имени А.И. Лейпунского\"",{"$f":"VLOOKUP(D189,'Периметр ГК_4_кв_ 2016'!D:F,3,0)","v":"Да"}]
[189,"ЦентрАтомКонсалт",7706638824,2010040000,"ОАО \"ЦентрАтомКонсалт\"","Ликвидирован в апреле 2016г"]
[190,"Эксп №2",2901255495,1140000000,"АО \"Экспедиция № 2\"",{"$f":"VLOOKUP(D191,'Периметр ГК_4_кв_ 2016'!D:F,3,0)","v":"Да"}]
[191,"Элерон",7724313681,4100000000,"АО \"Специальное научно-производственное объединение \"Элерон\"",{"$f":"VLOOKUP(D192,'Периметр ГК_4_кв_ 2016'!D:F,3,0)","v":"Да"}]
[192,"ЭХП",6630002336,1050000000,"ФГУП \"Комбинат \"Электрохимприбор\"",{"$f":"VLOOKUP(D193,'Периметр ГК_4_кв_ 2016'!D:F,3,0)","v":"Да"}]
[193,"РАОС",7709735135,2010230912,"Общество с ограниченной ответственностью \"Русатом Оверсиз\"","да"]
[194,"НПО Центротех",6629020796,2010241800,{"$f":"[5]Список_компаний!$E$179","v":"ООО \"Научно-производсвенное объединение\"Центротех\"\""},"Да"]

{"sheet":"Лист6","index":7,"n_rows":200,"n_cols":39,"rows_kept":200,"cut":false,"hidden":true,"merged":[]}
["N",null,"Организация","Метод консолидации","Комментарий","Версия состава собственников","Индекс контроля в периоде","Дата вхождения в периметр","Валюта показателей","Чистые активы на начало периода","Чистые активы на конец периода","Чистые активы оборот","Полная доля владения на начало периода","Полная доля владения на конец периода","Полная доля владения оборот","Денежный эквивалентв ч а на начало периода","Денежный эквивалентв ч а на конец периода","Денежный эквивалентв ч а оборот","Гудвилл на начало периода","Гудвилл на конец периода","Гудвилл оборот","Инвестиции на начало периода","Инвестиции на конец периода","Инвестиции оборот","Процент привилегированных акций на начало периода","Процент привилегированных акций на конец периода","Процент привилегированных акций оборот","Период на момент приобретения","Период на момент выбытия","Сценарий на момент приобретения","Сценарий на момент выбытия","Предыдущий метод консолидации","Дата потери контроля","Валюта организации","Признак2","Группа трансформации","Тип контроля","Контролируемая доля владения","Доля прочих владельцев"]
[1,2010230922,"ARAKO","Полная",null,"2010230922 ARAKO",0,"01.01.0001 0:00:00",null,0,0,0,94.427099999999996,94.449100000000001,0,0,0,0,0,0,0,0,0,0,0,0,0,null,null,null,null,"Полная","01.01.0001 0:00:00",null,null,null,null,76.459999999999994,0]
[2,2010230948,"EMSS Holdings","Долевое участие",null,"2010230948 EMSS Holdings",0,"01.01.0001 0:00:00",null,0,0,0,47.213700000000003,47.224699999999999,1.0999999999999999E-2,0,0,0,0,0,0,0,0,0,0,0,0,null,null,null,null,"Долевое участие","01.01.0001 0:00:00",null,null,null,null,50,0]
[3,2010820100,"Ganz","Полная",null,"2010820100 Ganz",0,"01.01.0001 0:00:00",null,0,0,0,94.427099999999996,94.449100000000001,2.1999999999999999E-2,0,0,0,0,0,0,0,0,0,0,0,0,null,null,null,null,"Полная","01.01.0001 0:00:00",null,null,null,null,100,0]
[4,2010241200,"INTERNEXCO","Полная",null,"2010241200 INTERNEXCO",0,"01.01.0001 0:00:00",null,0,0,0,94.427099999999996,0,0,0,0,0,0,0,0,0,0,0,0,0,0,null,null,null,null,"Полная","01.01.0001 0:00:00",null,null,null,null,100,0]
[5,2010241000,"INTERNEXCO GmbH (Швейцария)","Полная",null,"2010241000 INTERNEXCO GmbH (Швейцария)",0,"01.01.0001 0:00:00",null,0,0,0,94.427099999999996,94.449100000000001,2.1999999999999999E-2,0,0,0,0,0,0,0,0,0,0,0,0,null,null,null,null,"Полная","01.01.0001 0:00:00",null,null,null,null,100,0]
[6,2010240310,"KWINDER HOLDINGS LIMITED","Полная",null,"2010240310 KWINDER HOLDINGS LIMITED",0,"01.01.0001 0:00:00",null,0,0,0,94.427099999999996,94.449100000000001,2.1999999999999999E-2,0,0,0,0,0,0,0,0,0,0,0,0,null,null,null,null,"Полная","01.01.0001 0:00:00",null,null,null,null,100,0]
[7,2010021600,"Mantra Resources Ltd.","Полная",null,"2010021600 Mantra Resources Ltd.",0,"01.01.0001 0:00:00",null,0,0,0,94.487399999999994,94.510499999999993,0,0,0,0,0,0,0,0,0,0,0,0,0,null,null,null,null,"Полная","01.01.0001 0:00:00",null,null,null,null,86.09,0]
[8,2010450107,"NUKEM","Полная",null,"2010450107 NUKEM",0,"01.01.0001 0:00:00",null,0,0,0,100,100,0,0,0,0,0,0,0,0,0,0,0,0,0,null,null,null,null,"Полная","01.01.0001 0:00:00",null,null,null,null,100,0]
[9,2010450112,"Nukem Technologies","Полная",null,"2010450112 Nukem Technologies",0,"01.01.0001 0:00:00",null,0,0,0,100,100,0,0,0,0,0,0,0,0,0,0,0,0,0,null,null,null,null,"Полная","01.01.0001 0:00:00",null,null,null,null,100,0]
[10,2010932000,"RAOS Project","Полная",null,"2010932000 RAOS Project",0,"01.01.0001 0:00:00",null,0,0,0,96.739000000000004,96.684100000000001,-5.4899999999999997E-2,0,0,0,0,0,0,0,0,0,0,0,0,null,null,null,null,"Полная","01.01.0001 0:00:00",null,null,null,null,100,0]
[11,2010931000,"RAOS Voima","Полная",null,"2010931000 RAOS Voima",0,"01.01.0001 0:00:00",null,0,0,0,96.739000000000004,96.684100000000001,-5.4899999999999997E-2,0,0,0,0,0,0,0,0,0,0,0,0,null,null,null,null,"Полная","01.01.0001 0:00:00",null,null,null,null,100,0]
[12,2010930000,"REIN","Полная",null,"2010930000 REIN",0,"01.01.0001 0:00:00",null,0,0,0,96.739000000000004,96.684100000000001,-5.4899999999999997E-2,0,0,0,0,0,0,0,0,0,0,0,0,null,null,null,null,"Полная","01.01.0001 0:00:00",null,null,null,null,100,0]
[13,2010940000,"ROSATOM FINANCE","Полная",null,"2010940000 ROSATOM FINANCE",0,"01.01.0001 0:00:00",null,0,0,0,94.427099999999996,94.449100000000001,2.1999999999999999E-2,0,0,0,0,0,0,0,0,0,0,0,0,null,null,null,null,"Полная","01.01.0001 0:00:00",null,null,null,null,100,0]
[14,2010242500,"TENAM","Полная",null,"2010242500 TENAM",0,"01.01.0001 0:00:00",null,0,0,0,94.427099999999996,94.449100000000001,2.1999999999999999E-2,0,0,0,0,0,0,0,0,0,0,0,0,null,null,null,null,"Полная","01.01.0001 0:00:00",null,null,null,null,100,0]
[15,2010242400,"TRADEWILL LIMITED","Полная",null,"2010242400 TRADEWILL LIMITED",0,"01.01.0001 0:00:00",null,0,0,0,94.427099999999996,94.449100000000001,2.1999999999999999E-2,0,0,0,0,0,0,0,0,0,0,0,0,null,null,null,null,"Полная","01.01.0001 0:00:00",null,null,null,null,100,0]
[16,2010230952,"UMP Trading","Долевое участие",null,"2010230952 UMP Trading",0,"01.01.0001 0:00:00",null,0,0,0,47.213700000000003,47.224699999999999,1.0999999999999999E-2,0,0,0,0,0,0,0,0,0,0,0,0,null,null,null,null,"Долевое участие","01.01.0001 0:00:00",null,null,null,null,100,0]
[17,2010021500,"Uranium","Полная",null,"2010021500 Uranium",0,"01.01.0001 0:00:00",null,0,0,0,94.441699999999997,94.463999999999999,2.23E-2,0,0,0,0,0,0,0,0,0,0,0,0,null,null,null,null,"Полная","01.01.0001 0:00:00",null,null,null,null,100,0]
[18,2010021200,"Uranium One Holding N.V.","Полная",null,"2010021200 Uranium One Holding N.V.",0,"01.01.0001 0:00:00",null,0,0,0,94.441699999999997,94.463999999999999,2.23E-2,0,0,0,0,0,0,0,0,0,0,0,0,null,null,null,null,"Полная","01.01.0001 0:00:00",null,null,null,null,100,0]
[19,2010021506,"Uranium One Trading AG","Полная",null,"2010021506 Uranium One Trading AG",0,"01.01.0001 0:00:00",null,0,0,0,0,94.463999999999999,94.463999999999999,0,0,0,0,0,0,0,0,0,0,0,0,null,null,null,null,null,"01.01.0001 0:00:00",null,null,null,null,100,0]
[20,2010450108,"Аккую Нуклеар","Полная",null,"2010450108 Аккую Нуклеар",0,"01.01.0001 0:00:00",null,0,0,0,95.632800000000003,95.626599999999996,-6.1999999999999998E-3,0,0,0,0,0,0,0,0,0,0,0,0,null,null,null,null,"Полная","01.01.0001 0:00:00",null,null,null,null,99.18,0]
[21,2010242201,"АЛАБУГА-ВОЛОКНО","Полная",null,"2010242201 АЛАБУГА-ВОЛОКНО",0,"01.01.0001 0:00:00",null,0,0,0,96.702200000000005,96.715199999999996,1.2999999999999999E-2,0,0,0,0,0,0,0,0,0,0,0,0,null,null,null,null,"Полная","01.01.0001 0:00:00",null,null,null,null,100,0]
[22,2010240800,"Аргон","Полная",null,"2010240800 Аргон",0,"01.01.0001 0:00:00",null,0,0,0,96.692499999999995,96.715199999999996,2.2700000000000001E-2,0,0,0,0,0,0,0,0,0,0,0,0,null,null,null,null,"Полная","01.01.0001 0:00:00",null,null,null,null,100,0]
[23,2010020000,"АРМЗ","Полная",null,"2010020000 АРМЗ",0,"01.01.0001 0:00:00",null,0,0,0,94.494799999999998,94.518000000000001,2.3199999999999998E-2,0,0,0,0,0,0,0,0,0,0,0,0,null,null,null,null,"Полная","01.01.0001 0:00:00",null,null,null,null,100,0]
[24,2010020602,"АРМЗ-Сервис","Полная",null,"2010020602 АРМЗ-Сервис",0,"01.01.0001 0:00:00",null,0,0,0,93.438000000000002,93.477999999999994,0.04,0,0,0,0,0,0,0,0,0,0,0,0,null,null,null,null,"Полная","01.01.0001 0:00:00",null,null,null,null,100,0]
[25,2010450100,"АСЭ","Полная",null,"2010450100 АСЭ",0,"01.01.0001 0:00:00",null,0,0,0,100,100,0,0,0,0,0,0,0,0,0,0,0,0,0,null,null,null,null,"Полная","01.01.0001 0:00:00",null,null,null,null,100,0]
[26,2010450103,"АСЭ-Инжиниринг","Не консолидируется",null,"2010450103 АСЭ-Инжиниринг",0,"01.01.0001 0:00:00",null,0,0,0,100,0,-100,0,0,0,0,0,0,0,0,0,0,0,0,null,null,null,null,"Полная","01.01.0001 0:00:00",null,null,null,null,0,0]
[27,2010010000,"АТА","Полная",null,"2010010000 АТА",0,"01.01.0001 0:00:00",null,0,0,0,94.427099999999996,94.449100000000001,2.1999999999999999E-2,0,0,0,0,0,0,0,0,0,0,0,0,null,null,null,null,"Полная","01.01.0001 0:00:00",null,null,null,null,100,0]
[28,2010230915,"АТМ","Долевое участие",null,"2010230915 АТМ",0,"01.01.0001 0:00:00",null,0,0,0,48.157800000000002,48.168999999999997,1.12E-2,0,0,0,0,0,0,0,0,0,0,0,0,null,null,null,null,"Долевое участие","01.01.0001 0:00:00",null,null,null,null,51,0]
[29,6020000000,"Атом-охрана","Полная",null,"6020000000 Атом-охрана",0,"01.01.0001 0:00:00",null,0,0,0,100,100,0,0,0,0,0,0,0,0,0,0,0,0,0,null,null,null,null,"Полная","01.01.0001 0:00:00",null,null,null,null,100,0]
[30,3040000000,"Атомбезопасность","Полная",null,"3040000000 Атомбезопасность",0,"01.01.0001 0:00:00",null,0,0,0,100,100,0,0,0,0,0,0,0,0,0,0,0,0,0,null,null,null,null,"Полная","01.01.0001 0:00:00",null,null,null,null,100,0]
[31,3070000000,"Атомзащитаинформ","Полная",null,"3070000000 Атомзащитаинформ",0,"01.01.0001 0:00:00",null,0,0,0,100,100,0,0,0,0,0,0,0,0,0,0,0,0,0,null,null,null,null,"Полная","01.01.0001 0:00:00",null,null,null,null,100,0]
[32,2010110000,"АтомКапитал","Полная",null,"2010110000 АтомКапитал",0,"01.01.0001 0:00:00",null,0,0,0,100,100,0,0,0,0,0,0,0,0,0,0,0,0,0,null,null,null,null,"Полная","01.01.0001 0:00:00",null,null,null,null,100,0]
[33,6090000000,"Атомкомплект","Полная",null,"6090000000 Атомкомплект",0,"01.01.0001 0:00:00",null,0,0,0,100,100,0,0,0,0,0,0,0,0,0,0,0,0,0,null,null,null,null,"Полная","01.01.0001 0:00:00",null,null,null,null,100,0]
[34,2010933000,"АтомМедТехнолоджи-ДВ","Полная",null,"2010933000 АтомМедТехнолоджи-ДВ",0,"01.01.0001 0:00:00",null,0,0,0,96.274500000000003,94.449700000000007,-1.8248,0,0,0,0,0,0,0,0,0,0,0,0,null,null,null,null,"Полная","01.01.0001 0:00:00",null,null,null,null,100,0]
[35,2010460000,"АТОМПРОЕКТ","Полная",null,"2010460000 АТОМПРОЕКТ",0,"01.01.0001 0:00:00",null,0,0,0,94.427099999999996,100,5.5728999999999997,0,0,0,0,0,0,0,0,0,0,0,0,null,null,null,null,"Полная","01.01.0001 0:00:00",null,null,null,null,100,0]
[36,2010340000,"Атомспецтранс","Полная",null,"2010340000 Атомспецтранс",0,"01.01.0001 0:00:00",null,0,0,0,95.536799999999999,95.554500000000004,1.77E-2,0,0,0,0,0,0,0,0,0,0,0,0,null,null,null,null,"Полная","01.01.0001 0:00:00",null,null,null,null,100,0]
[37,2010591900,"Атомтехэкспорт","Полная",null,"2010591900 Атомтехэкспорт",0,"01.01.0001 0:00:00",null,0,0,0,94.971100000000007,95.126999999999995,0.15590000000000001,0,0,0,0,0,0,0,0,0,0,0,0,null,null,null,null,"Долевое участие","01.01.0001 0:00:00",null,null,null,null,100,0]
[38,2010350000,"Атомтехэнерго","Полная",null,"2010350000 Атомтехэнерго",0,"01.01.0001 0:00:00",null,0,0,0,94.983199999999997,95.142099999999999,0.15890000000000001,0,0,0,0,0,0,0,0,0,0,0,0,null,null,null,null,"Полная","01.01.0001 0:00:00",null,null,null,null,100,0]
[39,3100000000,"Атомфлот","Полная",null,"3100000000 Атомфлот",0,"01.01.0001 0:00:00",null,0,0,0,100,100,0,0,0,0,0,0,0,0,0,0,0,0,0,null,null,null,null,"Полная","01.01.0001 0:00:00",null,null,null,null,100,0]
[40,2010230900,"Атомэнергомаш","Полная",null,"2010230900 Атомэнергомаш",0,"01.01.0001 0:00:00",null,0,0,0,94.427099999999996,94.449100000000001,2.1999999999999999E-2,0,0,0,0,0,0,0,0,0,0,0,0,null,null,null,null,"Полная","01.01.0001 0:00:00",null,null,null,null,100,0]
[41,2010591320,"Атомэнергопромсбыт","Полная",null,"2010591320 Атомэнергопромсбыт",0,"01.01.0001 0:00:00",null,0,0,0,94.427099999999996,94.449100000000001,2.1999999999999999E-2,0,0,0,0,0,0,0,0,0,0,0,0,null,null,null,null,"Полная","01.01.0001 0:00:00",null,null,null,null,100,0]
[42,2010590700,"Атомэнергоремонт","Полная",null,"2010590700 Атомэнергоремонт",0,"01.01.0001 0:00:00",null,0,0,0,94.983199999999997,95.142099999999999,0.15890000000000001,0,0,0,0,0,0,0,0,0,0,0,0,null,null,null,null,"Полная","01.01.0001 0:00:00",null,null,null,null,100,0]
[43,2010591300,"Атомэнергосбыт","Полная",null,"2010591300 Атомэнергосбыт",0,"01.01.0001 0:00:00",null,0,0,0,94.983199999999997,95.142099999999999,0.15890000000000001,0,0,0,0,0,0,0,0,0,0,0,0,null,null,null,null,"Полная","01.01.0001 0:00:00",null,null,null,null,100,0]
[44,3010000000,"АТЦ СПб","Полная",null,"3010000000 АТЦ СПб",0,"01.01.0001 0:00:00",null,0,0,0,100,100,0,0,0,0,0,0,0,0,0,0,0,0,0,null,null,null,null,"Полная","01.01.0001 0:00:00",null,null,null,null,100,0]
[45,6090010000,"АЭМ-активы","Не консолидируется",null,"6090010000 АЭМ-активы",0,"01.01.0001 0:00:00",null,0,0,0,94.427099999999996,0,-94.427099999999996,0,0,0,0,0,0,0,0,0,0,0,0,null,null,null,null,"Полная","01.01.0001 0:00:00",null,null,null,null,0,0]
[46,2010230902,"АЭМ-лизинг","Полная",null,"2010230902 АЭМ-лизинг",0,"01.01.0001 0:00:00",null,0,0,0,94.427099999999996,94.449100000000001,2.1999999999999999E-2,0,0,0,0,0,0,0,0,0,0,0,0,null,null,null,null,"Полная","01.01.0001 0:00:00",null,null,null,null,100,0]
[47,2010230904,"АЭМ-технологии","Полная",null,"2010230904 АЭМ-технологии",0,"01.01.0001 0:00:00",null,0,0,0,94.2941,94.449100000000001,0.155,0,0,0,0,0,0,0,0,0,0,0,0,null,null,null,null,"Полная","01.01.0001 0:00:00",null,null,null,null,100,0]
[48,2010360000,"АЭП","Полная",null,"2010360000 АЭП",0,"01.01.0001 0:00:00",null,0,0,0,100,100,0,0,0,0,0,0,0,0,0,0,0,0,0,null,null,null,null,"Полная","01.01.0001 0:00:00",null,null,null,null,100,0]
[49,2010000000,"АЭПК","Полная",null,"2010000000 АЭПК",0,"01.01.0001 0:00:00",null,0,0,0,94.427099999999996,94.449100000000001,2.1999999999999999E-2,0,0,0,0,0,0,0,0,0,0,0,0,null,null,null,null,"Полная","01.01.0001 0:00:00",null,null,null,null,94.45,0]
[50,2010370000,"АЭХК","Полная",null,"2010370000 АЭХК",0,"01.01.0001 0:00:00",null,0,0,0,94.427099999999996,94.449100000000001,2.1999999999999999E-2,0,0,0,0,0,0,0,0,0,0,0,0,null,null,null,null,"Полная","01.01.0001 0:00:00",null,null,null,null,100,0]
[51,2010592100,"Балтийская АЭС","Полная",null,"2010592100 Балтийская АЭС",0,"01.01.0001 0:00:00",null,0,0,0,94.983199999999997,95.142099999999999,0.15890000000000001,0,0,0,0,0,0,0,0,0,0,0,0,null,null,null,null,"Полная","01.01.0001 0:00:00",null,null,null,null,100,0]
[52,2010050000,"Вента","Полная",null,"2010050000 Вента",0,"01.01.0001 0:00:00",null,0,0,0,70.669200000000004,70.685699999999997,1.6500000000000001E-2,0,0,0,0,0,0,0,0,0,0,0,0,null,null,null,null,"Полная","01.01.0001 0:00:00",null,null,null,null,74.84,0]
[53,2010230956,"ВетроОГК","Полная",null,"2010230956 ВетроОГК",0,"01.01.0001 0:00:00",null,0,0,0,0,94.449100000000001,94.449100000000001,0,0,0,0,0,0,0,0,0,0,0,0,null,null,null,null,null,"01.01.0001 0:00:00",null,null,null,null,100,0]
[54,1020000000,"ВНИИА","Полная",null,"1020000000 ВНИИА",0,"01.01.0001 0:00:00",null,0,0,0,100,100,0,0,0,0,0,0,0,0,0,0,0,0,0,null,null,null,null,"Полная","01.01.0001 0:00:00",null,null,null,null,100,0]
[55,2010390000,"ВНИИАМ (АЭПК)","Полная",null,"2010390000 ВНИИАМ (АЭПК)",0,"01.01.0001 0:00:00",null,0,0,0,95.8292,95.845699999999994,1.6500000000000001E-2,0,0,0,0,0,0,0,0,0,0,0,0,null,null,null,null,"Полная","01.01.0001 0:00:00",null,null,null,null,100,0]
[56,2010591800,"ВНИИАЭС","Полная",null,"2010591800 ВНИИАЭС",0,"01.01.0001 0:00:00",null,0,0,0,94.983199999999997,95.142099999999999,0.15890000000000001,0,0,0,0,0,0,0,0,0,0,0,0,null,null,null,null,"Полная","01.01.0001 0:00:00",null,null,null,null,100,0]
[57,2010400000,"ВНИИНМ","Полная",null,"2010400000 ВНИИНМ",0,"01.01.0001 0:00:00",null,0,0,0,95.076800000000006,95.105099999999993,2.8299999999999999E-2,0,0,0,0,0,0,0,0,0,0,0,0,null,null,null,null,"Полная","01.01.0001 0:00:00",null,null,null,null,100,0]
[58,2010420000,"ВНИИХТ","Полная",null,"2010420000 ВНИИХТ",0,"01.01.0001 0:00:00",null,0,0,0,94.608000000000004,94.629300000000001,2.1299999999999999E-2,0,0,0,0,0,0,0,0,0,0,0,0,null,null,null,null,"Полная","01.01.0001 0:00:00",null,null,null,null,100,0]
[59,1150000000,"ВНИИЭФ","Полная",null,"1150000000 ВНИИЭФ",0,"01.01.0001 0:00:00",null,0,0,0,100,100,0,0,0,0,0,0,0,0,0,0,0,0,0,null,null,null,null,"Полная","01.01.0001 0:00:00",null,null,null,null,100,0]
[60,2010430000,"ВНИПИПромтехнологии","Полная",null,"2010430000 ВНИПИПромтехнологии",0,"01.01.0001 0:00:00",null,0,0,0,94.494799999999998,94.518000000000001,2.3199999999999998E-2,0,0,0,0,0,0,0,0,0,0,0,0,null,null,null,null,"Полная","01.01.0001 0:00:00",null,null,null,null,100,0]
[61,2010380000,"ВО Изотоп","Полная",null,"2010380000 ВО Изотоп",0,"01.01.0001 0:00:00",null,0,0,0,100,100,0,0,0,0,0,0,0,0,0,0,0,0,0,null,null,null,null,"Полная","01.01.0001 0:00:00",null,null,null,null,100,0]
[62,1170000000,"ВЭИ","Не консолидируется",null,"1170000000 ВЭИ",0,"01.01.0001 0:00:00",null,0,0,0,100,0,-100,0,0,0,0,0,0,0,0,0,0,0,0,null,null,null,null,"Полная","01.01.0001 0:00:00",null,null,null,null,0,0]
[63,2010710000,"Гидропресс","Полная",null,"2010710000 Гидропресс",0,"01.01.0001 0:00:00",null,0,0,0,94.433999999999997,94.456000000000003,2.1999999999999999E-2,0,0,0,0,0,0,0,0,0,0,0,0,null,null,null,null,"Полная","01.01.0001 0:00:00",null,null,null,null,100,0]
[64,2010470000,"Гиредмет","Полная",null,"2010470000 Гиредмет",0,"01.01.0001 0:00:00",null,0,0,0,94.9422,94.962199999999996,0.02,0,0,0,0,0,0,0,0,0,0,0,0,null,null,null,null,"Полная","01.01.0001 0:00:00",null,null,null,null,100,0]
[65,"","Госкорпорация Росатом","Полная",null,null,0,"01.01.0001 0:00:00",null,0,0,0,100,100,0,0,0,0,0,0,0,0,0,0,0,0,0,null,null,null,null,"Полная","01.01.0001 0:00:00",null,null,null,null,0,0]
[66,2010900000,"Гринатом","Полная",null,"2010900000 Гринатом",0,"01.01.0001 0:00:00",null,0,0,0,94.427099999999996,94.449100000000001,2.1999999999999999E-2,0,0,0,0,0,0,0,0,0,0,0,0,null,null,null,null,"Полная","01.01.0001 0:00:00",null,null,null,null,100,0]
[67,2010500000,"ГСПИ","Полная",null,"2010500000 ГСПИ",0,"01.01.0001 0:00:00",null,0,0,0,94.427099999999996,94.449100000000001,2.1999999999999999E-2,0,0,0,0,0,0,0,0,0,0,0,0,null,null,null,null,"Полная","01.01.0001 0:00:00",null,null,null,null,100,0]
[68,3020000000,"ГХК","Полная",null,"3020000000 ГХК",0,"01.01.0001 0:00:00",null,0,0,0,100,100,0,0,0,0,0,0,0,0,0,0,0,0,0,null,null,null,null,"Полная","01.01.0001 0:00:00",null,null,null,null,100,0]
[69,2010230800,"Далур","Полная",null,"2010230800 Далур",0,"01.01.0001 0:00:00",null,0,0,0,93.445899999999995,93.468900000000005,2.3E-2,0,0,0,0,0,0,0,0,0,0,0,0,null,null,null,null,"Полная","01.01.0001 0:00:00",null,null,null,null,98.89,0]
[70,2010510000,"Дедал","Полная",null,"2010510000 Дедал",0,"01.01.0001 0:00:00",null,0,0,0,94.427099999999996,94.449100000000001,2.1999999999999999E-2,0,0,0,0,0,0,0,0,0,0,0,0,null,null,null,null,"Полная","01.01.0001 0:00:00",null,null,null,null,100,0]
[71,2010890000,"ДЕЗ","Полная",null,"2010890000 ДЕЗ",0,"01.01.0001 0:00:00",null,0,0,0,94.427099999999996,94.449100000000001,2.1999999999999999E-2,0,0,0,0,0,0,0,0,0,0,0,0,null,null,null,null,"Полная","01.01.0001 0:00:00",null,null,null,null,100,0]
[72,2010551000,"ЖТЭЦ","Полная",null,"2010551000 ЖТЭЦ",0,"01.01.0001 0:00:00",null,0,0,0,94.427099999999996,94.449100000000001,2.1999999999999999E-2,0,0,0,0,0,0,0,0,0,0,0,0,null,null,null,null,"Полная","01.01.0001 0:00:00",null,null,null,null,100,0]
[73,2010450000,"ЗАЭС","Полная",null,"2010450000 ЗАЭС",0,"01.01.0001 0:00:00",null,0,0,0,94.983199999999997,95.142099999999999,0.15890000000000001,0,0,0,0,0,0,0,0,0,0,0,0,null,null,null,null,"Полная","01.01.0001 0:00:00",null,null,null,null,100,0]
[74,2010230918,"ЗиО-Подольск","Полная",null,"2010230918 ЗиО-Подольск",0,"01.01.0001 0:00:00",null,0,0,0,93.9041,93.996300000000005,9.2200000000000004E-2,0,0,0,0,0,0,0,0,0,0,0,0,null,null,null,null,"Полная","01.01.0001 0:00:00",null,null,null,null,99.52,0]
[75,2010230917,"ЗИОМАР","Полная",null,"2010230917 ЗИОМАР",0,"01.01.0001 0:00:00",null,0,0,0,94.427099999999996,94.449100000000001,2.1999999999999999E-2,0,0,0,0,0,0,0,0,0,0,0,0,null,null,null,null,"Полная","01.01.0001 0:00:00",null,null,null,null,100,0]
[76,2010241600,"ЗУКМ","Полная",null,"2010241600 ЗУКМ",0,"01.01.0001 0:00:00",null,0,0,0,95.735200000000006,96.705500000000001,0.97030000000000005,0,0,0,0,0,0,0,0,0,0,0,0,null,null,null,null,"Полная","01.01.0001 0:00:00",null,null,null,null,100,0]
[77,2010620000,"ИК АСЭ","Полная",null,"2010620000 ИК АСЭ",0,"01.01.0001 0:00:00",null,0,0,0,98.484200000000001,100,1.5158,0,0,0,0,0,0,0,0,0,0,0,0,null,null,null,null,"Полная","01.01.0001 0:00:00",null,null,null,null,100,0]
[78,2010540000,"ИРМ","Полная",null,"2010540000 ИРМ",0,"01.01.0001 0:00:00",null,0,0,0,94.813199999999995,94.833699999999993,2.0500000000000001E-2,0,0,0,0,0,0,0,0,0,0,0,0,null,null,null,null,"Полная","01.01.0001 0:00:00",null,null,null,null,100,0]
[79,2010230001,"Искра","Полная",null,"2010230001 Искра",0,"01.01.0001 0:00:00",null,0,0,0,94.426199999999994,94.4482,2.1999999999999999E-2,0,0,0,0,0,0,0,0,0,0,0,0,null,null,null,null,"Полная","01.01.0001 0:00:00",null,null,null,null,100,0]
[80,2010242300,"ИЦ РГЦ","Полная",null,"2010242300 ИЦ РГЦ",0,"01.01.0001 0:00:00",null,0,0,0,94.427099999999996,94.449100000000001,2.1999999999999999E-2,0,0,0,0,0,0,0,0,0,0,0,0,null,null,null,null,"Полная","01.01.0001 0:00:00",null,null,null,null,100,0]
[81,2010240600,"КМЗ","Полная",null,"2010240600 КМЗ",0,"01.01.0001 0:00:00",null,0,0,0,88.952100000000002,88.972899999999996,2.0799999999999999E-2,0,0,0,0,0,0,0,0,0,0,0,0,null,null,null,null,"Полная","01.01.0001 0:00:00",null,null,null,null,94.2,0]
[82,2010590317,"Консист-ОС","Полная",null,"2010590317 Консист-ОС",0,"01.01.0001 0:00:00",null,0,0,0,0,95.142099999999999,95.142099999999999,0,0,0,0,0,0,0,0,0,0,0,0,null,null,null,null,null,"01.01.0001 0:00:00",null,null,null,null,100,0]
[83,2010600000,"Красная Звезда","Полная",null,"2010600000 Красная Звезда",0,"01.01.0001 0:00:00",null,0,0,0,94.715999999999994,94.746799999999993,3.0800000000000001E-2,0,0,0,0,0,0,0,0,0,0,0,0,null,null,null,null,"Полная","01.01.0001 0:00:00",null,null,null,null,100,0]
[84,2010241100,"Краун","Полная",null,"2010241100 Краун",0,"01.01.0001 0:00:00",null,0,0,0,94.426900000000003,94.449100000000001,0,0,0,0,0,0,0,0,0,0,0,0,0,null,null,null,null,"Полная","01.01.0001 0:00:00",null,null,null,null,100,0]
[85,2010231300,"КЦ","Полная",null,"2010231300 КЦ",0,"01.01.0001 0:00:00",null,0,0,0,92.368600000000001,92.390100000000004,2.1499999999999998E-2,0,0,0,0,0,0,0,0,0,0,0,0,null,null,null,null,"Полная","01.01.0001 0:00:00",null,null,null,null,97.82,0]
[86,2010242601,"ЛЗ Петрозаводскмаш","Полная",null,"2010242601 ЛЗ Петрозаводскмаш",0,"01.01.0001 0:00:00",null,0,0,0,0,94.449100000000001,94.449100000000001,0,0,0,0,0,0,0,0,0,0,0,0,null,null,null,null,null,"01.01.0001 0:00:00",null,null,null,null,100,0]
[87,1070000000,"Маяк","Полная",null,"1070000000 Маяк",0,"01.01.0001 0:00:00",null,0,0,0,100,100,0,0,0,0,0,0,0,0,0,0,0,0,0,null,null,null,null,"Полная","01.01.0001 0:00:00",null,null,null,null,100,0]
[88,2010100000,"МЗП","Полная",null,"2010100000 МЗП",0,"01.01.0001 0:00:00",null,0,0,0,94.427099999999996,94.449100000000001,2.1999999999999999E-2,0,0,0,0,0,0,0,0,0,0,0,0,null,null,null,null,"Полная","01.01.0001 0:00:00",null,null,null,null,100,0]
[89,2010740000,"Молния","Полная",null,"2010740000 Молния",0,"01.01.0001 0:00:00",null,0,0,0,94.427099999999996,94.449100000000001,2.1999999999999999E-2,0,0,0,0,0,0,0,0,0,0,0,0,null,null,null,null,"Полная","01.01.0001 0:00:00",null,null,null,null,100,0]
[90,2010230100,"МСЗ","Полная",null,"2010230100 МСЗ",0,"01.01.0001 0:00:00",null,0,0,0,77.883200000000002,77.081900000000005,-0.80130000000000001,0,0,0,0,0,0,0,0,0,0,0,0,null,null,null,null,"Полная","01.01.0001 0:00:00",null,null,null,null,81.209999999999994,0]
[91,2010230115,"МСЗ-М","Полная",null,"2010230115 МСЗ-М",0,"01.01.0001 0:00:00",null,0,0,0,77.883200000000002,77.081900000000005,-0.80130000000000001,0,0,0,0,0,0,0,0,0,0,0,0,null,null,null,null,"Полная","01.01.0001 0:00:00",null,null,null,null,100,0]
[92,4010000100,"Наука и инновации","Полная",null,"4010000100 Наука и инновации",0,"01.01.0001 0:00:00",null,0,0,0,94.427099999999996,94.449100000000001,2.1999999999999999E-2,0,0,0,0,0,0,0,0,0,0,0,0,null,null,null,null,"Полная","01.01.0001 0:00:00",null,null,null,null,100,0]
[93,2010230200,"НЗХК","Полная",null,"2010230200 НЗХК",0,"01.01.0001 0:00:00",null,0,0,0,84.124300000000005,84.013800000000003,-0.1105,0,0,0,0,0,0,0,0,0,0,0,0,null,null,null,null,"Полная","01.01.0001 0:00:00",null,null,null,null,88.93,0]
[94,2010230207,"НЗХК-Инструмент","Полная",null,"2010230207 НЗХК-Инструмент",0,"01.01.0001 0:00:00",null,0,0,0,84.124300000000005,84.013800000000003,-0.1105,0,0,0,0,0,0,0,0,0,0,0,0,null,null,null,null,"Полная","01.01.0001 0:00:00",null,null,null,null,100,0]
[95,2010230210,"НЗХК-Энергия","Полная",null,"2010230210 НЗХК-Энергия",0,"01.01.0001 0:00:00",null,0,0,0,84.124300000000005,84.013800000000003,-0.1105,0,0,0,0,0,0,0,0,0,0,0,0,null,null,null,null,"Полная","01.01.0001 0:00:00",null,null,null,null,100,0]
[96,2010620200,"НИАЭП-Сервис","Полная",null,"2010620200 НИАЭП-Сервис",0,"01.01.0001 0:00:00",null,0,0,0,98.484200000000001,100,1.5158,0,0,0,0,0,0,0,0,0,0,0,0,null,null,null,null,"Полная","01.01.0001 0:00:00",null,null,null,null,100,0]
[97," Нижние ко","Нижние котлы-ДУ","Полная",null," Нижние котлы",0,"01.01.0001 0:00:00",null,0,0,0,0,94.695899999999995,94.695899999999995,0,0,0,0,0,0,0,0,0,0,0,0,null,null,null,null,null,"01.01.0001 0:00:00",null,null,null,null,100,0]
[98,2010480000,"НИИАР","Полная",null,"2010480000 НИИАР",0,"01.01.0001 0:00:00",null,0,0,0,97.058599999999998,97.081500000000005,2.29E-2,0,0,0,0,0,0,0,0,0,0,0,0,null,null,null,null,"Полная","01.01.0001 0:00:00",null,null,null,null,100,0]
[99,2010970000,"НИИАР-Генерация","Полная",null,"2010970000 НИИАР-Генерация",0,"01.01.0001 0:00:00",null,0,0,0,97.058599999999998,97.081500000000005,2.29E-2,0,0,0,0,0,0,0,0,0,0,0,0,null,null,null,null,"Полная","01.01.0001 0:00:00",null,null,null,null,100,0]
[100,2010630000,"НИИГрафит","Полная",null,"2010630000 НИИГрафит",0,"01.01.0001 0:00:00",null,0,0,0,95.694400000000002,95.711399999999998,1.7000000000000001E-2,0,0,0,0,0,0,0,0,0,0,0,0,null,null,null,null,"Полная","01.01.0001 0:00:00",null,null,null,null,100,0]
[101,1130000000,"НИИИС","Не консолидируется",null,"1130000000 НИИИС",0,"01.01.0001 0:00:00",null,0,0,0,100,0,-100,0,0,0,0,0,0,0,0,0,0,0,0,null,null,null,null,"Полная","01.01.0001 0:00:00",null,null,null,null,0,0]
[102,4070000000,"НИИП","Полная",null,"4070000000 НИИП",0,"01.01.0001 0:00:00",null,0,0,0,100,100,0,0,0,0,0,0,0,0,0,0,0,0,0,null,null,null,null,"Полная","01.01.0001 0:00:00",null,null,null,null,100,0]
[103,2010410000,"НИИТФА","Полная",null,"2010410000 НИИТФА",0,"01.01.0001 0:00:00",null,0,0,0,94.674800000000005,94.695899999999995,2.1100000000000001E-2,0,0,0,0,0,0,0,0,0,0,0,0,null,null,null,null,"Полная","01.01.0001 0:00:00",null,null,null,null,100,0]
[104,4080000000,"НИИЭФА","Полная",null,"4080000000 НИИЭФА",0,"01.01.0001 0:00:00",null,0,0,0,100,99.999899999999997,-1E-4,0,0,0,0,0,0,0,0,0,0,0,0,null,null,null,null,"Полная","01.01.0001 0:00:00",null,null,null,null,100,0]
[105,2010550000,"НИКИМТ-Атомстрой","Полная",null,"2010550000 НИКИМТ-Атомстрой",0,"01.01.0001 0:00:00",null,0,0,0,94.427099999999996,94.449100000000001,2.1999999999999999E-2,0,0,0,0,0,0,0,0,0,0,0,0,null,null,null,null,"Полная","01.01.0001 0:00:00",null,null,null,null,100,0]
[106,2010650000,"НИКИЭТ","Полная",null,"2010650000 НИКИЭТ",0,"01.01.0001 0:00:00",null,0,0,0,96.497699999999995,93.692700000000002,-2.8050000000000002,0,0,0,0,0,0,0,0,0,0,0,0,null,null,null,null,"Полная","01.01.0001 0:00:00",null,null,null,null,96.88,0]
[107,4090000000,"НИТИ","Полная",null,"4090000000 НИТИ",0,"01.01.0001 0:00:00",null,0,0,0,100,100,0,0,0,0,0,0,0,0,0,0,0,0,0,null,null,null,null,"Полная","01.01.0001 0:00:00",null,null,null,null,100,0]
[108,4140000000,"НИФХИ","Полная",null,"4140000000 НИФХИ",0,"01.01.0001 0:00:00",null,0,0,0,100,100,0,0,0,0,0,0,0,0,0,0,0,0,0,null,null,null,null,"Полная","01.01.0001 0:00:00",null,null,null,null,100,0]
[109,2010241900,"ННКЦ","Полная",null,"2010241900 ННКЦ",0,"01.01.0001 0:00:00",null,0,0,0,94.427099999999996,94.449100000000001,2.1999999999999999E-2,0,0,0,0,0,0,0,0,0,0,0,0,null,null,null,null,"Полная","01.01.0001 0:00:00",null,null,null,null,100,0]
[110,4110000000,"НО РАО","Полная",null,"4110000000 НО РАО",0,"01.01.0001 0:00:00",null,0,0,0,100,100,0,0,0,0,0,0,0,0,0,0,0,0,0,null,null,null,null,"Полная","01.01.0001 0:00:00",null,null,null,null,100,0]
[111,2010242200,"НПК ХПИ","Полная",null,"2010242200 НПК ХПИ",0,"01.01.0001 0:00:00",null,0,0,0,96.702200000000005,96.715199999999996,1.2999999999999999E-2,0,0,0,0,0,0,0,0,0,0,0,0,null,null,null,null,"Полная","01.01.0001 0:00:00",null,null,null,null,100,0]
[112,4060000000,"НПО Луч","Полная",null,"4060000000 НПО Луч",0,"01.01.0001 0:00:00",null,0,0,0,100,100,0,0,0,0,0,0,0,0,0,0,0,0,0,null,null,null,null,"Полная","01.01.0001 0:00:00",null,null,null,null,100,0]
[113,4010000000,"НПО РИ","Полная",null,"4010000000 НПО РИ",0,"01.01.0001 0:00:00",null,0,0,0,100,100,0,0,0,0,0,0,0,0,0,0,0,0,0,null,null,null,null,"Полная","01.01.0001 0:00:00",null,null,null,null,100,0]
[114,2010241800,"НПО Центротех","Полная",null,"2010241800 НПО Центротех",0,"01.01.0001 0:00:00",null,0,0,0,94.427099999999996,94.449100000000001,2.1999999999999999E-2,0,0,0,0,0,0,0,0,0,0,0,0,null,null,null,null,"Полная","01.01.0001 0:00:00",null,null,null,null,100,0]
[115,2010690000,"НТЦ ЯФИ","Полная",null,"2010690000 НТЦ ЯФИ",0,"01.01.0001 0:00:00",null,0,0,0,94.427099999999996,94.449100000000001,2.1999999999999999E-2,0,0,0,0,0,0,0,0,0,0,0,0,null,null,null,null,"Полная","01.01.0001 0:00:00",null,null,null,null,100,0]
[116,2010150000,"Обесп РФЯЦ-ВНИИЭФ","Полная",null,"2010150000 Обесп РФЯЦ-ВНИИЭФ",0,"01.01.0001 0:00:00",null,0,0,0,94.427099999999996,94.449100000000001,2.1999999999999999E-2,0,0,0,0,0,0,0,0,0,0,0,0,null,null,null,null,"Полная","01.01.0001 0:00:00",null,null,null,null,100,0]
[117,2010780500,"ОДЦ УГР","Полная",null,"2010780500 ОДЦ УГР",0,"01.01.0001 0:00:00",null,0,0,0,94.427099999999996,94.449100000000001,2.1999999999999999E-2,0,0,0,0,0,0,0,0,0,0,0,0,null,null,null,null,"Полная","01.01.0001 0:00:00",null,null,null,null,100,0]
[118,1180000000,"ОзВЭИ","Не консолидируется",null,"1180000000 ОзВЭИ",0,"01.01.0001 0:00:00",null,0,0,0,100,0,-100,0,0,0,0,0,0,0,0,0,0,0,0,null,null,null,null,"Полная","01.01.0001 0:00:00",null,null,null,null,0,0]
[119,2010700000,"ОЗТМиТС","Полная",null,"2010700000 ОЗТМиТС",0,"01.01.0001 0:00:00",null,0,0,0,94.425700000000006,94.449100000000001,2.3400000000000001E-2,0,0,0,0,0,0,0,0,0,0,0,0,null,null,null,null,"Полная","01.01.0001 0:00:00",null,null,null,null,100,0]
[120,2010910000,"ОИК","Полная",null,"2010910000 ОИК",0,"01.01.0001 0:00:00",null,0,0,0,96.274500000000003,96.289199999999994,1.47E-2,0,0,0,0,0,0,0,0,0,0,0,0,null,null,null,null,"Полная","01.01.0001 0:00:00",null,null,null,null,100,0]
[121,2010860000,"ОК РСК","Полная",null,"2010860000 ОК РСК",0,"01.01.0001 0:00:00",null,0,0,0,94.427099999999996,94.449100000000001,2.1999999999999999E-2,0,0,0,0,0,0,0,0,0,0,0,0,null,null,null,null,"Полная","01.01.0001 0:00:00",null,null,null,null,100,0]
[122,2010720000,"ОКБМ","Полная",null,"2010720000 ОКБМ",0,"01.01.0001 0:00:00",null,0,0,0,87.360900000000001,94.5745,7.2135999999999996,0,0,0,0,0,0,0,0,0,0,0,0,null,null,null,null,"Полная","01.01.0001 0:00:00",null,null,null,null,97.95,0]
[123,2010920000,"ОТЭК","Полная",null,"2010920000 ОТЭК",0,"01.01.0001 0:00:00",null,0,0,0,94.427099999999996,92.136700000000005,0,0,0,0,0,0,0,0,0,0,0,0,0,null,null,null,null,"Полная","01.01.0001 0:00:00",null,null,null,null,100,0]
[124,2010230400,"ППГХО","Полная",null,"2010230400 ППГХО",0,"01.01.0001 0:00:00",null,0,0,0,90.494500000000002,90.596999999999994,0.10249999999999999,0,0,0,0,0,0,0,0,0,0,0,0,null,null,null,null,"Полная","01.01.0001 0:00:00",null,null,null,null,95.8,18.649999999999999]
[125,2010231200,"Промышленные инновации","Полная",null,"2010231200 Промышленные инновации",0,"01.01.0001 0:00:00",null,0,0,0,94.427099999999996,94.449100000000001,2.1999999999999999E-2,0,0,0,0,0,0,0,0,0,0,0,0,null,null,null,null,"Полная","01.01.0001 0:00:00",null,null,null,null,100,0]
[126,2010592000,"ПСР","Полная",null,"2010592000 ПСР",0,"01.01.0001 0:00:00",null,0,0,0,94.427099999999996,94.449100000000001,2.1999999999999999E-2,0,0,0,0,0,0,0,0,0,0,0,0,null,null,null,null,"Полная","01.01.0001 0:00:00",null,null,null,null,100,0]
[127,3110000000,"РАДОН","Полная",null,"3110000000 РАДОН",0,"01.01.0001 0:00:00",null,0,0,0,100,100,0,0,0,0,0,0,0,0,0,0,0,0,0,null,null,null,null,"Полная","01.01.0001 0:00:00",null,null,null,null,100,0]
[128,2010230912,"РАОС","Полная",null,"2010230912 АО РАОС",0,"01.01.0001 0:00:00",null,0,0,0,94.427099999999996,94.449100000000001,2.1999999999999999E-2,0,0,0,0,0,0,0,0,0,0,0,0,null,null,null,null,"Полная","01.01.0001 0:00:00",null,null,null,null,100,0]
[129,2010990000,"РАСУ","Полная",null,"2010990000 РАСУ",0,"01.01.0001 0:00:00",null,0,0,0,94.427099999999996,94.449100000000001,2.1999999999999999E-2,0,0,0,0,0,0,0,0,0,0,0,0,null,null,null,null,"Полная","01.01.0001 0:00:00",null,null,null,null,100,0]
[130,2010020600,"РБМ","Полная",null,"2010020600 РБМ",0,"01.01.0001 0:00:00",null,0,0,0,94.494799999999998,94.518000000000001,2.3199999999999998E-2,0,0,0,0,0,0,0,0,0,0,0,0,null,null,null,null,"Полная","01.01.0001 0:00:00",null,null,null,null,100,0]
[131,3260000000,"РосРАО","Полная",null,"3260000000 РосРАО",0,"01.01.0001 0:00:00",null,0,0,0,100,100,0,0,0,0,0,0,0,0,0,0,0,0,0,null,null,null,null,"Полная","01.01.0001 0:00:00",null,null,null,null,100,0]
[132,2010590000,"Росэнергоатом","Полная",null,"2010590000 Росэнергоатом",0,"01.01.0001 0:00:00",null,0,0,0,94.983199999999997,95.142099999999999,0.15890000000000001,0,0,0,0,0,0,0,0,0,0,0,0,null,null,null,null,"Полная","01.01.0001 0:00:00",null,null,null,null,100,0]
[133,4180000000,"РСП","Полная",null,"4180000000 РСП",0,"01.01.0001 0:00:00",null,0,0,0,100,100,0,0,0,0,0,0,0,0,0,0,0,0,0,null,null,null,null,"Полная","01.01.0001 0:00:00",null,null,null,null,100,0]
[134,2010592200,"Русатом Сервис","Полная",null,"2010592200 Русатом Сервис",0,"01.01.0001 0:00:00",null,0,0,0,94.971000000000004,95.126999999999995,0.156,0,0,0,0,0,0,0,0,0,0,0,0,null,null,null,null,"Полная","01.01.0001 0:00:00",null,null,null,null,100,0]
[135,2010991000,"Русреактор","Полная",null,"2010991000 Русреактор",0,"01.01.0001 0:00:00",null,0,0,0,0,94.449100000000001,94.449100000000001,0,0,0,0,0,0,0,0,0,0,0,0,null,null,null,null,null,"01.01.0001 0:00:00",null,null,null,null,100,0]
[136,2011000000,"РХК","Полная",null,"2011000000 РХК",0,"01.01.0001 0:00:00",null,0,0,0,0,94.449100000000001,94.449100000000001,0,0,0,0,0,0,0,0,0,0,0,0,null,null,null,null,null,"01.01.0001 0:00:00",null,null,null,null,100,0]
[137,2010230911,"РЭМКО","Полная",null,"2010230911 РЭМКО",0,"01.01.0001 0:00:00",null,0,0,0,94.427099999999996,94.449100000000001,2.1999999999999999E-2,0,0,0,0,0,0,0,0,0,0,0,0,null,null,null,null,"Полная","01.01.0001 0:00:00",null,null,null,null,100,0]
[138,2010630100,"С-плюс","Долевое участие",null,"2010630100 С-плюс",0,"01.01.0001 0:00:00",null,0,0,0,0,48.812800000000003,48.812800000000003,0,0,0,0,0,0,0,0,0,0,0,0,null,null,null,null,null,"01.01.0001 0:00:00",null,null,null,null,51,0]
[139,2010230916,"Сайпрус","Полная",null,"2010230916 Сайпрус",0,"01.01.0001 0:00:00",null,0,0,0,94.427099999999996,94.449100000000001,2.1999999999999999E-2,0,0,0,0,0,0,0,0,0,0,0,0,null,null,null,null,"Полная","01.01.0001 0:00:00",null,null,null,null,100,0]
[140,2010200000,"СвердНИИхиммаш","Полная",null,"2010200000 СвердНИИхиммаш",0,"01.01.0001 0:00:00",null,0,0,0,86.912099999999995,86.936499999999995,2.4400000000000002E-2,0,0,0,0,0,0,0,0,0,0,0,0,null,null,null,null,"Полная","01.01.0001 0:00:00",null,null,null,null,92.02,0]
[141,2010150300,"СГК","Полная",null,"2010150300 СГК",0,"01.01.0001 0:00:00",null,0,0,0,94.427099999999996,94.449100000000001,2.1999999999999999E-2,0,0,0,0,0,0,0,0,0,0,0,0,null,null,null,null,"Полная","01.01.0001 0:00:00",null,null,null,null,100,0]
[142,2010550001,"СЕТЕС","Полная",null,"2010550001 СЕТЕС",0,"01.01.0001 0:00:00",null,0,0,0,94.427099999999996,94.449100000000001,2.1999999999999999E-2,0,0,0,0,0,0,0,0,0,0,0,0,null,null,null,null,"Полная","01.01.0001 0:00:00",null,null,null,null,100,0]
[143,3080000000,"СКЦ","Полная",null,"3080000000 СКЦ",0,"01.01.0001 0:00:00",null,0,0,0,100,100,0,0,0,0,0,0,0,0,0,0,0,0,0,null,null,null,null,"Полная","01.01.0001 0:00:00",null,null,null,null,100,0]
[144,2010992000,"СМБ","Полная",null,"2010992000 СМБ",0,"01.01.0001 0:00:00",null,0,0,0,0,94.449100000000001,94.449100000000001,0,0,0,0,0,0,0,0,0,0,0,0,null,null,null,null,null,"01.01.0001 0:00:00",null,null,null,null,100,0]
[145,2010660000,"СНИИП","Полная",null,"2010660000 СНИИП",0,"01.01.0001 0:00:00",null,0,0,0,94.427099999999996,94.449100000000001,2.1999999999999999E-2,0,0,0,0,0,0,0,0,0,0,0,0,null,null,null,null,"Полная","01.01.0001 0:00:00",null,null,null,null,100,0]
[146,2010750000,"СПб ИЗОТОП","Полная",null,"2010750000 СПб ИЗОТОП",0,"01.01.0001 0:00:00",null,0,0,0,94.427099999999996,94.449100000000001,2.1999999999999999E-2,0,0,0,0,0,0,0,0,0,0,0,0,null,null,null,null,"Полная","01.01.0001 0:00:00",null,null,null,null,100,0]
[147,2010150200,"СТСК","Полная",null,"2010150200 СТСК",0,"01.01.0001 0:00:00",null,0,0,0,94.427099999999996,94.449100000000001,2.1999999999999999E-2,0,0,0,0,0,0,0,0,0,0,0,0,null,null,null,null,"Полная","01.01.0001 0:00:00",null,null,null,null,100,0]
[148,2010780000,"СХК","Полная",null,"2010780000 СХК",0,"01.01.0001 0:00:00",null,0,0,0,94.532499999999999,94.635000000000005,0.10249999999999999,0,0,0,0,0,0,0,0,0,0,0,0,null,null,null,null,"Полная","01.01.0001 0:00:00",null,null,null,null,100,0]
[149,2010230000,"ТВЭЛ","Полная",null,"2010230000 ТВЭЛ",0,"01.01.0001 0:00:00",null,0,0,0,94.427099999999996,94.449100000000001,2.1999999999999999E-2,0,0,0,0,0,0,0,0,0,0,0,0,null,null,null,null,"Полная","01.01.0001 0:00:00",null,null,null,null,100,0]
[150,2010231100,"ТВЭЛ-Строй","Полная",null,"2010231100 ТВЭЛ-Строй",0,"01.01.0001 0:00:00",null,0,0,0,87.719800000000006,87.503,-0.21679999999999999,0,0,0,0,0,0,0,0,0,0,0,0,null,null,null,null,"Полная","01.01.0001 0:00:00",null,null,null,null,100,0]
[151,2010240100,"ТЕНЕКС-Сервис","Полная",null,"2010240100 ТЕНЕКС-Сервис",0,"01.01.0001 0:00:00",null,0,0,0,94.427099999999996,94.449100000000001,2.1999999999999999E-2,0,0,0,0,0,0,0,0,0,0,0,0,null,null,null,null,"Полная","01.01.0001 0:00:00",null,null,null,null,100,0]
[152,2010230306,"Тепловодоканал","Полная",null,"2010230306 Тепловодоканал",0,"01.01.0001 0:00:00",null,0,0,0,94.427099999999996,94.449100000000001,2.1999999999999999E-2,0,0,0,0,0,0,0,0,0,0,0,0,null,null,null,null,"Полная","01.01.0001 0:00:00",null,null,null,null,100,0]
[153,4150000000,"Технопарк-Технология","Полная",null,"4150000000 Технопарк-Технология",0,"01.01.0001 0:00:00",null,0,0,0,100,100,0,0,0,0,0,0,0,0,0,0,0,0,0,null,null,null,null,"Полная","01.01.0001 0:00:00",null,null,null,null,100,0]
[154,2010240000,"Техснабэкспорт","Полная",null,"2010240000 Техснабэкспорт",0,"01.01.0001 0:00:00",null,0,0,0,94.427099999999996,94.449100000000001,2.1999999999999999E-2,0,0,0,0,0,0,0,0,0,0,0,0,null,null,null,null,"Полная","01.01.0001 0:00:00",null,null,null,null,100,0]
[155,2010440000,"Точмаш","Полная",null,"2010440000 Точмаш",0,"01.01.0001 0:00:00",null,0,0,0,94.427099999999996,94.449100000000001,2.1999999999999999E-2,0,0,0,0,0,0,0,0,0,0,0,0,null,null,null,null,"Полная","01.01.0001 0:00:00",null,null,null,null,100,0]
[156,2010440300,"Точмаш-авто","Полная",null,"2010440300 Точмаш-авто",0,"01.01.0001 0:00:00",null,0,0,0,94.427099999999996,94.449100000000001,2.1999999999999999E-2,0,0,0,0,0,0,0,0,0,0,0,0,null,null,null,null,"Полная","01.01.0001 0:00:00",null,null,null,null,100,0]
[157,2010620400,"Трест РСЭМ","Полная",null,"2010620400 Трест РСЭМ",0,"01.01.0001 0:00:00",null,0,0,0,98.3857,99.9,1.5143,0,0,0,0,0,0,0,0,0,0,0,0,null,null,null,null,"Полная","01.01.0001 0:00:00",null,null,null,null,99.9,0]
[158,4030000000,"ТРИНИТИ","Полная",null,"4030000000 ТРИНИТИ",0,"01.01.0001 0:00:00",null,0,0,0,100,100,0,0,0,0,0,0,0,0,0,0,0,0,0,null,null,null,null,"Полная","01.01.0001 0:00:00",null,null,null,null,100,0]
[159,2010240200,"ТЦ ТЕНЕКС","Полная",null,"2010240200 ТЦ ТЕНЕКС",0,"01.01.0001 0:00:00",null,0,0,0,95.735200000000006,95.748099999999994,1.29E-2,0,0,0,0,0,0,0,0,0,0,0,0,null,null,null,null,"Полная","01.01.0001 0:00:00",null,null,null,null,99,0]
[160,6010000000,"УАЗ","Полная",null,"6010000000 УАЗ",0,"01.01.0001 0:00:00",null,0,0,0,100,100,0,0,0,0,0,0,0,0,0,0,0,0,0,null,null,null,null,"Полная","01.01.0001 0:00:00",null,null,null,null,100,0]
[161,2010020200,"УДК Горное","Полная",null,"2010020200 УДК Горное",0,"01.01.0001 0:00:00",null,0,0,0,94.494799999999998,94.518000000000001,2.3199999999999998E-2,0,0,0,0,0,0,0,0,0,0,0,0,null,null,null,null,"Полная","01.01.0001 0:00:00",null,null,null,null,100,0]
[162,2010411000,"УК Нижние котлы","Полная",null,"2010411000 УК Нижние котлы",0,"01.01.0001 0:00:00",null,0,0,0,0,94.695899999999995,94.695899999999995,0,0,0,0,0,0,0,0,0,0,0,0,null,null,null,null,null,"01.01.0001 0:00:00",null,null,null,null,100,0]
[163,2010242000,"Уралприбор","Полная",null,"2010242000 Уралприбор",0,"01.01.0001 0:00:00",null,0,0,0,94.427099999999996,94.449100000000001,2.1999999999999999E-2,0,0,0,0,0,0,0,0,0,0,0,0,null,null,null,null,"Полная","01.01.0001 0:00:00",null,null,null,null,100,0]
[164,2010020100,"УУГ","Полная",null,"2010020100 УУГ",0,"01.01.0001 0:00:00",null,0,0,0,94.441699999999997,94.463999999999999,2.23E-2,0,0,0,0,0,0,0,0,0,0,0,0,null,null,null,null,"Полная","01.01.0001 0:00:00",null,null,null,null,100,0]
[165,1120000000,"УЭМЗ","Полная",null,"1120000000 УЭМЗ",0,"01.01.0001 0:00:00",null,0,0,0,100,100,0,0,0,0,0,0,0,0,0,0,0,0,0,null,null,null,null,"Полная","01.01.0001 0:00:00",null,null,null,null,100,0]
[166,2010800000,"УЭХК","Полная",null,"2010800000 УЭХК",0,"01.01.0001 0:00:00",null,0,0,0,82.6143,82.633499999999998,0,0,0,0,0,0,0,0,0,0,0,0,0,null,null,null,null,"Полная","01.01.0001 0:00:00",null,null,null,null,74.989999999999995,0]
[167,3090000000,"ФЦЯРБ","Полная",null,"3090000000 ФЦЯРБ",0,"01.01.0001 0:00:00",null,0,0,0,100,100,0,0,0,0,0,0,0,0,0,0,0,0,0,null,null,null,null,"Полная","01.01.0001 0:00:00",null,null,null,null,100,0]
[168,4040000000,"ФЭИ","Полная",null,"4040000000 ФЭИ",0,"01.01.0001 0:00:00",null,0,0,0,100,100,0,0,0,0,0,0,0,0,0,0,0,0,0,null,null,null,null,"Полная","01.01.0001 0:00:00",null,null,null,null,100,0]
[169,2010230700,"Хиагда","Полная",null,"2010230700 Хиагда",0,"01.01.0001 0:00:00",null,0,0,0,94.494799999999998,94.518000000000001,2.3199999999999998E-2,0,0,0,0,0,0,0,0,0,0,0,0,null,null,null,null,"Полная","01.01.0001 0:00:00",null,null,null,null,100,0]
[170,2010911000,"ЦВТД","Полная",null,"2010911000 ЦВТД",0,"01.01.0001 0:00:00",null,0,0,0,96.006699999999995,94.508300000000006,-1.4984,0,0,0,0,0,0,0,0,0,0,0,0,null,null,null,null,"Полная","01.01.0001 0:00:00",null,null,null,null,100,0]
[171,2010870000,"ЦентрАтом","Полная",null,"2010870000 ЦентрАтом",0,"01.01.0001 0:00:00",null,0,0,0,94.427099999999996,94.449100000000001,2.1999999999999999E-2,0,0,0,0,0,0,0,0,0,0,0,0,null,null,null,null,"Полная","01.01.0001 0:00:00",null,null,null,null,100,0]
[172,2010820000,"ЦКБМ","Полная",null,"2010820000 ЦКБМ",0,"01.01.0001 0:00:00",null,0,0,0,94.427099999999996,94.449100000000001,2.1999999999999999E-2,0,0,0,0,0,0,0,0,0,0,0,0,null,null,null,null,"Полная","01.01.0001 0:00:00",null,null,null,null,100,0]
[173,2010140000,"ЦНИИТМАШ","Полная",null,"2010140000 ЦНИИТМАШ",0,"01.01.0001 0:00:00",null,0,0,0,97.147099999999995,96.606700000000004,-0.54039999999999999,0,0,0,0,0,0,0,0,0,0,0,0,null,null,null,null,"Полная","01.01.0001 0:00:00",null,null,null,null,100,0]
[174,2010290000,"ЦОиС ОЛенКур","Полная",null,"2010290000 ЦОиС ОЛенКур",0,"01.01.0001 0:00:00",null,0,0,0,94.427099999999996,94.449100000000001,2.1999999999999999E-2,0,0,0,0,0,0,0,0,0,0,0,0,null,null,null,null,"Полная","01.01.0001 0:00:00",null,null,null,null,100,0]
[175,6080000000,"ЦУФС","Полная",null,"6080000000 ЦУФС",0,"01.01.0001 0:00:00",null,0,0,0,100,94.449100000000001,-5.5509000000000004,0,0,0,0,0,0,0,0,0,0,0,0,null,null,null,null,"Полная","01.01.0001 0:00:00",null,null,null,null,100,0]
[176,2010230300,"ЧМЗ","Полная",null,"2010230300 ЧМЗ",0,"01.01.0001 0:00:00",null,0,0,0,94.427099999999996,94.449100000000001,2.1999999999999999E-2,0,0,0,0,0,0,0,0,0,0,0,0,null,null,null,null,"Полная","01.01.0001 0:00:00",null,null,null,null,100,0]
[177,2010020400,"ЭГМК","Полная",null,"2010020400 ЭГМК",0,"01.01.0001 0:00:00",null,0,0,0,94.494799999999998,94.518000000000001,2.3199999999999998E-2,0,0,0,0,0,0,0,0,0,0,0,0,null,null,null,null,"Полная","01.01.0001 0:00:00",null,null,null,null,100,0]
[178,2010800800,"Экоальянс","Полная",null,"2010800800 Экоальянс",0,"01.01.0001 0:00:00",null,0,0,0,85.685599999999994,85.705600000000004,0,0,0,0,0,0,0,0,0,0,0,0,0,null,null,null,null,"Полная","01.01.0001 0:00:00",null,null,null,null,100,0]
[179,1140000000,"Эксп №2","Полная",null,"1140000000 Эксп №2",0,"01.01.0001 0:00:00",null,0,0,0,100,100,0,0,0,0,0,0,0,0,0,0,0,0,0,null,null,null,null,"Полная","01.01.0001 0:00:00",null,null,null,null,100,0]
[180,2010230110,"ЭЛЕМАШ-ТЭК","Полная",null,"2010230110 ЭЛЕМАШ-ТЭК",0,"01.01.0001 0:00:00",null,0,0,0,77.883200000000002,77.081900000000005,-0.80130000000000001,0,0,0,0,0,0,0,0,0,0,0,0,null,null,null,null,"Полная","01.01.0001 0:00:00",null,null,null,null,100,0]
[181,4100000000,"Элерон","Полная",null,"4100000000 Элерон",0,"01.01.0001 0:00:00",null,0,0,0,100,97.410600000000002,-2.5893999999999999,0,0,0,0,0,0,0,0,0,0,0,0,null,null,null,null,"Полная","01.01.0001 0:00:00",null,null,null,null,97.41,0]
[182,2010230943,"Энергомашспецсталь","Долевое участие",null,"2010230943 Энергомашспецсталь",0,"01.01.0001 0:00:00",null,0,0,0,43.756300000000003,43.766500000000001,1.0200000000000001E-2,0,0,0,0,0,0,0,0,0,0,0,0,null,null,null,null,"Долевое участие","01.01.0001 0:00:00",null,null,null,null,92.68,0]
[183,2010270000,"Энергоспецмонтаж","Полная",null,"2010270000 Энергоспецмонтаж",0,"01.01.0001 0:00:00",null,0,0,0,94.385999999999996,99.956500000000005,5.5705,0,0,0,0,0,0,0,0,0,0,0,0,null,null,null,null,"Полная","01.01.0001 0:00:00",null,null,null,null,99.96,0]
[184,2010830000,"ЭНИЦ","Полная",null,"2010830000 ЭНИЦ",0,"01.01.0001 0:00:00",null,0,0,0,94.983199999999997,95.142099999999999,0.15890000000000001,0,0,0,0,0,0,0,0,0,0,0,0,null,null,null,null,"Полная","01.01.0001 0:00:00",null,null,null,null,100,0]
[185,2010840000,"ЭХЗ","Полная",null,"2010840000 ЭХЗ",0,"01.01.0001 0:00:00",null,0,0,0,94.427099999999996,94.449100000000001,2.1999999999999999E-2,0,0,0,0,0,0,0,0,0,0,0,0,null,null,null,null,"Полная","01.01.0001 0:00:00",null,null,null,null,100,0]
[186,2010912000,"ЯМТ-Снежинск","Полная",null,"2010912000 ЯМТ-Снежинск",0,"01.01.0001 0:00:00",null,0,0,0,97.168599999999998,97.1798,0,0,0,0,0,0,0,0,0,0,0,0,0,null,null,null,null,"Полная","01.01.0001 0:00:00",null,null,null,null,76,0]
[187,1100000000,"ПСЗ","Полная",null,"1100000000 ПСЗ",0,"01.01.0001 0:00:00",null,0,0,0,0,100,100,0,0,0,0,0,0,0,0,0,0,0,0,null,null,null,null,null,"01.01.0001 0:00:00",null,null,null,null,100,0]
[188,1010000000,"Базальт","Не консолидируется",null,"1010000000 Базальт",0,"01.01.0001 0:00:00",null,0,0,0,0,0,0,0,0,0,0,0,0,0,0,0,0,0,0,null,null,null,null,null,"01.01.0001 0:00:00",null,null,null,null,0,0]
[189,2019000000,"НоваВинд","Полная",null,"2019000000 НоваВинд",0,"01.01.0001 0:00:00",null,0,0,0,0,94.449100000000001,94.449100000000001,0,0,0,0,0,0,0,0,0,0,0,0,null,null,null,null,null,"01.01.0001 0:00:00",null,null,null,null,100,0]
[190,2010021800,"Первая горнорудная компания","Полная",null,"2010021800 Первая горнорудная компания",0,"01.01.0001 0:00:00",null,0,0,0,0,94.272300000000001,94.272300000000001,0,0,0,0,0,0,0,0,0,0,0,0,null,null,null,null,null,"01.01.0001 0:00:00",null,null,null,null,99.74,0]
[191,2010241400,"TENEX-Japan","Полная",null,"2010241400 TENEX-Japan",0,"01.01.0001 0:00:00",null,0,0,0,0,94.449100000000001,94.449100000000001,0,0,0,0,0,0,0,0,0,0,0,0,null,null,null,null,null,"01.01.0001 0:00:00",null,null,null,null,100,0]
[192,2010241300,"TENEX-Korea","Полная",null,"2010241300 TENEX-Korea",0,"01.01.0001 0:00:00",null,0,0,0,0,94.449100000000001,94.449100000000001,0,0,0,0,0,0,0,0,0,0,0,0,null,null,null,null,null,"01.01.0001 0:00:00",null,null,null,null,100,0]
[193,2010244200,"UMATEX Composite Materials Trading","Полная",null,"2010244200 UMATEX Composite Materials Trading",0,"01.01.0001 0:00:00",null,0,0,0,0,100,0,0,0,0,0,0,0,0,0,0,0,0,0,null,null,null,null,null,"01.01.0001 0:00:00",null,null,null,null,0,0]
[194,2010243200,"UMATEX Group Europe","Полная",null,"2010243200 UMATEX Group Europe",0,"01.01.0001 0:00:00",null,0,0,0,0,100,0,0,0,0,0,0,0,0,0,0,0,0,0,null,null,null,null,null,"01.01.0001 0:00:00",null,null,null,null,0,0]
[195,2010630200,"АтомИнвест","Полная",null,"2010630200 АтомИнвест",0,"01.01.0001 0:00:00",null,0,0,0,0,100,0,0,0,0,0,0,0,0,0,0,0,0,0,null,null,null,null,null,"01.01.0001 0:00:00",null,null,null,null,0,0]
[196,1150000006,"ИиС РФЯЦ - ВНИИЭФ","Полная",null,"1150000006 ИиС РФЯЦ - ВНИИЭФ",0,"01.01.0001 0:00:00",null,0,0,0,0,100,0,0,0,0,0,0,0,0,0,0,0,0,0,null,null,null,null,null,"01.01.0001 0:00:00",null,null,null,null,0,0]
[197,1190000000,"Марс","Полная",null,"1190000000 Марс",0,"01.01.0001 0:00:00",null,0,0,0,0,100,0,0,0,0,0,0,0,0,0,0,0,0,0,null,null,null,null,null,"01.01.0001 0:00:00",null,null,null,null,0,0]
[198,"Простое товарищество Русреактор-ВНИИЭФ","Простое товарищество Русреактор-ВНИИЭФ","Полная",null,null,0,"01.01.0001 0:00:00",null,0,0,0,0,100,0,0,0,0,0,0,0,0,0,0,0,0,0,null,null,null,null,null,"01.01.0001 0:00:00",null,null,null,null,0,0]
[199,2010150100,"СЭСК","Полная",null,"2010150100 СЭСК",0,"01.01.0001 0:00:00",null,0,0,0,0,100,0,0,0,0,0,0,0,0,0,0,0,0,0,null,null,null,null,null,"01.01.0001 0:00:00",null,null,null,null,0,0]

{"sheet":"Лист4","index":8,"n_rows":152,"n_cols":39,"rows_kept":152,"cut":false,"hidden":true,"merged":[]}
["N","Код","Организация","Метод консолидации","Комментарий","Версия состава собственников","Индекс контроля в периоде","Дата вхождения в периметр","Валюта показателей","Чистые активы на начало периода","Чистые активы на конец периода","Чистые активы оборот","Полная доля владения на начало периода","Полная доля владения на конец периода","Полная доля владения оборот","Денежный эквивалентв ч а на начало периода","Денежный эквивалентв ч а на конец периода","Денежный эквивалентв ч а оборот","Гудвилл на начало периода","Гудвилл на конец периода","Гудвилл оборот","Инвестиции на начало периода","Инвестиции на конец периода","Инвестиции оборот","Процент привилегированных акций на начало периода","Процент привилегированных акций на конец периода","Процент привилегированных акций оборот","Период на момент приобретения","Период на момент выбытия","Сценарий на момент приобретения","Сценарий на момент выбытия","Предыдущий метод консолидации","Дата потери контроля","Валюта организации","Признак2","Группа трансформации","Тип контроля","Контролируемая доля владения","Доля прочих владельцев"]
[1,2010230922,"ARAKO","Полная",{"$f":"VLOOKUP(B2,#REF!,3,0)","v":{"$error":"#REF!"}},"2010230922 ARAKO",0,"01.01.0001 0:00:00",null,0,0,0,0,100,100,0,0,0,0,0,0,0,0,0,0,0,0,null,null,null,null,null,"01.01.0001 0:00:00",null,null,null,null,100,0]
[2,2010230948,"EMSS Holdings","Полная",{"$f":"VLOOKUP(B3,#REF!,3,0)","v":{"$error":"#REF!"}},"2010230948 EMSS Holdings",0,"01.01.0001 0:00:00",null,0,0,0,0,50.0002,50.0002,0,0,0,0,0,0,0,0,0,0,0,0,null,null,null,null,null,"01.01.0001 0:00:00",null,null,null,null,50,0]
[3,2010820100,"Ganz","Полная",{"$f":"VLOOKUP(B4,#REF!,3,0)","v":{"$error":"#REF!"}},"2010820100 Ganz",0,"01.01.0001 0:00:00",null,0,0,0,0,100,100,0,0,0,0,0,0,0,0,0,0,0,0,null,null,null,null,null,"01.01.0001 0:00:00",null,null,null,null,100,0]
[4,2010241200,"INTERNEXCO","Полная",{"$f":"VLOOKUP(B5,#REF!,3,0)","v":{"$error":"#REF!"}},"2010241200 INTERNEXCO",0,"01.01.0001 0:00:00",null,0,0,0,0,0,0,0,0,0,0,0,0,0,0,0,0,0,0,null,null,null,null,null,"01.01.0001 0:00:00",null,null,null,null,0,0]
[5,2010241000,"INTERNEXCO GmbH (Швейцария)","Полная",{"$f":"VLOOKUP(B6,#REF!,3,0)","v":{"$error":"#REF!"}},"2010241000 INTERNEXCO GmbH (Швейцария)",0,"01.01.0001 0:00:00",null,0,0,0,0,100,100,0,0,0,0,0,0,0,0,0,0,0,0,null,null,null,null,null,"01.01.0001 0:00:00",null,null,null,null,100,0]
[6,2010240310,"KWINDER HOLDINGS LIMITED","Полная",{"$f":"VLOOKUP(B7,#REF!,3,0)","v":{"$error":"#REF!"}},"2010240310 KWINDER HOLDINGS LIMITED",0,"01.01.0001 0:00:00",null,0,0,0,0,100,100,0,0,0,0,0,0,0,0,0,0,0,0,null,null,null,null,null,"01.01.0001 0:00:00",null,null,null,null,100,0]
[7,2010021600,"Mantra Resources Ltd.","Полная",{"$f":"VLOOKUP(B8,#REF!,3,0)","v":{"$error":"#REF!"}},"2010021600 Mantra Resources Ltd.",0,"01.01.0001 0:00:00",null,0,0,0,0,98.894199999999998,98.894199999999998,0,0,0,0,0,0,0,0,0,0,0,0,null,null,null,null,null,"01.01.0001 0:00:00",null,null,null,null,98.89,0]
[8,2010932000,"RAOS Project","Полная",{"$f":"VLOOKUP(B9,#REF!,3,0)","v":{"$error":"#REF!"}},"2010932000 RAOS Project",0,"01.01.0001 0:00:00",null,0,0,0,0,59.736699999999999,59.736699999999999,0,0,0,0,0,0,0,0,0,0,0,0,null,null,null,null,null,"01.01.0001 0:00:00",null,null,null,null,100,0]
[9,2010931000,"RAOS Voima","Полная",{"$f":"VLOOKUP(B10,#REF!,3,0)","v":{"$error":"#REF!"}},"2010931000 RAOS Voima",0,"01.01.0001 0:00:00",null,0,0,0,0,59.736699999999999,59.736699999999999,0,0,0,0,0,0,0,0,0,0,0,0,null,null,null,null,null,"01.01.0001 0:00:00",null,null,null,null,100,0]
[10,2010930000,"REIN","Полная",{"$f":"VLOOKUP(B11,#REF!,3,0)","v":{"$error":"#REF!"}},"2010930000 REIN",0,"01.01.0001 0:00:00",null,0,0,0,0,59.736699999999999,59.736699999999999,0,0,0,0,0,0,0,0,0,0,0,0,null,null,null,null,null,"01.01.0001 0:00:00",null,null,null,null,59.74,0]
[11,2010940000,"ROSATOM FINANCE","Полная",{"$f":"VLOOKUP(B12,#REF!,3,0)","v":{"$error":"#REF!"}},"2010940000 ROSATOM FINANCE",0,"01.01.0001 0:00:00",null,0,0,0,0,100,100,0,0,0,0,0,0,0,0,0,0,0,0,null,null,null,null,null,"01.01.0001 0:00:00",null,null,null,null,100,0]
[12,2010242500,"TENAM","Полная",{"$f":"VLOOKUP(B13,#REF!,3,0)","v":{"$error":"#REF!"}},"2010242500 TENAM",0,"01.01.0001 0:00:00",null,0,0,0,0,100,100,0,0,0,0,0,0,0,0,0,0,0,0,null,null,null,null,null,"01.01.0001 0:00:00",null,null,null,null,100,0]
[13,2010242400,"TRADEWILL LIMITED","Полная",{"$f":"VLOOKUP(B14,#REF!,3,0)","v":{"$error":"#REF!"}},"2010242400 TRADEWILL LIMITED",0,"01.01.0001 0:00:00",null,0,0,0,0,100,100,0,0,0,0,0,0,0,0,0,0,0,0,null,null,null,null,null,"01.01.0001 0:00:00",null,null,null,null,100,0]
[14,2010230952,"UMP Trading","Полная",{"$f":"VLOOKUP(B15,#REF!,3,0)","v":{"$error":"#REF!"}},"2010230952 UMP Trading",0,"01.01.0001 0:00:00",null,0,0,0,0,50.0002,50.0002,0,0,0,0,0,0,0,0,0,0,0,0,null,null,null,null,null,"01.01.0001 0:00:00",null,null,null,null,100,0]
[15,2010021500,"Uranium","Полная",{"$f":"VLOOKUP(B16,#REF!,3,0)","v":{"$error":"#REF!"}},"2010021500 Uranium",0,"01.01.0001 0:00:00",null,0,0,0,0,99.732299999999995,99.732299999999995,0,0,0,0,0,0,0,0,0,0,0,0,null,null,null,null,null,"01.01.0001 0:00:00",null,null,null,null,100,0]
[16,2010021200,"Uranium One Holding N.V.","Полная",{"$f":"VLOOKUP(B17,#REF!,3,0)","v":{"$error":"#REF!"}},"2010021200 Uranium One Holding N.V.",0,"01.01.0001 0:00:00",null,0,0,0,0,99.732299999999995,99.732299999999995,0,0,0,0,0,0,0,0,0,0,0,0,null,null,null,null,null,"01.01.0001 0:00:00",null,null,null,null,100,0]
[17,2010021506,"Uranium One Trading AG","Полная",{"$f":"VLOOKUP(B18,#REF!,3,0)","v":{"$error":"#REF!"}},"2010021506 Uranium One Trading AG",0,"01.01.0001 0:00:00",null,0,0,0,0,99.732299999999995,99.732299999999995,0,0,0,0,0,0,0,0,0,0,0,0,null,null,null,null,null,"01.01.0001 0:00:00",null,null,null,null,100,0]
[18,2010450108,"Аккую Нуклеар","Полная",{"$f":"VLOOKUP(B19,#REF!,3,0)","v":{"$error":"#REF!"}},"2010450108 Аккую Нуклеар",0,"01.01.0001 0:00:00",null,0,0,0,0,64.002799999999993,64.002799999999993,0,0,0,0,0,0,0,0,0,0,0,0,null,null,null,null,null,"01.01.0001 0:00:00",null,null,null,null,96.91,0]
[19,2010242201,"АЛАБУГА-ВОЛОКНО","Полная",{"$f":"VLOOKUP(B20,#REF!,3,0)","v":{"$error":"#REF!"}},"2010242201 АЛАБУГА-ВОЛОКНО",0,"01.01.0001 0:00:00",null,0,0,0,0,59.176000000000002,59.176000000000002,0,0,0,0,0,0,0,0,0,0,0,0,null,null,null,null,null,"01.01.0001 0:00:00",null,null,null,null,100,0]
[20,2010240800,"Аргон","Полная",{"$f":"VLOOKUP(B21,#REF!,3,0)","v":{"$error":"#REF!"}},"2010240800 Аргон",0,"01.01.0001 0:00:00",null,0,0,0,0,59.176000000000002,59.176000000000002,0,0,0,0,0,0,0,0,0,0,0,0,null,null,null,null,null,"01.01.0001 0:00:00",null,null,null,null,99.99,0]
[21,2010020000,"АРМЗ","Полная",{"$f":"VLOOKUP(B22,#REF!,3,0)","v":{"$error":"#REF!"}},"2010020000 АРМЗ",0,"01.01.0001 0:00:00",null,0,0,0,98.706999999999994,98.758799999999994,5.1799999999999999E-2,0,0,0,0,0,0,0,0,0,0,0,0,null,null,null,null,"Полная","01.01.0001 0:00:00",null,null,null,null,98.76,0]
[22,2010020602,"АРМЗ-Сервис","Полная",{"$f":"VLOOKUP(B23,#REF!,3,0)","v":{"$error":"#REF!"}},"2010020602 АРМЗ-Сервис",0,"01.01.0001 0:00:00",null,0,0,0,100,97.4739,-2.5261,0,0,0,0,0,0,0,0,0,0,0,0,null,null,null,null,"Полная","01.01.0001 0:00:00",null,null,null,null,100,0]
[23,2010010000,"АТА","Полная",{"$f":"VLOOKUP(B24,#REF!,3,0)","v":{"$error":"#REF!"}},"2010010000 АТА",0,"01.01.0001 0:00:00",null,0,0,0,100,100,0,0,0,0,0,0,0,0,0,0,0,0,0,null,null,null,null,"Полная","01.01.0001 0:00:00",null,null,null,null,100,0]
[24,2010230915,"АТМ","Полная",{"$f":"VLOOKUP(B25,#REF!,3,0)","v":{"$error":"#REF!"}},"2010230915 АТМ",0,"01.01.0001 0:00:00",null,0,0,0,0,51,51,0,0,0,0,0,0,0,0,0,0,0,0,null,null,null,null,null,"01.01.0001 0:00:00",null,null,null,null,51,0]
[25,2010933000,"АтомМедТехнолоджи-ДВ","Полная",{"$f":"VLOOKUP(B26,#REF!,3,0)","v":{"$error":"#REF!"}},"2010933000 АтомМедТехнолоджи-ДВ",0,"01.01.0001 0:00:00",null,0,0,0,0,99.9893,99.9893,0,0,0,0,0,0,0,0,0,0,0,0,null,null,null,null,null,"01.01.0001 0:00:00",null,null,null,null,100,0]
[26,2010460000,"АТОМПРОЕКТ","Не консолидируется",{"$f":"VLOOKUP(B27,#REF!,3,0)","v":{"$error":"#REF!"}},"2010460000 АТОМПРОЕКТ",0,"01.01.0001 0:00:00",null,0,0,0,100,0,-100,0,0,0,0,0,0,0,0,0,0,0,0,null,null,null,null,"Полная","01.01.0001 0:00:00",null,null,null,null,0,0]
[27,2010340000,"Атомспецтранс","Полная",{"$f":"VLOOKUP(B28,#REF!,3,0)","v":{"$error":"#REF!"}},"2010340000 Атомспецтранс",0,"01.01.0001 0:00:00",null,0,0,0,0,80.087000000000003,80.087000000000003,0,0,0,0,0,0,0,0,0,0,0,0,null,null,null,null,null,"01.01.0001 0:00:00",null,null,null,null,80.09,0]
[28,2010591900,"Атомтехэкспорт","Полная",{"$f":"VLOOKUP(B29,#REF!,3,0)","v":{"$error":"#REF!"}},"2010591900 Атомтехэкспорт",0,"01.01.0001 0:00:00",null,0,0,0,0,87.787599999999998,87.787599999999998,0,0,0,0,0,0,0,0,0,0,0,0,null,null,null,null,null,"01.01.0001 0:00:00",null,null,null,null,100,0]
[29,2010350000,"Атомтехэнерго","Полная",{"$f":"VLOOKUP(B30,#REF!,3,0)","v":{"$error":"#REF!"}},"2010350000 Атомтехэнерго",0,"01.01.0001 0:00:00",null,0,0,0,91.6053,87.515100000000004,-4.0902000000000003,0,0,0,0,0,0,0,0,0,0,0,0,null,null,null,null,"Полная","01.01.0001 0:00:00",null,null,null,null,100,0]
[30,2010230900,"Атомэнергомаш","Полная",{"$f":"VLOOKUP(B31,#REF!,3,0)","v":{"$error":"#REF!"}},"2010230900 Атомэнергомаш",0,"01.01.0001 0:00:00",null,0,0,0,100,100,0,0,0,0,0,0,0,0,0,0,0,0,0,null,null,null,null,"Полная","01.01.0001 0:00:00",null,null,null,null,100,0]
[31,2010591320,"Атомэнергопромсбыт","Полная",{"$f":"VLOOKUP(B32,#REF!,3,0)","v":{"$error":"#REF!"}},"2010591320 Атомэнергопромсбыт",0,"01.01.0001 0:00:00",null,0,0,0,0,100,100,0,0,0,0,0,0,0,0,0,0,0,0,null,null,null,null,null,"01.01.0001 0:00:00",null,null,null,null,100,0]
[32,2010590700,"Атомэнергоремонт","Полная",{"$f":"VLOOKUP(B33,#REF!,3,0)","v":{"$error":"#REF!"}},"2010590700 Атомэнергоремонт",0,"01.01.0001 0:00:00",null,0,0,0,91.6053,87.515100000000004,-4.0902000000000003,0,0,0,0,0,0,0,0,0,0,0,0,null,null,null,null,"Полная","01.01.0001 0:00:00",null,null,null,null,100,0]
[33,2010591300,"Атомэнергосбыт","Полная",{"$f":"VLOOKUP(B34,#REF!,3,0)","v":{"$error":"#REF!"}},"2010591300 Атомэнергосбыт",0,"01.01.0001 0:00:00",null,0,0,0,0,87.515100000000004,87.515100000000004,0,0,0,0,0,0,0,0,0,0,0,0,null,null,null,null,null,"01.01.0001 0:00:00",null,null,null,null,100,0]
[34,6090010000,"АЭМ-активы","Не консолидируется",{"$f":"VLOOKUP(B35,#REF!,3,0)","v":{"$error":"#REF!"}},"6090010000 АЭМ-активы",0,"01.01.0001 0:00:00",null,0,0,0,0,0,0,0,0,0,0,0,0,0,0,0,0,0,0,null,null,null,null,null,"01.01.0001 0:00:00",null,null,null,null,0,0]
[35,2010230902,"АЭМ-лизинг","Полная",{"$f":"VLOOKUP(B36,#REF!,3,0)","v":{"$error":"#REF!"}},"2010230902 АЭМ-лизинг",0,"01.01.0001 0:00:00",null,0,0,0,0,100,100,0,0,0,0,0,0,0,0,0,0,0,0,null,null,null,null,null,"01.01.0001 0:00:00",null,null,null,null,100,0]
[36,2010230904,"АЭМ-технологии","Полная",{"$f":"VLOOKUP(B37,#REF!,3,0)","v":{"$error":"#REF!"}},"2010230904 АЭМ-технологии",0,"01.01.0001 0:00:00",null,0,0,0,100,100,0,0,0,0,0,0,0,0,0,0,0,0,0,null,null,null,null,"Полная","01.01.0001 0:00:00",null,null,null,null,100,0]
[37,2010000000,"АЭПК","Полная",{"$f":"VLOOKUP(B38,#REF!,3,0)","v":{"$error":"#REF!"}},"2010000000 АЭПК",0,"01.01.0001 0:00:00",null,0,0,0,100,100,0,0,0,0,0,0,0,0,0,0,0,0,0,null,null,null,null,"Полная","01.01.0001 0:00:00",null,null,null,null,0,0]
[38,2010370000,"АЭХК","Полная",{"$f":"VLOOKUP(B39,#REF!,3,0)","v":{"$error":"#REF!"}},"2010370000 АЭХК",0,"01.01.0001 0:00:00",null,0,0,0,100,100,0,0,0,0,0,0,0,0,0,0,0,0,0,null,null,null,null,"Полная","01.01.0001 0:00:00",null,null,null,null,100,0]
[39,2010592100,"Балтийская АЭС","Полная",{"$f":"VLOOKUP(B40,#REF!,3,0)","v":{"$error":"#REF!"}},"2010592100 Балтийская АЭС",0,"01.01.0001 0:00:00",null,0,0,0,0,87.515100000000004,87.515100000000004,0,0,0,0,0,0,0,0,0,0,0,0,null,null,null,null,null,"01.01.0001 0:00:00",null,null,null,null,100,0]
[40,2010050000,"Вента","Полная",{"$f":"VLOOKUP(B41,#REF!,3,0)","v":{"$error":"#REF!"}},"2010050000 Вента",0,"01.01.0001 0:00:00",null,0,0,0,0,74.84,74.84,0,0,0,0,0,0,0,0,0,0,0,0,null,null,null,null,null,"01.01.0001 0:00:00",null,null,null,null,74.84,0]
[41,2010230956,"ВетроОГК","Полная",{"$f":"VLOOKUP(B42,#REF!,3,0)","v":{"$error":"#REF!"}},"2010230956 ВетроОГК",0,"01.01.0001 0:00:00",null,0,0,0,0,100,100,0,0,0,0,0,0,0,0,0,0,0,0,null,null,null,null,null,"01.01.0001 0:00:00",null,null,null,null,100,0]
[42,2010390000,"ВНИИАМ (АЭПК)","Полная",{"$f":"VLOOKUP(B43,#REF!,3,0)","v":{"$error":"#REF!"}},"2010390000 ВНИИАМ (АЭПК)",0,"01.01.0001 0:00:00",null,0,0,0,0,74.84,74.84,0,0,0,0,0,0,0,0,0,0,0,0,null,null,null,null,null,"01.01.0001 0:00:00",null,null,null,null,74.84,0]
[43,2010591800,"ВНИИАЭС","Полная",{"$f":"VLOOKUP(B44,#REF!,3,0)","v":{"$error":"#REF!"}},"2010591800 ВНИИАЭС",0,"01.01.0001 0:00:00",null,0,0,0,91.6053,87.515100000000004,-4.0902000000000003,0,0,0,0,0,0,0,0,0,0,0,0,null,null,null,null,"Полная","01.01.0001 0:00:00",null,null,null,null,100,0]
[44,2010400000,"ВНИИНМ","Полная",{"$f":"VLOOKUP(B45,#REF!,3,0)","v":{"$error":"#REF!"}},"2010400000 ВНИИНМ",0,"01.01.0001 0:00:00",null,0,0,0,89.384399999999999,88.182100000000005,-1.2022999999999999,0,0,0,0,0,0,0,0,0,0,0,0,null,null,null,null,"Полная","01.01.0001 0:00:00",null,null,null,null,88.18,0]
[45,2010420000,"ВНИИХТ","Полная",{"$f":"VLOOKUP(B46,#REF!,3,0)","v":{"$error":"#REF!"}},"2010420000 ВНИИХТ",0,"01.01.0001 0:00:00",null,0,0,0,0,96.754599999999996,96.754599999999996,0,0,0,0,0,0,0,0,0,0,0,0,null,null,null,null,null,"01.01.0001 0:00:00",null,null,null,null,96.75,0]
[46,2010430000,"ВНИПИПромтехнологии","Полная",{"$f":"VLOOKUP(B47,#REF!,3,0)","v":{"$error":"#REF!"}},"2010430000 ВНИПИПромтехнологии",0,"01.01.0001 0:00:00",null,0,0,0,100,98.758799999999994,-1.2412000000000001,0,0,0,0,0,0,0,0,0,0,0,0,null,null,null,null,"Полная","01.01.0001 0:00:00",null,null,null,null,100,0]
[47,2010710000,"Гидропресс","Полная",{"$f":"VLOOKUP(B48,#REF!,3,0)","v":{"$error":"#REF!"}},"2010710000 Гидропресс",0,"01.01.0001 0:00:00",null,0,0,0,99.876999999999995,99.876599999999996,-4.0000000000000002E-4,0,0,0,0,0,0,0,0,0,0,0,0,null,null,null,null,"Полная","01.01.0001 0:00:00",null,null,null,null,99.88,0]
[48,2010470000,"Гиредмет","Полная",{"$f":"VLOOKUP(B49,#REF!,3,0)","v":{"$error":"#REF!"}},"2010470000 Гиредмет",0,"01.01.0001 0:00:00",null,0,0,0,0,90.756200000000007,90.756200000000007,0,0,0,0,0,0,0,0,0,0,0,0,null,null,null,null,null,"01.01.0001 0:00:00",null,null,null,null,94.48,0]
[49,2010900000,"Гринатом","Полная",{"$f":"VLOOKUP(B50,#REF!,3,0)","v":{"$error":"#REF!"}},"2010900000 Гринатом",0,"01.01.0001 0:00:00",null,0,0,0,0,100,100,0,0,0,0,0,0,0,0,0,0,0,0,null,null,null,null,null,"01.01.0001 0:00:00",null,null,null,null,100,0]
[50,2010500000,"ГСПИ","Полная",{"$f":"VLOOKUP(B51,#REF!,3,0)","v":{"$error":"#REF!"}},"2010500000 ГСПИ",0,"01.01.0001 0:00:00",null,0,0,0,0,100,100,0,0,0,0,0,0,0,0,0,0,0,0,null,null,null,null,null,"01.01.0001 0:00:00",null,null,null,null,100,0]
[51,2010230800,"Далур","Полная",{"$f":"VLOOKUP(B52,#REF!,3,0)","v":{"$error":"#REF!"}},"2010230800 Далур",0,"01.01.0001 0:00:00",null,0,0,0,97.611400000000003,97.662599999999998,5.1200000000000002E-2,0,0,0,0,0,0,0,0,0,0,0,0,null,null,null,null,"Полная","01.01.0001 0:00:00",null,null,null,null,98.89,0]
[52,2010510000,"Дедал","Полная",{"$f":"VLOOKUP(B53,#REF!,3,0)","v":{"$error":"#REF!"}},"2010510000 Дедал",0,"01.01.0001 0:00:00",null,0,0,0,0,100,100,0,0,0,0,0,0,0,0,0,0,0,0,null,null,null,null,null,"01.01.0001 0:00:00",null,null,null,null,100,0]
[53,2010890000,"ДЕЗ","Полная",{"$f":"VLOOKUP(B54,#REF!,3,0)","v":{"$error":"#REF!"}},"2010890000 ДЕЗ",0,"01.01.0001 0:00:00",null,0,0,0,100,100,0,0,0,0,0,0,0,0,0,0,0,0,0,null,null,null,null,"Полная","01.01.0001 0:00:00",null,null,null,null,100,0]
[54,2010551000,"ЖТЭЦ","Полная",{"$f":"VLOOKUP(B55,#REF!,3,0)","v":{"$error":"#REF!"}},"2010551000 ЖТЭЦ",0,"01.01.0001 0:00:00",null,0,0,0,0,100,100,0,0,0,0,0,0,0,0,0,0,0,0,null,null,null,null,null,"01.01.0001 0:00:00",null,null,null,null,100,0]
[55,2010450000,"ЗАЭС","Полная",{"$f":"VLOOKUP(B56,#REF!,3,0)","v":{"$error":"#REF!"}},"2010450000 ЗАЭС",0,"01.01.0001 0:00:00",null,0,0,0,0,87.515100000000004,87.515100000000004,0,0,0,0,0,0,0,0,0,0,0,0,null,null,null,null,null,"01.01.0001 0:00:00",null,null,null,null,100,0]
[56,2010230918,"ЗиО-Подольск","Полная",{"$f":"VLOOKUP(B57,#REF!,3,0)","v":{"$error":"#REF!"}},"2010230918 ЗиО-Подольск",0,"01.01.0001 0:00:00",null,0,0,0,99.436400000000006,99.520600000000002,8.4199999999999997E-2,0,0,0,0,0,0,0,0,0,0,0,0,null,null,null,null,"Полная","01.01.0001 0:00:00",null,null,null,null,99.52,0]
[57,2010230917,"ЗИОМАР","Полная",{"$f":"VLOOKUP(B58,#REF!,3,0)","v":{"$error":"#REF!"}},"2010230917 ЗИОМАР",0,"01.01.0001 0:00:00",null,0,0,0,0,100,100,0,0,0,0,0,0,0,0,0,0,0,0,null,null,null,null,null,"01.01.0001 0:00:00",null,null,null,null,100,0]
[58,2010241600,"ЗУКМ","Полная",{"$f":"VLOOKUP(B59,#REF!,3,0)","v":{"$error":"#REF!"}},"2010241600 ЗУКМ",0,"01.01.0001 0:00:00",null,0,0,0,0,59.170099999999998,59.170099999999998,0,0,0,0,0,0,0,0,0,0,0,0,null,null,null,null,null,"01.01.0001 0:00:00",null,null,null,null,100,0]
[59,2010540000,"ИРМ","Полная",{"$f":"VLOOKUP(B60,#REF!,3,0)","v":{"$error":"#REF!"}},"2010540000 ИРМ",0,"01.01.0001 0:00:00",null,0,0,0,0,93.071799999999996,93.071799999999996,0,0,0,0,0,0,0,0,0,0,0,0,null,null,null,null,null,"01.01.0001 0:00:00",null,null,null,null,93.07,0]
[60,2010230001,"Искра","Полная",{"$f":"VLOOKUP(B61,#REF!,3,0)","v":{"$error":"#REF!"}},"2010230001 Искра",0,"01.01.0001 0:00:00",null,0,0,0,0,99.998999999999995,99.998999999999995,0,0,0,0,0,0,0,0,0,0,0,0,null,null,null,null,null,"01.01.0001 0:00:00",null,null,null,null,100,0]
[61,2010242300,"ИЦ РГЦ","Полная",{"$f":"VLOOKUP(B62,#REF!,3,0)","v":{"$error":"#REF!"}},"2010242300 ИЦ РГЦ",0,"01.01.0001 0:00:00",null,0,0,0,0,100,100,0,0,0,0,0,0,0,0,0,0,0,0,null,null,null,null,null,"01.01.0001 0:00:00",null,null,null,null,100,0]
[62,2010240600,"КМЗ","Полная",{"$f":"VLOOKUP(B63,#REF!,3,0)","v":{"$error":"#REF!"}},"2010240600 КМЗ",0,"01.01.0001 0:00:00",null,0,0,0,94.16,94.201899999999995,4.19E-2,0,0,0,0,0,0,0,0,0,0,0,0,null,null,null,null,"Полная","01.01.0001 0:00:00",null,null,null,null,94.2,0]
[63,2010590317,"Консист-ОС","Полная",{"$f":"VLOOKUP(B64,#REF!,3,0)","v":{"$error":"#REF!"}},"2010590317 Консист-ОС",0,"01.01.0001 0:00:00",null,0,0,0,0,87.515100000000004,87.515100000000004,0,0,0,0,0,0,0,0,0,0,0,0,null,null,null,null,null,"01.01.0001 0:00:00",null,null,null,null,100,0]
[64,2010600000,"Красная Звезда","Полная",{"$f":"VLOOKUP(B65,#REF!,3,0)","v":{"$error":"#REF!"}},"2010600000 Красная Звезда",0,"01.01.0001 0:00:00",null,0,0,0,0,94.634500000000003,94.634500000000003,0,0,0,0,0,0,0,0,0,0,0,0,null,null,null,null,null,"01.01.0001 0:00:00",null,null,null,null,94.63,0]
[65,2010241100,"Краун","Полная",{"$f":"VLOOKUP(B66,#REF!,3,0)","v":{"$error":"#REF!"}},"2010241100 Краун",0,"01.01.0001 0:00:00",null,0,0,0,0,100,100,0,0,0,0,0,0,0,0,0,0,0,0,null,null,null,null,null,"01.01.0001 0:00:00",null,null,null,null,100,0]
[66,2010231300,"КЦ","Полная",{"$f":"VLOOKUP(B67,#REF!,3,0)","v":{"$error":"#REF!"}},"2010231300 КЦ",0,"01.01.0001 0:00:00",null,0,0,0,0,97.82,97.82,0,0,0,0,0,0,0,0,0,0,0,0,null,null,null,null,null,"01.01.0001 0:00:00",null,null,null,null,97.82,0]
[67,2010242601,"ЛЗ Петрозаводскмаш","Полная",{"$f":"VLOOKUP(B68,#REF!,3,0)","v":{"$error":"#REF!"}},"2010242601 ЛЗ Петрозаводскмаш",0,"01.01.0001 0:00:00",null,0,0,0,0,100,100,0,0,0,0,0,0,0,0,0,0,0,0,null,null,null,null,null,"01.01.0001 0:00:00",null,null,null,null,100,0]
[68,2010100000,"МЗП","Полная",{"$f":"VLOOKUP(B69,#REF!,3,0)","v":{"$error":"#REF!"}},"2010100000 МЗП",0,"01.01.0001 0:00:00",null,0,0,0,100,100,0,0,0,0,0,0,0,0,0,0,0,0,0,null,null,null,null,"Полная","01.01.0001 0:00:00",null,null,null,null,100,0]
[69,2010740000,"Молния","Полная",{"$f":"VLOOKUP(B70,#REF!,3,0)","v":{"$error":"#REF!"}},"2010740000 Молния",0,"01.01.0001 0:00:00",null,0,0,0,0,100,100,0,0,0,0,0,0,0,0,0,0,0,0,null,null,null,null,null,"01.01.0001 0:00:00",null,null,null,null,100,0]
[70,2010230100,"МСЗ","Полная",{"$f":"VLOOKUP(B71,#REF!,3,0)","v":{"$error":"#REF!"}},"2010230100 МСЗ",0,"01.01.0001 0:00:00",null,0,0,0,0,74.451700000000002,74.451700000000002,0,0,0,0,0,0,0,0,0,0,0,0,null,null,null,null,null,"01.01.0001 0:00:00",null,null,null,null,74.45,0]
[71,2010230115,"МСЗ-М","Полная",{"$f":"VLOOKUP(B72,#REF!,3,0)","v":{"$error":"#REF!"}},"2010230115 МСЗ-М",0,"01.01.0001 0:00:00",null,0,0,0,0,74.451700000000002,74.451700000000002,0,0,0,0,0,0,0,0,0,0,0,0,null,null,null,null,null,"01.01.0001 0:00:00",null,null,null,null,100,0]
[72,4010000100,"Наука и инновации","Полная",{"$f":"VLOOKUP(B73,#REF!,3,0)","v":{"$error":"#REF!"}},"4010000100 Наука и инновации",0,"01.01.0001 0:00:00",null,0,0,0,0,100,100,0,0,0,0,0,0,0,0,0,0,0,0,null,null,null,null,null,"01.01.0001 0:00:00",null,null,null,null,100,0]
[73,2010230200,"НЗХК","Полная",{"$f":"VLOOKUP(B74,#REF!,3,0)","v":{"$error":"#REF!"}},"2010230200 НЗХК",0,"01.01.0001 0:00:00",null,0,0,0,0,88.509,88.509,0,0,0,0,0,0,0,0,0,0,0,0,null,null,null,null,null,"01.01.0001 0:00:00",null,null,null,null,88.51,0]
[74,2010230207,"НЗХК-Инструмент","Полная",{"$f":"VLOOKUP(B75,#REF!,3,0)","v":{"$error":"#REF!"}},"2010230207 НЗХК-Инструмент",0,"01.01.0001 0:00:00",null,0,0,0,0,88.509,88.509,0,0,0,0,0,0,0,0,0,0,0,0,null,null,null,null,null,"01.01.0001 0:00:00",null,null,null,null,100,0]
[75,2010230210,"НЗХК-Энергия","Полная",{"$f":"VLOOKUP(B76,#REF!,3,0)","v":{"$error":"#REF!"}},"2010230210 НЗХК-Энергия",0,"01.01.0001 0:00:00",null,0,0,0,0,88.509,88.509,0,0,0,0,0,0,0,0,0,0,0,0,null,null,null,null,null,"01.01.0001 0:00:00",null,null,null,null,100,0]
[76,2010480000,"НИИАР","Полная",{"$f":"VLOOKUP(B77,#REF!,3,0)","v":{"$error":"#REF!"}},"2010480000 НИИАР",0,"01.01.0001 0:00:00",null,0,0,0,0,52.576599999999999,52.576599999999999,0,0,0,0,0,0,0,0,0,0,0,0,null,null,null,null,null,"01.01.0001 0:00:00",null,null,null,null,52.58,0]
[77,2010970000,"НИИАР-Генерация","Полная",{"$f":"VLOOKUP(B78,#REF!,3,0)","v":{"$error":"#REF!"}},"2010970000 НИИАР-Генерация",0,"01.01.0001 0:00:00",null,0,0,0,0,52.576599999999999,52.576599999999999,0,0,0,0,0,0,0,0,0,0,0,0,null,null,null,null,null,"01.01.0001 0:00:00",null,null,null,null,100,0]
[78,2010630000,"НИИГрафит","Полная",{"$f":"VLOOKUP(B79,#REF!,3,0)","v":{"$error":"#REF!"}},"2010630000 НИИГрафит",0,"01.01.0001 0:00:00",null,0,0,0,0,77.260000000000005,77.260000000000005,0,0,0,0,0,0,0,0,0,0,0,0,null,null,null,null,null,"01.01.0001 0:00:00",null,null,null,null,77.260000000000005,0]
[79,2010550000,"НИКИМТ-Атомстрой","Полная",{"$f":"VLOOKUP(B80,#REF!,3,0)","v":{"$error":"#REF!"}},"2010550000 НИКИМТ-Атомстрой",0,"01.01.0001 0:00:00",null,0,0,0,0,100,100,0,0,0,0,0,0,0,0,0,0,0,0,null,null,null,null,null,"01.01.0001 0:00:00",null,null,null,null,100,0]
[80,2010650000,"НИКИЭТ","Полная",{"$f":"VLOOKUP(B81,#REF!,3,0)","v":{"$error":"#REF!"}},"2010650000 НИКИЭТ",0,"01.01.0001 0:00:00",null,0,0,0,0,57.454599999999999,57.454599999999999,0,0,0,0,0,0,0,0,0,0,0,0,null,null,null,null,null,"01.01.0001 0:00:00",null,null,null,null,57.45,0]
[81,2010241900,"ННКЦ","Полная",{"$f":"VLOOKUP(B82,#REF!,3,0)","v":{"$error":"#REF!"}},"2010241900 ННКЦ",0,"01.01.0001 0:00:00",null,0,0,0,0,100,100,0,0,0,0,0,0,0,0,0,0,0,0,null,null,null,null,null,"01.01.0001 0:00:00",null,null,null,null,100,0]
[82,2010242200,"НПК ХПИ","Полная",{"$f":"VLOOKUP(B83,#REF!,3,0)","v":{"$error":"#REF!"}},"2010242200 НПК ХПИ",0,"01.01.0001 0:00:00",null,0,0,0,0,59.176000000000002,59.176000000000002,0,0,0,0,0,0,0,0,0,0,0,0,null,null,null,null,null,"01.01.0001 0:00:00",null,null,null,null,59.18,0]
[83,2010241800,"НПО Центротех","Полная",{"$f":"VLOOKUP(B84,#REF!,3,0)","v":{"$error":"#REF!"}},"2010241800 НПО Центротех",0,"01.01.0001 0:00:00",null,0,0,0,100,100,0,0,0,0,0,0,0,0,0,0,0,0,0,null,null,null,null,"Полная","01.01.0001 0:00:00",null,null,null,null,100,0]
[84,2010690000,"НТЦ ЯФИ","Полная",{"$f":"VLOOKUP(B85,#REF!,3,0)","v":{"$error":"#REF!"}},"2010690000 НТЦ ЯФИ",0,"01.01.0001 0:00:00",null,0,0,0,0,100,100,0,0,0,0,0,0,0,0,0,0,0,0,null,null,null,null,null,"01.01.0001 0:00:00",null,null,null,null,100,0]
[85,2010150000,"Обесп РФЯЦ-ВНИИЭФ","Полная",{"$f":"VLOOKUP(B86,#REF!,3,0)","v":{"$error":"#REF!"}},"2010150000 Обесп РФЯЦ-ВНИИЭФ",0,"01.01.0001 0:00:00",null,0,0,0,0,100,100,0,0,0,0,0,0,0,0,0,0,0,0,null,null,null,null,null,"01.01.0001 0:00:00",null,null,null,null,100,0]
[86,2010780500,"ОДЦ УГР","Полная",{"$f":"VLOOKUP(B87,#REF!,3,0)","v":{"$error":"#REF!"}},"2010780500 ОДЦ УГР",0,"01.01.0001 0:00:00",null,0,0,0,0,100,100,0,0,0,0,0,0,0,0,0,0,0,0,null,null,null,null,null,"01.01.0001 0:00:00",null,null,null,null,100,0]
[87,2010700000,"ОЗТМиТС","Полная",{"$f":"VLOOKUP(B88,#REF!,3,0)","v":{"$error":"#REF!"}},"2010700000 ОЗТМиТС",0,"01.01.0001 0:00:00",null,0,0,0,0,100,100,0,0,0,0,0,0,0,0,0,0,0,0,null,null,null,null,null,"01.01.0001 0:00:00",null,null,null,null,100,0]
[88,2010910000,"ОИК","Полная",{"$f":"VLOOKUP(B89,#REF!,3,0)","v":{"$error":"#REF!"}},"2010910000 ОИК",0,"01.01.0001 0:00:00",null,0,0,0,0,66.849999999999994,66.849999999999994,0,0,0,0,0,0,0,0,0,0,0,0,null,null,null,null,null,"01.01.0001 0:00:00",null,null,null,null,66.849999999999994,0]
[89,2010860000,"ОК РСК","Полная",{"$f":"VLOOKUP(B90,#REF!,3,0)","v":{"$error":"#REF!"}},"2010860000 ОК РСК",0,"01.01.0001 0:00:00",null,0,0,0,0,100,100,0,0,0,0,0,0,0,0,0,0,0,0,null,null,null,null,null,"01.01.0001 0:00:00",null,null,null,null,100,0]
[90,2010720000,"ОКБМ","Полная",{"$f":"VLOOKUP(B91,#REF!,3,0)","v":{"$error":"#REF!"}},"2010720000 ОКБМ",0,"01.01.0001 0:00:00",null,0,0,0,86.302899999999994,60.882899999999999,-25.42,0,0,0,0,0,0,0,0,0,0,0,0,null,null,null,null,"Полная","01.01.0001 0:00:00",null,null,null,null,60.88,0]
[91,2010920000,"ОТЭК","Полная",{"$f":"VLOOKUP(B92,#REF!,3,0)","v":{"$error":"#REF!"}},"2010920000 ОТЭК",0,"01.01.0001 0:00:00",null,0,0,0,0,95.796199999999999,95.796199999999999,0,0,0,0,0,0,0,0,0,0,0,0,null,null,null,null,null,"01.01.0001 0:00:00",null,null,null,null,100,0]
[92,2010230400,"ППГХО","Полная",{"$f":"VLOOKUP(B93,#REF!,3,0)","v":{"$error":"#REF!"}},"2010230400 ППГХО",0,"01.01.0001 0:00:00",null,0,0,0,93.498999999999995,93.731999999999999,0.23300000000000001,0,0,0,0,0,0,0,0,0,0,0,0,null,null,null,null,"Полная","01.01.0001 0:00:00",null,null,null,null,94.91,0]
[93,2010231200,"Промышленные инновации","Полная",{"$f":"VLOOKUP(B94,#REF!,3,0)","v":{"$error":"#REF!"}},"2010231200 Промышленные инновации",0,"01.01.0001 0:00:00",null,0,0,0,0,100,100,0,0,0,0,0,0,0,0,0,0,0,0,null,null,null,null,null,"01.01.0001 0:00:00",null,null,null,null,100,0]
[94,2010592000,"ПСР","Полная",{"$f":"VLOOKUP(B95,#REF!,3,0)","v":{"$error":"#REF!"}},"2010592000 ПСР",0,"01.01.0001 0:00:00",null,0,0,0,0,100,100,0,0,0,0,0,0,0,0,0,0,0,0,null,null,null,null,null,"01.01.0001 0:00:00",null,null,null,null,100,0]
[95,2010230912,"РАОС","Полная",{"$f":"VLOOKUP(B96,#REF!,3,0)","v":{"$error":"#REF!"}},"2010230912 АО РАОС",0,"01.01.0001 0:00:00",null,0,0,0,100,100,0,0,0,0,0,0,0,0,0,0,0,0,0,null,null,null,null,"Полная","01.01.0001 0:00:00",null,null,null,null,100,0]
[96,2010990000,"РАСУ","Полная",{"$f":"VLOOKUP(B97,#REF!,3,0)","v":{"$error":"#REF!"}},"2010990000 РАСУ",0,"01.01.0001 0:00:00",null,0,0,0,0,100,100,0,0,0,0,0,0,0,0,0,0,0,0,null,null,null,null,null,"01.01.0001 0:00:00",null,null,null,null,100,0]
[97,2010020600,"РБМ","Полная",{"$f":"VLOOKUP(B98,#REF!,3,0)","v":{"$error":"#REF!"}},"2010020600 РБМ",0,"01.01.0001 0:00:00",null,0,0,0,98.706999999999994,98.758799999999994,5.1799999999999999E-2,0,0,0,0,0,0,0,0,0,0,0,0,null,null,null,null,"Полная","01.01.0001 0:00:00",null,null,null,null,100,0]
[98,2010590000,"Росэнергоатом","Полная",{"$f":"VLOOKUP(B99,#REF!,3,0)","v":{"$error":"#REF!"}},"2010590000 Росэнергоатом",0,"01.01.0001 0:00:00",null,0,0,0,91.6053,87.515100000000004,-4.0902000000000003,0,0,0,0,0,0,0,0,0,0,0,0,null,null,null,null,"Полная","01.01.0001 0:00:00",null,null,null,null,87.52,0]
[99,2010592200,"Русатом Сервис","Полная",{"$f":"VLOOKUP(B100,#REF!,3,0)","v":{"$error":"#REF!"}},"2010592200 Русатом Сервис",0,"01.01.0001 0:00:00",null,0,0,0,0,87.787599999999998,87.787599999999998,0,0,0,0,0,0,0,0,0,0,0,0,null,null,null,null,null,"01.01.0001 0:00:00",null,null,null,null,100,0]
[100,2010991000,"Русреактор","Полная",{"$f":"VLOOKUP(B101,#REF!,3,0)","v":{"$error":"#REF!"}},"2010991000 Русреактор",0,"01.01.0001 0:00:00",null,0,0,0,0,100,100,0,0,0,0,0,0,0,0,0,0,0,0,null,null,null,null,null,"01.01.0001 0:00:00",null,null,null,null,100,0]
[101,2011000000,"РХК","Полная",{"$f":"VLOOKUP(B102,#REF!,3,0)","v":{"$error":"#REF!"}},"2011000000 РХК",0,"01.01.0001 0:00:00",null,0,0,0,0,100,100,0,0,0,0,0,0,0,0,0,0,0,0,null,null,null,null,null,"01.01.0001 0:00:00",null,null,null,null,100,0]
[102,2010230911,"РЭМКО","Полная",{"$f":"VLOOKUP(B103,#REF!,3,0)","v":{"$error":"#REF!"}},"2010230911 РЭМКО",0,"01.01.0001 0:00:00",null,0,0,0,0,100,100,0,0,0,0,0,0,0,0,0,0,0,0,null,null,null,null,null,"01.01.0001 0:00:00",null,null,null,null,100,0]
[103,2010230916,"Сайпрус","Полная",{"$f":"VLOOKUP(B104,#REF!,3,0)","v":{"$error":"#REF!"}},"2010230916 Сайпрус",0,"01.01.0001 0:00:00",null,0,0,0,0,100,100,0,0,0,0,0,0,0,0,0,0,0,0,null,null,null,null,null,"01.01.0001 0:00:00",null,null,null,null,100,0]
[104,2010200000,"СвердНИИхиммаш","Полная",{"$f":"VLOOKUP(B105,#REF!,3,0)","v":{"$error":"#REF!"}},"2010200000 СвердНИИхиммаш",0,"01.01.0001 0:00:00",null,0,0,0,0,91.644900000000007,91.644900000000007,0,0,0,0,0,0,0,0,0,0,0,0,null,null,null,null,null,"01.01.0001 0:00:00",null,null,null,null,92.02,0]
[105,2010150300,"СГК","Полная",{"$f":"VLOOKUP(B106,#REF!,3,0)","v":{"$error":"#REF!"}},"2010150300 СГК",0,"01.01.0001 0:00:00",null,0,0,0,0,100,100,0,0,0,0,0,0,0,0,0,0,0,0,null,null,null,null,null,"01.01.0001 0:00:00",null,null,null,null,100,0]
[106,2010550001,"СЕТЕС","Полная",{"$f":"VLOOKUP(B107,#REF!,3,0)","v":{"$error":"#REF!"}},"2010550001 СЕТЕС",0,"01.01.0001 0:00:00",null,0,0,0,0,100,100,0,0,0,0,0,0,0,0,0,0,0,0,null,null,null,null,null,"01.01.0001 0:00:00",null,null,null,null,100,0]
[107,2010992000,"СМБ","Полная",{"$f":"VLOOKUP(B108,#REF!,3,0)","v":{"$error":"#REF!"}},"2010992000 СМБ",0,"01.01.0001 0:00:00",null,0,0,0,0,100,100,0,0,0,0,0,0,0,0,0,0,0,0,null,null,null,null,null,"01.01.0001 0:00:00",null,null,null,null,100,0]
[108,2010660000,"СНИИП","Полная",{"$f":"VLOOKUP(B109,#REF!,3,0)","v":{"$error":"#REF!"}},"2010660000 СНИИП",0,"01.01.0001 0:00:00",null,0,0,0,0,100,100,0,0,0,0,0,0,0,0,0,0,0,0,null,null,null,null,null,"01.01.0001 0:00:00",null,null,null,null,100,0]
[109,2010750000,"СПб ИЗОТОП","Полная",{"$f":"VLOOKUP(B110,#REF!,3,0)","v":{"$error":"#REF!"}},"2010750000 СПб ИЗОТОП",0,"01.01.0001 0:00:00",null,0,0,0,0,100,100,0,0,0,0,0,0,0,0,0,0,0,0,null,null,null,null,null,"01.01.0001 0:00:00",null,null,null,null,100,0]
[110,2010150200,"СТСК","Полная",{"$f":"VLOOKUP(B111,#REF!,3,0)","v":{"$error":"#REF!"}},"2010150200 СТСК",0,"01.01.0001 0:00:00",null,0,0,0,0,100,100,0,0,0,0,0,0,0,0,0,0,0,0,null,null,null,null,null,"01.01.0001 0:00:00",null,null,null,null,100,0]
[111,2010780000,"СХК","Полная",{"$f":"VLOOKUP(B112,#REF!,3,0)","v":{"$error":"#REF!"}},"2010780000 СХК",0,"01.01.0001 0:00:00",null,0,0,0,95.153300000000002,96.651600000000002,1.4983,0,0,0,0,0,0,0,0,0,0,0,0,null,null,null,null,"Полная","01.01.0001 0:00:00",null,null,null,null,96.65,0]
[112,2010230000,"ТВЭЛ","Полная",{"$f":"VLOOKUP(B113,#REF!,3,0)","v":{"$error":"#REF!"}},"2010230000 ТВЭЛ",0,"01.01.0001 0:00:00",null,0,0,0,100,100,0,0,0,0,0,0,0,0,0,0,0,0,0,null,null,null,null,"Полная","01.01.0001 0:00:00",null,null,null,null,100,0]
[113,2010231100,"ТВЭЛ-Строй","Полная",{"$f":"VLOOKUP(B114,#REF!,3,0)","v":{"$error":"#REF!"}},"2010231100 ТВЭЛ-Строй",0,"01.01.0001 0:00:00",null,0,0,0,0,90.746399999999994,90.746399999999994,0,0,0,0,0,0,0,0,0,0,0,0,null,null,null,null,null,"01.01.0001 0:00:00",null,null,null,null,100,0]
[114,2010240100,"ТЕНЕКС-Сервис","Полная",{"$f":"VLOOKUP(B115,#REF!,3,0)","v":{"$error":"#REF!"}},"2010240100 ТЕНЕКС-Сервис",0,"01.01.0001 0:00:00",null,0,0,0,100,100,0,0,0,0,0,0,0,0,0,0,0,0,0,null,null,null,null,"Полная","01.01.0001 0:00:00",null,null,null,null,100,0]
[115,2010230306,"Тепловодоканал","Полная",{"$f":"VLOOKUP(B116,#REF!,3,0)","v":{"$error":"#REF!"}},"2010230306 Тепловодоканал",0,"01.01.0001 0:00:00",null,0,0,0,0,100,100,0,0,0,0,0,0,0,0,0,0,0,0,null,null,null,null,null,"01.01.0001 0:00:00",null,null,null,null,100,0]
[116,2010240000,"Техснабэкспорт","Полная",{"$f":"VLOOKUP(B117,#REF!,3,0)","v":{"$error":"#REF!"}},"2010240000 Техснабэкспорт",0,"01.01.0001 0:00:00",null,0,0,0,100,100,0,0,0,0,0,0,0,0,0,0,0,0,0,null,null,null,null,"Полная","01.01.0001 0:00:00",null,null,null,null,100,0]
[117,2010440000,"Точмаш","Полная",{"$f":"VLOOKUP(B118,#REF!,3,0)","v":{"$error":"#REF!"}},"2010440000 Точмаш",0,"01.01.0001 0:00:00",null,0,0,0,0,100,100,0,0,0,0,0,0,0,0,0,0,0,0,null,null,null,null,null,"01.01.0001 0:00:00",null,null,null,null,100,0]
[118,2010440300,"Точмаш-авто","Полная",{"$f":"VLOOKUP(B119,#REF!,3,0)","v":{"$error":"#REF!"}},"2010440300 Точмаш-авто",0,"01.01.0001 0:00:00",null,0,0,0,0,100,100,0,0,0,0,0,0,0,0,0,0,0,0,null,null,null,null,null,"01.01.0001 0:00:00",null,null,null,null,100,0]
[119,2010240200,"ТЦ ТЕНЕКС","Полная",{"$f":"VLOOKUP(B120,#REF!,3,0)","v":{"$error":"#REF!"}},"2010240200 ТЦ ТЕНЕКС",0,"01.01.0001 0:00:00",null,0,0,0,0,58.584200000000003,58.584200000000003,0,0,0,0,0,0,0,0,0,0,0,0,null,null,null,null,null,"01.01.0001 0:00:00",null,null,null,null,99,0]
[120,2010020200,"УДК Горное","Полная",{"$f":"VLOOKUP(B121,#REF!,3,0)","v":{"$error":"#REF!"}},"2010020200 УДК Горное",0,"01.01.0001 0:00:00",null,0,0,0,0,98.758799999999994,98.758799999999994,0,0,0,0,0,0,0,0,0,0,0,0,null,null,null,null,null,"01.01.0001 0:00:00",null,null,null,null,100,0]
[121,2010411000,"УК Нижние котлы","Полная",{"$f":"VLOOKUP(B122,#REF!,3,0)","v":{"$error":"#REF!"}},"2010411000 УК Нижние котлы",0,"01.01.0001 0:00:00",null,0,0,0,0,95.554500000000004,95.554500000000004,0,0,0,0,0,0,0,0,0,0,0,0,null,null,null,null,null,"01.01.0001 0:00:00",null,null,null,null,100,0]
[122,2010242000,"Уралприбор","Полная",{"$f":"VLOOKUP(B123,#REF!,3,0)","v":{"$error":"#REF!"}},"2010242000 Уралприбор",0,"01.01.0001 0:00:00",null,0,0,0,0,100,100,0,0,0,0,0,0,0,0,0,0,0,0,null,null,null,null,null,"01.01.0001 0:00:00",null,null,null,null,100,0]
[123,2010020100,"УУГ","Полная",{"$f":"VLOOKUP(B124,#REF!,3,0)","v":{"$error":"#REF!"}},"2010020100 УУГ",0,"01.01.0001 0:00:00",null,0,0,0,0,99.732299999999995,99.732299999999995,0,0,0,0,0,0,0,0,0,0,0,0,null,null,null,null,null,"01.01.0001 0:00:00",null,null,null,null,100,0]
[124,2010800000,"УЭХК","Полная",{"$f":"VLOOKUP(B125,#REF!,3,0)","v":{"$error":"#REF!"}},"2010800000 УЭХК",0,"01.01.0001 0:00:00",null,0,0,0,0,87.49,87.49,0,0,0,0,0,0,0,0,0,0,0,0,null,null,null,null,null,"01.01.0001 0:00:00",null,null,null,null,87.49,0]
[125,2010230700,"Хиагда","Полная",{"$f":"VLOOKUP(B126,#REF!,3,0)","v":{"$error":"#REF!"}},"2010230700 Хиагда",0,"01.01.0001 0:00:00",null,0,0,0,98.706999999999994,98.758799999999994,5.1799999999999999E-2,0,0,0,0,0,0,0,0,0,0,0,0,null,null,null,null,"Полная","01.01.0001 0:00:00",null,null,null,null,100,0]
[126,2010911000,"ЦВТД","Полная",{"$f":"VLOOKUP(B127,#REF!,3,0)","v":{"$error":"#REF!"}},"2010911000 ЦВТД",0,"01.01.0001 0:00:00",null,0,0,0,0,98.933099999999996,98.933099999999996,0,0,0,0,0,0,0,0,0,0,0,0,null,null,null,null,null,"01.01.0001 0:00:00",null,null,null,null,100,0]
[127,2010870000,"ЦентрАтом","Полная",{"$f":"VLOOKUP(B128,#REF!,3,0)","v":{"$error":"#REF!"}},"2010870000 ЦентрАтом",0,"01.01.0001 0:00:00",null,0,0,0,0,100,100,0,0,0,0,0,0,0,0,0,0,0,0,null,null,null,null,null,"01.01.0001 0:00:00",null,null,null,null,100,0]
[128,2010820000,"ЦКБМ","Полная",{"$f":"VLOOKUP(B129,#REF!,3,0)","v":{"$error":"#REF!"}},"2010820000 ЦКБМ",0,"01.01.0001 0:00:00",null,0,0,0,100,100,0,0,0,0,0,0,0,0,0,0,0,0,0,null,null,null,null,"Полная","01.01.0001 0:00:00",null,null,null,null,100,0]
[129,2010140000,"ЦНИИТМАШ","Полная",{"$f":"VLOOKUP(B130,#REF!,3,0)","v":{"$error":"#REF!"}},"2010140000 ЦНИИТМАШ",0,"01.01.0001 0:00:00",null,0,0,0,100,61.131500000000003,-38.868499999999997,0,0,0,0,0,0,0,0,0,0,0,0,null,null,null,null,"Полная","01.01.0001 0:00:00",null,null,null,null,61.13,0]
[130,2010290000,"ЦОиС ОЛенКур","Полная",{"$f":"VLOOKUP(B131,#REF!,3,0)","v":{"$error":"#REF!"}},"2010290000 ЦОиС ОЛенКур",0,"01.01.0001 0:00:00",null,0,0,0,0,100,100,0,0,0,0,0,0,0,0,0,0,0,0,null,null,null,null,null,"01.01.0001 0:00:00",null,null,null,null,100,0]
[131,2010230300,"ЧМЗ","Полная",{"$f":"VLOOKUP(B132,#REF!,3,0)","v":{"$error":"#REF!"}},"2010230300 ЧМЗ",0,"01.01.0001 0:00:00",null,0,0,0,100,100,0,0,0,0,0,0,0,0,0,0,0,0,0,null,null,null,null,"Полная","01.01.0001 0:00:00",null,null,null,null,100,0]
[132,2010020400,"ЭГМК","Полная",{"$f":"VLOOKUP(B133,#REF!,3,0)","v":{"$error":"#REF!"}},"2010020400 ЭГМК",0,"01.01.0001 0:00:00",null,0,0,0,0,98.758799999999994,98.758799999999994,0,0,0,0,0,0,0,0,0,0,0,0,null,null,null,null,null,"01.01.0001 0:00:00",null,null,null,null,100,0]
[133,2010800800,"Экоальянс","Полная",{"$f":"VLOOKUP(B134,#REF!,3,0)","v":{"$error":"#REF!"}},"2010800800 Экоальянс",0,"01.01.0001 0:00:00",null,0,0,0,0,90.742599999999996,90.742599999999996,0,0,0,0,0,0,0,0,0,0,0,0,null,null,null,null,null,"01.01.0001 0:00:00",null,null,null,null,100,0]
[134,2010230110,"ЭЛЕМАШ-ТЭК","Полная",{"$f":"VLOOKUP(B135,#REF!,3,0)","v":{"$error":"#REF!"}},"2010230110 ЭЛЕМАШ-ТЭК",0,"01.01.0001 0:00:00",null,0,0,0,0,74.451700000000002,74.451700000000002,0,0,0,0,0,0,0,0,0,0,0,0,null,null,null,null,null,"01.01.0001 0:00:00",null,null,null,null,100,0]
[135,2010230943,"Энергомашспецсталь","Долевое участие",{"$f":"VLOOKUP(B136,#REF!,3,0)","v":{"$error":"#REF!"}},"2010230943 Энергомашспецсталь",0,"01.01.0001 0:00:00",null,0,0,0,0,46.338700000000003,46.338700000000003,0,0,0,0,0,0,0,0,0,0,0,0,null,null,null,null,null,"01.01.0001 0:00:00",null,null,null,null,92.68,0]
[136,2010270000,"Энергоспецмонтаж","Не консолидируется",{"$f":"VLOOKUP(B137,#REF!,3,0)","v":{"$error":"#REF!"}},"2010270000 Энергоспецмонтаж",0,"01.01.0001 0:00:00",null,0,0,0,0,0,0,0,0,0,0,0,0,0,0,0,0,0,0,null,null,null,null,null,"01.01.0001 0:00:00",null,null,null,null,0,0]
[137,2010830000,"ЭНИЦ","Полная",{"$f":"VLOOKUP(B138,#REF!,3,0)","v":{"$error":"#REF!"}},"2010830000 ЭНИЦ",0,"01.01.0001 0:00:00",null,0,0,0,0,87.515100000000004,87.515100000000004,0,0,0,0,0,0,0,0,0,0,0,0,null,null,null,null,null,"01.01.0001 0:00:00",null,null,null,null,100,0]
[138,2010840000,"ЭХЗ","Полная",{"$f":"VLOOKUP(B139,#REF!,3,0)","v":{"$error":"#REF!"}},"2010840000 ЭХЗ",0,"01.01.0001 0:00:00",null,0,0,0,100,100,0,0,0,0,0,0,0,0,0,0,0,0,0,null,null,null,null,"Полная","01.01.0001 0:00:00",null,null,null,null,100,0]
[139,2010912000,"ЯМТ-Снежинск","Полная",{"$f":"VLOOKUP(B140,#REF!,3,0)","v":{"$error":"#REF!"}},"2010912000 ЯМТ-Снежинск",0,"01.01.0001 0:00:00",null,0,0,0,0,50.805999999999997,50.805999999999997,0,0,0,0,0,0,0,0,0,0,0,0,null,null,null,null,null,"01.01.0001 0:00:00",null,null,null,null,76,0]
[140,2010410000,"НИИТФА","Полная",{"$f":"VLOOKUP(B141,#REF!,3,0)","v":{"$error":"#REF!"}},"2010410000 НИИТФА",0,"01.01.0001 0:00:00",null,0,0,0,100,95.554500000000004,-4.4455,0,0,0,0,0,0,0,0,0,0,0,0,null,null,null,null,"Полная","01.01.0001 0:00:00",null,null,null,null,95.55,0]
[141,2010410000,"Нижние котлы-ДУ","Полная",{"$f":"VLOOKUP(B142,#REF!,3,0)","v":{"$error":"#REF!"}},"2010410000 Нижние котлы-ДУ",0,"01.01.0001 0:00:00",null,0,0,0,0,95.554500000000004,95.554500000000004,0,0,0,0,0,0,0,0,0,0,0,0,null,null,null,null,null,"01.01.0001 0:00:00",null,null,null,null,95.55,0]
[142,2010630100,"С-плюс","Долевое участие",{"$f":"VLOOKUP(B143,#REF!,3,0)","v":{"$error":"#REF!"}},"2010630100 С-плюс",0,"01.01.0001 0:00:00",null,0,0,0,0,39.4026,39.4026,0,0,0,0,0,0,0,0,0,0,0,0,null,null,null,null,null,"01.01.0001 0:00:00",null,null,null,null,51,0]
[143,6080000000,"ЦУФС","Полная",{"$f":"VLOOKUP(B144,#REF!,3,0)","v":{"$error":"#REF!"}},"6080000000 ЦУФС",0,"01.01.0001 0:00:00",null,0,0,0,0,100,100,0,0,0,0,0,0,0,0,0,0,0,0,null,null,null,null,null,"01.01.0001 0:00:00",null,null,null,null,100,0]
[144,2019000000,"НоваВинд","Полная",{"$f":"VLOOKUP(B145,#REF!,3,0)","v":{"$error":"#REF!"}},"2019000000 НоваВинд",0,"01.01.0001 0:00:00",null,0,0,0,0,100,100,0,0,0,0,0,0,0,0,0,0,0,0,null,null,null,null,null,"01.01.0001 0:00:00",null,null,null,null,100,0]
[145,2010021800,"Первая горнорудная компания","Полная",{"$f":"VLOOKUP(B146,#REF!,3,0)","v":{"$error":"#REF!"}},"2010021800 Первая горнорудная компания",0,"01.01.0001 0:00:00",null,0,0,0,0,98.501999999999995,98.501999999999995,0,0,0,0,0,0,0,0,0,0,0,0,null,null,null,null,null,"01.01.0001 0:00:00",null,null,null,null,99.74,0]
[146,2010241400,"TENEX-Japan","Полная",{"$f":"VLOOKUP(B147,#REF!,3,0)","v":{"$error":"#REF!"}},"2010241400 TENEX-Japan",0,"01.01.0001 0:00:00",null,0,0,0,0,100,100,0,0,0,0,0,0,0,0,0,0,0,0,null,null,null,null,null,"01.01.0001 0:00:00",null,null,null,null,100,0]
[147,2010241300,"TENEX-Korea","Полная",{"$f":"VLOOKUP(B148,#REF!,3,0)","v":{"$error":"#REF!"}},"2010241300 TENEX-Korea",0,"01.01.0001 0:00:00",null,0,0,0,0,100,100,0,0,0,0,0,0,0,0,0,0,0,0,null,null,null,null,null,"01.01.0001 0:00:00",null,null,null,null,100,0]
[148,2010244200,"UMATEX Composite Materials Trading","Полная",{"$f":"VLOOKUP(B149,#REF!,3,0)","v":{"$error":"#REF!"}},"2010244200 UMATEX Composite Materials Trading",0,"01.01.0001 0:00:00",null,0,0,0,0,59.176000000000002,59.176000000000002,0,0,0,0,0,0,0,0,0,0,0,0,null,null,null,null,null,"01.01.0001 0:00:00",null,null,null,null,100,0]
[149,2010243200,"UMATEX Group Europe","Полная",{"$f":"VLOOKUP(B150,#REF!,3,0)","v":{"$error":"#REF!"}},"2010243200 UMATEX Group Europe",0,"01.01.0001 0:00:00",null,0,0,0,0,59.176000000000002,59.176000000000002,0,0,0,0,0,0,0,0,0,0,0,0,null,null,null,null,null,"01.01.0001 0:00:00",null,null,null,null,100,0]
[150,2010630200,"АтомИнвест","Долевое участие",{"$f":"VLOOKUP(B151,#REF!,3,0)","v":{"$error":"#REF!"}},"2010630200 АтомИнвест",0,"01.01.0001 0:00:00",null,0,0,0,0,39.4026,39.4026,0,0,0,0,0,0,0,0,0,0,0,0,null,null,null,null,null,"01.01.0001 0:00:00",null,null,null,null,51,0]
[151,2010150100,"СЭСК","Не консолидируется",{"$f":"VLOOKUP(B152,#REF!,3,0)","v":{"$error":"#REF!"}},"2010150100 СЭСК",0,"01.01.0001 0:00:00",null,0,0,0,0,20,20,0,0,0,0,0,0,0,0,0,0,0,0,null,null,null,null,null,"01.01.0001 0:00:00",null,null,null,null,20,0]

{"sheet":"Список_компаний","index":9,"n_rows":427,"n_cols":13,"rows_kept":427,"cut":false,"hidden":true,"merged":[]}
[]
["Номер ЦФО","Сокращенное название","ИНН","ГИД НСИ","Номер ЦФО","Полное название","Организации Госкорпорации «Росатом», \n предоставляют информацию для финансовой отчетности (ФСД)  и осуществляют сверку в Портале ВГО.","Организации Госкорпорации «Росатом», включены в периметр ПФА","Включена в Периметр АЭПК по МСФО","Включена в Периметр ГК по МСФО","Признак КГН","Компании с эффективной долей Госкорпорации \"Росатом\" более 50%, но по которым планируется мероприятия по отчуждению акций/долей в уставном капитале, или находящиеся  в стадии ликвидации/реорганизации или банкротства"]
[null,"Гос.контракты","Гос.контракты",10011,null,null,null,null,null,null,null,null,{"$f":"VLOOKUP(A3,#REF!,2,0)","v":{"$error":"#REF!"}}]
[null,"Внешние контрагенты","Внешние контрагенты",10015,null,null,"Нет",null,"Нет","Нет",null,null,{"$f":"VLOOKUP(A4,#REF!,2,0)","v":{"$error":"#REF!"}}]
[null,"Физические лица","Физические лица",10000,null,null,"Нет",null,"Нет","Нет",null,null,{"$f":"VLOOKUP(A5,#REF!,2,0)","v":{"$error":"#REF!"}}]
[null,"НДС с авансов","НДС с авансов",10018,null,null,"Нет",null,"Нет","Нет",null,null,{"$f":"VLOOKUP(A6,#REF!,2,0)","v":{"$error":"#REF!"}}]
[2010230922,"ARAKO","CZ47152371",104,2010230922,"ARAKO spol. s r.o.","Да","Да","Да","Да",null,null,{"$f":"VLOOKUP(A7,#REF!,2,0)","v":{"$error":"#REF!"}}]
[2010243200,"UMATEX Group Europe","CZ05556121",513680,2010243200,"UMATEX Group Europe s.r.o.","Да",null,"Да","Да",null,null,{"$f":"VLOOKUP(A8,#REF!,2,0)","v":{"$error":"#REF!"}}]
[2010244200,"UMATEX Composite Materials Trading","91310000MA1FW5B51F",513685,2010244200,"UMATEX Composite Materials Trading (Shanghai) Co.,Ltd.","Да",null,"Да","Да",null,null,{"$f":"VLOOKUP(A9,#REF!,2,0)","v":{"$error":"#REF!"}}]
[2010021200,"Uranium One Holding N.V.",817104549,254,2010021200,"Uranium One Holding N.V.","Да","Да","Да","Да",null,null,{"$f":"VLOOKUP(A10,#REF!,2,0)","v":{"$error":"#REF!"}}]
[2010021506,"Uranium One Trading AG","CHE-233.935.921 ",484676,2010021506,"Uranium One Trading AG","Да","Да","Да","Да",null,null,{"$f":"VLOOKUP(A11,#REF!,2,0)","v":{"$error":"#REF!"}}]
[2010241200,"INTERNEXCO",4023602999,124,2010241200,"INTERNEXCO GmbH","Да","Да","Да","Да",null,null,{"$f":"VLOOKUP(A12,#REF!,2,0)","v":{"$error":"#REF!"}}]
[2010241000,"INTERNEXCO GmbH (Швейцария)","CHE-255.290.400",407428,2010241000,"INTERNEXCO GmbH (Швейцария)","Да","Да","Да","Да",null,null,{"$f":"VLOOKUP(A13,#REF!,2,0)","v":{"$error":"#REF!"}}]
[2010820100,"Ganz","10806481-2-42",141186,2010820100,"Ganz Energetika Kft. ООО «Ганз Инженерное и Энергетическое Машиностроение»","Да","Да","Да","Да",null,null,{"$f":"VLOOKUP(A14,#REF!,2,0)","v":{"$error":"#REF!"}}]
[2010021600,"Mantra Resources Ltd.",833296300,193128,2010021600,"Mantra Resources Pty Ltd.","Да","Да","Да","Да",null,null,{"$f":"VLOOKUP(A15,#REF!,2,0)","v":{"$error":"#REF!"}}]
[2010450107,"NUKEM","204/115/21479",276,2010450107,"NUKEM Technologies GmbH","Да","Да",null,"Да",null,null,{"$f":"VLOOKUP(Список_компаний!E16,#REF!,2,0)","v":{"$error":"#REF!"}}]
[2010450112,"Nukem Technologies","204/115/21517",360342,2010450112,"Nukem Technologies Engineering Services GmbH","Да","Да",null,"Да",null,null,{"$f":"VLOOKUP(Список_компаний!E17,#REF!,2,0)","v":{"$error":"#REF!"}}]
[2010240310,"KWINDER HOLDINGS LIMITED","12277016L",219342,2010240310,"KWINDER HOLDINGS LIMITED","Да",null,"Да","Да",null,null,{"$f":"VLOOKUP(A18,#REF!,2,0)","v":{"$error":"#REF!"}}]
[2010021500,"Uranium","88897 7170 RC0001",154744,2010021500,"Uranium One Inc.","Да","Да","Да","Да",null,null,{"$f":"VLOOKUP(A19,#REF!,2,0)","v":{"$error":"#REF!"}}]
[2010230952,"UMP Trading","903.1.000.8205",389124,2010230952,"UMP Trading (Швейцария)","Да","Да","Да","Да",null,null,{"$f":"VLOOKUP(A20,#REF!,2,0)","v":{"$error":"#REF!"}}]
[2010940000,"ROSATOM FINANCE",9909431723,206017,2010940000,"ROSATOM FINANCE LTD (Росатом Финанс ЛТД)","Да","Да","Да","Да",null,null,{"$f":"VLOOKUP(A21,#REF!,2,0)","v":{"$error":"#REF!"}}]
[2010931000,"RAOS Voima","2596476-2",340080,2010931000,"RAOS Voima Oy","Да",null,"Да","Да",null,null,{"$f":"VLOOKUP(A22,#REF!,2,0)","v":{"$error":"#REF!"}}]
[2010932000,"RAOS Project",386588,386588,2010932000,"RAOS Project Oy","Да","Да","Да","Да",null,null,{"$f":"VLOOKUP(A23,#REF!,2,0)","v":{"$error":"#REF!"}}]
[2010242400,"TRADEWILL LIMITED","GB987386840",268,2010242400,"TRADEWILL LIMITED","Да","Да","Да","Да",null,null,{"$f":"VLOOKUP(A24,#REF!,2,0)","v":{"$error":"#REF!"}}]
[2010242500,"TENAM","68-068-0771",185864,2010242500,"TENAM Corporation","Да","Да","Да","Да",null,null,{"$f":"VLOOKUP(A25,#REF!,2,0)","v":{"$error":"#REF!"}}]
[2010241400,"TENEX-Japan",379387,126,2010241400,"KABUSHIKIKAISHA TENEX-JAPAN (TENEX-Japan Co.)","Да","Да","Да","Да",null,null,{"$f":"VLOOKUP(A26,#REF!,2,0)","v":{"$error":"#REF!"}}]
[2010241300,"TENEX-Korea","120-86-48471",125,2010241300,"TENEX-Korea Co., Ltd.","Да","Да","Да","Да",null,null,{"$f":"VLOOKUP(A27,#REF!,2,0)","v":{"$error":"#REF!"}}]
[2010230948,"EMSS Holdings","HE 245521",219340,2010230948,"EMSS Holdings Limited (ЭМСС ХОЛДИНГЗ ЛИМИТЕД)","Да","Да","Да","Да",null,null,{"$f":"VLOOKUP(A28,#REF!,2,0)","v":{"$error":"#REF!"}}]
[4160000000,"АКМЭ-Инжиниринг",7706729140,337,4160000000,"АО \"АКМЭ-Инжиниринг\"","Да","Да","сп","сп",null,null,{"$f":"VLOOKUP(A29,#REF!,2,0)","v":{"$error":"#REF!"}}]
[2010242201,"АЛАБУГА-ВОЛОКНО",1646031132,228298,2010242201,"ООО \"Алабуга-Волокно\"","Да","Да","Да","Да",null,null,{"$f":"VLOOKUP(A30,#REF!,2,0)","v":{"$error":"#REF!"}}]
[2010240800,"Аргон",6454074501,121,2010240800,"ООО \"Аргон\"","Да","Да","Да","Да",null,null,{"$f":"VLOOKUP(A31,#REF!,2,0)","v":{"$error":"#REF!"}}]
[2010020000,"АРМЗ",7706016076,17,2010020000,"АО \"Атомредметзолото\"","Да","Да","Да","Да","Да",null,{"$f":"VLOOKUP(A32,#REF!,2,0)","v":{"$error":"#REF!"}}]
[2010450108,"Аккую Нуклеар",310546698,261459,2010450108,"АО\"Аккую Нуклеар\"","Да","Да","Да","Да",null,null,{"$f":"VLOOKUP(A33,#REF!,2,0)","v":{"$error":"#REF!"}}]
[2010450100,"АСЭ",7701186067,153,2010450100,"АО \"Атомстройэкспорт\"","Да","Да",null,"Да","Да",null,{"$f":"VLOOKUP(Список_компаний!E34,#REF!,2,0)","v":{"$error":"#REF!"}}]
[2010450103,"АСЭ-Инжиниринг",7705856636,156,2010450103,"ООО \"АСЭ-Инжиниринг\"","Да","Да",null,"Да",null,null,{"$f":"VLOOKUP(Список_компаний!E35,#REF!,2,0)","v":{"$error":"#REF!"}}]
[2010010000,"АТА",7724560930,251,2010010000,"АО \"Альянстрансатом\"","Да","Да","Да","Да","Да",null,{"$f":"VLOOKUP(A36,#REF!,2,0)","v":{"$error":"#REF!"}}]
[2010230915,"АТМ",7734242302,97,2010230915,"АО \"Атомтрубопроводмонтаж\"","Да","Да","Да","Да",null,null,{"$f":"VLOOKUP(A37,#REF!,2,0)","v":{"$error":"#REF!"}}]
[2010630200,"АтомИнвест",7720398363,523235,2010630200,"ООО «АтомИнвест» ","Да",null,"Да","Да",null,null,{"$f":"VLOOKUP(A38,#REF!,2,0)","v":{"$error":"#REF!"}}]
[2010933000,"АтомМедТехнолоджи-ДВ",2536279414,385789,2010933000,"ООО \"АтомМедТехнолоджи- Дальний Восток\"","Да","Да","Да","Да",null,null,{"$f":"VLOOKUP(A39,#REF!,2,0)","v":{"$error":"#REF!"}}]
[3040000000,"Атомбезопасность",5042009244,224,3040000000,"ФГУП \"Координационный Центр по созданию систем безопасности и управления \"Атомбезопасность\"","Да","Да",null,"Да",null,null,{"$f":"VLOOKUP(Список_компаний!E40,#REF!,2,0)","v":{"$error":"#REF!"}}]
[3070000000,"Атомзащитаинформ",7706031557,227,3070000000,"ФГУП \"Научно-технический и сертификационный центр по комплексной защите информации\"","Да","Да",null,"Да",null,null,{"$f":"VLOOKUP(Список_компаний!E41,#REF!,2,0)","v":{"$error":"#REF!"}}]
[6090000000,"Атомкомплект",7706738770,336,6090000000,"АО \"Атомкомплект\"","Да","Да",null,"Да",null,null,{"$f":"VLOOKUP(Список_компаний!E42,#REF!,2,0)","v":{"$error":"#REF!"}}]
[6020000000,"Атом-охрана",7706289940,334,6020000000,"ФГУП \"Ведомственная охрана Росатома\"","Да","Да",null,"Да",null,null,{"$f":"VLOOKUP(Список_компаний!E43,#REF!,2,0)","v":{"$error":"#REF!"}}]
[2010340000,"Атомспецтранс",7717609102,140,2010340000,"АО \"Атомспецтранс\"","Да","Да","Да","Да",null,null,{"$f":"VLOOKUP(A44,#REF!,2,0)","v":{"$error":"#REF!"}}]
[2010350000,"Атомтехэнерго",5029106714,141,2010350000,"АО по наладке, совершенствованию эксплуатации и организации управления атомных станций \"Атомтехэнерго\"","Да","Да","Да","Да","Да",null,{"$f":"VLOOKUP(A45,#REF!,2,0)","v":{"$error":"#REF!"}}]
[3100000000,"Атомфлот",5192110268,230,3100000000,"ФГУП атомного флота (ФГУП \"Атомфлот\")","Да","Да",null,"Да",null,null,{"$f":"VLOOKUP(Список_компаний!E46,#REF!,2,0)","v":{"$error":"#REF!"}}]
[2010230900,"Атомэнергомаш",7706614573,88,2010230900,"АО \"Атомное и энергетическое машиностроение\" (АО \"Атомэнергомаш\")","Да","Да","Да","Да","Да",null,{"$f":"VLOOKUP(A47,#REF!,2,0)","v":{"$error":"#REF!"}}]
[2010591300,"Атомэнергосбыт",7704228075,172,2010591300,"АО \"АтомЭнергоСбыт\"","Да","Да","Да","Да",null,null,{"$f":"VLOOKUP(A48,#REF!,2,0)","v":{"$error":"#REF!"}}]
[2010590700,"Атомэнергоремонт",5029112443,296,2010590700,"АО \"Атомэнергоремонт\"","Да","Да","Да","Да","Да",null,{"$f":"VLOOKUP(A49,#REF!,2,0)","v":{"$error":"#REF!"}}]
[2010591900,"Атомтехэкспорт",7705408850,343,2010591900,"АО \"Атомтехэкспорт\"","Да","Да","Да","Да",null,null,{"$f":"VLOOKUP(A50,#REF!,2,0)","v":{"$error":"#REF!"}}]
[2010591320,"Атомэнергопромсбыт",7725828549,365478,2010591320,"АО \"Атомэнергопромсбыт\"","Да","Да","Да","Да",null,null,{"$f":"VLOOKUP(A51,#REF!,2,0)","v":{"$error":"#REF!"}}]
[2010110000,"АтомКапитал",7706792008,308377,2010110000,"АО \"АтомКапитал\"","Да","Да","","Да",null,null,{"$f":"VLOOKUP(Список_компаний!E52,#REF!,2,0)","v":{"$error":"#REF!"}}]
[2010460000,"АТОМПРОЕКТ",7814417371,158,2010460000,"АО \"Научно-исследовательский и проектно-конструкторский институт энергетических технологий \"АТОМПРОЕКТ\"","Да","Да","Да","Да","Да",null,{"$f":"VLOOKUP(A53,#REF!,2,0)","v":{"$error":"#REF!"}}]
[3010000000,"АТЦ СПб",7802145892,221,3010000000,"ФГУП \"Аварийно-технический центр Минатома России\" (г. Санкт-Петербург)","Да","Да",null,"Да",null,null,{"$f":"VLOOKUP(Список_компаний!E54,#REF!,2,0)","v":{"$error":"#REF!"}}]
[2010230904,"АЭМ-технологии",7817311895,353,2010230904,"АО Инжиниринговая компания \"АЭМ-технологии\"","Да","Да","Да","Да","Да",null,{"$f":"VLOOKUP(A55,#REF!,2,0)","v":{"$error":"#REF!"}}]
[6090010000,"АЭМ-активы",7706785593,300641,6090010000,"ООО «АЭМ-активы»","Да","Да","Да","Да",null,null,{"$f":"VLOOKUP(A56,#REF!,2,0)","v":{"$error":"#REF!"}}]
[2010230902,"АЭМ-лизинг",7706673635,90,2010230902,"АО \"АЭМ-лизинг\"","Да","Да","Да","Да",null,null,{"$f":"VLOOKUP(A57,#REF!,2,0)","v":{"$error":"#REF!"}}]
[2010360000,"АЭП",7701796320,143,2010360000,"АО  \"Атомэнергопроект\"","Да","Да",null,"Да","Да",null,{"$f":"VLOOKUP(Список_компаний!E58,#REF!,2,0)","v":{"$error":"#REF!"}}]
[2010000000,"АЭПК",7706664260,16,2010000000,"АО \"Атомный энергопромышленный комплекс\" (АО \"Атомэнергопром\")","Да","Да","Да","Да","Да",null,{"$f":"VLOOKUP(A59,#REF!,2,0)","v":{"$error":"#REF!"}}]
[2010370000,"АЭХК",3801098402,144,2010370000,"АО \"Ангарский электролизный химический комбинат\"","Да","Да","Да","Да","Да",null,{"$f":"VLOOKUP(A60,#REF!,2,0)","v":{"$error":"#REF!"}}]
[1010000000,"Базальт",6432003698,1,1010000000,"ФГУП \"Базальт\"","Да","Да",null,"Да",null,null,{"$f":"VLOOKUP(Список_компаний!E61,#REF!,2,0)","v":{"$error":"#REF!"}}]
[2010592100,"Балтийская АЭС",3904612644,360,2010592100,"АО \"Балтийская АЭС\"","Да",null,"Да","Да",null,null,{"$f":"VLOOKUP(A62,#REF!,2,0)","v":{"$error":"#REF!"}}]
[2010380000,"ВО Изотоп",7704674312,145,2010380000,"АО \"Всерегиональное объединение \"Изотоп\"","Да","Да",null,"Да",null,null,{"$f":"VLOOKUP(Список_компаний!E63,#REF!,2,0)","v":{"$error":"#REF!"}}]
[2010050000,"Вента",6624002377,28,2010050000,"ОАО \"Нижнетуринский машиностроительный завод \"Вента\"","Да","Да","Да","Да",null,null,{"$f":"VLOOKUP(A64,#REF!,2,0)","v":{"$error":"#REF!"}}]
[2010230956,"ВетроОГК",5036118291,261160,2010230956,"АО \"Ветроэнергетическая отдельная генерирующая компания\"","Да","Да","Да","Да",null,null,{"$f":"VLOOKUP(A65,#REF!,2,0)","v":{"$error":"#REF!"}}]
[1020000000,"ВНИИА",7707074137,2,1020000000,"ФГУП \"Всероссийский научно-исследовательский институт автоматики им. Н.Л. Духова\"","Да","Да",null,"Да",null,null,{"$f":"VLOOKUP(Список_компаний!E66,#REF!,2,0)","v":{"$error":"#REF!"}}]
[2010591800,"ВНИИАЭС",7721247141,348,2010591800,"АО\"Всеросийский научно-исследовательский институт по эксплуатации атомных электростанций\"","Да","Да","Да","Да","Да",null,{"$f":"VLOOKUP(A67,#REF!,2,0)","v":{"$error":"#REF!"}}]
[2010390000,"ВНИИАМ (АЭПК)",7743654609,147,2010390000,"АО \"Всероссийский научно-исследовательский и проектно-конструкторский институт атомного энергетического машиностроения (ВНИИАМ)\"","Да","Да","Да","Да",null,null,{"$f":"VLOOKUP(A68,#REF!,2,0)","v":{"$error":"#REF!"}}]
[2010400000,"ВНИИНМ",7734598490,148,2010400000,"АО \"Всероссийский научно-исследовательский институт неорганических материалов имени академика А.А. Бочвара\"","Да","Да","Да","Да","Да",null,{"$f":"VLOOKUP(A69,#REF!,2,0)","v":{"$error":"#REF!"}}]
[1110000000,"ВНИИТФ",7423000572,10,1110000000,"ФГУП \"Российский Федеральный Ядерный Центр - Всероссийский научно-исследовательский институт технической физики имени академика Е.И. Забабахина\"","Да","Да",null,"Да",null,null,{"$f":"VLOOKUP(Список_компаний!E70,#REF!,2,0)","v":{"$error":"#REF!"}}]
[2010420000,"ВНИИХТ",7724675770,272,2010420000,"АО \"Ведущий научно-исследовательский институт химической технологии (ВНИИХТ)\"","Да","Да","Да","Да",null,null,{"$f":"VLOOKUP(A71,#REF!,2,0)","v":{"$error":"#REF!"}}]
[1150000000,"ВНИИЭФ",5254001230,14,1150000000,"ФГУП \"Российский федеральный ядерный центр–Всероссийский научно- исследовательский институт экспериментальной физики\" (ФГУП \"РФЯЦ-ВНИИЭФ\")","Да","Да",null,"Да",null,null,{"$f":"VLOOKUP(Список_компаний!E72,#REF!,2,0)","v":{"$error":"#REF!"}}]
[2010430000,"ВНИПИПромтехнологии",7724683379,150,2010430000,"АО \"Ведущий проектно-изыскательский и научно-исследовательский институт промышленной технологии\"","Да","Да","Да","Да","Да",null,{"$f":"VLOOKUP(A73,#REF!,2,0)","v":{"$error":"#REF!"}}]
[1170000000,"ВЭИ",7722026032,136942,1170000000,"ФГУП \"Всероссийский электротехнический институт В.И. Ленина\"","Да","Да",null,"Да",null,null,{"$f":"VLOOKUP(Список_компаний!E74,#REF!,2,0)","v":{"$error":"#REF!"}}]
[2010710000,"Гидропресс",5036092340,184,2010710000,"АО \"Ордена Трудового Красного Знамени и ордена труда ЧССР - опытное конструкторское бюро \"ГИДРОПРЕСС\"","Да","Да","Да","Да","Да",null,{"$f":"VLOOKUP(A75,#REF!,2,0)","v":{"$error":"#REF!"}}]
[2010470000,"Гиредмет",7706699062,279,2010470000,"АО \"Государственный научно-исследовательский проектный институт редкометаллической промышленности \"Гиредмет\"","Да","Да","Да","Да",null,null,{"$f":"VLOOKUP(A76,#REF!,2,0)","v":{"$error":"#REF!"}}]
["0000000002","Госкорпорация Росатом",7706413348,250,"0000000002","Государственная корпорация по атомной энергии \"Росатом\"","Да","Да",null,"Да","Да",null,{"$f":"VLOOKUP(Список_компаний!E77,#REF!,2,0)","v":{"$error":"#REF!"}}]
[2010900000,"Гринатом",7706729736,246,2010900000,"АО \"Гринатом\"","Да","Да","Да","Да",null,null,{"$f":"VLOOKUP(A78,#REF!,2,0)","v":{"$error":"#REF!"}}]
[2010500000,"ГСПИ",7708697977,162,2010500000,"АО \"Государственный специализированный проектный институт\" (АО \"ГСПИ\")","Да","Да","Да","Да",null,null,{"$f":"VLOOKUP(A79,#REF!,2,0)","v":{"$error":"#REF!"}}]
[3020000000,"ГХК",2452000401,222,3020000000,"ФГУП \"Горно-химический комбинат\"","Да","Да",null,"Да",null,null,{"$f":"VLOOKUP(Список_компаний!E80,#REF!,2,0)","v":{"$error":"#REF!"}}]
[2010230800,"Далур",4506004751,87,2010230800,"АО \"Далур\"","Да","Да","Да","Да","Да",null,{"$f":"VLOOKUP(A81,#REF!,2,0)","v":{"$error":"#REF!"}}]
[2010510000,"Дедал",5010036460,281,2010510000,"АО \"Научно-производственный комплекс \"Дедал\"","Да","Да","Да","Да",null,null,{"$f":"VLOOKUP(A82,#REF!,2,0)","v":{"$error":"#REF!"}}]
[2010890000,"ДЕЗ",7706730001,347,2010890000,"АО \"Дирекция Единого Заказа оборудования для АЭС\"","Да","Да","Да","Да","Да",null,{"$f":"VLOOKUP(A83,#REF!,2,0)","v":{"$error":"#REF!"}}]
[2010020602,"АРМЗ-Сервис",7708671295,24,2010020602,"Общество с ограниченной ответственностью \"АРМЗ Сервис\"","Да","Да","Да","Да","Да",null,{"$f":"VLOOKUP(A84,#REF!,2,0)","v":{"$error":"#REF!"}}]
[2010450000,"ЗАЭС",7701763846,152,2010450000,"АО \"Всероссийское производственное объединение \"Зарубежатомэнергострой\" (АО \"ВПО \"ЗАЭС\")","Да","Да","Да","Да",null,null,{"$f":"VLOOKUP(A85,#REF!,2,0)","v":{"$error":"#REF!"}}]
[2010230917,"ЗИОМАР",5036039258,99,2010230917,"АО \"Инжиниринговая компания \"ЗИОМАР\"","Да","Да","Да","Да",null,null,{"$f":"VLOOKUP(A86,#REF!,2,0)","v":{"$error":"#REF!"}}]
[2010230918,"ЗиО-Подольск",5036040729,100,2010230918,"ПАО \"Машиностроительный завод \"ЗиО Подольск\"","Да","Да","Да","Да","Да",null,{"$f":"VLOOKUP(A87,#REF!,2,0)","v":{"$error":"#REF!"}}]
[2010241600,"ЗУКМ",7450045935,127,2010241600,"ООО \"Завод углеродных и композиционных материалов\"","Да","Да","Да","Да",null,null,{"$f":"VLOOKUP(A88,#REF!,2,0)","v":{"$error":"#REF!"}}]
[2010540000,"ИРМ",6639019655,163,2010540000,"АО \"Институт реакторных материалов\"","Да","Да","Да","Да",null,null,{"$f":"VLOOKUP(A89,#REF!,2,0)","v":{"$error":"#REF!"}}]
[1150000006,"ИиС РФЯЦ - ВНИИЭФ",5254491506,481838,1150000006,"АО \"Инфраструктура и Сервис РФЯЦ - ВНИИЭФ\"","Да",null,null,"Да",null,null,{"$f":"VLOOKUP(Список_компаний!E90,#REF!,2,0)","v":{"$error":"#REF!"}}]
[2010242300,"ИЦ РГЦ",7706689000,134,2010242300,"АО \"Инжиниринговый центр \"Русская газовая центрифуга\"","Да","Да","Да","Да",null,null,{"$f":"VLOOKUP(A91,#REF!,2,0)","v":{"$error":"#REF!"}}]
[2010230001,"Искра",2453014750,339,2010230001,"ООО \"Искра\"","Да",null,"Да","Да",null,null,{"$f":"VLOOKUP(A92,#REF!,2,0)","v":{"$error":"#REF!"}}]
[2010551000,"ЖТЭЦ",2458013365,367574,2010551000,"АО \"Железногорская ТЭЦ\"","Да","Да","Да","Да",null,null,{"$f":"VLOOKUP(A93,#REF!,2,0)","v":{"$error":"#REF!"}}]
[2010240600,"КМЗ",3305004397,119,2010240600,"ПАО \"Ковровский механический завод\"","Да","Да","Да","Да","Да",null,{"$f":"VLOOKUP(A94,#REF!,2,0)","v":{"$error":"#REF!"}}]
[2010600000,"Красная Звезда",7726682003,217178,2010600000,"АО \"Красная Звезда\"","Да","Да","Да","Да",null,null,{"$f":"VLOOKUP(A95,#REF!,2,0)","v":{"$error":"#REF!"}}]
[2010241100,"Краун",7705833438,123,2010241100,"ООО \"Краун\"","Да","Да","Да","Да",null,null,{"$f":"VLOOKUP(A96,#REF!,2,0)","v":{"$error":"#REF!"}}]
[2010590317,"Консист-ОС",7711077412,285,2010590317,"АО \"Консист-Оператор-Связи\"","Да","Да","Да","Да",null,null,{"$f":"VLOOKUP(A97,#REF!,2,0)","v":{"$error":"#REF!"}}]
[2010231300,"КЦ",7715020463,113,2010231300,"АО \"Коммерческий центр\"","Да",null,"Да","Да",null,null,{"$f":"VLOOKUP(A98,#REF!,2,0)","v":{"$error":"#REF!"}}]
[2010242601,"ЛЗ Петрозаводскмаш",1001201343,359,2010242601,"ООО Литейный завод  \"Петрозаводскмаш»","Да","Да","Да","Да",null,null,{"$f":"VLOOKUP(A99,#REF!,2,0)","v":{"$error":"#REF!"}}]
[1070000000,"Маяк",7422000795,6,1070000000,"ФГУП \"Производственное объединение \"Маяк\"","Да","Да",null,"Да",null,null,{"$f":"VLOOKUP(Список_компаний!E100,#REF!,2,0)","v":{"$error":"#REF!"}}]
[1190000000,"Марс",7707058167,249966,1190000000,"ФГУП «Московское опытно-конструкторское бюро «Марс»","Да","Да",null,"Да",null,null,{"$f":"VLOOKUP(Список_компаний!E101,#REF!,2,0)","v":{"$error":"#REF!"}}]
[2010100000,"МЗП",7724558466,30,2010100000,"АО \"Московский завод полиметаллов\"","Да","Да","Да","Да","Да",null,{"$f":"VLOOKUP(A102,#REF!,2,0)","v":{"$error":"#REF!"}}]
[2010740000,"Молния",7721730486,214196,2010740000,"АО \"Производственное объединение \"Машиностроительный завод \"Молния\"","Да","Да","Да","Да",null,null,{"$f":"VLOOKUP(A103,#REF!,2,0)","v":{"$error":"#REF!"}}]
[2010230115,"МСЗ-М",5053066861,59,2010230115,"ООО \"МСЗ-МЕХАНИКА\"","Да",null,"Да","Да",null,null,{"$f":"VLOOKUP(A104,#REF!,2,0)","v":{"$error":"#REF!"}}]
[2010230100,"МСЗ",5053005918,46,2010230100,"ПАО \"Машиностроительный завод\"","Да","Да","Да","Да",null,null,{"$f":"VLOOKUP(A105,#REF!,2,0)","v":{"$error":"#REF!"}}]
[4010000100,"Наука и инновации",7706760091,215181,4010000100,"АО \"Наука и инновации\"","Да","Да","Да","Да",null,null,{"$f":"VLOOKUP(A106,#REF!,2,0)","v":{"$error":"#REF!"}}]
[2010630000,"НИИГрафит",7720723422,219385,2010630000,"АО \"Государственный научно-исследовательский институт конструкционных материалов на основе графита \"НИИграфит\"","Да","Да","Да","Да",null,null,{"$f":"VLOOKUP(A107,#REF!,2,0)","v":{"$error":"#REF!"}}]
[2010620200,"НИАЭП-Сервис",6916015670,302,2010620200,"ООО \"НИАЭП-Сервис\"","Да","Да",null,"Да",null,null,{"$f":"VLOOKUP(Список_компаний!E108,#REF!,2,0)","v":{"$error":"#REF!"}}]
[2010970000,"НИИАР-ГЕНЕРАЦИЯ",7329008990,304288,2010970000,"ООО «НИИАР-ГЕНЕРАЦИЯ»","Да","Да","Да","Да",null,null,{"$f":"VLOOKUP(A109,#REF!,2,0)","v":{"$error":"#REF!"}}]
[2010230207,"НЗХК-Инструмент",5410021660,67,2010230207,"ООО \"НЗХК-Инструмент\"","Да",null,"Да","Да",null,null,{"$f":"VLOOKUP(A110,#REF!,2,0)","v":{"$error":"#REF!"}}]
[2010230210,"НЗХК-Энергия",5410028351,70,2010230210,"ООО \"НЗХК-Энергия\"","Да",null,"Да","Да",null,null,{"$f":"VLOOKUP(A111,#REF!,2,0)","v":{"$error":"#REF!"}}]
[2010241900,"ННКЦ",6629020806,130,2010241900,"ООО \"Новоуральский научно-конструкторский центр\"","Да",null,"Да","Да",null,null,{"$f":"VLOOKUP(A112,#REF!,2,0)","v":{"$error":"#REF!"}}]
[2010230200,"НЗХК",5410114184,61,2010230200,"ПАО \"Новосибирский завод химконцентратов\"","Да","Да","Да","Да",null,null,{"$f":"VLOOKUP(A113,#REF!,2,0)","v":{"$error":"#REF!"}}]
[2010620000,"ИК АСЭ",5260214123,176,2010620000,"АО Инжиниринговая компания \"АСЭ\"","Да","Да",null,"Да","Да",null,{"$f":"VLOOKUP(Список_компаний!E114,#REF!,2,0)","v":{"$error":"#REF!"}}]
[2010480000,"НИИАР",7302040242,159,2010480000,"АО Государственный научный центр - Научно-исследовательский институт атомных реакторов (АО \"ГНЦ НИИАР\")","Да","Да","Да","Да",null,null,{"$f":"VLOOKUP(A115,#REF!,2,0)","v":{"$error":"#REF!"}}]
[1130000000,"НИИИС",5261000011,12,1130000000,"ФГУП федеральный научно-производственный центр \"Научно-исследовательский институт измерительных систем им. Ю.Е. Седакова\"","Да","Да",null,"Да",null,null,{"$f":"VLOOKUP(Список_компаний!E116,#REF!,2,0)","v":{"$error":"#REF!"}}]
[4070000000,"НИИП",5027241394,449522,4070000000,"АО \"Научно-исследовательский институт приборов\"","Да","Да",null,"Да",null,null,{"$f":"VLOOKUP(Список_компаний!E117,#REF!,2,0)","v":{"$error":"#REF!"}}]
[2010410000,"НИИТФА",7726606316,149,2010410000,"АО \"Научно-исследовательский институт технической физики и автоматизации (НИИТФА)\"","Да","Да","Да","Да","Да",null,{"$f":"VLOOKUP(A118,#REF!,2,0)","v":{"$error":"#REF!"}}]
[4080000000,"НИИЭФА",7817331468,340028,4080000000,"АО \"Научно-исследовательский институт электрофизической аппаратуры им. Д.В. Ефремова\"","Да","Да",null,"Да",null,null,{"$f":"VLOOKUP(Список_компаний!E119,#REF!,2,0)","v":{"$error":"#REF!"}}]
[2010550000,"НИКИМТ-Атомстрой",7715719854,164,2010550000,"АО \"НИКИМТ \"Атомстрой\"","Да","Да","Да","Да",null,null,{"$f":"VLOOKUP(A120,#REF!,2,0)","v":{"$error":"#REF!"}}]
[2010650000,"НИКИЭТ",7708698473,304,2010650000,"АО \"Научно-исследовательский и конструкторский институт энерготехники имени Н.А. Доллежаля\"","Да","Да","Да","Да",null,null,{"$f":"VLOOKUP(A121,#REF!,2,0)","v":{"$error":"#REF!"}}]
[4090000000,"НИТИ",4714000067,240,4090000000,"ФГУП \"Научно-исследовательский технологический институт имени А.П. Александрова\"","Да","Да",null,"Да",null,null,{"$f":"VLOOKUP(Список_компаний!E122,#REF!,2,0)","v":{"$error":"#REF!"}}]
[4140000000,"НИФХИ",7709944065,340270,4140000000,"АО \"Научно-исследовательский физико-химический институт им. Л.Я. Карпова\" (НИФХИ)","Да","Да",null,"Да",null,null,{"$f":"VLOOKUP(Список_компаний!E123,#REF!,2,0)","v":{"$error":"#REF!"}}]
[2010411100,"Нижние котлы - ДУ","Нижние котлы - ДУ",10020,2010411100,"Акционерное общество \"Управляющая компания индустриального парка \"Нижние котлы\"\", Доверительный управляющий","Да",null,"Да","Да",null,null,{"$f":"VLOOKUP(A124,#REF!,2,0)","v":{"$error":"#REF!"}}]
[2010242200,"НПК ХПИ",7706688991,133,2010242200,"АО \"НПК \"Химпроминжиниринг\"","Да","Да","Да","Да",null,null,{"$f":"VLOOKUP(A125,#REF!,2,0)","v":{"$error":"#REF!"}}]
[4060000000,"НПО Луч",5036005308,237,4060000000,"ФГУП \"Научно-исследовательский институт Научно-производственное объединение \"Луч\"","Да","Да",null,"Да",null,null,{"$f":"VLOOKUP(Список_компаний!E126,#REF!,2,0)","v":{"$error":"#REF!"}}]
[4010000000,"НПО РИ",7802846922,338909,4010000000,"АО \"Радиевый институт им. В.Г. Хлопина\"","Да","Да",null,"Да",null,null,{"$f":"VLOOKUP(Список_компаний!E127,#REF!,2,0)","v":{"$error":"#REF!"}}]
[4110000000,"НО РАО",5838009089,242,4110000000,"ФГУП \"Национальный оператор по обращению с радиоактивными отходами\"","Да","Да",null,"Да",null,null,{"$f":"VLOOKUP(Список_компаний!E128,#REF!,2,0)","v":{"$error":"#REF!"}}]
[2019000000,"НоваВинд",9701087623,517363,2019000000,"АО «НоваВинд»","Да",null,"Да","Да",null,null,{"$f":"VLOOKUP(A129,#REF!,2,0)","v":{"$error":"#REF!"}}]
[2010690000,"НТЦ ЯФИ",7802441926,182,2010690000,"АО \"Научно-технический центр \"Ядерно-физические исследования\"","Да","Да","Да","Да",null,null,{"$f":"VLOOKUP(A130,#REF!,2,0)","v":{"$error":"#REF!"}}]
[2010150000,"Обесп РФЯЦ-ВНИИЭФ",5254081010,32,2010150000,"АО \"Обеспечение РФЯЦ-ВНИИЭФ\"","Да","Да","Да","Да",null,null,{"$f":"VLOOKUP(A131,#REF!,2,0)","v":{"$error":"#REF!"}}]
[2010920000,"ОТЭК",7706757331,208117,2010920000,"АО «Объединённая теплоэнергетическая компания»","Да","Да","Да","Да",null,null,{"$f":"VLOOKUP(A132,#REF!,2,0)","v":{"$error":"#REF!"}}]
[2010840400,"ОКБ-НН",5256065824,203,2010840400,"АО \"ОКБ - Нижний Новгород\"",null,null,null,null,null,null,{"$f":"VLOOKUP(A133,#REF!,2,0)","v":{"$error":"#REF!"}}]
[2010700000,"ОЗТМиТС",7726633119,183,2010700000,"АО \"Опытный завод тугоплавких металлов и твердых сплавов\" (АО \"ОЗТМиТС\")","Да","Да","Да","Да",null,null,{"$f":"VLOOKUP(A134,#REF!,2,0)","v":{"$error":"#REF!"}}]
[2010910000,"ОИК",7706751361,367,2010910000,"ООО \"Объединенная инновационная корпорация\"","Да","Да","Да","Да",null,null,{"$f":"VLOOKUP(A135,#REF!,2,0)","v":{"$error":"#REF!"}}]
[2010860000,"ОК РСК",7706704146,204,2010860000,"АО \"Объединенная компания “Разделительно-сублиматный комплекс”","Да","Да","Да","Да",null,null,{"$f":"VLOOKUP(A136,#REF!,2,0)","v":{"$error":"#REF!"}}]
[2010720000,"ОКБМ",5259077666,185,2010720000,"АО \"Опытное Конструкторское Бюро Машиностроения имени И.И. Африкантова\"","Да","Да","Да","Да","Да",null,{"$f":"VLOOKUP(A137,#REF!,2,0)","v":{"$error":"#REF!"}}]
[2010780500,"ОДЦ УГР",7024033350,177333,2010780500,"АО \"Опытно-демонстрационный центр вывода из эксплуатации уран-графитовых ядерных реакторов\"","Да","Да","Да","Да",null,null,{"$f":"VLOOKUP(A138,#REF!,2,0)","v":{"$error":"#REF!"}}]
[1180000000,"ОзВЭИ",7722024973,275627,1180000000,"ФГУП \"Опытный завод Всероссийского электротехнического института В.И. Ленина\"","Да","Да",null,"Да",null,null,{"$f":"VLOOKUP(Список_компаний!E139,#REF!,2,0)","v":{"$error":"#REF!"}}]
[2010021800,"Первая горнорудная компания",7703197508,298588,2010021800,"АО «Первая горнорудная компания»","да",null,"да","да",null,null,{"$f":"VLOOKUP(A140,#REF!,2,0)","v":{"$error":"#REF!"}}]
[1080000000,"ПО Север",5410101900,7,1080000000,"ФГУП Производственное объединение \"Север\"","Да","Да",null,"Да",null,null,{"$f":"VLOOKUP(Список_компаний!E141,#REF!,2,0)","v":{"$error":"#REF!"}}]
[2010230400,"ППГХО",7530000048,84,2010230400,"ПАО \"Приаргунское производственное горно-химическое объединение\"","Да","Да","Да","Да","Да",null,{"$f":"VLOOKUP(A142,#REF!,2,0)","v":{"$error":"#REF!"}}]
[1100000000,"ПСЗ",7405000428,9,1100000000,"ФГУП \"Приборостроительный завод\"","Да","Да",null,"Да",null,null,{"$f":"VLOOKUP(Список_компаний!E143,#REF!,2,0)","v":{"$error":"#REF!"}}]
[2010592000,"ПСР",7721699740,368,2010592000,"АО \"Производственная система \"ПСР\"","Да","Да","Да","Да",null,null,{"$f":"VLOOKUP(A144,#REF!,2,0)","v":{"$error":"#REF!"}}]
[2010231200,"Промышленные инновации",7725524660,112,2010231200,"АО \"Промышленные инновации\"","Да",null,"Да","Да",null,null,{"$f":"VLOOKUP(A145,#REF!,2,0)","v":{"$error":"#REF!"}}]
[2010991100,"Простое товарищество Русреактор-ВНИИЭФ","Простое товарищество Русреактор-ВНИИЭФ",10019,2010991100,"Простое товарищество Русреактор-ВНИИЭФ","Да",null,null,"Да",null,null,{"$f":"VLOOKUP(Список_компаний!E146,#REF!,2,0)","v":{"$error":"#REF!"}}]
[3110000000,"РАДОН",7704009700,133437,3110000000,"ФГУП \"РАДОН\"","Да","Да",null,"Да",null,null,{"$f":"VLOOKUP(Список_компаний!E147,#REF!,2,0)","v":{"$error":"#REF!"}}]
[2010990000,"РАСУ",7734358970,417501,2010990000,"АО \"Русатом Автоматизированные Системы Управления\"","Да","Да","Да","Да",null,null,{"$f":"VLOOKUP(A148,#REF!,2,0)","v":{"$error":"#REF!"}}]
[2010230912,"РАОС",7725413350,532934,2010230912,"АО \"Русатом Оверсиз\"","Да","Да","Да","Да","Да",null,{"$f":"VLOOKUP(A149,#REF!,2,0)","v":{"$error":"#REF!"}}]
[2010020600,"РБМ",7713190205,23,2010020600,"АО \"РУСБУРМАШ\"","Да","Да","Да","Да","Да",null,{"$f":"VLOOKUP(A150,#REF!,2,0)","v":{"$error":"#REF!"}}]
[2010590000,"Росэнергоатом",7721632827,166,2010590000,"АО \"Российский концерн по производству электрической и тепловой энергии на атомных станциях \"Росэнергоатом\"","Да","Да","Да","Да","Да",null,{"$f":"VLOOKUP(A151,#REF!,2,0)","v":{"$error":"#REF!"}}]
[3260000000,"РосРАО",4714004270,231,3260000000,"ФГУП \"Предприятие по обращению с радиоактивными отходами \"РосРАО\"","Да","Да",null,"Да",null,null,{"$f":"VLOOKUP(Список_компаний!E152,#REF!,2,0)","v":{"$error":"#REF!"}}]
[2011000000,"РХК",7726396281,486175,2011000000,"АО \"Русатом Хэлскеа\"","Да","Да","Да","Да",null,null,{"$f":"VLOOKUP(A153,#REF!,2,0)","v":{"$error":"#REF!"}}]
[2010930000,"REIN",7706759586,215514,2010930000,"АО \"Русатом Энерго Интернешнл\"","Да","Да","Да","Да",null,null,{"$f":"VLOOKUP(A154,#REF!,2,0)","v":{"$error":"#REF!"}}]
[2010592200,"Русатом Сервис",7705966318,224845,2010592200,"АО \"Русатом Сервис\"","Да","Да","Да","Да",null,null,{"$f":"VLOOKUP(A155,#REF!,2,0)","v":{"$error":"#REF!"}}]
[2010991000,"Русреактор",7726367354,430687,2010991000,"АО \"Русатом растворные реакторы\"","Да","Да","Да","Да",null,null,{"$f":"VLOOKUP(A156,#REF!,2,0)","v":{"$error":"#REF!"}}]
[4180000000,"РСП",7726667090,198346,4180000000,"АО \"Русский сверхпроводник \"","Да","Да",null,"Да",null,null,{"$f":"VLOOKUP(Список_компаний!E157,#REF!,2,0)","v":{"$error":"#REF!"}}]
[2010230911,"РЭМКО",5036076690,95,2010230911,"АО \"Русская ЭнергоМашиностроительная Компания\"","Да","Да","Да","Да",null,null,{"$f":"VLOOKUP(A158,#REF!,2,0)","v":{"$error":"#REF!"}}]
[2010630100,"С-плюс",7720325407,428981,2010630100,"Общество с ограниченной ответственностью \"С- плюс\"","Да","Да","Да","Да",null,null,{"$f":"VLOOKUP(A159,#REF!,2,0)","v":{"$error":"#REF!"}}]
[2010230916,"Сайпрус",9909449262,98,2010230916,"ATOMENERGOMASH CYPRUS LIMITED ЧК \"Атомэнергомаш Сайпрус Лимитед\"","Да","Да","Да","Да",null,null,{"$f":"VLOOKUP(A160,#REF!,2,0)","v":{"$error":"#REF!"}}]
[2010200000,"СвердНИИхиммаш",6664003909,41,2010200000,"АО \"Свердловский научно-исследовательский институт химического машиностроения (\"СвердНИИхиммаш\")\"","Да","Да","Да","Да",null,null,{"$f":"VLOOKUP(A161,#REF!,2,0)","v":{"$error":"#REF!"}}]
[2010150300,"СГК",5254082550,35,2010150300,"АО \"Саровская Генерирующая Компания\"","Да","Да","Да","Да",null,null,{"$f":"VLOOKUP(A162,#REF!,2,0)","v":{"$error":"#REF!"}}]
[3080000000,"СКЦ",7706187089,228,3080000000,"ФГУП \"Ситуационно-Кризисный Центр Федерального агентства по атомной энергии\"","Да","Да",null,"Да",null,null,{"$f":"VLOOKUP(Список_компаний!E163,#REF!,2,0)","v":{"$error":"#REF!"}}]
[2010992000,"СМБ",7706433961,431962,2010992000,"Общество с ограниченной ответственностью \"Системы Мониторинга \"Беркут\"","Да","Да","Да","Да",null,null,{"$f":"VLOOKUP(A164,#REF!,2,0)","v":{"$error":"#REF!"}}]
[2010660000,"СНИИП",7734592593,179,2010660000,"АО \"Специализированный научно-исследовательский институт приборостроения\" (АО \"СНИИП\")","Да","Да","Да","Да",null,null,{"$f":"VLOOKUP(A165,#REF!,2,0)","v":{"$error":"#REF!"}}]
[2010750000,"СПб ИЗОТОП",7840393624,189,2010750000,"АО \"Санкт-Петербургский \"ИЗОТОП\"","Да","Да","Да","Да",null,null,{"$f":"VLOOKUP(A166,#REF!,2,0)","v":{"$error":"#REF!"}}]
[2010150200,"СТСК",5254082630,34,2010150200,"АО \"Саровская Теплосетевая Компания\"","Да","Да","Да","Да",null,null,{"$f":"VLOOKUP(A167,#REF!,2,0)","v":{"$error":"#REF!"}}]
[1090000000,"Старт",5838000953,8,1090000000,"ФГУП \"ФНЦП Производственное объединение \"Старт\" имени М.В. Проценко\"","Да","Да",null,"Да",null,null,{"$f":"VLOOKUP(Список_компаний!E168,#REF!,2,0)","v":{"$error":"#REF!"}}]
[2010550001,"СЕТЕС",7024037370,316804,2010550001,"АО \"Северские теплосистемы\"","Да","Да","Да","Да",null,null,{"$f":"VLOOKUP(A169,#REF!,2,0)","v":{"$error":"#REF!"}}]
[2010780000,"СХК",7024029499,192,2010780000,"АО \"Сибирский химический комбинат\"","Да","Да","Да","Да","Да",null,{"$f":"VLOOKUP(A170,#REF!,2,0)","v":{"$error":"#REF!"}}]
[2010150100,"СЭСК",5254082581,33,2010150100,"АО \"Саровская Электросетевая Компания\"","Да",null,"Да","Да",null,null,{"$f":"VLOOKUP(A171,#REF!,2,0)","v":{"$error":"#REF!"}}]
[2010230306,"Тепловодоканал",1837004370,77,2010230306,"ООО \"Тепловодоканал\"","Да",null,"Да","Да",null,null,{"$f":"VLOOKUP(A172,#REF!,2,0)","v":{"$error":"#REF!"}}]
[2010440300,"Точмаш-авто",3329064483,201363,2010440300,"ООО \"Точмаш-авто\"","Да",null,"Да","Да",null,null,{"$f":"VLOOKUP(A173,#REF!,2,0)","v":{"$error":"#REF!"}}]
[2010230000,"ТВЭЛ",7706123550,45,2010230000,"АО \"ТВЭЛ\"","Да","Да","Да","Да","Да",null,{"$f":"VLOOKUP(A174,#REF!,2,0)","v":{"$error":"#REF!"}}]
[2010231100,"ТВЭЛ-Строй",7726523814,111,2010231100,"АО \"ТВЭЛ-СТРОИ\"","Да",null,"Да","Да",null,null,{"$f":"VLOOKUP(A175,#REF!,2,0)","v":{"$error":"#REF!"}}]
[2010240100,"ТЕНЕКС-Сервис",7706604582,267,2010240100,"АО \"ТЕНЕКС-Сервис\"","Да","Да","Да","Да","Да",null,{"$f":"VLOOKUP(A176,#REF!,2,0)","v":{"$error":"#REF!"}}]
[4150000000,"Технопарк-Технология",5216017711,331,4150000000,"АО \"Технопарк-Технология\"","Да","Да",null,"Да",null,null,{"$f":"VLOOKUP(Список_компаний!E177,#REF!,2,0)","v":{"$error":"#REF!"}}]
[2010240000,"Техснабэкспорт",7706039242,114,2010240000,"АО \"Техснабэкспорт\"","Да","Да","Да","Да","Да",null,{"$f":"VLOOKUP(A178,#REF!,2,0)","v":{"$error":"#REF!"}}]
[2010440000,"Точмаш",3329051460,151,2010440000,"АО \"Владимирское производственное объединение \"Точмаш\"","Да","Да","Да","Да",null,null,{"$f":"VLOOKUP(A179,#REF!,2,0)","v":{"$error":"#REF!"}}]
[4030000000,"ТРИНИТИ",7751002460,391705,4030000000,"АО \"Государственный научный центр Российской Федерации Троицкий институт инновационных и термоядерных исследований\"","Да","Да",null,"Да",null,null,{"$f":"VLOOKUP(Список_компаний!E180,#REF!,2,0)","v":{"$error":"#REF!"}}]
[2010620400,"Трест РСЭМ",6916013425,132192,2010620400,"ООО \"Трест Росспецэнергомонтаж\"","Да","Да",null,"Да","Да",null,{"$f":"VLOOKUP(Список_компаний!E181,#REF!,2,0)","v":{"$error":"#REF!"}}]
[2010240200,"ТЦ ТЕНЕКС",7706609414,115,2010240200,"ЗАО \"Технологический центр \"ТЕНЕКС\"","Да","Да","Да","Да",null,null,{"$f":"VLOOKUP(A182,#REF!,2,0)","v":{"$error":"#REF!"}}]
[2010242000,"Уралприбор",6629020789,131,2010242000,"ООО \"Новоуральский приборный завод\"","Да",null,"Да","Да",null,null,{"$f":"VLOOKUP(A183,#REF!,2,0)","v":{"$error":"#REF!"}}]
[6010000000,"УАЗ",7706804447,339228,6010000000,"АО \"Управление административными зданиями\"","Да","Да",null,"Да",null,null,{"$f":"VLOOKUP(Список_компаний!E184,#REF!,2,0)","v":{"$error":"#REF!"}}]
[2010020100,"УУГ",7706641432,18,2010020100,"АО \"Ураниум Уан Груп\"","Да","Да","Да","Да",null,null,{"$f":"VLOOKUP(A185,#REF!,2,0)","v":{"$error":"#REF!"}}]
[2010411000,"УК Нижние котлы",7726390113,470332,2010411000,"Акционерное общество \"Управляющая компания индустриального парка \"Нижние котлы\"","Да","Да","Да","Да",null,null,{"$f":"VLOOKUP(A186,#REF!,2,0)","v":{"$error":"#REF!"}}]
[2010020200,"УДК Горное",7536087140,19,2010020200,"АО \"Уранодобывающая компания \"Горное\"","Да",null,"Да","Да",null,null,{"$f":"VLOOKUP(A187,#REF!,2,0)","v":{"$error":"#REF!"}}]
[2010241800,"НПО Центротех",6629020796,129,2010241800,"ООО \"Научно-производсвенное объединение\"Центротех\"\"","Да","Да","Да","Да","Да",null,{"$f":"VLOOKUP(A188,#REF!,2,0)","v":{"$error":"#REF!"}}]
[1120000000,"УЭМЗ",6608004641,11,1120000000,"ФГУП \"Уральский электромеханический завод\"","Да","Да",null,"Да",null,null,{"$f":"VLOOKUP(Список_компаний!E189,#REF!,2,0)","v":{"$error":"#REF!"}}]
[2010800000,"УЭХК",6629022962,196,2010800000,"АО \"Уральский электрохимический комбинат\"","Да","Да","Да","Да",null,null,{"$f":"VLOOKUP(A190,#REF!,2,0)","v":{"$error":"#REF!"}}]
[3090000000,"ФЦЯРБ",7706801975,329348,3090000000,"АО \"Федеральный центр ядерной и радиационной безопасности\"","Да","Да",null,"Да",null,null,{"$f":"VLOOKUP(Список_компаний!E191,#REF!,2,0)","v":{"$error":"#REF!"}}]
[4040000000,"ФЭИ",4025442583,390564,4040000000,"АО \"Государственный научный центр Российской Федерации - Физико-энергетический институт имени А.И. Лейпунского\"","Да","Да",null,"Да",null,null,{"$f":"VLOOKUP(Список_компаний!E192,#REF!,2,0)","v":{"$error":"#REF!"}}]
[2010230700,"Хиагда","0302001219",86,2010230700,"АО \"Хиагда\"","Да","Да","Да","Да","Да",null,{"$f":"VLOOKUP(A193,#REF!,2,0)","v":{"$error":"#REF!"}}]
[2010911000,"ЦВТД",7726750415,366881,2010911000,"ООО «Центр высокотехнологичной диагностики»","Да","Да","Да","Да",null,null,{"$f":"VLOOKUP(A194,#REF!,2,0)","v":{"$error":"#REF!"}}]
[2010591306,"Центр энергоэффективности ИНТЕР РАО ЕЭС",7704765961,362,2010591306,"ООО «Центр энергоэффективности ИНТЕР РАО ЕЭС»",null,null,"сп","сп",null,null,{"$f":"VLOOKUP(A195,#REF!,2,0)","v":{"$error":"#REF!"}}]
[2010870000,"ЦентрАтом",7706723156,329,2010870000,"АО \"Центр управления непрофильными активами атомной отрасли\"","Да","Да","Да","Да",null,null,{"$f":"VLOOKUP(A196,#REF!,2,0)","v":{"$error":"#REF!"}}]
[2010820000,"ЦКБМ",7806394392,197,2010820000,"АО \"Центральное конструкторское бюро машиностроения\"","Да","Да","Да","Да","Да",null,{"$f":"VLOOKUP(A197,#REF!,2,0)","v":{"$error":"#REF!"}}]
[2010140000,"ЦНИИТМАШ",7723564851,31,2010140000,"АО \"Научно-производственное объединение \"Центральный научно-исследовательский институт технологии машиностроения\"","Да","Да","Да","Да","Да",null,{"$f":"VLOOKUP(A198,#REF!,2,0)","v":{"$error":"#REF!"}}]
[2010290000,"ЦОиС ОЛенКур",5024076079,271,2010290000,"АО \"Центр отдыха и спорта \"ОЛенКур \"","Да","Да","Да","Да",null,null,{"$f":"VLOOKUP(A199,#REF!,2,0)","v":{"$error":"#REF!"}}]
[2010240900,"ЦОУ",3801085668,122,2010240900,"АО \"Центр по обогащению урана\"",null,null,"сп","сп",null,null,{"$f":"VLOOKUP(A200,#REF!,2,0)","v":{"$error":"#REF!"}}]
[6080000000,"ЦУФС",7715470328,395865,6080000000,"АО \"Центр управления федеральной собственностью\"","Да","Да","Да","Да",null,null,{"$f":"VLOOKUP(A201,#REF!,2,0)","v":{"$error":"#REF!"}}]
[2010230300,"ЧМЗ",1829008035,71,2010230300,"АО \"Чепецкий механический завод\"","Да","Да","Да","Да","Да",null,{"$f":"VLOOKUP(A202,#REF!,2,0)","v":{"$error":"#REF!"}}]
[2010230110,"ЭЛЕМАШ-ТЭК",5053055010,54,2010230110,"ООО \"ЭЛЕМАШ-ТЭК\"","Да",null,"Да","Да",null,null,{"$f":"VLOOKUP(A203,#REF!,2,0)","v":{"$error":"#REF!"}}]
[2010800800,"Экоальянс",6629026420,190116,2010800800,"ООО \"Экоальянс\"","Да",null,"Да","Да",null,null,{"$f":"VLOOKUP(A204,#REF!,2,0)","v":{"$error":"#REF!"}}]
[2010020400,"ЭГМК",1402047530,21,2010020400,"АО \"Эльконский горно-металлургический комбинат\"","Да","Да","Да","Да",null,null,{"$f":"VLOOKUP(A205,#REF!,2,0)","v":{"$error":"#REF!"}}]
[2060000000,"ЭГМК-проект",1402048660,330,2060000000,"АО \"ЭГМК-проект\"","Да","Да"," ",null,null,null,{"$f":"VLOOKUP(A206,#REF!,2,0)","v":{"$error":"#REF!"}}]
[1140000000,"Эксп №2",2901255495,390341,1140000000,"АО \"Экспедиция № 2\"","Да","Да",null,"Да",null,null,{"$f":"VLOOKUP(Список_компаний!E207,#REF!,2,0)","v":{"$error":"#REF!"}}]
[4100000000,"Элерон",7724313681,396021,4100000000,"АО \"Специальное научно-производственное объединение \"Элерон\"","Да","Да",null,"Да",null,null,{"$f":"VLOOKUP(Список_компаний!E208,#REF!,2,0)","v":{"$error":"#REF!"}}]
[2010230943,"Энергомашспецсталь",2106005156,361,2010230943,"ПАО \"Энергомашспецсталь\"","Да","Да","Да","Да",null,null,{"$f":"VLOOKUP(A209,#REF!,2,0)","v":{"$error":"#REF!"}}]
[2010270000,"Энергоспецмонтаж",7718083574,136,2010270000,"ПАО \"Энергоспецмонтаж\"","Да","Да","Да","Да",null,null,{"$f":"VLOOKUP(A210,#REF!,2,0)","v":{"$error":"#REF!"}}]
[2010830000,"ЭНИЦ",5035037441,198,2010830000,"АО \"Электрогорский научно-исследовательский центр по безопасности атомных электростанций\"","Да",null,"Да","Да",null,null,{"$f":"VLOOKUP(A211,#REF!,2,0)","v":{"$error":"#REF!"}}]
[2010840000,"ЭХЗ",2453013555,200,2010840000,"АО \"Производственное объединение \"Электрохимический завод\"","Да","Да","Да","Да","Да",null,{"$f":"VLOOKUP(A212,#REF!,2,0)","v":{"$error":"#REF!"}}]
[1050000000,"ЭХП",6630002336,5,1050000000,"ФГУП \"Комбинат \"Электрохимприбор\"","Да","Да",null,"Да",null,null,{"$f":"VLOOKUP(Список_компаний!E213,#REF!,2,0)","v":{"$error":"#REF!"}}]
[2010912000,"ЯМТ-Снежинск",7459003496,387083,2010912000,"ООО \"Ядерные медицинские технологии-Снежинск\"","Да","Да","Да","Да",null,null,{"$f":"VLOOKUP(A214,#REF!,2,0)","v":{"$error":"#REF!"}}]
[2010021520,"Canada Limited","80931 9247 RC0001",251789,2010021520,"Canada Limited",null,null,null,null,null,null,{"$f":"VLOOKUP(A215,#REF!,2,0)","v":{"$error":"#REF!"}}]
[2010021501,"Cheetah Resources s.a.r.l.",20092434304,257652,2010021501,"Cheetah Resources s.a.r.l.",null,null,null,null,null,null,{"$f":"VLOOKUP(A216,#REF!,2,0)","v":{"$error":"#REF!"}}]
[2010021310,"Headspring Investments (PTY.) Ltd.","2010/0624",230025,2010021310,"Headspring Investments (Proprietary) Limited",null,null,null,null,null,null,{"$f":"VLOOKUP(A217,#REF!,2,0)","v":{"$error":"#REF!"}}]
[2010230913,"Liges","CZ 279 33 270",149623,2010230913,"Liges s.r.o.",null,null,null,null,null,null,{"$f":"VLOOKUP(A218,#REF!,2,0)","v":{"$error":"#REF!"}}]
[2010021702,"Likuyu Resources Limited",124215706,481212,2010021702,"Likuyu Resources Limited",null,null,null,null,null,null,{"$f":"VLOOKUP(A219,#REF!,2,0)","v":{"$error":"#REF!"}}]
[2010021620,"Mantra East Africa Limited",138090,296835,2010021620,"Mantra East Africa Limited",null,null,null,null,null,null,{"$f":"VLOOKUP(A220,#REF!,2,0)","v":{"$error":"#REF!"}}]
[2010021630,"Mantra Tanzania Limited","105-158-750",210119,2010021630,"Mantra Tanzania Limited",null,null,null,null,null,null,{"$f":"VLOOKUP(A221,#REF!,2,0)","v":{"$error":"#REF!"}}]
[2010021660,"Mantra Uranium South Africa (Pty) Ltd",9214145147,293830,2010021660,"Mantra Uranium South Africa (Pty) Ltd",null,null,null,null,null,null,{"$f":"VLOOKUP(A222,#REF!,2,0)","v":{"$error":"#REF!"}}]
[2010021703,"Namtumbo Resources Pty Ltd",882627035,481209,2010021703,"Namtumbo Resources Pty Ltd",null,null,null,null,null,null,{"$f":"VLOOKUP(A223,#REF!,2,0)","v":{"$error":"#REF!"}}]
[2010021640,"Nyanza Goldfields Limited","115-109-731",296836,2010021640,"Nyanza Goldfields Limited",null,null,null,null,null,null,{"$f":"VLOOKUP(A224,#REF!,2,0)","v":{"$error":"#REF!"}}]
[2010021671,"OmegaCorp Minerais Limitada",400132852,300825,2010021671,"OmegaCorp Minerais Limitada",null,null,null,null,null,null,{"$f":"VLOOKUP(A225,#REF!,2,0)","v":{"$error":"#REF!"}}]
[2010380200,"Raims",7247740,205526,2010380200,"RAIMS Limited",null,null,null,null,null,null,{"$f":"VLOOKUP(A226,#REF!,2,0)","v":{"$error":"#REF!"}}]
[1070010000,"Reviss Servis Limited","HE 48824",365,1070010000,"Reviss Servis Limited",null,null,null,null,null,null,{"$f":"VLOOKUP(A227,#REF!,2,0)","v":{"$error":"#REF!"}}]
[2010021100,"Runex","4705199-01-1",154796,2010021100,"Runex Uranium (Pty.) Ltd.",null,null,null,null,null,null,{"$f":"VLOOKUP(A228,#REF!,2,0)","v":{"$error":"#REF!"}}]
[2010021650,"Ruvuma Resources Limited","115-110-829",296838,2010021650,"Ruvuma Resources Limited",null,null,null,null,null,null,{"$f":"VLOOKUP(A229,#REF!,2,0)","v":{"$error":"#REF!"}}]
[2010021701,"Uranium One Exploration Pty Ltd",859064780,481214,2010021701,"Uranium One Exploration Pty Ltd",null,null,null,null,null,null,{"$f":"VLOOKUP(A230,#REF!,2,0)","v":{"$error":"#REF!"}}]
[2010021510,"Uranium One Friesland",854088325,474468,2010021510,"Uranium One Friesland Cooperatief",null,null,null,null,null,null,{"$f":"VLOOKUP(A231,#REF!,2,0)","v":{"$error":"#REF!"}}]
[2010021503,"Uranium One Investments Inc.","10561 0190 RC0002",476191,2010021503,"Uranium One Investments Inc.",null,null,null,null,null,null,{"$f":"VLOOKUP(A232,#REF!,2,0)","v":{"$error":"#REF!"}}]
[2010021661,"Uranium One Technical Services",null,481215,2010021661,"Uranium One Technical Services (Pty) Ltd",null,null,null,null,null,null,{"$f":"VLOOKUP(A233,#REF!,2,0)","v":{"$error":"#REF!"}}]
[2010935000,"RAOS Energy",null,488812,2010935000,"RAOS Energy Enerji Yatırımları Danışmanlığı Anonim Şirketi",null,null,null,null,null,null,{"$f":"VLOOKUP(A234,#REF!,2,0)","v":{"$error":"#REF!"}}]
[2010021300,"VPR","GB981159595",154774,2010021300,"VOSTOK POWER RESOURCES LIMITED",null,null,null,null,null,null,{"$f":"VLOOKUP(A235,#REF!,2,0)","v":{"$error":"#REF!"}}]
[2010230928,"ААЭМ",5036083578,258,2010230928,"Общество с ограниченной ответственностью \"Турбинные технологии ААЭМ\" ",null,null,null,null,null,null,{"$f":"VLOOKUP(A236,#REF!,2,0)","v":{"$error":"#REF!"}}]
[2010830300,"АвтоДом",5035043950,367912,2010830300,"ООО \"АвтоДом\"",null,null,null,null,null,null,{"$f":"VLOOKUP(A237,#REF!,2,0)","v":{"$error":"#REF!"}}]
[2010242640,"Автотранс – А",6143038846,297557,2010242640,"Общество с ограниченной ответственностью «Автотранс – А»",null,null,null,null,null,null,{"$f":"VLOOKUP(A238,#REF!,2,0)","v":{"$error":"#REF!"}}]
[2010230405,"Автохозяйство Уртуйское",7530012621,162559,2010230405,"ООО \"Автохозяйство Уртуйское\"",null,null,null,null,null,null,{"$f":"VLOOKUP(A239,#REF!,2,0)","v":{"$error":"#REF!"}}]
[2010590318,"АПМ",2080209,219343,2010590318,"ООО \"Ассоциация предприятий Минатома\"",null,null,null,null,null,null,{"$f":"VLOOKUP(A240,#REF!,2,0)","v":{"$error":"#REF!"}}]
[2010021400,"АРМЗ Намибия","2010/0109",219867,2010021400,"ARMZ NAMIBIA (PROPRIETARY) LIMITED",null,null,null,null,null,null,{"$f":"VLOOKUP(A241,#REF!,2,0)","v":{"$error":"#REF!"}}]
[2010242651,"АТОММАШ-СЕРВИС",6143083535,365614,2010242651,"Общество с ограниченной ответственностью \"АТОММАШ-СЕРВИС\"",null,null,null,null,null,null,{"$f":"VLOOKUP(A242,#REF!,2,0)","v":{"$error":"#REF!"}}]
[2010591305,"АтомТеплоСбыт",7709733339,345,2010591305,"ООО \"АтомТеплоСбыт\"",null,null,null,null,null,null,{"$f":"VLOOKUP(A243,#REF!,2,0)","v":{"$error":"#REF!"}}]
[2010591307,"АтомТеплоЭлектроСеть",7705923730,179781,2010591307,"ООО \"АтомТеплоЭлектроСеть\"",null,null,null,null,null,null,{"$f":"VLOOKUP(A244,#REF!,2,0)","v":{"$error":"#REF!"}}]
[2010590800,"Атомтранс",6724008446,297,2010590800,"АО \"Атомтранс\"",null,null,null,null,null,null,{"$f":"VLOOKUP(A245,#REF!,2,0)","v":{"$error":"#REF!"}}]
[2010230406,"АТП",7530012614,162226,2010230406,"ООО \"Автотранспортные перевозки\"",null,null,null,null,null,null,{"$f":"VLOOKUP(A246,#REF!,2,0)","v":{"$error":"#REF!"}}]
[2010590301,"Балаковская АЭС-Авто",6439071143,287,2010590301,"ООО \"Балаковская АЭС – Авто\"",null,null,null,null,null,null,{"$f":"VLOOKUP(A247,#REF!,2,0)","v":{"$error":"#REF!"}}]
[2010590900,"БАЭС-2",6609007758,170,2010590900,"АО \"Белоярская АЭС-2\"",null,null,null,null,null,null,{"$f":"VLOOKUP(A248,#REF!,2,0)","v":{"$error":"#REF!"}}]
[2010590303,"Белоярская АЭС-Авто",6639019528,288,2010590303,"ООО \"Белоярская АЭС – Авто\"",null,null,null,null,null,null,{"$f":"VLOOKUP(A249,#REF!,2,0)","v":{"$error":"#REF!"}}]
[2010840010,"Березка",2448005630,211874,2010840010,"ООО \"Санаторий -профилакторий \"Березка\"",null,null,null,null,null,null,{"$f":"VLOOKUP(A250,#REF!,2,0)","v":{"$error":"#REF!"}}]
[2010230201,"Былина",5445101362,62,2010230201,"АО \"Пансионат \"Былина\"",null,null,null,null,null,null,{"$f":"VLOOKUP(A251,#REF!,2,0)","v":{"$error":"#REF!"}}]
[2010590305,"ВАЭС-Сервис",6143072318,127283,2010590305,"ООО \"Волгодонская АЭС-Сервис\"",null,null,null,null,null,null,{"$f":"VLOOKUP(A252,#REF!,2,0)","v":{"$error":"#REF!"}}]
[2010620300,"ВДМУ",6143066681,303,2010620300,"ООО \"Волгодонское Монтажное Управление\"",null,null,null,null,null,null,{"$f":"VLOOKUP(A253,#REF!,2,0)","v":{"$error":"#REF!"}}]
[2010230966,"ВНИИАМ(АЭМ – технологии)",6143059719,127226,2010230966,"АО \"Волгодонский научно-исследовательский и проектно-конструкторский институт атомного машиностроения\"",null,null,null,null,null,null,{"$f":"VLOOKUP(A254,#REF!,2,0)","v":{"$error":"#REF!"}}]
[2010660100,"ВНИИАСУ",7721566412,174298,2010660100,"АО \"ВНИИАЭС АСУ ТП\"",null,null,null,null,null,null,{"$f":"VLOOKUP(A255,#REF!,2,0)","v":{"$error":"#REF!"}}]
[1150000008,"ВНИИЭФ-Гарант",5254025015,213050,1150000008,"АО Негосударственный пенсионный Фонд «ВНИИЭФ-Гарант»",null,null,null,null,null,null,{"$f":"VLOOKUP(A256,#REF!,2,0)","v":{"$error":"#REF!"}}]
[2010020901,"Геостар",5213000558,253,2010020901,"ООО \"Фирма \"Геостар\"",null,null,null,null,null,null,{"$f":"VLOOKUP(A257,#REF!,2,0)","v":{"$error":"#REF!"}}]
[2010230304,"ГК Глазов",1837003961,75,2010230304,"ООО \"Гостиничный комплекс \"Глазов\"",null,null,null,null,null,null,{"$f":"VLOOKUP(A258,#REF!,2,0)","v":{"$error":"#REF!"}}]
[1070020000,"Гуанья",1000000001,481088,1070020000,"СК \"Харбинская  компания с ограниченной ответственностью по новым радиационным технологиям Гуанья\" ",null,null,null,null,null,null,{"$f":"VLOOKUP(A259,#REF!,2,0)","v":{"$error":"#REF!"}}]
[2010230802,"Далур-Сервис",4506009051,153118,2010230802,"ООО \"Далур-Сервис\"",null,null,null,null,null,null,{"$f":"VLOOKUP(A260,#REF!,2,0)","v":{"$error":"#REF!"}}]
[2010800900,"ЗЭП",6629027216,213663,2010800900,"ООО \"Завод электрохимических преобразователей\"",null,null,null,null,null,null,{"$f":"VLOOKUP(A261,#REF!,2,0)","v":{"$error":"#REF!"}}]
[2010070000,"Изотоп Ектб",6672219595,256,2010070000,"АО \"Изотоп\" г. Екатеринбург",null,null,null,null,null,null,{"$f":"VLOOKUP(A262,#REF!,2,0)","v":{"$error":"#REF!"}}]
[2010480300,"Изотоп техно",101553117,161,2010480300,"Совместное белорусско-российское ЗАО \"Изотопные технологии\"",null,null,null,null,null,null,{"$f":"VLOOKUP(A263,#REF!,2,0)","v":{"$error":"#REF!"}}]
[2010590400,"ИКАО",7704670879,155680,2010590400,"АО \"Ипотечная компания атомной отрасли\"",null,null,null,null,"да",null,{"$f":"VLOOKUP(A264,#REF!,2,0)","v":{"$error":"#REF!"}}]
[2010830200,"ИКБ ВНИИАЭС",7725727702,269343,2010830200,"АО \"Инженерно-Конструкторское Бюро ВНИИАЭС\"",null,null,null,null,null,null,{"$f":"VLOOKUP(A265,#REF!,2,0)","v":{"$error":"#REF!"}}]
[2010601001,"Инжект",6453087730,201839,2010601001,"ОАО \"Научно-производственное предприятие \"Инжект\"",null,null,null,null,null,null,{"$f":"VLOOKUP(A266,#REF!,2,0)","v":{"$error":"#REF!"}}]
[2010231201,"ИНТЕР СМАРТ",3329032065,317836,2010231201,"ООО \"ИНТЕР СМАРТ\"",null,null,null,null,null,null,{"$f":"VLOOKUP(A267,#REF!,2,0)","v":{"$error":"#REF!"}}]
[2010020900,"Итманово",5213004023,25,2010020900,"ООО \"Агрофирма \"Итманово\"",null,null,null,null,null,null,{"$f":"VLOOKUP(A268,#REF!,2,0)","v":{"$error":"#REF!"}}]
[2010440100,"ИФ Пионер",3329064081,199121,2010440100,"ООО \"Инструментальная фирма \"Пионер\"",null,null,null,null,null,null,{"$f":"VLOOKUP(A269,#REF!,2,0)","v":{"$error":"#REF!"}}]
[2010560000,"ИФТП",5010036527,284,2010560000,"АО \"Институт физико-технических проблем\"",null,null,null,null,null,null,{"$f":"VLOOKUP(A270,#REF!,2,0)","v":{"$error":"#REF!"}}]
[2010590306,"КАЭС-Сервис",6916015990,132232,2010590306,"ООО \"Калининская АЭС - Сервис\"",null,null,null,null,null,null,{"$f":"VLOOKUP(A271,#REF!,2,0)","v":{"$error":"#REF!"}}]
[2010480200,"КИАЭ-НИИАР",110106102189908,306003,2010480200,"Совместное предприятие \"Пекинская КИАЭ-НИИАР компания радиоизотопов с ограниченной ответственностью\"",null,null,null,null,null,null,{"$f":"VLOOKUP(A272,#REF!,2,0)","v":{"$error":"#REF!"}}]
[2010230212,"КМ",5410043399,222683,2010230212,"ООО \"Катодные Материалы\"",null,null,null,null,null,null,{"$f":"VLOOKUP(A273,#REF!,2,0)","v":{"$error":"#REF!"}}]
[2010240700,"КМЗ Спецмаш",3305709037,172959,2010240700,"АО \"КМЗ-Спецмаш\"",null,null,null,null,null,null,{"$f":"VLOOKUP(A274,#REF!,2,0)","v":{"$error":"#REF!"}}]
[2010240601,"КМЗ-Авто",3305709196,199315,2010240601,"ООО \"КМЗ-АВТО\"",null,null,null,null,null,null,{"$f":"VLOOKUP(A275,#REF!,2,0)","v":{"$error":"#REF!"}}]
[2010590307,"Кольская АЭС-Авто",5117065288,290,2010590307,"ООО \"Кольская АЭС – Авто\"",null,null,null,null,null,null,{"$f":"VLOOKUP(A276,#REF!,2,0)","v":{"$error":"#REF!"}}]
[2010780300,"Комбинат питания СХК",7024032205,169278,2010780300,"ООО \"Комбинат питания\"",null,null,null,null,null,null,{"$f":"VLOOKUP(A277,#REF!,2,0)","v":{"$error":"#REF!"}}]
[2010450102,"КРК Атомные станции","600700580386",155,2010450102,"АО \"Казахстанско-Российская компания \"Атомные станции\"",null,null,null,null,null,null,{"$f":"VLOOKUP(A278,#REF!,2,0)","v":{"$error":"#REF!"}}]
[2010150800,"КУЖФ",5254082616,39,2010150800,"ООО \"Компания по управлению жилищным фондом\"",null,null,null,null,null,null,{"$f":"VLOOKUP(A279,#REF!,2,0)","v":{"$error":"#REF!"}}]
[2010590308,"КурскАЭС-Сервис",4634010454,291,2010590308,"ООО \"Курская  АЭС-Сервис\"",null,null,null,null,null,null,{"$f":"VLOOKUP(A280,#REF!,2,0)","v":{"$error":"#REF!"}}]
[2010290010,"Курчатовец",4007017120,284547,2010290010,"ООО «Курчатовец»",null,null,null,null,null,null,{"$f":"VLOOKUP(A281,#REF!,2,0)","v":{"$error":"#REF!"}}]
[2010590309,"Ленинградская АЭС – Авто",4714023385,292,2010590309,"ООО \"Ленинградская АЭС – Авто\"",null,null,null,null,null,null,{"$f":"VLOOKUP(A282,#REF!,2,0)","v":{"$error":"#REF!"}}]
[2010230101,"ЛОК Колонтаево",5031009115,47,2010230101,"АО \"Лечебно-оздоровительный комплекс \"Дом отдыха Колонтаево\"",null,null,null,null,null,null,{"$f":"VLOOKUP(A283,#REF!,2,0)","v":{"$error":"#REF!"}}]
[2010020500,"Лунное",1402046871,22,2010020500,"АО \"Лунное\"",null,null,null,null,null,null,{"$f":"VLOOKUP(A284,#REF!,2,0)","v":{"$error":"#REF!"}}]
[2010242650,"Медсанчасть",6143057983,184628,2010242650,"Общество с ограниченной ответственностью Медицинская компания «Медсанчасть»",null,null,null,null,null,null,{"$f":"VLOOKUP(A285,#REF!,2,0)","v":{"$error":"#REF!"}}]
[2010800600,"МЦ Изумруд",6629026340,193100,2010800600,"ООО \"Медицинский Центр \"Изумруд\"",null,null,null,null,null,null,{"$f":"VLOOKUP(A286,#REF!,2,0)","v":{"$error":"#REF!"}}]
[1110000006,"МЦКДМ",7423024076,399172,1110000006,"Общество с ограниченной ответственностью \"Международный центр компьютерного дизайна материалов\"",null,null,null,null,null,null,{"$f":"VLOOKUP(A287,#REF!,2,0)","v":{"$error":"#REF!"}}]
[2010241700,"МЦОУ",3801091245,128,2010241700,"АО \"Международный центр по обогащению урана\"",null,null,null,null,null,null,{"$f":"VLOOKUP(A288,#REF!,2,0)","v":{"$error":"#REF!"}}]
[2010230209,"НЗХК-Инжиниринг",5410027319,69,2010230209,"АО \"НЗХК-Инжиниринг\"",null,null,null,null,null,null,{"$f":"VLOOKUP(A289,#REF!,2,0)","v":{"$error":"#REF!"}}]
[2010670100,"НИЦАЭС",5019021966,314,2010670100,"АО \"Научно-испытательный центр оборудования атомных электростанций\"",null,null,null,null,null,null,{"$f":"VLOOKUP(A290,#REF!,2,0)","v":{"$error":"#REF!"}}]
[2010590310,"Нововоронежская АЭС – Авто",3651008478,293,2010590310,"ООО \"Нововоронежская АЭС – Авто\"",null,null,null,null,null,null,{"$f":"VLOOKUP(A291,#REF!,2,0)","v":{"$error":"#REF!"}}]
[2010403000,"НП-Атом",7734667104,225805,2010403000,"ЗАО  \"НП -Атом\"",null,null,null,null,null,null,{"$f":"VLOOKUP(A292,#REF!,2,0)","v":{"$error":"#REF!"}}]
[2010402000,"НПП НАНОЭЛЕКТРО",7734653790,204504,2010402000,"ООО \"Научно-производственное предприятие \"НАНОЭЛЕКТРО\"",null,null,null,null,null,null,{"$f":"VLOOKUP(A293,#REF!,2,0)","v":{"$error":"#REF!"}}]
[2010021000,"Объединенные урановые предприятия",7705849332,26,2010021000,"Общество с ограниченной ответственностью \"Объединенные урановые предприятия\"",null,null,null,null,"да",null,{"$f":"VLOOKUP(A294,#REF!,2,0)","v":{"$error":"#REF!"}}]
[3020060000,"ОКБ КИПиА ГХК",2452044014,462826,3020060000,"ООО «ОКБ КИПиА ГХК»",null,null,null,null,null,null,{"$f":"VLOOKUP(A295,#REF!,2,0)","v":{"$error":"#REF!"}}]
[2010730000,"ОКТБ ИС",5047125572,215147,2010730000,"АО \"Отраслевое конструкторско-технологическое бюро по разработке современных технологий и производства изделий из стекла\"",null,null,null,null,null,null,{"$f":"VLOOKUP(A296,#REF!,2,0)","v":{"$error":"#REF!"}}]
[2010231022,"ООО АРАКО",7817323763,222715,2010231022,"ООО \"АРАКО\"",null,null,null,null,null,null,{"$f":"VLOOKUP(A297,#REF!,2,0)","v":{"$error":"#REF!"}}]
[5036035447,"Опыт",5036035447,"149639",5036035447," Акционерное общество «Опытное предприятие атомно-энергетического и нефтехимического машиностроения»",null,null,null,null,null,null,{"$f":"VLOOKUP(A298,#REF!,2,0)","v":{"$error":"#REF!"}}]
[2010170000,"Оргстройпроект",3801069786,40,2010170000,"АО \"Сибирский проектно-изыскательский институт \"Оргстройпроект\"",null,null,null,null,null,null,{"$f":"VLOOKUP(A299,#REF!,2,0)","v":{"$error":"#REF!"}}]
[2010242630,"ПЗМсервис",1001156891,187796,2010242630,"ООО ПЗМ-Сервис",null,null,null,null,null,null,{"$f":"VLOOKUP(A300,#REF!,2,0)","v":{"$error":"#REF!"}}]
[2010592300,"ПНФ Термоксид",6609000583,99018,2010592300,"АО «ПНФ «Термоксид»",null,null,null,null,null,null,{"$f":"VLOOKUP(A301,#REF!,2,0)","v":{"$error":"#REF!"}}]
[2010780800,"Прибор-сервис(СХК)",7024034587,208961,2010780800,"ООО \"Прибор-сервис\"",null,null,null,null,null,null,{"$f":"VLOOKUP(A302,#REF!,2,0)","v":{"$error":"#REF!"}}]
[2010230310,"Прибор-Сервис(ЧМЗ)",1837005119,81,2010230310,"ООО \"Прибор-Сервис\"",null,null,null,null,null,null,{"$f":"VLOOKUP(A303,#REF!,2,0)","v":{"$error":"#REF!"}}]
[2010440400,"Промпарксервис",3329065342,202477,2010440400,"ООО \"Промпарксервис\"",null,null,null,null,null,null,{"$f":"VLOOKUP(A304,#REF!,2,0)","v":{"$error":"#REF!"}}]
[3020050000,"ПРЭХ ГХК",2452040122,337037,3020050000,"ООО «ПРЭХ ГХК»",null,null,null,null,null,null,{"$f":"VLOOKUP(A305,#REF!,2,0)","v":{"$error":"#REF!"}}]
[2010230407,"ПЭС",7530012639,168317,2010230407,"ООО \"Предприятие Электросвязи\"",null,null,null,null,null,null,{"$f":"VLOOKUP(A306,#REF!,2,0)","v":{"$error":"#REF!"}}]
[2010230935,"РАС-Менеджмент",7736554699,356,2010230935,"АО «РусАтомСтрой-Менеджмент»",null,null,null,null,null,null,{"$f":"VLOOKUP(A307,#REF!,2,0)","v":{"$error":"#REF!"}}]
[2010020601,"РБМ-Казахстан",70540003292,252,2010020601,"ТОО \"СП \"Русбурмаш-Казахстан\"",null,null,null,null,null,null,{"$f":"VLOOKUP(A308,#REF!,2,0)","v":{"$error":"#REF!"}}]
[2010230408,"РМЗ",7530012660,168307,2010230408,"ООО \"Ремонтно-механический завод\"",null,null,null,null,null,null,{"$f":"VLOOKUP(A309,#REF!,2,0)","v":{"$error":"#REF!"}}]
[3020040000,"РМЗ ГХК",2452201891,299816,3020040000,"ООО \"Ремонтно-механический завод Горно-химического комбината\"",null,null,null,null,null,null,{"$f":"VLOOKUP(A310,#REF!,2,0)","v":{"$error":"#REF!"}}]
[2010960000,"РР-Энергия",7726704313,293674,2010960000,"ООО \"РР-Энергия\"",null,null,null,null,null,null,{"$f":"VLOOKUP(A311,#REF!,2,0)","v":{"$error":"#REF!"}}]
[2010150400,"СаровГаз",5254082542,36,2010150400,"АО \"Саровская Газоснабжающая Компания\"",null,null,null,null,null,null,{"$f":"VLOOKUP(A312,#REF!,2,0)","v":{"$error":"#REF!"}}]
[2010590315,"САЭС-Сервис",6724008661,295,2010590315,"ООО \"Смоленская АЭС- Сервис\"",null,null,null,null,null,null,{"$f":"VLOOKUP(A313,#REF!,2,0)","v":{"$error":"#REF!"}}]
[2010780700,"СибРегионПромсервис",7024034570,210989,2010780700,"ООО \"СибРегионПромсервис\"",null,null,null,null,null,null,{"$f":"VLOOKUP(A314,#REF!,2,0)","v":{"$error":"#REF!"}}]
[2010780100,"Синий Утёс",7014041634,177085,2010780100,"ООО \"Санаторий Синий Утёс\"",null,null,null,null,null,null,{"$f":"VLOOKUP(A315,#REF!,2,0)","v":{"$error":"#REF!"}}]
[3020000001,"СПЮ ГХК",2452040108,339103,3020000001,"ООО \"Санаторий-профилакторий Юбилейный Горно-химического комбината\"",null,null,null,null,null,null,{"$f":"VLOOKUP(A316,#REF!,2,0)","v":{"$error":"#REF!"}}]
[3020000002,"СМРП ГХК",2452201901,301720,3020000002,"ООО \"Строительно-монтажное ремонтное производство Горно-химического комбината\"",null,null,null,null,null,null,{"$f":"VLOOKUP(A317,#REF!,2,0)","v":{"$error":"#REF!"}}]
[2010620100,"СМУ№1ооо",5260234539,301,2010620100,"ООО \"Строительно-монтажное управление № 1\"",null,null,null,null,"да",null,{"$f":"VLOOKUP(A318,#REF!,2,0)","v":{"$error":"#REF!"}}]
[2010230305,"СП Чепца",1837004309,76,2010230305,"ООО \"Санаторий-профилакторий \"Чепца\"",null,null,null,null,null,null,{"$f":"VLOOKUP(A319,#REF!,2,0)","v":{"$error":"#REF!"}}]
[2010440200,"Станкомаш",3329064290,201365,2010440200,"ООО \"Станкомаш\"",null,null,null,null,null,null,{"$f":"VLOOKUP(A320,#REF!,2,0)","v":{"$error":"#REF!"}}]
[2010780400,"СТК",7024034001,205297,2010780400,"ООО \"Северская телефонная компания\"",null,null,null,null,null,null,{"$f":"VLOOKUP(A321,#REF!,2,0)","v":{"$error":"#REF!"}}]
[2010230403,"Стрельцовский СРТ",7530012491,260,2010230403,"ООО \"Стрельцовский строительно-ремонтный трест\"",null,null,null,null,null,null,{"$f":"VLOOKUP(A322,#REF!,2,0)","v":{"$error":"#REF!"}}]
[3020000003,"СТС",2452201637,292795,3020000003,"ООО \"Станция теплоснабжения\"",null,null,null,null,null,null,{"$f":"VLOOKUP(A323,#REF!,2,0)","v":{"$error":"#REF!"}}]
[2010370100,"СЦ Прогресс",3801120337,284648,2010370100,"ООО \"Сервисный центр \"Прогресс\"",null,null,null,null,null,null,{"$f":"VLOOKUP(A324,#REF!,2,0)","v":{"$error":"#REF!"}}]
[2010230401,"Телевизионный центр",7530003426,259,2010230401,"АО \"Телевизионный центр\"",null,null,null,null,null,null,{"$f":"VLOOKUP(A325,#REF!,2,0)","v":{"$error":"#REF!"}}]
[3020000004,"Телеком ГХК",2452201651,294831,3020000004,"ООО \"Телеком ГХК\"",null,null,null,null,null,null,{"$f":"VLOOKUP(A326,#REF!,2,0)","v":{"$error":"#REF!"}}]
[2010240400,"ТЕНЕКС-Логистика",7706607400,117,2010240400,"АО \"ТЕНЕКС-Логистика\"",null,null,null,null,null,null,{"$f":"VLOOKUP(A327,#REF!,2,0)","v":{"$error":"#REF!"}}]
[2010592201,"Технатом",7718160684,136290,2010592201,"ЗАО \"Технатом\"",null,null,null,null,null,null,{"$f":"VLOOKUP(A328,#REF!,2,0)","v":{"$error":"#REF!"}}]
[1051000000,"Техэнерго-ЭХП","7701927935","402234",1051000000,"ООО \"Техэнерго - Электрохимприбор\"",null,null,null,"сп",null,null,{"$f":"VLOOKUP(A329,#REF!,2,0)","v":{"$error":"#REF!"}}]
[1110020000,"Трансэнерго",7423023178,197744,1110020000,"АО \"Трансэнерго\"",null,null,null,null,null,null,{"$f":"VLOOKUP(A330,#REF!,2,0)","v":{"$error":"#REF!"}}]
[2010230929,"Трест САЭМ",7719632308,265,2010230929,"АО \"Трест \"СпецАтомЭнергоМонтаж\"",null,null,null,null,null,null,{"$f":"VLOOKUP(A331,#REF!,2,0)","v":{"$error":"#REF!"}}]
[2010230303,"УАТ",1837003150,74,2010230303,"ООО \"Управление автомобильного транспорта\"",null,null,null,null,null,null,{"$f":"VLOOKUP(A332,#REF!,2,0)","v":{"$error":"#REF!"}}]
[2010230205,"УАТ НЗХК",5410153786,65,2010230205,"АО \"Управление автомобильным транспортом НЗХК\"",null,null,null,null,null,null,{"$f":"VLOOKUP(A333,#REF!,2,0)","v":{"$error":"#REF!"}}]
[2010781000,"УАТ Северск",7024034428,204870,2010781000,"ООО «Управление автомобильного транспорта»",null,null,null,null,null,null,{"$f":"VLOOKUP(A334,#REF!,2,0)","v":{"$error":"#REF!"}}]
[1110000002,"УГК-Холдинг",7451382644,399601,1110000002,"Общество с ограниченной ответственностью \"Уральский Генерирующий Конверсионный Холдинг\"",null,null,null,"сп",null,null,{"$f":"VLOOKUP(A335,#REF!,2,0)","v":{"$error":"#REF!"}}]
[3020000005,"УЖТ",2452201644,294541,3020000005,"ООО \"Управление железнодорожного транспорта\"",null,null,null,null,null,null,{"$f":"VLOOKUP(A336,#REF!,2,0)","v":{"$error":"#REF!"}}]
[2010590320,"УКИПСМ","0253018827",218924,2010590320,"ООО \"Управляющая компания Индустриального парка строительных материалов\"",null,null,null,null,null,null,{"$f":"VLOOKUP(A337,#REF!,2,0)","v":{"$error":"#REF!"}}]
[2010230404,"ППГХО-Услуги",7530012519,261,2010230404,"Общество с ограниченной ответственностью \"ППГХО-Услуги\"",null,null,null,null,null,null,{"$f":"VLOOKUP(A338,#REF!,2,0)","v":{"$error":"#REF!"}}]
[2010800500,"УЭХК-ТЕЛЕКОМ",6629026082,177696,2010800500,"ООО \"УЭХК-ТЕЛЕКОМ\"",null,null,null,null,null,null,{"$f":"VLOOKUP(A339,#REF!,2,0)","v":{"$error":"#REF!"}}]
[2010840500,"Центротех",7805416607,327,2010840500,"АО \"Центротех - СПб\"",null,null,null,null,null,null,{"$f":"VLOOKUP(A340,#REF!,2,0)","v":{"$error":"#REF!"}}]
[4011000000,"ЦИРФРИ",7802809705,377574,4011000000,"Общество с ограниченной ответственностью «Центр изотопов и радиофармпрепаратов Радиевого института»",null,null,null,null,null,null,{"$f":"VLOOKUP(A341,#REF!,2,0)","v":{"$error":"#REF!"}}]
[1150000005,"ЦКО ООО",5216000193,225731,1150000005,"Общество с ограниченной ответственностью \"Центр компетенции и обучения\"",null,null,null,null,null,null,{"$f":"VLOOKUP(A342,#REF!,2,0)","v":{"$error":"#REF!"}}]
[2010231400,"ЦПТИ",7724779465,203706,2010231400,"АО \"Центральный проектно-технологический институт\"",null,null,null,null,null,null,{"$f":"VLOOKUP(A343,#REF!,2,0)","v":{"$error":"#REF!"}}]
[2010640000,"ЭИЗ",7811411780,178,2010640000,"АО \"Санкт-Петербургский Научно-Исследовательский Изыскательский Институт \"Энергоизыскания\"",null,null,null,null,null,null,{"$f":"VLOOKUP(A344,#REF!,2,0)","v":{"$error":"#REF!"}}]
[2010230108,"ЭЛЕМАШ-АВТО",5053054827,52,2010230108,"ООО \"ЭЛЕМАШ-АВТО\"",null,null,null,null,null,null,{"$f":"VLOOKUP(A345,#REF!,2,0)","v":{"$error":"#REF!"}}]
[2010230109,"ЭЛЕМАШ-МАГНИТ",5053054810,53,2010230109,"ООО \"ЭЛЕМАШ МАГНИТ\"",null,null,null,null,null,null,{"$f":"VLOOKUP(A346,#REF!,2,0)","v":{"$error":"#REF!"}}]
[2010230114,"ЭЛЕМАШ-СТП",5053066854,58,2010230114,"ООО \"ЭЛЕМАШ- СПЕЦТРУБПРОКАТ\"",null,null,null,null,null,null,{"$f":"VLOOKUP(A347,#REF!,2,0)","v":{"$error":"#REF!"}}]
[2010150600,"ЭнергоАвтотранс",5254082648,173052,2010150600,"ООО \"ЭнергоАвтотранс\"",null,null,null,null,null,null,{"$f":"VLOOKUP(A348,#REF!,2,0)","v":{"$error":"#REF!"}}]
[2010590300,"Энергоатоминвест",4027055893,169,2010590300,"ООО \"Энергоатоминвест\"",null,null,null,null,null,null,{"$f":"VLOOKUP(A349,#REF!,2,0)","v":{"$error":"#REF!"}}]
[2010230307,"Энергоремонт",1837004362,78,2010230307,"ООО \"Энергоремонт\"",null,null,null,null,null,null,{"$f":"VLOOKUP(A350,#REF!,2,0)","v":{"$error":"#REF!"}}]
[2010780600,"Энергосервисная компания",7024034594,212643,2010780600,"ООО \"Энергосервисная  компания\"",null,null,null,null,null,null,{"$f":"VLOOKUP(A351,#REF!,2,0)","v":{"$error":"#REF!"}}]
[6080010000,"ЭНПРАН",7706716631,150158,6080010000,"АО \"Энергопроманалитика\"",null,null,null,null,null,null,{"$f":"VLOOKUP(A352,#REF!,2,0)","v":{"$error":"#REF!"}}]
[2010450101,"АСЭ-Финанс",7705762628,154,2010450101,"ООО «Атомстройэкспорт- Финанс»",null,null,null,null,null,"да",{"$f":"VLOOKUP(A353,#REF!,2,0)","v":{"$error":"#REF!"}}]
[2010770000,"Ленатомэнергострой",4714023642,191,2010770000,"АО \"Специализированное строительно-монтажное управление \"Ленатомэнергострой\"",null,null,null,null,null,"да",{"$f":"VLOOKUP(A354,#REF!,2,0)","v":{"$error":"#REF!"}}]
[2010242660,"ПЗМ-ТНП",1001169266,187798,2010242660,"Общество с ограниченной ответственностью «ПетрозаводскМаш – ТНП»",null,null,null,null,null,"да",{"$f":"VLOOKUP(A355,#REF!,2,0)","v":{"$error":"#REF!"}}]
[2010450109,"УМПК",7422032148,132635,2010450109,"ЗАО \"Уральская монтажно- промышленная компания\"",null,null,null,null,null,"да",{"$f":"VLOOKUP(A356,#REF!,2,0)","v":{"$error":"#REF!"}}]
[null,"Частные учреждения \"Росатома\",  предоставляют отчетность КВАРТАЛЬНО",null,null,null,null,null,null,null,null,null,null,{"$f":"VLOOKUP(A357,#REF!,2,0)","v":{"$error":"#REF!"}}]
[5100000000,"ЧУ ЦТРПЭ",7706414704,96799,5100000000,"Частное учреждение \"Центр третейского регулирования и правовой экспертизы\"",null,null,null,null,null,null,{"$f":"VLOOKUP(A358,#REF!,2,0)","v":{"$error":"#REF!"}}]
[5090000000,"ЧУ СГИК",7705096054,96825,5090000000,"Частное учреждение \"Служба генерального инспектора Государственной корпорации по атомной энергии \"Росатом\"",null,null,null,null,null,null,{"$f":"VLOOKUP(A359,#REF!,2,0)","v":{"$error":"#REF!"}}]
[5150000000,"ЧУ ЦАА",5029133115,96981,5150000000,"Частное учреждение \"Центральный архив атомной отрасли  Государственной корпорации по атомной энергии \"Росатом\"",null,null,null,null,null,null,{"$f":"VLOOKUP(A360,#REF!,2,0)","v":{"$error":"#REF!"}}]
[5160000000,"ЧУ ПЦИТЭР",7734269417,204687,5160000000,"Частное учреждение \"Проектный центр ИТЭР\" ",null,null,null,null,null,null,{"$f":"VLOOKUP(A361,#REF!,2,0)","v":{"$error":"#REF!"}}]
[5170000000,"ЧУ ПРОРЫВ",7726485277,292959,5170000000,"ЧУ ГК \"Росатом\" \"Инновационно-технологический центр проекта \"ПРОРЫВ\"",null,null,null,null,null,null,{"$f":"VLOOKUP(A362,#REF!,2,0)","v":{"$error":"#REF!"}}]
[5120000000,"ЧУ ОЦКС",7706470770,293823,5120000000,"ЧУ ГК \"Росатом\" \"Отраслевой центр капитального строительства\"",null,null,null,null,null,null,{"$f":"VLOOKUP(A363,#REF!,2,0)","v":{"$error":"#REF!"}}]
[5180000000,"ЧУ ИКЦ",7725351697,318855,5180000000,"Частное учреждение \"Историко-культурный центр\"",null,null,null,null,null,null,{"$f":"VLOOKUP(A364,#REF!,2,0)","v":{"$error":"#REF!"}}]
[5190000000,"ЧУ Атомстандарт",7706416170,386744,5190000000,"Частное учреждение \"Институт технического регулирования, обеспечения единства измерений и стандартизации Росатома\" ",null,null,null,null,null,null,{"$f":"VLOOKUP(A365,#REF!,2,0)","v":{"$error":"#REF!"}}]
[5210000000,"ЧУ СКЦ Росатома",7706445460,481198,5210000000,"Частное учреждение по информационно- аналитическому обеспечению \"Ситуационно-Кризисный Центр Росатома\"",null,null,null,null,null,null,{"$f":"VLOOKUP(A366,#REF!,2,0)","v":{"$error":"#REF!"}}]
[5110000000,"ЧУ Атом-регион",7706422695,409863,5110000000,"Частное учреждение по сопровождению реализации территориальных проектов атомной отрасли \"Атом-регион\"",null,null,null,null,null,null,{"$f":"VLOOKUP(A367,#REF!,2,0)","v":{"$error":"#REF!"}}]
[2010980001,"ЧУ РМС",7706471614,379434,2010980001,"Частное учреждение обеспечения развития международной региональной сети атомного энергопромышленного комплекса \"Русатом-Международная Сеть\"",null,null,null,null,null,null,{"$f":"VLOOKUP(A368,#REF!,2,0)","v":{"$error":"#REF!"}}]
[6100000000,"АНО КАР",7706470787,293828,6100000000,"Автономная некоммерческая организация \"Корпоративная Академия Госкорпорации \"Росатом\"",null,null,null,null,null,null,{"$f":"VLOOKUP(A369,#REF!,2,0)","v":{"$error":"#REF!"}}]
[5500000000,"АНО ТАР",4025450383,514998,5500000000,"АНО ДПО «Техническая академия Росатома»",null,null,null,null,null,null,{"$f":"VLOOKUP(A370,#REF!,2,0)","v":{"$error":"#REF!"}}]
[null,null,null,null,null,"Прочие организации для  заполнения  ИНН на листе 58.02",null,null,null,null,null,null,{"$f":"VLOOKUP(A371,#REF!,2,0)","v":{"$error":"#REF!"}}]
[2039000000,"1-НПФ фонд",7724186930,151080,2039000000,"1- НПФ (Негосударственный пенсионный фонд \"Первый национальный пенсионный фонд\")",null,null,null,null,null,null,{"$f":"VLOOKUP(A372,#REF!,2,0)","v":{"$error":"#REF!"}}]
[null,"FAIR GmbH (ФАИР)",99999999,321765,null,"\"Facility for Antiproton and Ion Research in Europe GmbH»",null,null,null,null,null,null,{"$f":"VLOOKUP(A373,#REF!,2,0)","v":{"$error":"#REF!"}}]
[2010450111,"Nuclear Power Alliance a.s.",1781570,325852,2010450111,"Nuclear Power Alliance a.s.",null,null,null,null,null,null,{"$f":"VLOOKUP(A374,#REF!,2,0)","v":{"$error":"#REF!"}}]
[null,"PASEK - stavebni firma spol. s.r.o.",25281607,249010,null,"PASEK - stavebni firma spol. s.r.o.",null,null,null,null,null,null,{"$f":"VLOOKUP(A375,#REF!,2,0)","v":{"$error":"#REF!"}}]
[null,"Rosatom Africa (Pty) Ltd","2014/073014/07",374593,null,"Rosatom Africa (Pty) Ltd ",null,null,null,null,null,null,{"$f":"VLOOKUP(A376,#REF!,2,0)","v":{"$error":"#REF!"}}]
[null,"Rosatom Asia PTE. LTD","201411806N",374580,null,"Rosatom Asia PTE. LTD",null,null,null,null,null,null,{"$f":"VLOOKUP(A377,#REF!,2,0)","v":{"$error":"#REF!"}}]
[null,"Rosatom Central Europe s.r.o.",3033716,368503,null,"Rosatom Central Europe s.r.o.",null,null,null,null,null,null,{"$f":"VLOOKUP(A378,#REF!,2,0)","v":{"$error":"#REF!"}}]
[null,"Rosatom France SARL",804720555,374631,null,"Rosatom France SARL",null,null,null,null,null,null,{"$f":"VLOOKUP(A379,#REF!,2,0)","v":{"$error":"#REF!"}}]
[null,"Tri Alpha Energy, Inc.",22222222,null,null,"Tri Alpha Energy",null,null,null,null,null,null,{"$f":"VLOOKUP(A380,#REF!,2,0)","v":{"$error":"#REF!"}}]
[null,"Uranium One Australia Pty Ltd.",94057007,null,null,"Uranium One Australia Pty Ltd.",null,null,null,null,null,null,{"$f":"VLOOKUP(A381,#REF!,2,0)","v":{"$error":"#REF!"}}]
[null,"А.С.Т.",5254021525,339382,null,"Общество с ограниченной ответственностью «А.С.Т.»",null,null,null,null,null,null,{"$f":"VLOOKUP(A382,#REF!,2,0)","v":{"$error":"#REF!"}}]
[2010470001,"Ансертэко",7706026412,152124,2010470001,"Общество с ограниченной ответственностью \"Аналитический, сертификационный и эколого-аналитический центр \"Ансертэко\"",null,null,null,null,null,null,{"$f":"VLOOKUP(A383,#REF!,2,0)","v":{"$error":"#REF!"}}]
[null,"Атом-спорт",3801111332,195880,null," Автономная некоммерческая организация по спортивно-оздоровительной работе «Атом-спорт». ",null,null,null,null,null,null,{"$f":"VLOOKUP(A384,#REF!,2,0)","v":{"$error":"#REF!"}}]
[2010450106,"Атомстройинвест",7705570531,275,2010450106,"ООО «Атомстройинвест»",null,null,null,null,null,null,{"$f":"VLOOKUP(A385,#REF!,2,0)","v":{"$error":"#REF!"}}]
[2010591302,"АЭС Северо-Запад",7801268130,354,2010591302,"Открытое акционерное общество «АтомЭнергоСбыт Северо-Запад»",null,null,null,null,null,null,{"$f":"VLOOKUP(A386,#REF!,2,0)","v":{"$error":"#REF!"}}]
[1150010000,"БИТЕХ",5254023547,232664,1150010000,"Закрытое акционерное общество \"Базовые исследования и технологии\"",null,null,null,null,null,null,{"$f":"VLOOKUP(A387,#REF!,2,0)","v":{"$error":"#REF!"}}]
[null,"БСУ-1",6639012579,130985,null,"Общество с ограниченной ответственностью \"БСУ-1\"",null,null,null,null,null,null,{"$f":"VLOOKUP(A388,#REF!,2,0)","v":{"$error":"#REF!"}}]
[1110000001,"Взрывиспытания",5040006777,179676,1110000001,"Закрытое акционерно общество \"Инженерно-технический центр независимой экспертизы безопасности и сертификации взрывчатых материалов\"",null,null,null,null,null,null,{"$f":"VLOOKUP(A389,#REF!,2,0)","v":{"$error":"#REF!"}}]
[1150000003,"ВНИИЭФ \"ТАНИК\"",5254001945,190718,1150000003,"Закрытое акционерное общество \"ВНИИЭФ, телевидение, автоматика, научные исследования, коммерция\"",null,null,null,null,null,null,{"$f":"VLOOKUP(A390,#REF!,2,0)","v":{"$error":"#REF!"}}]
[1150000001,"Газета \"Город Номер\"",5254021677,203910,1150000001,"Закрытое акционерное общество \"Газета \"Город №\"",null,null,null,null,null,null,{"$f":"VLOOKUP(A391,#REF!,2,0)","v":{"$error":"#REF!"}}]
[null,"Гидроаппарат",5254019396,218326,null,"Закрытое акционерное общество «Гидроаппарат»",null,null,null,null,null,null,{"$f":"VLOOKUP(A392,#REF!,2,0)","v":{"$error":"#REF!"}}]
[2010230927,"ГЭМ",5036105172,149666,2010230927,"Открытое акционерное общество «Группа «Энергетическое Машиностроение»",null,null,null,null,null,null,{"$f":"VLOOKUP(A393,#REF!,2,0)","v":{"$error":"#REF!"}}]
[2010230350,"Иж-Астро",1831010987,176484,2010230350,"Открытое акционерное общество «Акционерное страховое общество «Иж-Астро»",null,null,null,null,null,null,{"$f":"VLOOKUP(A394,#REF!,2,0)","v":{"$error":"#REF!"}}]
[null,"Издательская фирма \"Нейва-пресс\"",6629000366,106518,null," Общество с ограниченной ответственностью \" Издательская фирма \"Нейва-пресс\"",null,null,null,null,null,null,{"$f":"VLOOKUP(A395,#REF!,2,0)","v":{"$error":"#REF!"}}]
[1150070000,"Квантовые технологии",5018049479,267200,1150070000,"Закрытое акционерное общество \"Межотраслевой научно-технический центр \"Квантовые технологии\"",null,null,null,null,null,null,{"$f":"VLOOKUP(A396,#REF!,2,0)","v":{"$error":"#REF!"}}]
[null,"Компания  ЦАУ",2076748,493609,null,"Компания с ограниченной ответственностью \"Центрально-Азиатская урановая компания\"",null,null,null,null,null,null,{"$f":"VLOOKUP(A397,#REF!,2,0)","v":{"$error":"#REF!"}}]
[null,"Кривское",4003003825,241159,null,"Закрытое акционерное общество \"Агропромышленная фирма \"Кривское\"",null,null,null,null,null,null,{"$f":"VLOOKUP(A398,#REF!,2,0)","v":{"$error":"#REF!"}}]
[2010470002,"МА Титан",6607000411,153566,2010470002,"Закрытое акционерное общество \"Межгосударственная ассоциация Титан\"",null,null,null,null,null,null,{"$f":"VLOOKUP(A399,#REF!,2,0)","v":{"$error":"#REF!"}}]
[1020000001,"МХО ИАЭ",7724180826,150448,1020000001,"Закрытое акционерное общество \"Московский филиал международного хозяйственного объединения \"Интрератомэнерго\"",null,null,null,null,null,null,{"$f":"VLOOKUP(A400,#REF!,2,0)","v":{"$error":"#REF!"}}]
[null,"МЭА",28612007575,413222,null,"ЗАО «МЕЦАМОРЭНЕРГОАТОМ» ",null,null,null,null,null,null,{"$f":"VLOOKUP(A401,#REF!,2,0)","v":{"$error":"#REF!"}}]
[null,"НПО \"САТИС\"",5254025248,268477,null,"Общество с ограниченной ответственностью \"Научно-производственное объединение \"Саровские атомные технологии и информационные системы\"",null,null,null,null,null,null,{"$f":"VLOOKUP(A402,#REF!,2,0)","v":{"$error":"#REF!"}}]
[2010800001,"НПП Термотекс",5029040598,112469,2010800001,"Общество с ограниченной ответственостью  \"Научно-производственнное предприяитие \"Термотекс\"",null,null,null,null,null,null,{"$f":"VLOOKUP(A403,#REF!,2,0)","v":{"$error":"#REF!"}}]
[null,"НТА \"Актис\"",4025004928,123943,null,"Научно-техническая Ассоциация \"Компьютерные технологии и информационные системы в научных исследованиях\"",null,null,null,null,null,null,{"$f":"VLOOKUP(A404,#REF!,2,0)","v":{"$error":"#REF!"}}]
[null,"Нуклеарконтроль",7726030128,116016,null,"Закрытое акционерное общество \"Нуклеарконтроль\"",null,null,null,null,null,null,{"$f":"VLOOKUP(A405,#REF!,2,0)","v":{"$error":"#REF!"}}]
[null,"ООО «РОСАТОМ ВЕ»",39255244,null,null,"ООО «РОСАТОМ ВОСТОЧНАЯ ЕВРОПА»",null,null,null,null,null,null,{"$f":"VLOOKUP(A406,#REF!,2,0)","v":{"$error":"#REF!"}}]
[null,"Прогресс",5037004040,125227,null,"Открытое акционерное общество\n «Протвинский Опытный завод «Прогресс»\n",null,null,null,null,null,null,{"$f":"VLOOKUP(A407,#REF!,2,0)","v":{"$error":"#REF!"}}]
[null,"РАДЭФ",5254483760,243957,null,"Общество с ограниченной ответственностью \"РАДЭФ\"",null,null,null,null,null,null,{"$f":"VLOOKUP(A408,#REF!,2,0)","v":{"$error":"#REF!"}}]
[2010591802,"РАОТЕХ",7719202457,113700,2010591802,"Закрытое акционерное общество «РАОТЕХ»",null,null,null,null,null,null,{"$f":"VLOOKUP(A409,#REF!,2,0)","v":{"$error":"#REF!"}}]
[null,"Редметсервис",7717036589,232705,null,"Общество с ограниченной ответственностью \"Редметсервис\"",null,null,null,null,null,null,{"$f":"VLOOKUP(A410,#REF!,2,0)","v":{"$error":"#REF!"}}]
[null,"РОСАТОМ ЛАТИНСКАЯ АМЕРИКА",44444444,409317,null,"РОСАТОМ ЛАТИНСКАЯ АМЕРИКА, ООО",null,null,null,null,null,null,{"$f":"VLOOKUP(A411,#REF!,2,0)","v":{"$error":"#REF!"}}]
[1150000004,"САРОВ-ВОЛГОГАЗ",5254026273,125783,1150000004,"Общество с ограниченной ответственностью \"Научно-производственное объединение \"САРОВ-ВОЛГОГАЗ\"",null,null,null,null,null,null,{"$f":"VLOOKUP(A412,#REF!,2,0)","v":{"$error":"#REF!"}}]
[1110010000,"Сервис",7423022400,435251,1110010000,"Открытое акционерное общество \"Сервис\"",null,null,null,null,null,null,{"$f":"VLOOKUP(A413,#REF!,2,0)","v":{"$error":"#REF!"}}]
[2010230950,"СКЭМ",2312032555,151528,2010230950,"Открытое акционерное общество\n «Севкавэнергомонтаж»               \n\n\n\n",null,null,null,null,null,null,{"$f":"VLOOKUP(A414,#REF!,2,0)","v":{"$error":"#REF!"}}]
[1080000001,"СЭлС",5406222395,238604,1080000001,"Открытое акционерное общество \"Силовая электроника Сибири\"",null,null,null,null,null,null,{"$f":"VLOOKUP(A415,#REF!,2,0)","v":{"$error":"#REF!"}}]
[null,"ТД ГЭМ-Белгород",3123283361,243820,null,"Общество с ограниченной ответственностью «Торговый дом «ГЭМ-Белгород»",null,null,null,null,null,null,{"$f":"VLOOKUP(A416,#REF!,2,0)","v":{"$error":"#REF!"}}]
[null,"Титан",5254018339,null,null,"Закрытое акционерное общество «Титан»",null,null,null,null,null,null,{"$f":"VLOOKUP(A417,#REF!,2,0)","v":{"$error":"#REF!"}}]
[null,"ТОО «Росатом Центральная Азия»",141240022860,397923,null,"Товарищество с ограниченной ответственностью \"Росатом Центральная Азия\"",null,null,null,null,null,null,{"$f":"VLOOKUP(A418,#REF!,2,0)","v":{"$error":"#REF!"}}]
[2010591700,"Триада",7825436390,116291,2010591700,"Закрытое акционерное общество \"Триада\"",null,null,null,null,null,null,{"$f":"VLOOKUP(A419,#REF!,2,0)","v":{"$error":"#REF!"}}]
[null,"ФБВТ",7703530990,233992,null,"Открытое акционерное общество \"Фондовая биржа высоких технологий\"",null,null,null,null,null,null,{"$f":"VLOOKUP(A420,#REF!,2,0)","v":{"$error":"#REF!"}}]
[null,"ФРЗТ",6600001442,217382,null,"Открытое акционерное общество \"Фонд развития заречного технополиса\"",null,null,null,null,null,null,{"$f":"VLOOKUP(A421,#REF!,2,0)","v":{"$error":"#REF!"}}]
[null,"ЦИМТ",7722816908,null,null,"Общество с ограниченной ответственностью \"Центр инновационных медицинских технологий\"",null,null,null,null,null,null,{"$f":"VLOOKUP(A422,#REF!,2,0)","v":{"$error":"#REF!"}}]
[null,"ЭКОцентр",7405003891,123489,null,"Общество с ограниченной ответственностью \"Центр экономического развития\"",null,null,null,null,null,null,{"$f":"VLOOKUP(A423,#REF!,2,0)","v":{"$error":"#REF!"}}]
[null,"ЭЛЕМАШ-ЭНЕРГО",5053020289,150821,null,"Общество с ограниченной ответственностью «ЭЛЕМАШ-ЭНЕРГО»",null,null,null,null,null,null,{"$f":"VLOOKUP(A424,#REF!,2,0)","v":{"$error":"#REF!"}}]
[null,null,null,null,null,"Компании ФГУП в которых есть доля владения",null,null,null,null,null,null,{"$f":"VLOOKUP(A425,#REF!,2,0)","v":{"$error":"#REF!"}}]
[4061000000,"ЭКА",5054002290,109132,4061000000,"Открытое акционерное общество «ЭКА»",null,null,null,null,null,null,{"$f":"VLOOKUP(A426,#REF!,2,0)","v":{"$error":"#REF!"}}]
[1150040000,"КП",5254482357,203903,1150040000,"Общество с ограниченной ответственностью \"Комплексный проект\"",null,null,null,null,null,null,{"$f":"VLOOKUP(A427,#REF!,2,0)","v":{"$error":"#REF!"}}]

{"sheet":"Лист8","index":10,"n_rows":55,"n_cols":3,"rows_kept":55,"cut":false,"hidden":true,"merged":[]}
["ГК",null,"Мой"]
[6090000000,{"$f":"C2-A2","v":0},6090000000]
[6020000000,{"$f":"C3-A3","v":0},6020000000]
[6010000000,0,6010000000]
[4180000000,0,4180000000]
[4150000000,0,4150000000]
[4140000000,0,4140000000]
[4110000000,0,4110000000]
[4100000000,0,4100000000]
[4090000000,0,4090000000]
[4080000000,0,4080000000]
[4070000000,0,4070000000]
[4060000000,0,4060000000]
[4040000000,0,4040000000]
[4030000000,0,4030000000]
[4010000000,0,4010000000]
[3260000000,0,3260000000]
[3110000000,0,3110000000]
[3100000000,0,3100000000]
[3090000000,0,3090000000]
[3080000000,0,3080000000]
[3070000000,0,3070000000]
[3040000000,0,3040000000]
[3020000000,0,3020000000]
[3010000000,0,3010000000]
[2010991100,0,2010991100]
[2010620400,0,2010620400]
[2010620200,0,2010620200]
[2010620000,0,2010620000]
[2010450112,0,2010450112]
[2010450107,0,2010450107]
[2010450103,0,2010450103]
[2010450100,0,2010450100]
[2010380000,0,2010380000]
[2010360000,0,2010360000]
[null,2010241800,2010241800]
[null,2010230912,2010230912]
[2010110000,0,2010110000]
[1190000000,0,1190000000]
[1180000000,0,1180000000]
[1170000000,0,1170000000]
[1150000006,0,1150000006]
[1150000000,0,1150000000]
[1140000000,0,1140000000]
[1130000000,0,1130000000]
[1120000000,0,1120000000]
[1110000000,0,1110000000]
[1100000000,0,1100000000]
[1090000000,0,1090000000]
[1080000000,0,1080000000]
[1070000000,0,1070000000]
[1050000000,0,1050000000]
[1020000000,0,1020000000]
[1010000000,0,1010000000]
[2,0,2]

{"sheet":"Лист7","index":11,"n_rows":52,"n_cols":9,"rows_kept":52,"cut":false,"hidden":true,"merged":[]}
[2010450107,"NUKEM Technologies GmbH","Да","Да",null,"Да",null,null,{"$error":"#N/A"}]
[2010450112,"Nukem Technologies Engineering Services GmbH","Да","Да",null,"Да",null,null,{"$error":"#N/A"}]
[2010450100,"АО \"Атомстройэкспорт\"","Да","Да",null,"Да","Да",null,{"$error":"#N/A"}]
[2010450103,"ООО \"АСЭ-Инжиниринг\"","Да","Да",null,"Да",null,null,{"$error":"#N/A"}]
[3040000000,"ФГУП \"Координационный Центр по созданию систем безопасности и управления \"Атомбезопасность\"","Да","Да",null,"Да",null,null,{"$error":"#N/A"}]
[3070000000,"ФГУП \"Научно-технический и сертификационный центр по комплексной защите информации\"","Да","Да",null,"Да",null,null,{"$error":"#N/A"}]
[6090000000,"АО \"Атомкомплект\"","Да","Да",null,"Да",null,null,{"$error":"#N/A"}]
[6020000000,"ФГУП \"Ведомственная охрана Росатома\"","Да","Да",null,"Да",null,null,{"$error":"#N/A"}]
[3100000000,"ФГУП атомного флота (ФГУП \"Атомфлот\")","Да","Да",null,"Да",null,null,{"$error":"#N/A"}]
[2010110000,"АО \"АтомКапитал\"","Да","Да",null,"Да",null,null,{"$error":"#N/A"}]
[3010000000,"ФГУП \"Аварийно-технический центр Минатома России\" (г. Санкт-Петербург)","Да","Да",null,"Да",null,null,{"$error":"#N/A"}]
[2010360000,"АО  \"Атомэнергопроект\"","Да","Да",null,"Да","Да",null,"АО  \"Атомэнергопроект\""]
[1010000000,"ФГУП \"Базальт\"","Да","Да",null,"Да",null,null,"ФГУП \"Базальт\""]
[2010380000,"АО \"Всерегиональное объединение \"Изотоп\"","Да","Да",null,"Да",null,null,"ОАО \"Всерегиональное объединение \"Изотоп\""]
[1020000000,"ФГУП \"Всероссийский научно-исследовательский институт автоматики им. Н.Л. Духова\"","Да","Да",null,"Да",null,null,"ФГУП \"Всероссийский научно-исследовательский институт автоматики им. Н.Л. Духова\""]
[1110000000,"ФГУП \"Российский Федеральный Ядерный Центр - Всероссийский научно-исследовательский институт технической физики имени академика Е.И. Забабахина\"","Да","Да",null,"Да",null,null,"ФГУП \"Российский Федеральный Ядерный Центр - Всероссийский научно-исследовательский институт технической физики имени академика Е.И. Забабахина\""]
[1150000000,"ФГУП \"Российский федеральный ядерный центр–Всероссийский научно- исследовательский институт экспериментальной физики\" (ФГУП \"РФЯЦ-ВНИИЭФ\")","Да","Да",null,"Да",null,null,"ФГУП \"Российский федеральный ядерный центр–Всероссийский научно- исследовательский институт экспериментальной физики\" (ФГУП \"РФЯЦ-ВНИИЭФ\")"]
[1170000000,"ФГУП \"Всероссийский электротехнический институт В.И. Ленина\"","Да","Да",null,"Да",null,null,"ФГУП \"Всероссийский электротехнический институт В.И. Ленина\""]
[2,"Государственная корпорация по атомной энергии \"Росатом\"","Да","Да",null,"Да","Да",null,{"$error":"#N/A"}]
[3020000000,"ФГУП \"Горно-химический комбинат\"","Да","Да",null,"Да",null,null,"ФГУП \"Горно-химический комбинат\""]
[1150000006,"АО \"Инфраструктура и Сервис РФЯЦ - ВНИИЭФ\"","Да",null,null,"Да",null,null,{"$error":"#N/A"}]
[1070000000,"ФГУП \"Производственное объединение \"Маяк\"","Да","Да",null,"Да",null,null,"ФГУП \"Производственное объединение \"Маяк\""]
[1190000000,"ФГУП «Московское опытно-конструкторское бюро «Марс»","Да","Да",null,"Да",null,null,{"$error":"#N/A"}]
[2010620200,"ООО \"НИАЭП-Сервис\"","Да","Да",null,"Да",null,null,"ООО \"НИАЭП-Сервис\""]
[2010620000,"АО Инжиниринговая компания \"АСЭ\"","Да","Да",null,"Да","Да",null,"АО Инжиниринговая компания \"АСЭ\""]
[1130000000,"ФГУП федеральный научно-производственный центр \"Научно-исследовательский институт измерительных систем им. Ю.Е. Седакова\"","Да","Да",null,"Да",null,null,"ФГУП федеральный научно-производственный центр \"Научно-исследовательский институт измерительных систем им. Ю.Е. Седакова\""]
[4070000000,"АО \"Научно-исследовательский институт приборов\"","Да","Да",null,"Да",null,null,"АО \"Научно-исследовательский институт приборов\""]
[4080000000,"АО \"Научно-исследовательский институт электрофизической аппаратуры им. Д.В. Ефремова\"","Да","Да",null,"Да",null,null,"АО \"Научно-исследовательский институт электрофизической аппаратуры им. Д.В. Ефремова\""]
[4090000000,"ФГУП \"Научно-исследовательский технологический институт имени А.П. Александрова\"","Да","Да",null,"Да",null,null,"ФГУП \"Научно-исследовательский технологический институт имени А.П. Александрова\""]
[4140000000,"АО \"Научно-исследовательский физико-химический институт им. Л.Я. Карпова\" (НИФХИ)","Да","Да",null,"Да",null,null,"АО \"Научно-исследовательский физико-химический институт им. Л.Я. Карпова\" (НИФХИ)"]
[4060000000,"ФГУП \"Научно-исследовательский институт Научно-производственное объединение \"Луч\"","Да","Да",null,"Да",null,null,"ФГУП \"Научно-исследовательский институт Научно-производственное объединение \"Луч\""]
[4010000000,"АО \"Радиевый институт им. В.Г. Хлопина\"","Да","Да",null,"Да",null,null,"АО \"Радиевый институт им. В.Г. Хлопина\""]
[4110000000,"ФГУП \"Национальный оператор по обращению с радиоактивными отходами\"","Да","Да",null,"Да",null,null,"ФГУП \"Национальный оператор по обращению с радиоактивными отходами\""]
[1180000000,"ФГУП \"Опытный завод Всероссийского электротехнического института В.И. Ленина\"","Да","Да",null,"Да",null,null,"ФГУП \"Опытный завод Всероссийского электротехнического института В.И. Ленина\""]
[1080000000,"ФГУП Производственное объединение \"Север\"","Да","Да",null,"Да",null,null,"ФГУП Производственное объединение \"Север\""]
[1100000000,"ФГУП \"Приборостроительный завод\"","Да","Да",null,"Да",null,null,"ФГУП \"Приборостроительный завод\""]
[2010991100,"Простое товарищество Русреактор-ВНИИЭФ","Да",null,null,"Да",null,null,{"$error":"#N/A"}]
[3110000000,"ФГУП \"РАДОН\"","Да","Да",null,"Да",null,null,"ФГУП \"РАДОН\""]
[3260000000,"ФГУП \"Предприятие по обращению с радиоактивными отходами \"РосРАО\"","Да","Да",null,"Да",null,null,"ФГУП \"Предприятие по обращению с радиоактивными отходами \"РосРАО\""]
[4180000000,"АО \"Русский сверхпроводник \"","Да","Да",null,"Да",null,null,"АО \"Русский сверхпроводник \""]
[3080000000,"ФГУП \"Ситуационно-Кризисный Центр Федерального агентства по атомной энергии\"","Да","Да",null,"Да",null,null,"ФГУП \"Ситуационно-Кризисный Центр Федерального агентства по атомной энергии\""]
[1090000000,"ФГУП \"ФНЦП Производственное объединение \"Старт\" имени М.В. Проценко\"","Да","Да",null,"Да",null,null,"ФГУП \"ФНЦП Производственное объединение \"Старт\" имени М.В. Проценко\""]
[4150000000,"АО \"Технопарк-Технология\"","Да","Да",null,"Да",null,null,"АО \"Технопарк-Технология\""]
[4030000000,"АО \"Государственный научный центр Российской Федерации Троицкий институт инновационных и термоядерных исследований\"","Да","Да",null,"Да",null,null,"АО \"Государственный научный центр Российской Федерации Троицкий институт инновационных и термоядерных исследований\""]
[2010620400,"ООО \"Трест Росспецэнергомонтаж\"","Да","Да",null,"Да","Да",null,"ООО \"Трест Росспецэнергомонтаж\""]
[6010000000,"АО \"Управление административными зданиями\"","Да","Да",null,"Да",null,null,"АО \"Управление административными зданиями\""]
[1120000000,"ФГУП \"Уральский электромеханический завод\"","Да","Да",null,"Да",null,null,"ФГУП \"Уральский электромеханический завод\""]
[3090000000,"АО \"Федеральный центр ядерной и радиационной безопасности\"","Да","Да",null,"Да",null,null,"АО \"Федеральный центр ядерной и радиационной безопасности\""]
[4040000000,"АО \"Государственный научный центр Российской Федерации - Физико-энергетический институт имени А.И. Лейпунского\"","Да","Да",null,"Да",null,null,"АО \"Государственный научный центр Российской Федерации - Физико-энергетический институт имени А.И. Лейпунского\""]
[1140000000,"АО \"Экспедиция № 2\"","Да","Да",null,"Да",null,null,"АО \"Экспедиция № 2\""]
[4100000000,"АО \"Специальное научно-производственное объединение \"Элерон\"","Да","Да",null,"Да",null,null,"АО \"Специальное научно-производственное объединение \"Элерон\""]
[1050000000,"ФГУП \"Комбинат \"Электрохимприбор\"","Да","Да",null,"Да",null,null,"ФГУП \"Комбинат \"Электрохимприбор\""]

{"sheet":"Периметр АЭПК_2_кв_ 2017","index":12,"n_rows":141,"n_cols":6,"rows_kept":141,"cut":false,"hidden":true,"merged":[]}
["№","Сокращенное название","ИНН","Номер ЦФО","Полное название","Включена в Периметр АЭПК по МСФО"]
[1,"ARAKO","CZ47152371",2010230922,"ARAKO spol. s r.o.","Да"]
[2,"EMSS Holdings","HE 245521",2010230948,"EMSS Holdings Limited (ЭМСС ХОЛДИНГЗ ЛИМИТЕД)","Да"]
[3,"Ganz","10806481-2-42",2010820100,"Ganz Energetika Kft. ООО «Ганз Инженерное и Энергетическое Машиностроение»","Да"]
[4,"INTERNEXCO",4023602999,2010241200,"INTERNEXCO GmbH","Да"]
[5,"INTERNEXCO GmbH (Швейцария)","CHE-255.290.400",2010241000,"INTERNEXCO GmbH (Швейцария)","Да"]
[6,"KWINDER HOLDINGS LIMITED","12277016L",2010240310,"KWINDER HOLDINGS LIMITED","Да"]
[7,"Mantra Resources Ltd.",833296300,2010021600,"Mantra Resources Pty Ltd.","Да"]
[8,"RAOS Project Oy",386588,2010932000,"RAOS Project Oy","Да"]
[9,"REIN ",7706759586,2010930000,"АО \"Русатом Энерго Интернешнл\"","Да"]
[10,"ROSATOM FINANCE","12286659G",2010940000,"ROSATOM FINANCE LTD (Росатом Финанс ЛТД)","Да"]
[11,"TENAM","68-068-0771",2010242500,"TENAM Corporation","Да"]
[12,"TRADEWILL LIMITED","GB987386840",2010242400,"TRADEWILL LIMITED","Да"]
[13,"UMP Trading","903.1.000.8205",2010230952,"UMP Trading (Швейцария)","Да"]
[14,"Uranium","88897 7170 RC0001",2010021500,"Uranium One Inc.","Да"]
[15,"Uranium One Holding",817104549,2010021200,"Uranium One Holding N.V.","Да"]
[16,"Аккую Нуклеар",310546698,2010450108,"АО\"Аккую Нуклеар\"","Да"]
[17,"АЛАБУГА-ВОЛОКНО",1646031132,2010242201,"ООО \"Алабуга-Волокно\"","Да"]
[18,"Аргон",6454074501,2010240800,"ООО \"Аргон\"","Да"]
[19,"АРМЗ",7706016076,2010020000,"АО \"Урановый холдинг АРМЗ\" (\"Атомредметзолото\")","Да"]
[20,"АРМЗ-Сервис",7708671295,2010020602,"Общество с ограниченной ответственностью \"АРМЗ Сервис\"","Да"]
[21,"АТА",7724560930,2010010000,"АО \"Альянстрансатом\"","Да"]
[22,"АТМ",7734242302,2010230915,"ЗАО \"Атомтрубопроводмонтаж\"","Да"]
[23,"АтомМедТехнолоджи-ДВ",2536279414,2010933000,"ООО \"АтомМедТехнолоджи- Дальний Восток\"","Да"]
[24,"АТОМПРОЕКТ",7814417371,2010460000,"АО \"Научно-исследовательский и проектно-конструкторский институт энергетических технологий \"АТОМПРОЕКТ\"","Да"]
[25,"Атомспецтранс",7717609102,2010340000,"АО \"Атомспецтранс\"","Да"]
[26,"Атомтехэкспорт",7705408850,2010591900,"АО \"Атомтехэкспорт\"","Да"]
[27,"Атомтехэнерго",5029106714,2010350000,"АО по наладке, совершенствованию эксплуатации и организации управления атомных станций \"Атомтехэнерго\"","Да"]
[28,"Атомэнергомаш",7706614573,2010230900,"АО \"Атомное и энергетическое машиностроение\" (АО \"Атомэнергомаш\")","Да"]
[29,"Атомэнергопромсбыт",7725828549,2010591320,"АО \"Атомэнергопромсбыт\"","Да"]
[30,"Атомэнергоремонт",5029112443,2010590700,"АО \"Атомэнергоремонт\"","Да"]
[31,"Атомэнергосбыт",7704228075,2010591300,"АО \"АтомЭнергоСбыт\"","Да"]
[32,"АЭМ-лизинг",7706673635,2010230902,"АО \"АЭМ-лизинг\"","Да"]
[33,"АЭМ-технологии",7817311895,2010230904,"АО Инжиниринговая компания \"АЭМ-технологии\"","Да"]
[34,"АЭПК",7706664260,2010000000,"АО \"Атомный энергопромышленный комплекс\" (АО \"Атомэнергопром\")","Да"]
[35,"АЭХК",3801098402,2010370000,"АО \"Ангарский электролизный химический комбинат\"","Да"]
[36,"Балтийская АЭС",3904612644,2010592100,"АО \"Балтийская АЭС\"","Да"]
[37,"Вента",6624002377,2010050000,"ОАО \"Нижнетуринский машиностроительный завод \"Вента\"","Да"]
[38,"ВНИИАМ",7743654609,2010390000,"АО \"Всероссийский научно-исследовательский и проектно-конструкторский институт атомного энергетического машиностроения (ВНИИАМ)\"","Да"]
[39,"ВНИИАЭС",7721247141,2010591800,"АО\"Всеросийский научно-исследовательский институт по эксплуатации атомных электростанций\"","Да"]
[40,"ВНИИНМ",7734598490,2010400000,"АО \"Всероссийский научно-исследовательский институт неорганических материалов имени академика А.А. Бочвара\"","Да"]
[41,"ВНИИХТ",7724675770,2010420000,"АО \"Ведущий научно-исследовательский институт химической технологии (ВНИИХТ)\"","Да"]
[42,"ВНИПИПромтехнологии",7724683379,2010430000,"АО \"Ведущий проектно-изыскательский и научно-исследовательский институт промышленной технологии\"","Да"]
[43,"Гидропресс",5036092340,2010710000,"АО \"Ордена Трудового Красного Знамени и ордена труда ЧССР - опытное конструкторское бюро \"ГИДРОПРЕСС\"","Да"]
[44,"Гиредмет",7706699062,2010470000,"АО \"Государственный научно-исследовательский проектный институт редкометаллической промышленности \"Гиредмет\"","Да"]
[45,"Гринатом",7706729736,2010900000,"АО \"Гринатом\"","Да"]
[46,"ГСПИ",7708697977,2010500000,"АО \"Государственный специализированный проектный институт\" (АО \"ГСПИ\")","Да"]
[47,"Далур",4506004751,2010230800,"АО \"Далур\"","Да"]
[48,"Дедал",5010036460,2010510000,"АО \"Научно-производственный комплекс \"Дедал\"","Да"]
[49,"ДЕЗ",7706730001,2010890000,"АО \"Дирекция Единого Заказа оборудования для АЭС\"","Да"]
[50,"ЖТЭЦ",2458013365,2010551000,"АО \"Железногорская ТЭЦ\"","Да"]
[51,"ЗАЭС",7701763846,2010450000,"АО \"Всероссийское производственное объединение \"Зарубежатомэнергострой\" (АО \"ВПО \"ЗАЭС\")","Да"]
[52,"ЗИОМАР",5036039258,2010230917,"АО \"Инжиниринговая компания \"ЗИОМАР\"","Да"]
[53,"ЗиО-Подольск",5036040729,2010230918,"ПАО \"Машиностроительный завод \"ЗиО Подольск\"","Да"]
[54,"ЗУКМ",7450045935,2010241600,"ООО \"Завод углеродных и композиционных материалов\"","Да"]
[55,"ИРМ",6639019655,2010540000,"АО \"Институт реакторных материалов\"","Да"]
[56,"Искра",2453014750,2010230001,"ООО \"Искра\"","Да"]
[57,"ИЦ РГЦ",7706689000,2010242300,"АО \"Инжиниринговый центр \"Русская газовая центрифуга\"","Да"]
[58,"КМЗ",3305004397,2010240600,"ПАО \"Ковровский механический завод\"","Да"]
[59,"Красная Звезда",7726682003,2010600000,"АО \"Красная Звезда\"","Да"]
[60,"Краун",7705833438,2010241100,"ООО \"Краун\"","Да"]
[61,"КЦ",7715020463,2010231300,"АО \"Коммерческий центр\"","Да"]
[62,"МЗП",7724558466,2010100000,"АО \"Московский завод полиметаллов\"","Да"]
[63,"Молния",7721730486,2010740000,"АО \"Производственное объединение \"Машиностроительный завод \"Молния\"","Да"]
[64,"МСЗ",5053005918,2010230100,"ПАО \"Машиностроительный завод\"","Да"]
[65,"МСЗ-М",5053066861,2010230115,"ООО \"МСЗ-МЕХАНИКА\"","Да"]
[66,"Наука и инновации",7706760091,4010000100,"АО \"Наука и инновации\"","Да"]
[67,"НЗХК",5410114184,2010230200,"ПАО \"Новосибирский завод химконцентратов\"","Да"]
[68,"НЗХК-Инструмент",5410021660,2010230207,"ООО \"НЗХК-Инструмент\"","Да"]
[69,"НЗХК-Энергия",5410028351,2010230210,"ООО \"НЗХК-Энергия\"","Да"]
[70,"НИИАР",7302040242,2010480000,"АО Государственный научный центр - Научно-исследовательский институт атомных реакторов (АО \"ГНЦ НИИАР\")","Да"]
[71,"НИИАР-Генерация",7329008990,2010970000,"ООО «НИИАР-ГЕНЕРАЦИЯ»","Да"]
[72,"НИИГрафит",7720723422,2010630000,"АО \"Государственный научно-исследовательский институт конструкционных материалов на основе графита \"НИИграфит\"","Да"]
[73,"НИИТФА",7726606316,2010410000,"АО \"Научно-исследовательский институт технической физики и автоматизации (НИИТФА)\"","Да"]
[74,"НИКИМТ-Атомстрой",7715719854,2010550000,"АО \"НИКИМТ \"Атомстрой\"","Да"]
[75,"НИКИЭТ",7708698473,2010650000,"АО \"Научно-исследовательский и конструкторский институт энерготехники имени Н.А. Доллежаля\"","Да"]
[76,"ННКЦ",6629020806,2010241900,"ООО \"Новоуральский научно-конструкторский центр\"","Да"]
[77,"НПК ХПИ",7706688991,2010242200,"АО \"НПК \"Химпроминжиниринг\"","Да"]
[78,"НТЦ ЯФИ",7802441926,2010690000,"АО \"Научно-технический центр \"Ядерно-физические исследования\"","Да"]
[79,"Обесп РФЯЦ-ВНИИЭФ",5254081010,2010150000,"АО \"Обеспечение РФЯЦ-ВНИИЭФ\"","Да"]
[80,"ОДЦ УГР",7024033350,2010780500,"АО \"Опытно-демонстрационный центр вывода из эксплуатации уран-графитовых ядерных реакторов\"","Да"]
[81,"ОЗТМиТС",7726633119,2010700000,"АО \"Опытный завод тугоплавких металлов и твердых сплавов\" (АО \"ОЗТМиТС\")","Да"]
[82,"ОИК",7706751361,2010910000,"ООО \"Объединенная инновационная корпорация\"","Да"]
[83,"ОК РСК",7706704146,2010860000,"АО \"Объединенная компания “Разделительно-сублиматный комплекс”","Да"]
[84,"ОКБМ",5259077666,2010720000,"АО \"Опытное Конструкторское Бюро Машиностроения имени И.И. Африкантова\"","Да"]
[85,"ОТЭК",7706757331,2010920000,"АО «Объединённая теплоэнергетическая компания»","Да"]
[86,"ППГХО",7530000048,2010230400,"ПАО \"Приаргунское производственное горно-химическое объединение\"","Да"]
[87,"Промышленные инновации",7725524660,2010231200,"АО \"Промышленные инновации\"","Да"]
[88,"ПСР",7721699740,2010592000,"АО \"Производственная система \"ПСР\"","Да"]
[89,"РАОС Войма Ои","2596476-2",2010931000,"RAOS Voima Oy","Да"]
[90,"РАСУ",7734358970,2010990000,"АО \"Русатом Автоматизированные Системы Управления\"","Да"]
[91,"РБМ",7713190205,2010020600,"АО \"РУСБУРМАШ\"","Да"]
[92,"Росэнергоатом",7721632827,2010590000,"АО \"Российский концерн по производству электрической и тепловой энергии на атомных станциях \"Росэнергоатом\"","Да"]
[93,"Русатом Сервис",7705966318,2010592200,"АО \"Русатом Сервис\"","Да"]
[94,"РЭМКО",5036076690,2010230911,"АО \"Русская ЭнергоМашиностроительная Компания\"","Да"]
[95,"Сайпрус","12239379I",2010230916,"ATOMENERGOMASH CYPRUS LIMITED ЧК \"Атомэнергомаш Сайпрус Лимитед\"","Да"]
[96,"СвердНИИхиммаш",6664003909,2010200000,"АО \"Свердловский научно-исследовательский институт химического машиностроения (\"СвердНИИхиммаш\")\"","Да"]
[97,"СГК",5254082550,2010150300,"АО \"Саровская Генерирующая Компания\"","Да"]
[98,"СЕТЕС",7024037370,2010550001,"АО \"Северские теплосистемы\"","Да"]
[99,"СНИИП",7734592593,2010660000,"АО \"Специализированный научно-исследовательский институт приборостроения\" (АО \"СНИИП\")","Да"]
[100,"СПб ИЗОТОП",7840393624,2010750000,"АО \"Санкт-Петербургский \"ИЗОТОП\"","Да"]
[101,"СТСК",5254082630,2010150200,"АО \"Саровская Теплосетевая Компания\"","Да"]
[102,"СХК",7024029499,2010780000,"АО \"Сибирский химический комбинат\"","Да"]
[103,"ТВЭЛ",7706123550,2010230000,"АО \"ТВЭЛ\"","Да"]
[104,"ТВЭЛ-Строй",7726523814,2010231100,"АО \"ТВЭЛ-СТРОИ\"","Да"]
[105,"ТЕНЕКС-Сервис",7706604582,2010240100,"АО \"ТЕНЕКС-Сервис\"","Да"]
[106,"Тепловодоканал",1837004370,2010230306,"ООО \"Тепловодоканал\"","Да"]
[107,"Техснабэкспорт",7706039242,2010240000,"АО \"Техснабэкспорт\"","Да"]
[108,"Точмаш",3329051460,2010440000,"АО \"Владимирское производственное объединение \"Точмаш\"","Да"]
[109,"Точмаш-авто",3329064483,2010440300,"ООО \"Точмаш-авто\"","Да"]
[110,"ТЦ ТЕНЕКС",7706609414,2010240200,"ЗАО \"Технологический центр \"ТЕНЕКС\"","Да"]
[111,"УДК Горное",7536087140,2010020200,"АО \"Уранодобывающая компания \"Горное\"","Да"]
[112,"УЗГЦ",6629020796,2010241800,"ООО \"Уральский завод газовых центрифуг\"","Да"]
[113,"Уралприбор",6629020789,2010242000,"ООО \"Новоуральский приборный завод\"","Да"]
[114,"УУГ",7706641432,2010020100,"АО \"Ураниум Уан Груп\"","Да"]
[115,"УЭХК",6629022962,2010800000,"АО \"Уральский электрохимический комбинат\"","Да"]
[116,"Хиагда","0302001219",2010230700,"АО \"Хиагда\"","Да"]
[117,"ЦВТД",7726750415,2010911000,"ООО «Центр высокотехнологичной диагностики»","Да"]
[118,"ЦентрАтом",7706723156,2010870000,"АО \"Центр управления непрофильными активами атомной отрасли\"","Да"]
[119,"ЦКБМ",7806394392,2010820000,"АО \"Центральное конструкторское бюро машиностроения\"","Да"]
[120,"ЦНИИТМАШ",7723564851,2010140000,"АО \"Научно-производственное объединение \"Центральный научно-исследовательский институт технологии машиностроения\"","Да"]
[121,"ЦОиС ОЛенКур",5024076079,2010290000,"АО \"Центр отдыха и спорта \"ОЛенКур \"","Да"]
[122,"ЧМЗ",1829008035,2010230300,"АО \"Чепецкий механический завод\"","Да"]
[123,"ЭГМК",1402047530,2010020400,"АО \"Эльконский горно-металлургический комбинат\"","Да"]
[124,"Экоальянс",6629026420,2010800800,"ООО \"Экоальянс\"","Да"]
[125,"ЭЛЕМАШ-ТЭК",5053055010,2010230110,"ООО \"ЭЛЕМАШ-ТЭК\"","Да"]
[126,"ЭМКО",7709735135,2010230912,"Общество с ограниченной ответственностью \"Русатом Оверсиз\"","Да"]
[127,"Энергомашспецсталь",2106005156,2010230943,"ПАО \"Энергомашспецсталь\"","Да"]
[128,"Энергоспецмонтаж",7718083574,2010270000,"ПАО \"Энергоспецмонтаж\"","Да"]
[129,"ЭНИЦ",5035037441,2010830000,"АО \"Электрогорский научно-исследовательский центр по безопасности атомных электростанций\"","Да"]
[130,"ЭХЗ",2453013555,2010840000,"АО \"Производственное объединение \"Электрохимический завод\"","Да"]
[131,"ЯМТ-Снежинск",7459003496,2010912000,"ООО \"Ядерные медицинские технологии-Снежинск\"","Да"]
[132,"Uranium One Trading AG","CHE-233.935.921 ",2010021506,"Uranium One Trading AG","Да"]
[133,"ВетроОГК",5036118291,2010230956,"АО \"Ветроэнергетическая отдельная генерирующая компания\"","Да"]
[134,"Консист-ОС",7711077412,2010590317,"АО \"Консист-Оператор-Связи\"","Да"]
[135,"ЛЗ Петрозаводскмаш",1001201343,2010242601,"ООО Литейный завод  \"Петрозаводскмаш»","Да"]
[136,"Русреактор",7726367354,2010991000,"АО \"Русатом растворные реакторы\"","Да"]
[137,"РХК",7726396281,2011000000,"АО \"Русатом Хэлскеа\"","Да"]
[138,"СМБ",7706433961,2010992000,"Общество с ограниченной ответственностью \"Системы Мониторинга \"Беркут\"","Да"]
[139,"УК Нижние котлы",7726390113,2010411000,"Акционерное общество \"Управляющая компания индустриального парка \"Нижние котлы\"","Да"]
[140,"АЭМ-активы",7706785593,6090010000,"ООО «АЭМ-активы»","Выбыл из периметра"]

{"sheet":"Периметр АЭПК_1_кв_ 2017","index":13,"n_rows":141,"n_cols":6,"rows_kept":141,"cut":false,"hidden":true,"merged":[]}
["№","Сокращенное название","ИНН","Номер ЦФО","Полное название","Включена в Периметр АЭПК по МСФО"]
[1,"ARAKO","CZ47152371",2010230922,"ARAKO spol. s r.o.","Да"]
[2,"EMSS Holdings","HE 245521",2010230948,"EMSS Holdings Limited (ЭМСС ХОЛДИНГЗ ЛИМИТЕД)","Да"]
[3,"Ganz","10806481-2-42",2010820100,"Ganz Energetika Kft. ООО «Ганз Инженерное и Энергетическое Машиностроение»","Да"]
[4,"INTERNEXCO",4023602999,2010241200,"INTERNEXCO GmbH","Да"]
[5,"INTERNEXCO GmbH (Швейцария)","CHE-255.290.400",2010241000,"INTERNEXCO GmbH (Швейцария)","Да"]
[6,"KWINDER HOLDINGS LIMITED","12277016L",2010240310,"KWINDER HOLDINGS LIMITED","Да"]
[7,"Mantra Resources Ltd.",833296300,2010021600,"Mantra Resources Pty Ltd.","Да"]
[8,"RAOS Project Oy",386588,2010932000,"RAOS Project Oy","Да"]
[9,"REIN ",7706759586,2010930000,"АО \"Русатом Энерго Интернешнл\"","Да"]
[10,"ROSATOM FINANCE","12286659G",2010940000,"ROSATOM FINANCE LTD (Росатом Финанс ЛТД)","Да"]
[11,"TENAM","68-068-0771",2010242500,"TENAM Corporation","Да"]
[12,"TRADEWILL LIMITED","GB987386840",2010242400,"TRADEWILL LIMITED","Да"]
[13,"UMP Trading","903.1.000.8205",2010230952,"UMP Trading (Швейцария)","Да"]
[14,"Uranium","88897 7170 RC0001",2010021500,"Uranium One Inc.","Да"]
[15,"Uranium One Holding",817104549,2010021200,"Uranium One Holding N.V.","Да"]
[16,"Аккую Нуклеар",310546698,2010450108,"АО\"Аккую Нуклеар\"","Да"]
[17,"АЛАБУГА-ВОЛОКНО",1646031132,2010242201,"ООО \"Алабуга-Волокно\"","Да"]
[18,"Аргон",6454074501,2010240800,"ООО \"Аргон\"","Да"]
[19,"АРМЗ",7706016076,2010020000,"АО \"Урановый холдинг АРМЗ\" (\"Атомредметзолото\")","Да"]
[20,"АРМЗ-Сервис",7708671295,2010020602,"Общество с ограниченной ответственностью \"АРМЗ Сервис\"","Да"]
[21,"АТА",7724560930,2010010000,"АО \"Альянстрансатом\"","Да"]
[22,"АТМ",7734242302,2010230915,"ЗАО \"Атомтрубопроводмонтаж\"","Да"]
[23,"АтомМедТехнолоджи-ДВ",2536279414,2010933000,"ООО \"АтомМедТехнолоджи- Дальний Восток\"","Да"]
[24,"АТОМПРОЕКТ",7814417371,2010460000,"АО \"Научно-исследовательский и проектно-конструкторский институт энергетических технологий \"АТОМПРОЕКТ\"","Да"]
[25,"Атомспецтранс",7717609102,2010340000,"АО \"Атомспецтранс\"","Да"]
[26,"Атомтехэкспорт",7705408850,2010591900,"АО \"Атомтехэкспорт\"","Да"]
[27,"Атомтехэнерго",5029106714,2010350000,"АО по наладке, совершенствованию эксплуатации и организации управления атомных станций \"Атомтехэнерго\"","Да"]
[28,"Атомэнергомаш",7706614573,2010230900,"АО \"Атомное и энергетическое машиностроение\" (АО \"Атомэнергомаш\")","Да"]
[29,"Атомэнергопромсбыт",7725828549,2010591320,"АО \"Атомэнергопромсбыт\"","Да"]
[30,"Атомэнергоремонт",5029112443,2010590700,"АО \"Атомэнергоремонт\"","Да"]
[31,"Атомэнергосбыт",7704228075,2010591300,"АО \"АтомЭнергоСбыт\"","Да"]
[32,"АЭМ-активы",7706785593,6090010000,"ООО «АЭМ-активы»","Да"]
[33,"АЭМ-лизинг",7706673635,2010230902,"АО \"АЭМ-лизинг\"","Да"]
[34,"АЭМ-технологии",7817311895,2010230904,"АО Инжиниринговая компания \"АЭМ-технологии\"","Да"]
[35,"АЭПК",7706664260,2010000000,"АО \"Атомный энергопромышленный комплекс\" (АО \"Атомэнергопром\")","Да"]
[36,"АЭХК",3801098402,2010370000,"АО \"Ангарский электролизный химический комбинат\"","Да"]
[37,"Балтийская АЭС",3904612644,2010592100,"АО \"Балтийская АЭС\"","Да"]
[38,"Вента",6624002377,2010050000,"ОАО \"Нижнетуринский машиностроительный завод \"Вента\"","Да"]
[39,"ВНИИАМ",7743654609,2010390000,"АО \"Всероссийский научно-исследовательский и проектно-конструкторский институт атомного энергетического машиностроения (ВНИИАМ)\"","Да"]
[40,"ВНИИАЭС",7721247141,2010591800,"АО\"Всеросийский научно-исследовательский институт по эксплуатации атомных электростанций\"","Да"]
[41,"ВНИИНМ",7734598490,2010400000,"АО \"Всероссийский научно-исследовательский институт неорганических материалов имени академика А.А. Бочвара\"","Да"]
[42,"ВНИИХТ",7724675770,2010420000,"АО \"Ведущий научно-исследовательский институт химической технологии (ВНИИХТ)\"","Да"]
[43,"ВНИПИПромтехнологии",7724683379,2010430000,"АО \"Ведущий проектно-изыскательский и научно-исследовательский институт промышленной технологии\"","Да"]
[44,"Гидропресс",5036092340,2010710000,"АО \"Ордена Трудового Красного Знамени и ордена труда ЧССР - опытное конструкторское бюро \"ГИДРОПРЕСС\"","Да"]
[45,"Гиредмет",7706699062,2010470000,"АО \"Государственный научно-исследовательский проектный институт редкометаллической промышленности \"Гиредмет\"","Да"]
[46,"Гринатом",7706729736,2010900000,"АО \"Гринатом\"","Да"]
[47,"ГСПИ",7708697977,2010500000,"АО \"Государственный специализированный проектный институт\" (АО \"ГСПИ\")","Да"]
[48,"Далур",4506004751,2010230800,"АО \"Далур\"","Да"]
[49,"Дедал",5010036460,2010510000,"АО \"Научно-производственный комплекс \"Дедал\"","Да"]
[50,"ДЕЗ",7706730001,2010890000,"АО \"Дирекция Единого Заказа оборудования для АЭС\"","Да"]
[51,"ЖТЭЦ",2458013365,2010551000,"АО \"Железногорская ТЭЦ\"","Да"]
[52,"ЗАЭС",7701763846,2010450000,"АО \"Всероссийское производственное объединение \"Зарубежатомэнергострой\" (АО \"ВПО \"ЗАЭС\")","Да"]
[53,"ЗИОМАР",5036039258,2010230917,"АО \"Инжиниринговая компания \"ЗИОМАР\"","Да"]
[54,"ЗиО-Подольск",5036040729,2010230918,"ПАО \"Машиностроительный завод \"ЗиО Подольск\"","Да"]
[55,"ЗУКМ",7450045935,2010241600,"ООО \"Завод углеродных и композиционных материалов\"","Да"]
[56,"ИРМ",6639019655,2010540000,"АО \"Институт реакторных материалов\"","Да"]
[57,"Искра",2453014750,2010230001,"ООО \"Искра\"","Да"]
[58,"ИЦ РГЦ",7706689000,2010242300,"АО \"Инжиниринговый центр \"Русская газовая центрифуга\"","Да"]
[59,"КМЗ",3305004397,2010240600,"ПАО \"Ковровский механический завод\"","Да"]
[60,"Красная Звезда",7726682003,2010600000,"АО \"Красная Звезда\"","Да"]
[61,"Краун",7705833438,2010241100,"ООО \"Краун\"","Да"]
[62,"КЦ",7715020463,2010231300,"АО \"Коммерческий центр\"","Да"]
[63,"МЗП",7724558466,2010100000,"АО \"Московский завод полиметаллов\"","Да"]
[64,"Молния",7721730486,2010740000,"АО \"Производственное объединение \"Машиностроительный завод \"Молния\"","Да"]
[65,"МСЗ",5053005918,2010230100,"ПАО \"Машиностроительный завод\"","Да"]
[66,"МСЗ-М",5053066861,2010230115,"ООО \"МСЗ-МЕХАНИКА\"","Да"]
[67,"Наука и инновации",7706760091,4010000100,"АО \"Наука и инновации\"","Да"]
[68,"НЗХК",5410114184,2010230200,"ПАО \"Новосибирский завод химконцентратов\"","Да"]
[69,"НЗХК-Инструмент",5410021660,2010230207,"ООО \"НЗХК-Инструмент\"","Да"]
[70,"НЗХК-Энергия",5410028351,2010230210,"ООО \"НЗХК-Энергия\"","Да"]
[71,"НИИАР",7302040242,2010480000,"АО Государственный научный центр - Научно-исследовательский институт атомных реакторов (АО \"ГНЦ НИИАР\")","Да"]
[72,"НИИАР-Генерация",7329008990,2010970000,"ООО «НИИАР-ГЕНЕРАЦИЯ»","Да"]
[73,"НИИГрафит",7720723422,2010630000,"АО \"Государственный научно-исследовательский институт конструкционных материалов на основе графита \"НИИграфит\"","Да"]
[74,"НИИТФА",7726606316,2010410000,"АО \"Научно-исследовательский институт технической физики и автоматизации (НИИТФА)\"","Да"]
[75,"НИКИМТ-Атомстрой",7715719854,2010550000,"АО \"НИКИМТ \"Атомстрой\"","Да"]
[76,"НИКИЭТ",7708698473,2010650000,"АО \"Научно-исследовательский и конструкторский институт энерготехники имени Н.А. Доллежаля\"","Да"]
[77,"ННКЦ",6629020806,2010241900,"ООО \"Новоуральский научно-конструкторский центр\"","Да"]
[78,"НПК ХПИ",7706688991,2010242200,"АО \"НПК \"Химпроминжиниринг\"","Да"]
[79,"НТЦ ЯФИ",7802441926,2010690000,"АО \"Научно-технический центр \"Ядерно-физические исследования\"","Да"]
[80,"Обесп РФЯЦ-ВНИИЭФ",5254081010,2010150000,"АО \"Обеспечение РФЯЦ-ВНИИЭФ\"","Да"]
[81,"ОДЦ УГР",7024033350,2010780500,"АО \"Опытно-демонстрационный центр вывода из эксплуатации уран-графитовых ядерных реакторов\"","Да"]
[82,"ОЗТМиТС",7726633119,2010700000,"АО \"Опытный завод тугоплавких металлов и твердых сплавов\" (АО \"ОЗТМиТС\")","Да"]
[83,"ОИК",7706751361,2010910000,"ООО \"Объединенная инновационная корпорация\"","Да"]
[84,"ОК РСК",7706704146,2010860000,"АО \"Объединенная компания “Разделительно-сублиматный комплекс”","Да"]
[85,"ОКБМ",5259077666,2010720000,"АО \"Опытное Конструкторское Бюро Машиностроения имени И.И. Африкантова\"","Да"]
[86,"ОТЭК",7706757331,2010920000,"АО «Объединённая теплоэнергетическая компания»","Да"]
[87,"ППГХО",7530000048,2010230400,"ПАО \"Приаргунское производственное горно-химическое объединение\"","Да"]
[88,"Промышленные инновации",7725524660,2010231200,"АО \"Промышленные инновации\"","Да"]
[89,"ПСР",7721699740,2010592000,"АО \"Производственная система \"ПСР\"","Да"]
[90,"РАОС Войма Ои","2596476-2",2010931000,"RAOS Voima Oy","Да"]
[91,"РАСУ",7734358970,2010990000,"АО \"Русатом Автоматизированные Системы Управления\"","Да"]
[92,"РБМ",7713190205,2010020600,"АО \"РУСБУРМАШ\"","Да"]
[93,"Росэнергоатом",7721632827,2010590000,"АО \"Российский концерн по производству электрической и тепловой энергии на атомных станциях \"Росэнергоатом\"","Да"]
[94,"Русатом Сервис",7705966318,2010592200,"АО \"Русатом Сервис\"","Да"]
[95,"РЭМКО",5036076690,2010230911,"АО \"Русская ЭнергоМашиностроительная Компания\"","Да"]
[96,"Сайпрус","12239379I",2010230916,"ATOMENERGOMASH CYPRUS LIMITED ЧК \"Атомэнергомаш Сайпрус Лимитед\"","Да"]
[97,"СвердНИИхиммаш",6664003909,2010200000,"АО \"Свердловский научно-исследовательский институт химического машиностроения (\"СвердНИИхиммаш\")\"","Да"]
[98,"СГК",5254082550,2010150300,"АО \"Саровская Генерирующая Компания\"","Да"]
[99,"СЕТЕС",7024037370,2010550001,"АО \"Северские теплосистемы\"","Да"]
[100,"СНИИП",7734592593,2010660000,"АО \"Специализированный научно-исследовательский институт приборостроения\" (АО \"СНИИП\")","Да"]
[101,"СПб ИЗОТОП",7840393624,2010750000,"АО \"Санкт-Петербургский \"ИЗОТОП\"","Да"]
[102,"СТСК",5254082630,2010150200,"АО \"Саровская Теплосетевая Компания\"","Да"]
[103,"СХК",7024029499,2010780000,"АО \"Сибирский химический комбинат\"","Да"]
[104,"ТВЭЛ",7706123550,2010230000,"АО \"ТВЭЛ\"","Да"]
[105,"ТВЭЛ-Строй",7726523814,2010231100,"АО \"ТВЭЛ-СТРОИ\"","Да"]
[106,"ТЕНЕКС-Сервис",7706604582,2010240100,"АО \"ТЕНЕКС-Сервис\"","Да"]
[107,"Тепловодоканал",1837004370,2010230306,"ООО \"Тепловодоканал\"","Да"]
[108,"Техснабэкспорт",7706039242,2010240000,"АО \"Техснабэкспорт\"","Да"]
[109,"Точмаш",3329051460,2010440000,"АО \"Владимирское производственное объединение \"Точмаш\"","Да"]
[110,"Точмаш-авто",3329064483,2010440300,"ООО \"Точмаш-авто\"","Да"]
[111,"ТЦ ТЕНЕКС",7706609414,2010240200,"ЗАО \"Технологический центр \"ТЕНЕКС\"","Да"]
[112,"УДК Горное",7536087140,2010020200,"АО \"Уранодобывающая компания \"Горное\"","Да"]
[113,"УЗГЦ",6629020796,2010241800,"ООО \"Уральский завод газовых центрифуг\"","Да"]
[114,"Уралприбор",6629020789,2010242000,"ООО \"Новоуральский приборный завод\"","Да"]
[115,"УУГ",7706641432,2010020100,"АО \"Ураниум Уан Груп\"","Да"]
[116,"УЭХК",6629022962,2010800000,"АО \"Уральский электрохимический комбинат\"","Да"]
[117,"Хиагда","0302001219",2010230700,"АО \"Хиагда\"","Да"]
[118,"ЦВТД",7726750415,2010911000,"ООО «Центр высокотехнологичной диагностики»","Да"]
[119,"ЦентрАтом",7706723156,2010870000,"АО \"Центр управления непрофильными активами атомной отрасли\"","Да"]
[120,"ЦКБМ",7806394392,2010820000,"АО \"Центральное конструкторское бюро машиностроения\"","Да"]
[121,"ЦНИИТМАШ",7723564851,2010140000,"АО \"Научно-производственное объединение \"Центральный научно-исследовательский институт технологии машиностроения\"","Да"]
[122,"ЦОиС ОЛенКур",5024076079,2010290000,"АО \"Центр отдыха и спорта \"ОЛенКур \"","Да"]
[123,"ЧМЗ",1829008035,2010230300,"АО \"Чепецкий механический завод\"","Да"]
[124,"ЭГМК",1402047530,2010020400,"АО \"Эльконский горно-металлургический комбинат\"","Да"]
[125,"Экоальянс",6629026420,2010800800,"ООО \"Экоальянс\"","Да"]
[126,"ЭЛЕМАШ-ТЭК",5053055010,2010230110,"ООО \"ЭЛЕМАШ-ТЭК\"","Да"]
[127,"ЭМКО",7709735135,2010230912,"Общество с ограниченной ответственностью \"Русатом Оверсиз\"","Да"]
[128,"Энергомашспецсталь",2106005156,2010230943,"ПАО \"Энергомашспецсталь\"","Да"]
[129,"Энергоспецмонтаж",7718083574,2010270000,"ПАО \"Энергоспецмонтаж\"","Да"]
[130,"ЭНИЦ",5035037441,2010830000,"АО \"Электрогорский научно-исследовательский центр по безопасности атомных электростанций\"","Да"]
[131,"ЭХЗ",2453013555,2010840000,"АО \"Производственное объединение \"Электрохимический завод\"","Да"]
[132,"ЯМТ-Снежинск",7459003496,2010912000,"ООО \"Ядерные медицинские технологии-Снежинск\"","Да"]
[133,"Uranium One Trading AG","CHE-233.935.921 ",2010021506,"Uranium One Trading AG","Да"]
[134,"ВетроОГК",5036118291,2010230956,"АО \"Ветроэнергетическая отдельная генерирующая компания\"","Да"]
[135,"Консист-ОС",7711077412,2010590317,"АО \"Консист-Оператор-Связи\"","Да"]
[136,"ЛЗ Петрозаводскмаш",1001201343,2010242601,"ООО Литейный завод  \"Петрозаводскмаш»","Да"]
[137,"Русреактор",7726367354,2010991000,"АО \"Русатом растворные реакторы\"","Да"]
[138,"РХК",7726396281,2011000000,"АО \"Русатом Хэлскеа\"","Да"]
[139,"СМБ",7706433961,2010992000,"Общество с ограниченной ответственностью \"Системы Мониторинга \"Беркут\"","Да"]
[140,"УК Нижние котлы",7726390113,2010411000,"Акционерное общество \"Управляющая компания индустриального парка \"Нижние котлы\"","Да"]

{"sheet":"Периметр АЭПК_4_кв_ 2016","index":14,"n_rows":138,"n_cols":6,"rows_kept":138,"cut":false,"hidden":true,"merged":[]}
["№","Сокращенное название","ИНН","Номер ЦФО","Полное название","Включена в Периметр АЭПК по МСФО"]
[1,"ARAKO","CZ47152371",2010230922,"ARAKO spol. s r.o.","Да"]
[2,"EMSS Holdings","HE 245521",2010230948,"EMSS Holdings Limited (ЭМСС ХОЛДИНГЗ ЛИМИТЕД)","Да"]
[3,"Ganz","10806481-2-42",2010820100,"Ganz Energetika Kft. ООО «Ганз Инженерное и Энергетическое Машиностроение»","Да"]
[4,"INTERNEXCO",4023602999,2010241200,"INTERNEXCO GmbH","Да"]
[5,"INTERNEXCO GmbH (Швейцария)","CHE-255.290.400",2010241000,"INTERNEXCO GmbH (Швейцария)","Да"]
[6,"KWINDER HOLDINGS LIMITED","12277016L",2010240310,"KWINDER HOLDINGS LIMITED","Да"]
[7,"Mantra Resources Ltd.",833296300,2010021600,"Mantra Resources Pty Ltd.","Да"]
[8,"RAOS Project Oy",386588,2010932000,"RAOS Project Oy","Да"]
[9,"REIN ",7706759586,2010930000,"АО \"Русатом Энерго Интернешнл\"","Да"]
[10,"ROSATOM FINANCE","12286659G",2010940000,"ROSATOM FINANCE LTD (Росатом Финанс ЛТД)","Да"]
[11,"ROSATOM Securities Limited","12295453X",2010950000,"ROSATOM Securities Limited  (Росатом Секьюритиз Лимитед)","Да"]
[12,"TENAM","68-068-0771",2010242500,"TENAM Corporation","Да"]
[13,"TRADEWILL LIMITED","GB987386840",2010242400,"TRADEWILL LIMITED","Да"]
[14,"UMP Trading","903.1.000.8205",2010230952,"UMP Trading (Швейцария)","Да"]
[15,"Uranium","88897 7170 RC0001",2010021500,"Uranium One Inc.","Да"]
[16,"Uranium One Holding",817104549,2010021200,"Uranium One Holding N.V.","Да"]
[17,"Аккую Нуклеар",310546698,2010450108,"АО\"Аккую Нуклеар\"","Да"]
[18,"АЛАБУГА-ВОЛОКНО",1646031132,2010242201,"ООО \"Алабуга-Волокно\"","Да"]
[19,"Аргон",6454074501,2010240800,"ООО \"Аргон\"","Да"]
[20,"АРМЗ",7706016076,2010020000,"АО \"Урановый холдинг АРМЗ\" (\"Атомредметзолото\")","Да"]
[21,"АРМЗ-Сервис",7708671295,2010020602,"Общество с ограниченной ответственностью \"АРМЗ Сервис\"","Да"]
[22,"АТА",7724560930,2010010000,"АО \"Альянстрансатом\"","Да"]
[23,"АТМ",7734242302,2010230915,"ЗАО \"Атомтрубопроводмонтаж\"","Да"]
[24,"АтомМедТехнолоджи-ДВ",2536279414,2010933000,"ООО \"АтомМедТехнолоджи- Дальний Восток\"","Да"]
[25,"АТОМПРОЕКТ",7814417371,2010460000,"АО \"Научно-исследовательский и проектно-конструкторский институт энергетических технологий \"АТОМПРОЕКТ\"","Да"]
[26,"Атомспецтранс",7717609102,2010340000,"АО \"Атомспецтранс\"","Да"]
[27,"Атомтехэкспорт",7705408850,2010591900,"АО \"Атомтехэкспорт\"","Да"]
[28,"Атомтехэнерго",5029106714,2010350000,"АО по наладке, совершенствованию эксплуатации и организации управления атомных станций \"Атомтехэнерго\"","Да"]
[29,"Атомэнергомаш",7706614573,2010230900,"АО \"Атомное и энергетическое машиностроение\" (АО \"Атомэнергомаш\")","Да"]
[30,"Атомэнергопромсбыт",7725828549,2010591320,"АО \"Атомэнергопромсбыт\"","Да"]
[31,"Атомэнергоремонт",5029112443,2010590700,"АО \"Атомэнергоремонт\"","Да"]
[32,"Атомэнергосбыт",7704228075,2010591300,"АО \"АтомЭнергоСбыт\"","Да"]
[33,"АЭМ-активы",7706785593,6090010000,"ООО «АЭМ-активы»","Да"]
[34,"АЭМ-лизинг",7706673635,2010230902,"АО \"АЭМ-лизинг\"","Да"]
[35,"АЭМ-технологии",7817311895,2010230904,"АО Инжиниринговая компания \"АЭМ-технологии\"","Да"]
[36,"АЭПК",7706664260,2010000000,"АО \"Атомный энергопромышленный комплекс\" (АО \"Атомэнергопром\")","Да"]
[37,"АЭХК",3801098402,2010370000,"АО \"Ангарский электролизный химический комбинат\"","Да"]
[38,"Балтийская АЭС",3904612644,2010592100,"АО \"Балтийская АЭС\"","Да"]
[39,"Вента",6624002377,2010050000,"ОАО \"Нижнетуринский машиностроительный завод \"Вента\"","Да"]
[40,"ВНИИАМ",7743654609,2010390000,"АО \"Всероссийский научно-исследовательский и проектно-конструкторский институт атомного энергетического машиностроения (ВНИИАМ)\"","Да"]
[41,"ВНИИАЭС",7721247141,2010591800,"АО\"Всеросийский научно-исследовательский институт по эксплуатации атомных электростанций\"","Да"]
[42,"ВНИИНМ",7734598490,2010400000,"АО \"Всероссийский научно-исследовательский институт неорганических материалов имени академика А.А. Бочвара\"","Да"]
[43,"ВНИИХТ",7724675770,2010420000,"АО \"Ведущий научно-исследовательский институт химической технологии (ВНИИХТ)\"","Да"]
[44,"ВНИПИПромтехнологии",7724683379,2010430000,"АО \"Ведущий проектно-изыскательский и научно-исследовательский институт промышленной технологии\"","Да"]
[45,"Гидропресс",5036092340,2010710000,"АО \"Ордена Трудового Красного Знамени и ордена труда ЧССР - опытное конструкторское бюро \"ГИДРОПРЕСС\"","Да"]
[46,"Гиредмет",7706699062,2010470000,"АО \"Государственный научно-исследовательский проектный институт редкометаллической промышленности \"Гиредмет\"","Да"]
[47,"Гринатом",7706729736,2010900000,"АО \"Гринатом\"","Да"]
[48,"ГСПИ",7708697977,2010500000,"АО \"Государственный специализированный проектный институт\" (АО \"ГСПИ\")","Да"]
[49,"Далур",4506004751,2010230800,"АО \"Далур\"","Да"]
[50,"Дедал",5010036460,2010510000,"АО \"Научно-производственный комплекс \"Дедал\"","Да"]
[51,"ДЕЗ",7706730001,2010890000,"АО \"Дирекция Единого Заказа оборудования для АЭС\"","Да"]
[52,"ЖТЭЦ",2458013365,2010551000,"АО \"Железногорская ТЭЦ\"","Да"]
[53,"ЗАЭС",7701763846,2010450000,"АО \"Всероссийское производственное объединение \"Зарубежатомэнергострой\" (АО \"ВПО \"ЗАЭС\")","Да"]
[54,"ЗИОМАР",5036039258,2010230917,"АО \"Инжиниринговая компания \"ЗИОМАР\"","Да"]
[55,"ЗиО-Подольск",5036040729,2010230918,"ПАО \"Машиностроительный завод \"ЗиО Подольск\"","Да"]
[56,"ЗУКМ",7450045935,2010241600,"ООО \"Завод углеродных и композиционных материалов\"","Да"]
[57,"ИРМ",6639019655,2010540000,"АО \"Институт реакторных материалов\"","Да"]
[58,"Искра",2453014750,2010230001,"ООО \"Искра\"","Да"]
[59,"ИЦ РГЦ",7706689000,2010242300,"АО \"Инжиниринговый центр \"Русская газовая центрифуга\"","Да"]
[60,"КМЗ",3305004397,2010240600,"ПАО \"Ковровский механический завод\"","Да"]
[61,"Красная Звезда",7726682003,2010600000,"АО \"Красная Звезда\"","Да"]
[62,"Краун",7705833438,2010241100,"ООО \"Краун\"","Да"]
[63,"КЦ",7715020463,2010231300,"АО \"Коммерческий центр\"","Да"]
[64,"МЗП",7724558466,2010100000,"АО \"Московский завод полиметаллов\"","Да"]
[65,"Молния",7721730486,2010740000,"АО \"Производственное объединение \"Машиностроительный завод \"Молния\"","Да"]
[66,"МСЗ",5053005918,2010230100,"ПАО \"Машиностроительный завод\"","Да"]
[67,"МСЗ-М",5053066861,2010230115,"ООО \"МСЗ-МЕХАНИКА\"","Да"]
[68,"Наука и инновации",7706760091,4010000100,"АО \"Наука и инновации\"","Да"]
[69,"НЗХК",5410114184,2010230200,"ПАО \"Новосибирский завод химконцентратов\"","Да"]
[70,"НЗХК-Инструмент",5410021660,2010230207,"ООО \"НЗХК-Инструмент\"","Да"]
[71,"НЗХК-Энергия",5410028351,2010230210,"ООО \"НЗХК-Энергия\"","Да"]
[72,"НИАЭП",5260214123,2010620000,"АО Инжиниринговая компания \"АСЭ\"","Да"]
[73,"НИАЭП-Сервис",6916015670,2010620200,"ООО \"НИАЭП-Сервис\"","Да"]
[74,"НИИАР",7302040242,2010480000,"АО Государственный научный центр - Научно-исследовательский институт атомных реакторов (АО \"ГНЦ НИИАР\")","Да"]
[75,"НИИАР-Генерация",7329008990,2010970000,"ООО «НИИАР-ГЕНЕРАЦИЯ»","Да"]
[76,"НИИГрафит",7720723422,2010630000,"АО \"Государственный научно-исследовательский институт конструкционных материалов на основе графита \"НИИграфит\"","Да"]
[77,"НИИТФА",7726606316,2010410000,"АО \"Научно-исследовательский институт технической физики и автоматизации (НИИТФА)\"","Да"]
[78,"НИКИМТ-Атомстрой",7715719854,2010550000,"АО \"НИКИМТ \"Атомстрой\"","Да"]
[79,"НИКИЭТ",7708698473,2010650000,"АО \"Научно-исследовательский и конструкторский институт энерготехники имени Н.А. Доллежаля\"","Да"]
[80,"ННКЦ",6629020806,2010241900,"ООО \"Новоуральский научно-конструкторский центр\"","Да"]
[81,"НПК ХПИ",7706688991,2010242200,"АО \"НПК \"Химпроминжиниринг\"","Да"]
[82,"НТЦ ЯФИ",7802441926,2010690000,"АО \"Научно-технический центр \"Ядерно-физические исследования\"","Да"]
[83,"Обесп РФЯЦ-ВНИИЭФ",5254081010,2010150000,"АО \"Обеспечение РФЯЦ-ВНИИЭФ\"","Да"]
[84,"ОДЦ УГР",7024033350,2010780500,"АО \"Опытно-демонстрационный центр вывода из эксплуатации уран-графитовых ядерных реакторов\"","Да"]
[85,"ОЗТМиТС",7726633119,2010700000,"АО \"Опытный завод тугоплавких металлов и твердых сплавов\" (АО \"ОЗТМиТС\")","Да"]
[86,"ОИК",7706751361,2010910000,"ООО \"Объединенная инновационная корпорация\"","Да"]
[87,"ОК РСК",7706704146,2010860000,"АО \"Объединенная компания “Разделительно-сублиматный комплекс”","Да"]
[88,"ОКБМ",5259077666,2010720000,"АО \"Опытное Конструкторское Бюро Машиностроения имени И.И. Африкантова\"","Да"]
[89,"ОТЭК",7706757331,2010920000,"АО «Объединённая теплоэнергетическая компания»","Да"]
[90,"ППГХО",7530000048,2010230400,"ПАО \"Приаргунское производственное горно-химическое объединение\"","Да"]
[91,"Промышленные инновации",7725524660,2010231200,"АО \"Промышленные инновации\"","Да"]
[92,"ПСР",7721699740,2010592000,"АО \"Производственная система \"ПСР\"","Да"]
[93,"РАОС Войма Ои","2596476-2",2010931000,"RAOS Voima Oy","Да"]
[94,"РАСУ",7734358970,2010990000,"АО \"Русатом Автоматизированные Системы Управления\"","Да"]
[95,"РБМ",7713190205,2010020600,"АО \"РУСБУРМАШ\"","Да"]
[96,"Росэнергоатом",7721632827,2010590000,"АО \"Российский концерн по производству электрической и тепловой энергии на атомных станциях \"Росэнергоатом\"","Да"]
[97,"Русатом МС",7706805049,2010980000,"АО \"Русатом Оверсиз Инк\"","Да"]
[98,"Русатом Сервис",7705966318,2010592200,"АО \"Русатом Сервис\"","Да"]
[99,"РЭМКО",5036076690,2010230911,"АО \"Русская ЭнергоМашиностроительная Компания\"","Да"]
[100,"Сайпрус","12239379I",2010230916,"ATOMENERGOMASH CYPRUS LIMITED ЧК \"Атомэнергомаш Сайпрус Лимитед\"","Да"]
[101,"СвердНИИхиммаш",6664003909,2010200000,"АО \"Свердловский научно-исследовательский институт химического машиностроения (\"СвердНИИхиммаш\")\"","Да"]
[102,"СГК",5254082550,2010150300,"АО \"Саровская Генерирующая Компания\"","Да"]
[103,"СЕТЕС",7024037370,2010550001,"АО \"Северские теплосистемы\"","Да"]
[104,"СНИИП",7734592593,2010660000,"АО \"Специализированный научно-исследовательский институт приборостроения\" (АО \"СНИИП\")","Да"]
[105,"СПб ИЗОТОП",7840393624,2010750000,"АО \"Санкт-Петербургский \"ИЗОТОП\"","Да"]
[106,"СТСК",5254082630,2010150200,"АО \"Саровская Теплосетевая Компания\"","Да"]
[107,"СХК",7024029499,2010780000,"АО \"Сибирский химический комбинат\"","Да"]
[108,"ТВЭЛ",7706123550,2010230000,"АО \"ТВЭЛ\"","Да"]
[109,"ТВЭЛ-Строй",7726523814,2010231100,"АО \"ТВЭЛ-СТРОИ\"","Да"]
[110,"ТЕНЕКС-Сервис",7706604582,2010240100,"АО \"ТЕНЕКС-Сервис\"","Да"]
[111,"Тепловодоканал",1837004370,2010230306,"ООО \"Тепловодоканал\"","Да"]
[112,"Техснабэкспорт",7706039242,2010240000,"АО \"Техснабэкспорт\"","Да"]
[113,"Точмаш",3329051460,2010440000,"АО \"Владимирское производственное объединение \"Точмаш\"","Да"]
[114,"Точмаш-авто",3329064483,2010440300,"ООО \"Точмаш-авто\"","Да"]
[115,"Трест РСЭМ",6916013425,2010620400,"ООО \"Трест Росспецэнергомонтаж\"","Да"]
[116,"ТЦ ТЕНЕКС",7706609414,2010240200,"ЗАО \"Технологический центр \"ТЕНЕКС\"","Да"]
[117,"УДК Горное",7536087140,2010020200,"АО \"Уранодобывающая компания \"Горное\"","Да"]
[118,"УЗГЦ",6629020796,2010241800,"ООО \"Уральский завод газовых центрифуг\"","Да"]
[119,"Уралприбор",6629020789,2010242000,"ООО \"Новоуральский приборный завод\"","Да"]
[120,"УУГ",7706641432,2010020100,"АО \"Ураниум Уан Груп\"","Да"]
[121,"УЭХК",6629022962,2010800000,"АО \"Уральский электрохимический комбинат\"","Да"]
[122,"Хиагда","0302001219",2010230700,"АО \"Хиагда\"","Да"]
[123,"ЦВТД",7726750415,2010911000,"ООО «Центр высокотехнологичной диагностики»","Да"]
[124,"ЦентрАтом",7706723156,2010870000,"АО \"Центр управления непрофильными активами атомной отрасли\"","Да"]
[125,"ЦКБМ",7806394392,2010820000,"АО \"Центральное конструкторское бюро машиностроения\"","Да"]
[126,"ЦНИИТМАШ",7723564851,2010140000,"АО \"Научно-производственное объединение \"Центральный научно-исследовательский институт технологии машиностроения\"","Да"]
[127,"ЦОиС ОЛенКур",5024076079,2010290000,"АО \"Центр отдыха и спорта \"ОЛенКур \"","Да"]
[128,"ЧМЗ",1829008035,2010230300,"АО \"Чепецкий механический завод\"","Да"]
[129,"ЭГМК",1402047530,2010020400,"АО \"Эльконский горно-металлургический комбинат\"","Да"]
[130,"Экоальянс",6629026420,2010800800,"ООО \"Экоальянс\"","Да"]
[131,"ЭЛЕМАШ-ТЭК",5053055010,2010230110,"ООО \"ЭЛЕМАШ-ТЭК\"","Да"]
[132,"ЭМКО",7709735135,2010230912,"Общество с ограниченной ответственностью \"Русатом Оверсиз\"","Да"]
[133,"Энергомашспецсталь",2106005156,2010230943,"ПАО \"Энергомашспецсталь\"","Да"]
[134,"Энергоспецмонтаж",7718083574,2010270000,"ПАО \"Энергоспецмонтаж\"","Да"]
[135,"ЭНИЦ",5035037441,2010830000,"АО \"Электрогорский научно-исследовательский центр по безопасности атомных электростанций\"","Да"]
[136,"ЭХЗ",2453013555,2010840000,"АО \"Производственное объединение \"Электрохимический завод\"","Да"]
[137,"ЯМТ-Снежинск",7459003496,2010912000,"ООО \"Ядерные медицинские технологии-Снежинск\"","Да"]

{"sheet":"Периметр ГК_4_кв_ 2016","index":15,"n_rows":186,"n_cols":7,"rows_kept":186,"cut":false,"hidden":true,"merged":[]}
["№","Сокращенное название","ИНН","Номер ЦФО","Полное название","Включена в Периметр ГК по МСФО"]
[1,"ARAKO","CZ47152371",2010230922,"ARAKO spol. s r.o.","Да",{"$f":"VLOOKUP(D2,'Периметр АЭПК_3_кв_ 2017'!D:F,3,0)","v":"Да"}]
[2,"Uranium One Holding N.V.",817104549,2010021200,"Uranium One Holding N.V.","Да",{"$f":"VLOOKUP(D3,'Периметр АЭПК_3_кв_ 2017'!D:F,3,0)","v":"Да"}]
[3,"INTERNEXCO",4023602999,2010241200,"INTERNEXCO GmbH","Да",{"$f":"VLOOKUP(D4,'Периметр АЭПК_3_кв_ 2017'!D:F,3,0)","v":"Да"}]
[4,"INTERNEXCO GmbH (Швейцария)","CHE-255.290.400",2010241000,"INTERNEXCO GmbH (Швейцария)","Да",{"$f":"VLOOKUP(D5,'Периметр АЭПК_3_кв_ 2017'!D:F,3,0)","v":"Да"}]
[5,"Ganz","10806481-2-42",2010820100,"Ganz Energetika Kft. ООО «Ганз Инженерное и Энергетическое Машиностроение»","Да",{"$f":"VLOOKUP(D6,'Периметр АЭПК_3_кв_ 2017'!D:F,3,0)","v":"Да"}]
[6,"Mantra Resources Ltd.",833296300,2010021600,"Mantra Resources Pty Ltd.","Да",{"$f":"VLOOKUP(D7,'Периметр АЭПК_3_кв_ 2017'!D:F,3,0)","v":"Да"}]
[7,"NUKEM","204/115/21479",2010450107,"NUKEM Technologies GmbH","Да",{"$f":"VLOOKUP(D8,'Периметр АЭПК_3_кв_ 2017'!D:F,3,0)","v":0}]
[8,"Nukem Technologies","204/115/21517",2010450112,"Nukem Technologies Engineering Services GmbH","Да",{"$f":"VLOOKUP(D9,'Периметр АЭПК_3_кв_ 2017'!D:F,3,0)","v":0}]
[9,"KWINDER HOLDINGS LIMITED","12277016L",2010240310,"KWINDER HOLDINGS LIMITED","Да",{"$f":"VLOOKUP(D10,'Периметр АЭПК_3_кв_ 2017'!D:F,3,0)","v":"Да"}]
[10,"Uranium","88897 7170 RC0001",2010021500,"Uranium One Inc.","Да",{"$f":"VLOOKUP(D11,'Периметр АЭПК_3_кв_ 2017'!D:F,3,0)","v":"Да"}]
[11,"UMP Trading","903.1.000.8205",2010230952,"UMP Trading (Швейцария)","Да",{"$f":"VLOOKUP(D12,'Периметр АЭПК_3_кв_ 2017'!D:F,3,0)","v":"Да"}]
[12,"ROSATOM FINANCE","12286659G",2010940000,"ROSATOM FINANCE LTD (Росатом Финанс ЛТД)","Да",{"$f":"VLOOKUP(D13,'Периметр АЭПК_3_кв_ 2017'!D:F,3,0)","v":"Да"}]
[13,"ROSATOM Securities","12295453X",2010950000,"ROSATOM Securities Limited  (Росатом Секьюритиз Лимитед)","Да",{"$f":"VLOOKUP(D14,'Периметр АЭПК_3_кв_ 2017'!D:F,3,0)","v":{"$error":"#N/A"}}]
[14,"RAOS Voima","2596476-2",2010931000,"RAOS Voima Oy","Да",{"$f":"VLOOKUP(D15,'Периметр АЭПК_3_кв_ 2017'!D:F,3,0)","v":"Да"}]
[15,"RAOS Project",386588,2010932000,"RAOS Project Oy","Да",{"$f":"VLOOKUP(D16,'Периметр АЭПК_3_кв_ 2017'!D:F,3,0)","v":"Да"}]
[16,"TRADEWILL","GB987386840",2010242400,"TRADEWILL LIMITED","Да",{"$f":"VLOOKUP(D17,'Периметр АЭПК_3_кв_ 2017'!D:F,3,0)","v":"Да"}]
[17,"TENAM","68-068-0771",2010242500,"TENAM Corporation","Да",{"$f":"VLOOKUP(D18,'Периметр АЭПК_3_кв_ 2017'!D:F,3,0)","v":"Да"}]
[18,"EMSS Holdings","HE 245521",2010230948,"EMSS Holdings Limited (ЭМСС ХОЛДИНГЗ ЛИМИТЕД)","Да",{"$f":"VLOOKUP(D19,'Периметр АЭПК_3_кв_ 2017'!D:F,3,0)","v":"Да"}]
[19,"АЛАБУГА-ВОЛОКНО",1646031132,2010242201,"ООО \"Алабуга-Волокно\"","Да",{"$f":"VLOOKUP(D20,'Периметр АЭПК_3_кв_ 2017'!D:F,3,0)","v":"Да"}]
[20,"Аргон",6454074501,2010240800,"ООО \"Аргон\"","Да",{"$f":"VLOOKUP(D21,'Периметр АЭПК_3_кв_ 2017'!D:F,3,0)","v":"Да"}]
[21,"АРМЗ",7706016076,2010020000,"АО \"Урановый холдинг АРМЗ\" (\"Атомредметзолото\")","Да",{"$f":"VLOOKUP(D22,'Периметр АЭПК_3_кв_ 2017'!D:F,3,0)","v":"Да"}]
[22,"Аккую Нуклеар",310546698,2010450108,"АО\"Аккую Нуклеар\"","Да",{"$f":"VLOOKUP(D23,'Периметр АЭПК_3_кв_ 2017'!D:F,3,0)","v":"Да"}]
[23,"АСЭ",7701186067,2010450100,"АО \"Атомстройэкспорт\"","Да",{"$f":"VLOOKUP(D24,'Периметр АЭПК_3_кв_ 2017'!D:F,3,0)","v":0}]
[24,"АСЭ-Инжиниринг",7705856636,2010450103,"ООО \"АСЭ-Инжиниринг\"","Да",{"$f":"VLOOKUP(D25,'Периметр АЭПК_3_кв_ 2017'!D:F,3,0)","v":0}]
[25,"АТА",7724560930,2010010000,"АО \"Альянстрансатом\"","Да",{"$f":"VLOOKUP(D26,'Периметр АЭПК_3_кв_ 2017'!D:F,3,0)","v":"Да"}]
[26,"АТМ",7734242302,2010230915,"ЗАО \"Атомтрубопроводмонтаж\"","Да",{"$f":"VLOOKUP(D27,'Периметр АЭПК_3_кв_ 2017'!D:F,3,0)","v":"Да"}]
[27,"Атомбезопасность",5042009244,3040000000,"ФГУП \"Координационный Центр по созданию систем безопасности и управления \"Атомбезопасность\"","Да",{"$f":"VLOOKUP(D28,'Периметр АЭПК_3_кв_ 2017'!D:F,3,0)","v":0}]
[28,"Атомзащитаинформ",7706031557,3070000000,"ФГУП \"Научно-технический и сертификационный центр по комплексной защите информации\"","Да",{"$f":"VLOOKUP(D29,'Периметр АЭПК_3_кв_ 2017'!D:F,3,0)","v":0}]
[29,"Атомкомплект",7706738770,6090000000,"АО \"Атомкомплект\"","Да",{"$f":"VLOOKUP(D30,'Периметр АЭПК_3_кв_ 2017'!D:F,3,0)","v":0}]
[30,"Атом-охрана",7706289940,6020000000,"ФГУП \"Ведомственная охрана Росатома\"","Да",{"$f":"VLOOKUP(D31,'Периметр АЭПК_3_кв_ 2017'!D:F,3,0)","v":0}]
[31,"Атомспецтранс",7717609102,2010340000,"АО \"Атомспецтранс\"","Да",{"$f":"VLOOKUP(D32,'Периметр АЭПК_3_кв_ 2017'!D:F,3,0)","v":"Да"}]
[32,"Атомтехэнерго",5029106714,2010350000,"АО по наладке, совершенствованию эксплуатации и организации управления атомных станций \"Атомтехэнерго\"","Да",{"$f":"VLOOKUP(D33,'Периметр АЭПК_3_кв_ 2017'!D:F,3,0)","v":"Да"}]
[33,"Атомфлот",5192110268,3100000000,"ФГУП атомного флота (ФГУП \"Атомфлот\")","Да",{"$f":"VLOOKUP(D34,'Периметр АЭПК_3_кв_ 2017'!D:F,3,0)","v":0}]
[34,"Атомэнергомаш",7706614573,2010230900,"АО \"Атомное и энергетическое машиностроение\" (АО \"Атомэнергомаш\")","Да",{"$f":"VLOOKUP(D35,'Периметр АЭПК_3_кв_ 2017'!D:F,3,0)","v":"Да"}]
[35,"Атомэнергосбыт",7704228075,2010591300,"АО \"АтомЭнергоСбыт\"","Да",{"$f":"VLOOKUP(D36,'Периметр АЭПК_3_кв_ 2017'!D:F,3,0)","v":"Да"}]
[36,"Атомэнергоремонт",5029112443,2010590700,"АО \"Атомэнергоремонт\"","Да",{"$f":"VLOOKUP(D37,'Периметр АЭПК_3_кв_ 2017'!D:F,3,0)","v":"Да"}]
[37,"Атомтехэкспорт",7705408850,2010591900,"АО \"Атомтехэкспорт\"","Да",{"$f":"VLOOKUP(D38,'Периметр АЭПК_3_кв_ 2017'!D:F,3,0)","v":"Да"}]
[38,"Атомэнергопромсбыт",7725828549,2010591320,"АО \"Атомэнергопромсбыт\"","Да",{"$f":"VLOOKUP(D39,'Периметр АЭПК_3_кв_ 2017'!D:F,3,0)","v":"Да"}]
[39,"АтомКапитал",7706792008,2010110000,"АО \"АтомКапитал\"","Да",{"$f":"VLOOKUP(D40,'Периметр АЭПК_3_кв_ 2017'!D:F,3,0)","v":0}]
[40,"АтомМедТехнолоджи-ДВ",2536279414,2010933000,"ООО \"АтомМедТехнолоджи- Дальний Восток\"","Да",{"$f":"VLOOKUP(D41,'Периметр АЭПК_3_кв_ 2017'!D:F,3,0)","v":"Да"}]
[41,"АТОМПРОЕКТ",7814417371,2010460000,"АО \"Научно-исследовательский и проектно-конструкторский институт энергетических технологий \"АТОМПРОЕКТ\"","Да",{"$f":"VLOOKUP(D42,'Периметр АЭПК_3_кв_ 2017'!D:F,3,0)","v":"Да"}]
[42,"АТЦ СПб",7802145892,3010000000,"ФГУП \"Аварийно-технический центр Минатома России\" (г. Санкт-Петербург)","Да",{"$f":"VLOOKUP(D43,'Периметр АЭПК_3_кв_ 2017'!D:F,3,0)","v":0}]
[43,"АЭМ-технологии",7817311895,2010230904,"АО Инжиниринговая компания \"АЭМ-технологии\"","Да",{"$f":"VLOOKUP(D44,'Периметр АЭПК_3_кв_ 2017'!D:F,3,0)","v":"Да"}]
[44,"АЭМ-активы",7706785593,6090010000,"ООО «АЭМ-активы»","Да",{"$f":"VLOOKUP(D45,'Периметр АЭПК_3_кв_ 2017'!D:F,3,0)","v":"Ликвидирован"}]
[45,"АЭМ-лизинг",7706673635,2010230902,"АО \"АЭМ-лизинг\"","Да",{"$f":"VLOOKUP(D46,'Периметр АЭПК_3_кв_ 2017'!D:F,3,0)","v":"Да"}]
[46,"АЭП",7701796320,2010360000,"АО  \"Атомэнергопроект\"","Да",{"$f":"VLOOKUP(D47,'Периметр АЭПК_3_кв_ 2017'!D:F,3,0)","v":0}]
[47,"АЭПК",7706664260,2010000000,"АО \"Атомный энергопромышленный комплекс\" (АО \"Атомэнергопром\")","Да",{"$f":"VLOOKUP(D48,'Периметр АЭПК_3_кв_ 2017'!D:F,3,0)","v":"Да"}]
[48,"АЭХК",3801098402,2010370000,"АО \"Ангарский электролизный химический комбинат\"","Да",{"$f":"VLOOKUP(D49,'Периметр АЭПК_3_кв_ 2017'!D:F,3,0)","v":"Да"}]
[49,"Базальт",6432003698,1010000000,"ФГУП \"Базальт\"","Да",{"$f":"VLOOKUP(D50,'Периметр АЭПК_3_кв_ 2017'!D:F,3,0)","v":0}]
[50,"Балтийская АЭС",3904612644,2010592100,"АО \"Балтийская АЭС\"","Да",{"$f":"VLOOKUP(D51,'Периметр АЭПК_3_кв_ 2017'!D:F,3,0)","v":"Да"}]
[51,"ВО Изотоп",7704674312,2010380000,"ОАО \"Всерегиональное объединение \"Изотоп\"","Да",{"$f":"VLOOKUP(D52,'Периметр АЭПК_3_кв_ 2017'!D:F,3,0)","v":0}]
[52,"Вента",6624002377,2010050000,"ОАО \"Нижнетуринский машиностроительный завод \"Вента\"","Да",{"$f":"VLOOKUP(D53,'Периметр АЭПК_3_кв_ 2017'!D:F,3,0)","v":"Да"}]
[53,"ВНИИА",7707074137,1020000000,"ФГУП \"Всероссийский научно-исследовательский институт автоматики им. Н.Л. Духова\"","Да",{"$f":"VLOOKUP(D54,'Периметр АЭПК_3_кв_ 2017'!D:F,3,0)","v":0}]
[54,"ВНИИАЭС",7721247141,2010591800,"АО\"Всеросийский научно-исследовательский институт по эксплуатации атомных электростанций\"","Да",{"$f":"VLOOKUP(D55,'Периметр АЭПК_3_кв_ 2017'!D:F,3,0)","v":"Да"}]
[55,"ВНИИАМ (АЭПК)",7743654609,2010390000,"АО \"Всероссийский научно-исследовательский и проектно-конструкторский институт атомного энергетического машиностроения (ВНИИАМ)\"","Да",{"$f":"VLOOKUP(D56,'Периметр АЭПК_3_кв_ 2017'!D:F,3,0)","v":"Да"}]
[56,"ВНИИНМ",7734598490,2010400000,"АО \"Всероссийский научно-исследовательский институт неорганических материалов имени академика А.А. Бочвара\"","Да",{"$f":"VLOOKUP(D57,'Периметр АЭПК_3_кв_ 2017'!D:F,3,0)","v":"Да"}]
[57,"ВНИИТФ",7423000572,1110000000,"ФГУП \"Российский Федеральный Ядерный Центр - Всероссийский научно-исследовательский институт технической физики имени академика Е.И. Забабахина\"","Да",{"$f":"VLOOKUP(D58,'Периметр АЭПК_3_кв_ 2017'!D:F,3,0)","v":0}]
[58,"ВНИИХТ",7724675770,2010420000,"АО \"Ведущий научно-исследовательский институт химической технологии (ВНИИХТ)\"","Да",{"$f":"VLOOKUP(D59,'Периметр АЭПК_3_кв_ 2017'!D:F,3,0)","v":"Да"}]
[59,"ВНИИЭФ",5254001230,1150000000,"ФГУП \"Российский федеральный ядерный центр–Всероссийский научно- исследовательский институт экспериментальной физики\" (ФГУП \"РФЯЦ-ВНИИЭФ\")","Да",{"$f":"VLOOKUP(D60,'Периметр АЭПК_3_кв_ 2017'!D:F,3,0)","v":0}]
[60,"ВНИПИПромтехнологии",7724683379,2010430000,"АО \"Ведущий проектно-изыскательский и научно-исследовательский институт промышленной технологии\"","Да",{"$f":"VLOOKUP(D61,'Периметр АЭПК_3_кв_ 2017'!D:F,3,0)","v":"Да"}]
[61,"ВЭИ",7722026032,1170000000,"ФГУП \"Всероссийский электротехнический институт В.И. Ленина\"","Да",{"$f":"VLOOKUP(D62,'Периметр АЭПК_3_кв_ 2017'!D:F,3,0)","v":0}]
[62,"Гидропресс",5036092340,2010710000,"АО \"Ордена Трудового Красного Знамени и ордена труда ЧССР - опытное конструкторское бюро \"ГИДРОПРЕСС\"","Да",{"$f":"VLOOKUP(D63,'Периметр АЭПК_3_кв_ 2017'!D:F,3,0)","v":"Да"}]
[63,"Гиредмет",7706699062,2010470000,"АО \"Государственный научно-исследовательский проектный институт редкометаллической промышленности \"Гиредмет\"","Да",{"$f":"VLOOKUP(D64,'Периметр АЭПК_3_кв_ 2017'!D:F,3,0)","v":"Да"}]
[64,"Госкорпорация \"Росатом\"",7706413348,"0000000002","Государственная корпорация по атомной энергии \"Росатом\"","Да",{"$f":"VLOOKUP(D65,'Периметр АЭПК_3_кв_ 2017'!D:F,3,0)","v":0}]
[65,"Гринатом",7706729736,2010900000,"АО \"Гринатом\"","Да",{"$f":"VLOOKUP(D66,'Периметр АЭПК_3_кв_ 2017'!D:F,3,0)","v":"Да"}]
[66,"ГСПИ",7708697977,2010500000,"АО \"Государственный специализированный проектный институт\" (АО \"ГСПИ\")","Да",{"$f":"VLOOKUP(D67,'Периметр АЭПК_3_кв_ 2017'!D:F,3,0)","v":"Да"}]
[67,"ГХК",2452000401,3020000000,"ФГУП \"Горно-химический комбинат\"","Да",{"$f":"VLOOKUP(D68,'Периметр АЭПК_3_кв_ 2017'!D:F,3,0)","v":0}]
[68,"Далур",4506004751,2010230800,"АО \"Далур\"","Да",{"$f":"VLOOKUP(D69,'Периметр АЭПК_3_кв_ 2017'!D:F,3,0)","v":"Да"}]
[69,"Дедал",5010036460,2010510000,"АО \"Научно-производственный комплекс \"Дедал\"","Да",{"$f":"VLOOKUP(D70,'Периметр АЭПК_3_кв_ 2017'!D:F,3,0)","v":"Да"}]
[70,"ДЕЗ",7706730001,2010890000,"АО \"Дирекция Единого Заказа оборудования для АЭС\"","Да",{"$f":"VLOOKUP(D71,'Периметр АЭПК_3_кв_ 2017'!D:F,3,0)","v":"Да"}]
[71,"АРМЗ-Сервис",7708671295,2010020602,"Общество с ограниченной ответственностью \"АРМЗ Сервис\"","Да",{"$f":"VLOOKUP(D72,'Периметр АЭПК_3_кв_ 2017'!D:F,3,0)","v":"Да"}]
[72,"ЗАЭС",7701763846,2010450000,"АО \"Всероссийское производственное объединение \"Зарубежатомэнергострой\" (АО \"ВПО \"ЗАЭС\")","Да",{"$f":"VLOOKUP(D73,'Периметр АЭПК_3_кв_ 2017'!D:F,3,0)","v":"Да"}]
[73,"ЗИОМАР",5036039258,2010230917,"АО \"Инжиниринговая компания \"ЗИОМАР\"","Да",{"$f":"VLOOKUP(D74,'Периметр АЭПК_3_кв_ 2017'!D:F,3,0)","v":"Да"}]
[74,"ЗиО-Подольск",5036040729,2010230918,"ПАО \"Машиностроительный завод \"ЗиО Подольск\"","Да",{"$f":"VLOOKUP(D75,'Периметр АЭПК_3_кв_ 2017'!D:F,3,0)","v":"Да"}]
[75,"ЗУКМ",7450045935,2010241600,"ООО \"Завод углеродных и композиционных материалов\"","Да",{"$f":"VLOOKUP(D76,'Периметр АЭПК_3_кв_ 2017'!D:F,3,0)","v":"Да"}]
[76,"ИРМ",6639019655,2010540000,"АО \"Институт реакторных материалов\"","Да",{"$f":"VLOOKUP(D77,'Периметр АЭПК_3_кв_ 2017'!D:F,3,0)","v":"Да"}]
[77,"ИЦ РГЦ",7706689000,2010242300,"АО \"Инжиниринговый центр \"Русская газовая центрифуга\"","Да",{"$f":"VLOOKUP(D78,'Периметр АЭПК_3_кв_ 2017'!D:F,3,0)","v":"Да"}]
[78,"Искра",2453014750,2010230001,"ООО \"Искра\"","Да",{"$f":"VLOOKUP(D79,'Периметр АЭПК_3_кв_ 2017'!D:F,3,0)","v":"Да"}]
[79,"ЖТЭЦ",2458013365,2010551000,"АО \"Железногорская ТЭЦ\"","Да",{"$f":"VLOOKUP(D80,'Периметр АЭПК_3_кв_ 2017'!D:F,3,0)","v":"Да"}]
[80,"КМЗ",3305004397,2010240600,"ПАО \"Ковровский механический завод\"","Да",{"$f":"VLOOKUP(D81,'Периметр АЭПК_3_кв_ 2017'!D:F,3,0)","v":"Да"}]
[81,"Красная Звезда",7726682003,2010600000,"АО \"Красная Звезда\"","Да",{"$f":"VLOOKUP(D82,'Периметр АЭПК_3_кв_ 2017'!D:F,3,0)","v":"Да"}]
[82,"Краун",7705833438,2010241100,"ООО \"Краун\"","Да",{"$f":"VLOOKUP(D83,'Периметр АЭПК_3_кв_ 2017'!D:F,3,0)","v":"Да"}]
[83,"КЦ",7715020463,2010231300,"АО \"Коммерческий центр\"","Да",{"$f":"VLOOKUP(D84,'Периметр АЭПК_3_кв_ 2017'!D:F,3,0)","v":"Да"}]
[84,"Маяк",7422000795,1070000000,"ФГУП \"Производственное объединение \"Маяк\"","Да",{"$f":"VLOOKUP(D85,'Периметр АЭПК_3_кв_ 2017'!D:F,3,0)","v":0}]
[85,"МЗП",7724558466,2010100000,"АО \"Московский завод полиметаллов\"","Да",{"$f":"VLOOKUP(D86,'Периметр АЭПК_3_кв_ 2017'!D:F,3,0)","v":"Да"}]
[86,"Молния",7721730486,2010740000,"АО \"Производственное объединение \"Машиностроительный завод \"Молния\"","Да",{"$f":"VLOOKUP(D87,'Периметр АЭПК_3_кв_ 2017'!D:F,3,0)","v":"Да"}]
[87,"МСЗ-М",5053066861,2010230115,"ООО \"МСЗ-МЕХАНИКА\"","Да",{"$f":"VLOOKUP(D88,'Периметр АЭПК_3_кв_ 2017'!D:F,3,0)","v":"Да"}]
[88,"МСЗ",5053005918,2010230100,"ПАО \"Машиностроительный завод\"","Да",{"$f":"VLOOKUP(D89,'Периметр АЭПК_3_кв_ 2017'!D:F,3,0)","v":"Да"}]
[89,"Наука и инновации",7706760091,4010000100,"АО \"Наука и инновации\"","Да",{"$f":"VLOOKUP(D90,'Периметр АЭПК_3_кв_ 2017'!D:F,3,0)","v":"Да"}]
[90,"НИИГрафит",7720723422,2010630000,"АО \"Государственный научно-исследовательский институт конструкционных материалов на основе графита \"НИИграфит\"","Да",{"$f":"VLOOKUP(D91,'Периметр АЭПК_3_кв_ 2017'!D:F,3,0)","v":"Да"}]
[91,"НИАЭП-Сервис",6916015670,2010620200,"ООО \"НИАЭП-Сервис\"","Да",{"$f":"VLOOKUP(D92,'Периметр АЭПК_3_кв_ 2017'!D:F,3,0)","v":0}]
[92,"НИИАР-ГЕНЕРАЦИЯ",7329008990,2010970000,"ООО «НИИАР-ГЕНЕРАЦИЯ»","Да",{"$f":"VLOOKUP(D93,'Периметр АЭПК_3_кв_ 2017'!D:F,3,0)","v":"Да"}]
[93,"НЗХК-Инструмент",5410021660,2010230207,"ООО \"НЗХК-Инструмент\"","Да",{"$f":"VLOOKUP(D94,'Периметр АЭПК_3_кв_ 2017'!D:F,3,0)","v":"Да"}]
[94,"НЗХК-Энергия",5410028351,2010230210,"ООО \"НЗХК-Энергия\"","Да",{"$f":"VLOOKUP(D95,'Периметр АЭПК_3_кв_ 2017'!D:F,3,0)","v":"Да"}]
[95,"ННКЦ",6629020806,2010241900,"ООО \"Новоуральский научно-конструкторский центр\"","Да",{"$f":"VLOOKUP(D96,'Периметр АЭПК_3_кв_ 2017'!D:F,3,0)","v":"Да"}]
[96,"НЗХК",5410114184,2010230200,"ПАО \"Новосибирский завод химконцентратов\"","Да",{"$f":"VLOOKUP(D97,'Периметр АЭПК_3_кв_ 2017'!D:F,3,0)","v":"Да"}]
[97,"ИК АСЭ",5260214123,2010620000,"АО Инжиниринговая компания \"АСЭ\"","Да",{"$f":"VLOOKUP(D98,'Периметр АЭПК_3_кв_ 2017'!D:F,3,0)","v":0}]
[98,"НИИАР",7302040242,2010480000,"АО Государственный научный центр - Научно-исследовательский институт атомных реакторов (АО \"ГНЦ НИИАР\")","Да",{"$f":"VLOOKUP(D99,'Периметр АЭПК_3_кв_ 2017'!D:F,3,0)","v":"Да"}]
[99,"НИИИС",5261000011,1130000000,"ФГУП федеральный научно-производственный центр \"Научно-исследовательский институт измерительных систем им. Ю.Е. Седакова\"","Да",{"$f":"VLOOKUP(D100,'Периметр АЭПК_3_кв_ 2017'!D:F,3,0)","v":0}]
[100,"НИИП",5027241394,4070000000,"АО \"Научно-исследовательский институт приборов\"","Да",{"$f":"VLOOKUP(D101,'Периметр АЭПК_3_кв_ 2017'!D:F,3,0)","v":0}]
[101,"НИИТФА",7726606316,2010410000,"АО \"Научно-исследовательский институт технической физики и автоматизации (НИИТФА)\"","Да",{"$f":"VLOOKUP(D102,'Периметр АЭПК_3_кв_ 2017'!D:F,3,0)","v":"Да"}]
[102,"НИИЭФА",7817331468,4080000000,"АО \"Научно-исследовательский институт электрофизической аппаратуры им. Д.В. Ефремова\"","Да",{"$f":"VLOOKUP(D103,'Периметр АЭПК_3_кв_ 2017'!D:F,3,0)","v":0}]
[103,"НИКИМТ-Атомстрой",7715719854,2010550000,"АО \"НИКИМТ \"Атомстрой\"","Да",{"$f":"VLOOKUP(D104,'Периметр АЭПК_3_кв_ 2017'!D:F,3,0)","v":"Да"}]
[104,"НИКИЭТ",7708698473,2010650000,"АО \"Научно-исследовательский и конструкторский институт энерготехники имени Н.А. Доллежаля\"","Да",{"$f":"VLOOKUP(D105,'Периметр АЭПК_3_кв_ 2017'!D:F,3,0)","v":"Да"}]
[105,"НИТИ",4714000067,4090000000,"ФГУП \"Научно-исследовательский технологический институт имени А.П. Александрова\"","Да",{"$f":"VLOOKUP(D106,'Периметр АЭПК_3_кв_ 2017'!D:F,3,0)","v":0}]
[106,"НИФХИ",7709944065,4140000000,"АО \"Научно-исследовательский физико-химический институт им. Л.Я. Карпова\" (НИФХИ)","Да",{"$f":"VLOOKUP(D107,'Периметр АЭПК_3_кв_ 2017'!D:F,3,0)","v":0}]
[107,"НПК ХПИ",7706688991,2010242200,"АО \"НПК \"Химпроминжиниринг\"","Да",{"$f":"VLOOKUP(D108,'Периметр АЭПК_3_кв_ 2017'!D:F,3,0)","v":"Да"}]
[108,"НПО Луч",5036005308,4060000000,"ФГУП \"Научно-исследовательский институт Научно-производственное объединение \"Луч\"","Да",{"$f":"VLOOKUP(D109,'Периметр АЭПК_3_кв_ 2017'!D:F,3,0)","v":0}]
[109,"НПО РИ",7802846922,4010000000,"АО \"Радиевый институт им. В.Г. Хлопина\"","Да",{"$f":"VLOOKUP(D110,'Периметр АЭПК_3_кв_ 2017'!D:F,3,0)","v":0}]
[110,"НО РАО",5838009089,4110000000,"ФГУП \"Национальный оператор по обращению с радиоактивными отходами\"","Да",{"$f":"VLOOKUP(D111,'Периметр АЭПК_3_кв_ 2017'!D:F,3,0)","v":0}]
[111,"НТЦ ЯФИ",7802441926,2010690000,"АО \"Научно-технический центр \"Ядерно-физические исследования\"","Да",{"$f":"VLOOKUP(D112,'Периметр АЭПК_3_кв_ 2017'!D:F,3,0)","v":"Да"}]
[112,"Обесп РФЯЦ-ВНИИЭФ",5254081010,2010150000,"АО \"Обеспечение РФЯЦ-ВНИИЭФ\"","Да",{"$f":"VLOOKUP(D113,'Периметр АЭПК_3_кв_ 2017'!D:F,3,0)","v":"Да"}]
[113,"ОТЭК",7706757331,2010920000,"АО «Объединённая теплоэнергетическая компания»","Да",{"$f":"VLOOKUP(D114,'Периметр АЭПК_3_кв_ 2017'!D:F,3,0)","v":"Да"}]
[114,"ОЗТМиТС",7726633119,2010700000,"АО \"Опытный завод тугоплавких металлов и твердых сплавов\" (АО \"ОЗТМиТС\")","Да",{"$f":"VLOOKUP(D115,'Периметр АЭПК_3_кв_ 2017'!D:F,3,0)","v":"Да"}]
[115,"ОИК",7706751361,2010910000,"ООО \"Объединенная инновационная корпорация\"","Да",{"$f":"VLOOKUP(D116,'Периметр АЭПК_3_кв_ 2017'!D:F,3,0)","v":"Да"}]
[116,"ОК РСК",7706704146,2010860000,"АО \"Объединенная компания “Разделительно-сублиматный комплекс”","Да",{"$f":"VLOOKUP(D117,'Периметр АЭПК_3_кв_ 2017'!D:F,3,0)","v":"Да"}]
[117,"ОКБМ",5259077666,2010720000,"АО \"Опытное Конструкторское Бюро Машиностроения имени И.И. Африкантова\"","Да",{"$f":"VLOOKUP(D118,'Периметр АЭПК_3_кв_ 2017'!D:F,3,0)","v":"Да"}]
[118,"ОДЦ УГР",7024033350,2010780500,"АО \"Опытно-демонстрационный центр вывода из эксплуатации уран-графитовых ядерных реакторов\"","Да",{"$f":"VLOOKUP(D119,'Периметр АЭПК_3_кв_ 2017'!D:F,3,0)","v":"Да"}]
[119,"ОзВЭИ",7722024973,1180000000,"ФГУП \"Опытный завод Всероссийского электротехнического института В.И. Ленина\"","Да",{"$f":"VLOOKUP(D120,'Периметр АЭПК_3_кв_ 2017'!D:F,3,0)","v":0}]
[120,"ПО Север",5410101900,1080000000,"ФГУП Производственное объединение \"Север\"","Да",{"$f":"VLOOKUP(D121,'Периметр АЭПК_3_кв_ 2017'!D:F,3,0)","v":0}]
[121,"ППГХО",7530000048,2010230400,"ПАО \"Приаргунское производственное горно-химическое объединение\"","Да",{"$f":"VLOOKUP(D122,'Периметр АЭПК_3_кв_ 2017'!D:F,3,0)","v":"Да"}]
[122,"ПСЗ",7405000428,1100000000,"ФГУП \"Приборостроительный завод\"","Да",{"$f":"VLOOKUP(D123,'Периметр АЭПК_3_кв_ 2017'!D:F,3,0)","v":0}]
[123,"ПСР",7721699740,2010592000,"АО \"Производственная система \"ПСР\"","Да",{"$f":"VLOOKUP(D124,'Периметр АЭПК_3_кв_ 2017'!D:F,3,0)","v":"Да"}]
[124,"Промышленные инновации",7725524660,2010231200,"АО \"Промышленные инновации\"","Да",{"$f":"VLOOKUP(D125,'Периметр АЭПК_3_кв_ 2017'!D:F,3,0)","v":"Да"}]
[125,"РАДОН",7704009700,3110000000,"ФГУП \"РАДОН\"","Да",{"$f":"VLOOKUP(D126,'Периметр АЭПК_3_кв_ 2017'!D:F,3,0)","v":0}]
[126,"РАСУ",7734358970,2010990000,"АО \"Русатом Автоматизированные Системы Управления\"","Да",{"$f":"VLOOKUP(D127,'Периметр АЭПК_3_кв_ 2017'!D:F,3,0)","v":"Да"}]
[127,"РАОС",7709735135,2010230912,"Общество с ограниченной ответственностью \"Русатом Оверсиз\"","Да",{"$f":"VLOOKUP(D128,'Периметр АЭПК_3_кв_ 2017'!D:F,3,0)","v":"Да"}]
[128,"РБМ",7713190205,2010020600,"АО \"РУСБУРМАШ\"","Да",{"$f":"VLOOKUP(D129,'Периметр АЭПК_3_кв_ 2017'!D:F,3,0)","v":"Да"}]
[129,"Росэнергоатом",7721632827,2010590000,"АО \"Российский концерн по производству электрической и тепловой энергии на атомных станциях \"Росэнергоатом\"","Да",{"$f":"VLOOKUP(D130,'Периметр АЭПК_3_кв_ 2017'!D:F,3,0)","v":"Да"}]
[130,"РосРАО",4714004270,3260000000,"ФГУП \"Предприятие по обращению с радиоактивными отходами \"РосРАО\"","Да",{"$f":"VLOOKUP(D131,'Периметр АЭПК_3_кв_ 2017'!D:F,3,0)","v":0}]
[131,"REIN",7706759586,2010930000,"АО \"Русатом Энерго Интернешнл\"","Да",{"$f":"VLOOKUP(D132,'Периметр АЭПК_3_кв_ 2017'!D:F,3,0)","v":"Да"}]
[132,"Русатом Сервис",7705966318,2010592200,"АО \"Русатом Сервис\"","Да",{"$f":"VLOOKUP(D133,'Периметр АЭПК_3_кв_ 2017'!D:F,3,0)","v":"Да"}]
[133,"Русатом Оверсиз Инк",7706805049,2010980000,"АО \"Русатом Оверсиз Инк\"","Да",{"$f":"VLOOKUP(D134,'Периметр АЭПК_3_кв_ 2017'!D:F,3,0)","v":0}]
[134,"РСП",7726667090,4180000000,"АО \"Русский сверхпроводник \"","Да",{"$f":"VLOOKUP(D135,'Периметр АЭПК_3_кв_ 2017'!D:F,3,0)","v":0}]
[135,"РЭМКО",5036076690,2010230911,"АО \"Русская ЭнергоМашиностроительная Компания\"","Да",{"$f":"VLOOKUP(D136,'Периметр АЭПК_3_кв_ 2017'!D:F,3,0)","v":"Да"}]
[136,"Сайпрус","12239379I",2010230916,"ATOMENERGOMASH CYPRUS LIMITED ЧК \"Атомэнергомаш Сайпрус Лимитед\"","Да",{"$f":"VLOOKUP(D137,'Периметр АЭПК_3_кв_ 2017'!D:F,3,0)","v":"Да"}]
[137,"СвердНИИхиммаш",6664003909,2010200000,"АО \"Свердловский научно-исследовательский институт химического машиностроения (\"СвердНИИхиммаш\")\"","Да",{"$f":"VLOOKUP(D138,'Периметр АЭПК_3_кв_ 2017'!D:F,3,0)","v":"Да"}]
[138,"СГК",5254082550,2010150300,"АО \"Саровская Генерирующая Компания\"","Да",{"$f":"VLOOKUP(D139,'Периметр АЭПК_3_кв_ 2017'!D:F,3,0)","v":"Да"}]
[139,"СКЦ",7706187089,3080000000,"ФГУП \"Ситуационно-Кризисный Центр Федерального агентства по атомной энергии\"","Да",{"$f":"VLOOKUP(D140,'Периметр АЭПК_3_кв_ 2017'!D:F,3,0)","v":0}]
[140,"СНИИП",7734592593,2010660000,"АО \"Специализированный научно-исследовательский институт приборостроения\" (АО \"СНИИП\")","Да",{"$f":"VLOOKUP(D141,'Периметр АЭПК_3_кв_ 2017'!D:F,3,0)","v":"Да"}]
[141,"СПб ИЗОТОП",7840393624,2010750000,"АО \"Санкт-Петербургский \"ИЗОТОП\"","Да",{"$f":"VLOOKUP(D142,'Периметр АЭПК_3_кв_ 2017'!D:F,3,0)","v":"Да"}]
[142,"СТСК",5254082630,2010150200,"АО \"Саровская Теплосетевая Компания\"","Да",{"$f":"VLOOKUP(D143,'Периметр АЭПК_3_кв_ 2017'!D:F,3,0)","v":"Да"}]
[143,"Старт",5838000953,1090000000,"ФГУП \"ФНЦП Производственное объединение \"Старт\" имени М.В. Проценко\"","Да",{"$f":"VLOOKUP(D144,'Периметр АЭПК_3_кв_ 2017'!D:F,3,0)","v":0}]
[144,"СЕТЕС",7024037370,2010550001,"АО \"Северские теплосистемы\"","Да",{"$f":"VLOOKUP(D145,'Периметр АЭПК_3_кв_ 2017'!D:F,3,0)","v":"Да"}]
[145,"СХК",7024029499,2010780000,"АО \"Сибирский химический комбинат\"","Да",{"$f":"VLOOKUP(D146,'Периметр АЭПК_3_кв_ 2017'!D:F,3,0)","v":"Да"}]
[146,"Тепловодоканал",1837004370,2010230306,"ООО \"Тепловодоканал\"","Да",{"$f":"VLOOKUP(D147,'Периметр АЭПК_3_кв_ 2017'!D:F,3,0)","v":"Да"}]
[147,"Точмаш-авто",3329064483,2010440300,"ООО \"Точмаш-авто\"","Да",{"$f":"VLOOKUP(D148,'Периметр АЭПК_3_кв_ 2017'!D:F,3,0)","v":"Да"}]
[148,"ТВЭЛ",7706123550,2010230000,"АО \"ТВЭЛ\"","Да",{"$f":"VLOOKUP(D149,'Периметр АЭПК_3_кв_ 2017'!D:F,3,0)","v":"Да"}]
[149,"ТВЭЛ-Строй",7726523814,2010231100,"АО \"ТВЭЛ-СТРОИ\"","Да",{"$f":"VLOOKUP(D150,'Периметр АЭПК_3_кв_ 2017'!D:F,3,0)","v":"Да"}]
[150,"ТЕНЕКС-Сервис",7706604582,2010240100,"АО \"ТЕНЕКС-Сервис\"","Да",{"$f":"VLOOKUP(D151,'Периметр АЭПК_3_кв_ 2017'!D:F,3,0)","v":"Да"}]
[151,"Технопарк-Технология",5216017711,4150000000,"АО \"Технопарк-Технология\"","Да",{"$f":"VLOOKUP(D152,'Периметр АЭПК_3_кв_ 2017'!D:F,3,0)","v":0}]
[152,"Техснабэкспорт",7706039242,2010240000,"АО \"Техснабэкспорт\"","Да",{"$f":"VLOOKUP(D153,'Периметр АЭПК_3_кв_ 2017'!D:F,3,0)","v":"Да"}]
[153,"Точмаш",3329051460,2010440000,"АО \"Владимирское производственное объединение \"Точмаш\"","Да",{"$f":"VLOOKUP(D154,'Периметр АЭПК_3_кв_ 2017'!D:F,3,0)","v":"Да"}]
[154,"ТРИНИТИ",7751002460,4030000000,"АО \"Государственный научный центр Российской Федерации Троицкий институт инновационных и термоядерных исследований\"","Да",{"$f":"VLOOKUP(D155,'Периметр АЭПК_3_кв_ 2017'!D:F,3,0)","v":0}]
[155,"Трест РСЭМ",6916013425,2010620400,"ООО \"Трест Росспецэнергомонтаж\"","Да",{"$f":"VLOOKUP(D156,'Периметр АЭПК_3_кв_ 2017'!D:F,3,0)","v":0}]
[156,"ТЦ ТЕНЕКС",7706609414,2010240200,"ЗАО \"Технологический центр \"ТЕНЕКС\"","Да",{"$f":"VLOOKUP(D157,'Периметр АЭПК_3_кв_ 2017'!D:F,3,0)","v":"Да"}]
[157,"Уралприбор",6629020789,2010242000,"ООО \"Новоуральский приборный завод\"","Да",{"$f":"VLOOKUP(D158,'Периметр АЭПК_3_кв_ 2017'!D:F,3,0)","v":"Да"}]
[158,"УАЗ",7706804447,6010000000,"АО \"Управление административными зданиями\"","Да",{"$f":"VLOOKUP(D159,'Периметр АЭПК_3_кв_ 2017'!D:F,3,0)","v":0}]
[159,"УУГ",7706641432,2010020100,"АО \"Ураниум Уан Груп\"","Да",{"$f":"VLOOKUP(D160,'Периметр АЭПК_3_кв_ 2017'!D:F,3,0)","v":"Да"}]
[160,"УДК Горное",7536087140,2010020200,"АО \"Уранодобывающая компания \"Горное\"","Да",{"$f":"VLOOKUP(D161,'Периметр АЭПК_3_кв_ 2017'!D:F,3,0)","v":"Да"}]
[161,"УЗГЦ",6629020796,2010241800,"ООО \"Уральский завод газовых центрифуг\"","Да",{"$f":"VLOOKUP(D162,'Периметр АЭПК_3_кв_ 2017'!D:F,3,0)","v":"Да"}]
[162,"УЭМЗ",6608004641,1120000000,"ФГУП \"Уральский электромеханический завод\"","Да",{"$f":"VLOOKUP(D163,'Периметр АЭПК_3_кв_ 2017'!D:F,3,0)","v":0}]
[163,"УЭХК",6629022962,2010800000,"АО \"Уральский электрохимический комбинат\"","Да",{"$f":"VLOOKUP(D164,'Периметр АЭПК_3_кв_ 2017'!D:F,3,0)","v":"Да"}]
[164,"ФЦЯРБ",7706801975,3090000000,"АО \"Федеральный центр ядерной и радиационной безопасности\"","Да",{"$f":"VLOOKUP(D165,'Периметр АЭПК_3_кв_ 2017'!D:F,3,0)","v":0}]
[165,"ФЭИ",4025442583,4040000000,"АО \"Государственный научный центр Российской Федерации - Физико-энергетический институт имени А.И. Лейпунского\"","Да",{"$f":"VLOOKUP(D166,'Периметр АЭПК_3_кв_ 2017'!D:F,3,0)","v":0}]
[166,"Хиагда","0302001219",2010230700,"АО \"Хиагда\"","Да",{"$f":"VLOOKUP(D167,'Периметр АЭПК_3_кв_ 2017'!D:F,3,0)","v":"Да"}]
[167,"ЦВТД",7726750415,2010911000,"ООО «Центр высокотехнологичной диагностики»","Да",{"$f":"VLOOKUP(D168,'Периметр АЭПК_3_кв_ 2017'!D:F,3,0)","v":"Да"}]
[168,"ЦентрАтом",7706723156,2010870000,"АО \"Центр управления непрофильными активами атомной отрасли\"","Да",{"$f":"VLOOKUP(D169,'Периметр АЭПК_3_кв_ 2017'!D:F,3,0)","v":"Да"}]
[169,"ЦентрАтомКонсалт",7706638824,2010040000,"ОАО \"ЦентрАтомКонсалт\"","Да",{"$f":"VLOOKUP(D170,'Периметр АЭПК_3_кв_ 2017'!D:F,3,0)","v":0}]
[170,"ЦКБМ",7806394392,2010820000,"АО \"Центральное конструкторское бюро машиностроения\"","Да",{"$f":"VLOOKUP(D171,'Периметр АЭПК_3_кв_ 2017'!D:F,3,0)","v":"Да"}]
[171,"ЦНИИТМАШ",7723564851,2010140000,"АО \"Научно-производственное объединение \"Центральный научно-исследовательский институт технологии машиностроения\"","Да",{"$f":"VLOOKUP(D172,'Периметр АЭПК_3_кв_ 2017'!D:F,3,0)","v":"Да"}]
[172,"ЦОиС ОЛенКур",5024076079,2010290000,"АО \"Центр отдыха и спорта \"ОЛенКур \"","Да",{"$f":"VLOOKUP(D173,'Периметр АЭПК_3_кв_ 2017'!D:F,3,0)","v":"Да"}]
[173,"ЦУФС",7715470328,6080000000,"АО \"Центр управления федеральной собственностью\"","Да",{"$f":"VLOOKUP(D174,'Периметр АЭПК_3_кв_ 2017'!D:F,3,0)","v":"Да"}]
[174,"ЧМЗ",1829008035,2010230300,"АО \"Чепецкий механический завод\"","Да",{"$f":"VLOOKUP(D175,'Периметр АЭПК_3_кв_ 2017'!D:F,3,0)","v":"Да"}]
[175,"ЭЛЕМАШ-ТЭК",5053055010,2010230110,"ООО \"ЭЛЕМАШ-ТЭК\"","Да",{"$f":"VLOOKUP(D176,'Периметр АЭПК_3_кв_ 2017'!D:F,3,0)","v":"Да"}]
[176,"Экоальянс",6629026420,2010800800,"ООО \"Экоальянс\"","Да",{"$f":"VLOOKUP(D177,'Периметр АЭПК_3_кв_ 2017'!D:F,3,0)","v":"Да"}]
[177,"ЭГМК",1402047530,2010020400,"АО \"Эльконский горно-металлургический комбинат\"","Да",{"$f":"VLOOKUP(D178,'Периметр АЭПК_3_кв_ 2017'!D:F,3,0)","v":"Да"}]
[178,"Эксп №2",2901255495,1140000000,"АО \"Экспедиция № 2\"","Да",{"$f":"VLOOKUP(D179,'Периметр АЭПК_3_кв_ 2017'!D:F,3,0)","v":0}]
[179,"Элерон",7724313681,4100000000,"АО \"Специальное научно-производственное объединение \"Элерон\"","Да",{"$f":"VLOOKUP(D180,'Периметр АЭПК_3_кв_ 2017'!D:F,3,0)","v":0}]
[180,"Энергомашспецсталь",2106005156,2010230943,"ПАО \"Энергомашспецсталь\"","Да",{"$f":"VLOOKUP(D181,'Периметр АЭПК_3_кв_ 2017'!D:F,3,0)","v":"Да"}]
[181,"Энергоспецмонтаж",7718083574,2010270000,"ПАО \"Энергоспецмонтаж\"","Да",{"$f":"VLOOKUP(D182,'Периметр АЭПК_3_кв_ 2017'!D:F,3,0)","v":"Да"}]
[182,"ЭНИЦ",5035037441,2010830000,"АО \"Электрогорский научно-исследовательский центр по безопасности атомных электростанций\"","Да",{"$f":"VLOOKUP(D183,'Периметр АЭПК_3_кв_ 2017'!D:F,3,0)","v":"Да"}]
[183,"ЭХЗ",2453013555,2010840000,"АО \"Производственное объединение \"Электрохимический завод\"","Да",{"$f":"VLOOKUP(D184,'Периметр АЭПК_3_кв_ 2017'!D:F,3,0)","v":"Да"}]
[184,"ЭХП",6630002336,1050000000,"ФГУП \"Комбинат \"Электрохимприбор\"","Да",{"$f":"VLOOKUP(D185,'Периметр АЭПК_3_кв_ 2017'!D:F,3,0)","v":0}]
[185,"ЯМТ-Снежинск",7459003496,2010912000,"ООО \"Ядерные медицинские технологии-Снежинск\"","Да",{"$f":"VLOOKUP(D186,'Периметр АЭПК_3_кв_ 2017'!D:F,3,0)","v":"Да"}]

{"sheet":"Периметр АЭПК_3_кв_ 2016","index":16,"n_rows":124,"n_cols":6,"rows_kept":124,"cut":false,"hidden":true,"merged":[]}
["№","Сокращенное название","ИНН","Номер ЦФО","Полное название","Включена в Периметр АЭПК по МСФО"]
[1,"INTERNEXCO","HBR 6557",2010241200,"INTERNEXCO GmbH","Да"]
[2,"KWINDER HOLDINGS LIMITED","KWINDER HOLDINGS LIMITED",{"$f":"#REF!","v":{"$error":"#REF!"}},"KWINDER HOLDINGS LIMITED","Да"]
[3,"Mantra Resources Ltd.","Mantra Resources Ltd.",{"$f":"#REF!","v":{"$error":"#REF!"}},"Mantra Resources Limited","Да"]
[4,"ROSATOM FINANCE","ROSATOM FINANCE",2010940000,"ROSATOM FINANCE LTD","Да"]
[5,"ROSATOM Securities Limited","ROSATOM Securities Limited",2010950000,"ROSATOM Securities Limited","Да"]
[6,"Аргон",6454074501,2010240800,"ООО \"Аргон\"","Да"]
[7,"АРМЗ",7706016076,2010020000,"ОАО \"Урановый холдинг АРМЗ\" (\"Атомредметзолото\")","Да"]
[8,"Атомспецтранс",7717609102,2010340000,"ОАО \"Атомспецтранс\" ","Да"]
[9,"Атомтехэнерго",5029106714,2010350000,"ОАО по наладке, совершенствованию эксплуатации и организации управления атомных станций \"Атомтехэнерго\" ","Да"]
[10,"Атомэнергомаш",7706614573,2010230900,"ОАО \"Атомное и энергетическое машиностроение\" (ОАО \"Атомэнергомаш\")","Да"]
[11,"Атомэнергоремонт",5029112443,2010590700,"ОАО \"Атомэнергоремонт\"","Да"]
[12,"АЭМ-лизинг",7706673635,2010230902,"ЗАО \"АЭМ-лизинг\"","Да"]
[13,"АЭМ-технологии",7817311895,2010230904,"ЗАО \"АЭМ-технологии\"","Да"]
[14,"АЭПК",7706664260,2010000000,"ОАО \"Атомный энергопромышленный комплекс\" (ОАО \"Атомэнергопром\")","Да"]
[15,"Аккую Нуклеар","Аккую Нуклеар",2010450108,"Аккую Нуклеар","Да"]
[16,"АЭХК",3801098402,2010370000,"ОАО \"Ангарский электролизный химический комбинат\"","Да"]
[17,"ВНИИАЭС",7721247141,2010591800,"ОАО\"Всеросийский научно-исследовательский институт по эксплуатации атомных электростанций\"","Да"]
[18,"ВНИИНМ",7734598490,2010400000,"ОАО \"Всероссийский научно-исследовательский институт неорганических материалов имени академика А.А.Бочвара\"","Да"]
[19,"ВНИИХТ",7724675770,2010420000,"ОАО \"Ведущий научно-исследовательский институт химической технологии (ВНИИХТ)\"","Да"]
[20,"АТОМПРОЕКТ",7814417371,{"$f":"#REF!","v":{"$error":"#REF!"}},"ОАО «Научно-исследовательский и проектно-конструкторский институт энергетических технологий «АТОМПРОЕКТ»","Да"]
[21,"Гидропресс",5036092340,2010710000,"ОАО \"Ордена Трудового Красного Знамени и ордена труда ЧССР - опытное конструкторское бюро \"ГИДРОПРЕСС\"","Да"]
[22,"Гиредмет",7706699062,2010470000,"ОАО \"Государственный научно-исследовательский проектный институт редкометаллической промышленности \"Гиредмет\"","Да"]
[23,"Гринатом",7706729736,2010900000,"ЗАО \"Гринатом\"","Да"]
[24,"ГСПИ",7708697977,2010500000,"ОАО \"Государственный специализированный проектный институт\" (ОАО \"ГСПИ\")","Да"]
[25,"Далур",4506004751,2010230800,"ЗАО \"Далур\"","Да"]
[26,"ДЕЗ",7706730001,2010890000,"ОАО \"Дирекция Единого Заказа оборудования для АЭС\"","Да"]
[27,"АРМЗ-Сервис",7708671295,{"$f":"#REF!","v":{"$error":"#REF!"}},"ООО \"АРМЗ - сервис\" ","Да"]
[28,"ЗАЭС",7701763846,2010450000,"ОАО \"Всероссийское производственное объединение \"Зарубежатомэнергострой\" (ОАО \"ВПО \"ЗАЭС\")","Да"]
[29,"ЗиО-Подольск",5036040729,2010230918,"ОАО \"Машиностроительный завод \"ЗиО Подольск\"","Да"]
[30,"ЗИОМАР",5036039258,2010230917,"ОАО \"Инжиниринговая компания \"ЗИОМАР\"","Да"]
[31,"ЗУКМ",7450045935,2010241600,"ООО \"Завод углеродных и композиционных материалов\"","Да"]
[32,"ИЦ РГЦ",7706689000,2010242300,"ОАО \"Инжиниринговый центр \"Русская газовая центрифуга\"","Да"]
[33,"КМЗ",3305004397,2010240600,"ОАО \"Ковровский механический завод\"","Да"]
[34,"Краун",7705833438,2010241100,"ООО \"Краун\"","Да"]
[35,"КЦ",7715020463,2010231300,"ОАО\"Коммерческий центр\"","Да"]
[36,"МЗП",7724558466,2010100000,"ОАО \"Московский завод полиметаллов\"","Да"]
[37,"МСЗ",5053005918,2010230100,"ОАО \"Машиностроительный завод\"","Да"]
[38,"НЗХК",5410114184,2010230200,"ОАО \"Новосибирский завод химконцентратов\"","Да"]
[39,"НИАЭП",5260214123,2010620000,"ОАО Нижегородская инжиниринговая компания \"Атомэнергопроект\" (ОАО \"НИАЭП\")","Да"]
[40,"НИИТФА",7726606316,2010410000,"ОАО \"Научно-исследовательский институт технической физики и автоматизации (НИИТФА)\"","Да"]
[41,"НИКИМТ-Атомстрой",7715719854,2010550000,"ОАО \"НИКИМТ \"Атомстрой\"","Да"]
[42,"НИКИЭТ",7708698473,2010650000,"ОАО \"Научно-исследовательский и конструкторский институт энерготехники имени Н.А. Доллежаля\"","Да"]
[43,"НПК ХПИ",7706688991,2010242200,"ОАО \"НПК \"Химпроминжиниринг\"","Да"]
[44,"ОИК",7706751361,2010910000,"ООО \"Объединенная инновационная корпорация\"","Да"]
[45,"ОК РСК",7706704146,2010860000,"ОАО \"Объединенная компания “Разделительно-сублиматный комплекс”","Да"]
[46,"ОКБМ",5259077666,2010720000,"ОАО \"Опытное Конструкторское Бюро Машиностроения имени И.И. Африкантова\"","Да"]
[47,"ППГХО",7530000048,2010230400,"ОАО \"Приаргунское производственное горно-химическое объединение\"","Да"]
[48,"ПСР",7721699740,2010592000,"ОАО \"Производственная система \"ПСР\"","Да"]
[49,"РБМ",7713190205,2010020600,"ЗАО \"РУСБУРМАШ\"","Да"]
[50,"Росэнергоатом",7721632827,2010590000,"ОАО \"Российский концерн по производству электрической и тепловой энергии на атомных станциях \"Росэнергоатом\"","Да"]
[51,"REIN ",7706759586,2010930000,"АО «Русатом Энерго Интернешнл»","Да"]
[52,"РЭМКО",5036076690,2010230911,"ЗАО \"Русская ЭнергоМашиностроительная Компания\"","Да"]
[53,"Сайпрус","Сайпрус",2010230916,"ATOMENERGOMASH CYPRUS LIMITED ЧК \"Атомэнергомаш Сайпрус Лимитед\"","Да"]
[54,"СвердНИИхиммаш",6664003909,2010200000,"ОАО \"Свердловский научно-исследовательский институт химического машиностроения (\"СвердНИИхиммаш\")\"","Да"]
[55,"СНИИП",7734592593,2010660000,"ОАО \"Специализированный научно-исследовательский институт приборостроения\" (ОАО \"СНИИП\")","Да"]
[56,"СХК",7024029499,2010780000,"ОАО \"Сибирский химический комбинат\"","Да"]
[57,"ТВЭЛ",7706123550,2010230000,"ОАО \"ТВЭЛ\"","Да"]
[58,"ТВЭЛ-Строй",7726523814,2010231100,"ЗАО \"ТВЭЛ-СТРОИ\"","Да"]
[59,"ТЕНЕКС-Сервис",7706604582,2010240100,"ЗАО \"ТЕНЕКС-Сервис\"","Да"]
[60,"Техснабэкспорт",7706039242,2010240000,"ОАО \"Техснабэкспорт\"","Да"]
[61,"Точмаш",3329051460,2010440000,"ОАО \"Владимирское производственное объединение \"Точмаш\"","Да"]
[62,"ТЦ ТЕНЕКС",7706609414,2010240200,"ЗАО \"Технологический центр \"ТЕНЕКС\"","Да"]
[63,"УУГ",7706641432,2010020100,"АО \"Ураниум Уан Груп\"","Да"]
[64,"УЗГЦ",6629020796,2010241800,"ООО \"Уральский завод газовых центрифуг\"","Да"]
[65,"УЭХК",6629022962,2010800000,"ОАО \"Уральский электрохимический комбинат\"","Да"]
[66,"Хиагда","0302001219",2010230700,"ОАО \"Хиагда\"","Да"]
[67,"ЦентрАтом",7706723156,2010870000,"ОАО \"Центр управления непрофильными активами атомной отрасли\"","Да"]
[68,"ЦКБМ",7806394392,2010820000,"ОАО \"Центральное конструкторское бюро машиностроения\"","Да"]
[69,"ЧМЗ",1829008035,2010230300,"ОАО \"Чепецкий механический завод\"","Да"]
[70,"ЭГМК",1402047530,2010020400,"ЗАО \"Эльконский горно-металлургический комбинат\"","Да"]
[71,"Энергоспецмонтаж",7718083574,2010270000,"ОАО \"Энергоспецмонтаж\"","Да"]
[72,"ЭНИЦ",5035037441,2010830000,"ОАО \"Электрогорский научно-исследовательский центр по безопасности атомных электростанций\"","Да"]
[73,"ЭХЗ",2453013555,2010840000,"ОАО \"Производственное объединение \"Электрохимический завод\"","Да"]
[74,"НЗХК-Инструмент",5410021660,2010230207,"ООО \"НЗХК-Инструмент\"","Да"]
[75,"НЗХК-Энергия",5410028351,2010230210,"ООО \"НЗХК-Энергия\"","Да"]
[76,"Искра",2453014750,2010230001,"ООО \"Искра\"","Да"]
[77,"ЭЛЕМАШ-ТЭК",5053055010,2010230110,"ООО \"ЭЛЕМАШ-ТЭК\"","Да"]
[78,"Экоальянс",6629026420,2010800800,"ООО \"Экоальянс\"","Да"]
[79,"Тепловодоканал",1837004370,2010230306,"ООО \"Тепловодоканал\"","Да"]
[80,"Уралприбор",6629020789,2010242000,"ООО \"Новоуральский приборный завод\"","Да"]
[81,"ННКЦ",6629020806,2010241900,"ООО \"Новоуральский научно-конструкторский центр\"","Да"]
[82,"Точмаш-авто",3329064483,2010440300,"ООО \"Точмаш-авто\"","Да"]
[83,"EMSS Holdings","EMSS Holdings",2010230948,"EMSS Holdings Limited (ЭМСС ХОЛДИНГЗ ЛИМИТЕД)","Да"]
[84,"UMP Trading","UMP Trading",2010230952,"UMP Trading (Швейцария)","Да"]
[85,"ЦНИИТМАШ",7723564851,2010140000,"ОАО Государственный научный центр РФ \"Научно-производственное объединение \"Центральный научно-исследовательский институт технологии машиностроения\"","Да"]
[86,"МСЗ-М",5053066861,2010230115,"ООО \"МСЗ-МЕХАНИКА\"","Да"]
[87,"АЛАБУГА-ВОЛОКНО",1646031132,2010242201,"ООО \"Алабуга-Волокно\"","Да"]
[88,"Русатом Сервис",7705966318,2010592200,"ЗАО \"Русатом Сервис\"","Да"]
[89,"НИИГрафит",7720723422,2010630000,"ОАО \"Государственный научно-исследовательский институт конструкционных материалов на основе графита \"НИИграфит\"","Да"]
[90,"Красная Звезда",7726682003,2010600000,"ОАО \"Красная Звезда\"","Да"]
[91,"Молния",7721730486,2010740000,"ОАО \"Производственное объединение \"Машиностроительный завод \"Молния\"","Да"]
[92,"Балтийская АЭС",3904612644,2010592100,"ОАО \"Балтийская АЭС\"","Да"]
[93,"УДК Горное",7536087140,2010020200,"ЗАО \"Уранодобывающая компания \"Горное\"","Да"]
[94,"СЕТЕС",7024037370,2010550001,"ОАО\"Северские теплосистемы\"","Да"]
[95,"НИАЭП-Сервис",6916015670,2010620200,"ООО \"НИАЭП-Сервис\"","Да"]
[96,"Вента",6624002377,2010050000,"ОАО \"Нижнетуринский машиностроительный завод \"Вента\"","Да"]
[97,"ЭМКО",7709735135,2010230912,"ООО \"Энергомашкомплекс\"","Да"]
[98,"ОЗТМиТС",7726633119,2010700000,"ОАО \"Опытный завод тугоплавких металлов и твердых сплавов\" (ОАО \"ОЗТМиТС\")","Да"]
[99,"Энергомашспецсталь","Энергомашспецсталь",2010230943,"ОАО \"Энергомашспецсталь\"","Да"]
[100,"Русатом МС",770680549,2010980000,"ЗАО \"Русатом-международная сеть\"","Да"]
[101,"ВНИПИПромтехнологии",7724683379,2010430000,"ОАО \"Ведущий проектно-изыскательский и научно-исследовательский институт промышленной технологии\"","Да"]
[102,"ОДЦ УГР",7024033350,2010780500,"ООО \"Опытно-демонстрационный центр вывода из эксплуатации уран-графитовых ядерных реакторов\"","Да"]
[103,"Трест РСЭМ",6916013425,2010620400,"ООО \"Трест Росспецэнергомонтаж\"","Да"]
[104,"ЖТЭЦ",2458013365,2010551000,"ОАО \"Железногорская ТЭЦ\"","Да"]
[105,"РАОС Войма Ои","РАОС Войма Ои",2010931000,"РАОС Войма Ои","Да"]
[106,"АЭМ-активы",7706785593,6090010000,"ООО «АЭМ-активы»","Да"]
[107,"Атомтехэкспорт",7705408850,2010591900,"ЗАО \"Атомтехэкспорт\" ","Да"]
[108,"Промышленные инновации",7725524660,2010231200,"ЗАО \"Промышленные инновации\"","Да"]
[109,"ВНИИАМ",7743654609,2010390000,"ОАО \"Всероссийский научно-исследовательский и проектно-конструкторский институт атомного энергетического машиностроения (ВНИИАМ)\"","Да"]
[110,"RAOS Project Oy",386588,2010932000,"RAOS Project Oy","Да"]
[111,"Uranium One Holding","8171.63.219",2010021200,"Uranium One Holding N.V.","Да"]
[112,"Uranium",817104549,2010021500,"Uranium One Inc.","Да"]
[113,"INTERNEXCO GmbH (Швейцария)","CHE-255.290.400",2010241000,"INTERNEXCO GmbH (Швейцария)","Да"]
[114,"РАСУ",7734358970,2010990000,"АО \"Русатом Автоматизированные Системы Управления\"","Да"]
[115,"АтомМедТехнолоджи-ДВ",2536279414,2010933000,"ООО \"АтомМедТехнолоджи- Дальний Восток\"","Да"]
[116,"ЦВТД",7726750415,2010911000,"ООО «Центр высокотехнологичной диагностики»","Да"]
[117,"ЯМТ-Снежинск",7459003496,2010912000,"ООО \"Ядерные медицинские технологии-Снежинск\"","Да"]
[118,"АТМ",7734242302,2010230915,"ЗАО \"Атомтрубопроводмонтаж\"","Да"]
[119,"Атомэнергосбыт",7704228075,2010591300,"АО \"АтомЭнергоСбыт\"","Да"]
[120,"Атомэнергопромсбыт",7725828549,2010591320,"АО \"Атомэнергопромсбыт\"","Да"]
[121,"НИИАР-Генерация",7329008990,2010970000,"ООО «НИИАР-ГЕНЕРАЦИЯ»","Да"]
[122,"НИИАР",7302040242,2010480000,"АО Государственный научный центр - Научно-исследовательский институт атомных реакторов (АО \"ГНЦ НИИАР\")","Да"]
[123,"Ganz",null,2010820100,"Ganz Energetika Kft. ООО «Ганз Инженерное и Энергетическое Машиностроение»","Да"]

{"sheet":"Периметр АЭПК_2_кв_ 2016 ","index":17,"n_rows":121,"n_cols":6,"rows_kept":121,"cut":false,"hidden":true,"merged":[]}
["№","Сокращенное название","ИНН","Номер ЦФО","Полное название","Включена в Периметр АЭПК по МСФО"]
[1,"INTERNEXCO","HBR 6557",2010241200,"INTERNEXCO GmbH","Да"]
[2,"KWINDER HOLDINGS LIMITED","KWINDER HOLDINGS LIMITED",{"$f":"#REF!","v":{"$error":"#REF!"}},"KWINDER HOLDINGS LIMITED","Да"]
[3,"Mantra Resources Ltd.","Mantra Resources Ltd.",{"$f":"#REF!","v":{"$error":"#REF!"}},"Mantra Resources Limited","Да"]
[4,"ROSATOM FINANCE","ROSATOM FINANCE",2010940000,"ROSATOM FINANCE LTD","Да"]
[5,"ROSATOM Securities Limited","ROSATOM Securities Limited",2010950000,"ROSATOM Securities Limited","Да"]
[6,"Аргон",6454074501,2010240800,"ООО \"Аргон\"","Да"]
[7,"АРМЗ",7706016076,2010020000,"ОАО \"Урановый холдинг АРМЗ\" (\"Атомредметзолото\")","Да"]
[8,"Атомспецтранс",7717609102,2010340000,"ОАО \"Атомспецтранс\" ","Да"]
[9,"Атомтехэнерго",5029106714,2010350000,"ОАО по наладке, совершенствованию эксплуатации и организации управления атомных станций \"Атомтехэнерго\" ","Да"]
[10,"Атомэнергомаш",7706614573,2010230900,"ОАО \"Атомное и энергетическое машиностроение\" (ОАО \"Атомэнергомаш\")","Да"]
[11,"Атомэнергоремонт",5029112443,2010590700,"ОАО \"Атомэнергоремонт\"","Да"]
[12,"АЭМ-лизинг",7706673635,2010230902,"ЗАО \"АЭМ-лизинг\"","Да"]
[13,"АЭМ-технологии",7817311895,2010230904,"ЗАО \"АЭМ-технологии\"","Да"]
[14,"АЭПК",7706664260,2010000000,"ОАО \"Атомный энергопромышленный комплекс\" (ОАО \"Атомэнергопром\")","Да"]
[15,"Аккую Нуклеар","Аккую Нуклеар",2010450108,"Аккую Нуклеар","Да"]
[16,"АЭХК",3801098402,2010370000,"ОАО \"Ангарский электролизный химический комбинат\"","Да"]
[17,"ВНИИАЭС",7721247141,2010591800,"ОАО\"Всеросийский научно-исследовательский институт по эксплуатации атомных электростанций\"","Да"]
[18,"ВНИИНМ",7734598490,2010400000,"ОАО \"Всероссийский научно-исследовательский институт неорганических материалов имени академика А.А.Бочвара\"","Да"]
[19,"ВНИИХТ",7724675770,2010420000,"ОАО \"Ведущий научно-исследовательский институт химической технологии (ВНИИХТ)\"","Да"]
[20,"АТОМПРОЕКТ",7814417371,{"$f":"#REF!","v":{"$error":"#REF!"}},"ОАО «Научно-исследовательский и проектно-конструкторский институт энергетических технологий «АТОМПРОЕКТ»","Да"]
[21,"Гидропресс",5036092340,2010710000,"ОАО \"Ордена Трудового Красного Знамени и ордена труда ЧССР - опытное конструкторское бюро \"ГИДРОПРЕСС\"","Да"]
[22,"Гиредмет",7706699062,2010470000,"ОАО \"Государственный научно-исследовательский проектный институт редкометаллической промышленности \"Гиредмет\"","Да"]
[23,"Гринатом",7706729736,2010900000,"ЗАО \"Гринатом\"","Да"]
[24,"ГСПИ",7708697977,2010500000,"ОАО \"Государственный специализированный проектный институт\" (ОАО \"ГСПИ\")","Да"]
[25,"Далур",4506004751,2010230800,"ЗАО \"Далур\"","Да"]
[26,"ДЕЗ",7706730001,2010890000,"ОАО \"Дирекция Единого Заказа оборудования для АЭС\"","Да"]
[27,"АРМЗ-Сервис",7708671295,{"$f":"#REF!","v":{"$error":"#REF!"}},"ООО \"АРМЗ - сервис\" ","Да"]
[28,"ЗАЭС",7701763846,2010450000,"ОАО \"Всероссийское производственное объединение \"Зарубежатомэнергострой\" (ОАО \"ВПО \"ЗАЭС\")","Да"]
[29,"ЗиО-Подольск",5036040729,2010230918,"ОАО \"Машиностроительный завод \"ЗиО Подольск\"","Да"]
[30,"ЗИОМАР",5036039258,2010230917,"ОАО \"Инжиниринговая компания \"ЗИОМАР\"","Да"]
[31,"ЗУКМ",7450045935,2010241600,"ООО \"Завод углеродных и композиционных материалов\"","Да"]
[32,"ИЦ РГЦ",7706689000,2010242300,"ОАО \"Инжиниринговый центр \"Русская газовая центрифуга\"","Да"]
[33,"КМЗ",3305004397,2010240600,"ОАО \"Ковровский механический завод\"","Да"]
[34,"Краун",7705833438,2010241100,"ООО \"Краун\"","Да"]
[35,"КЦ",7715020463,2010231300,"ОАО\"Коммерческий центр\"","Да"]
[36,"МЗП",7724558466,2010100000,"ОАО \"Московский завод полиметаллов\"","Да"]
[37,"МСЗ",5053005918,2010230100,"ОАО \"Машиностроительный завод\"","Да"]
[38,"НЗХК",5410114184,2010230200,"ОАО \"Новосибирский завод химконцентратов\"","Да"]
[39,"НИАЭП",5260214123,2010620000,"ОАО Нижегородская инжиниринговая компания \"Атомэнергопроект\" (ОАО \"НИАЭП\")","Да"]
[40,"НИИТФА",7726606316,2010410000,"ОАО \"Научно-исследовательский институт технической физики и автоматизации (НИИТФА)\"","Да"]
[41,"НИКИМТ-Атомстрой",7715719854,2010550000,"ОАО \"НИКИМТ \"Атомстрой\"","Да"]
[42,"НИКИЭТ",7708698473,2010650000,"ОАО \"Научно-исследовательский и конструкторский институт энерготехники имени Н.А. Доллежаля\"","Да"]
[43,"НПК ХПИ",7706688991,2010242200,"ОАО \"НПК \"Химпроминжиниринг\"","Да"]
[44,"ОИК",7706751361,2010910000,"ООО \"Объединенная инновационная корпорация\"","Да"]
[45,"ОК РСК",7706704146,2010860000,"ОАО \"Объединенная компания “Разделительно-сублиматный комплекс”","Да"]
[46,"ОКБМ",5259077666,2010720000,"ОАО \"Опытное Конструкторское Бюро Машиностроения имени И.И. Африкантова\"","Да"]
[47,"ППГХО",7530000048,2010230400,"ОАО \"Приаргунское производственное горно-химическое объединение\"","Да"]
[48,"ПСР",7721699740,2010592000,"ОАО \"Производственная система \"ПСР\"","Да"]
[49,"РБМ",7713190205,2010020600,"ЗАО \"РУСБУРМАШ\"","Да"]
[50,"Росэнергоатом",7721632827,2010590000,"ОАО \"Российский концерн по производству электрической и тепловой энергии на атомных станциях \"Росэнергоатом\"","Да"]
[51,"REIN ",7706759586,2010930000,"АО «Русатом Энерго Интернешнл»","Да"]
[52,"РЭМКО",5036076690,2010230911,"ЗАО \"Русская ЭнергоМашиностроительная Компания\"","Да"]
[53,"Сайпрус","Сайпрус",2010230916,"ATOMENERGOMASH CYPRUS LIMITED ЧК \"Атомэнергомаш Сайпрус Лимитед\"","Да"]
[54,"СвердНИИхиммаш",6664003909,2010200000,"ОАО \"Свердловский научно-исследовательский институт химического машиностроения (\"СвердНИИхиммаш\")\"","Да"]
[55,"СНИИП",7734592593,2010660000,"ОАО \"Специализированный научно-исследовательский институт приборостроения\" (ОАО \"СНИИП\")","Да"]
[56,"СХК",7024029499,2010780000,"ОАО \"Сибирский химический комбинат\"","Да"]
[57,"ТВЭЛ",7706123550,2010230000,"ОАО \"ТВЭЛ\"","Да"]
[58,"ТВЭЛ-Строй",7726523814,2010231100,"ЗАО \"ТВЭЛ-СТРОИ\"","Да"]
[59,"ТЕНЕКС-Сервис",7706604582,2010240100,"ЗАО \"ТЕНЕКС-Сервис\"","Да"]
[60,"Техснабэкспорт",7706039242,2010240000,"ОАО \"Техснабэкспорт\"","Да"]
[61,"Точмаш",3329051460,2010440000,"ОАО \"Владимирское производственное объединение \"Точмаш\"","Да"]
[62,"ТЦ ТЕНЕКС",7706609414,2010240200,"ЗАО \"Технологический центр \"ТЕНЕКС\"","Да"]
[63,"УУГ",7706641432,2010020100,"АО \"Ураниум Уан Груп\"","Да"]
[64,"УЗГЦ",6629020796,2010241800,"ООО \"Уральский завод газовых центрифуг\"","Да"]
[65,"УЭХК",6629022962,2010800000,"ОАО \"Уральский электрохимический комбинат\"","Да"]
[66,"Хиагда","0302001219",2010230700,"ОАО \"Хиагда\"","Да"]
[67,"ЦентрАтом",7706723156,2010870000,"ОАО \"Центр управления непрофильными активами атомной отрасли\"","Да"]
[68,"ЦКБМ",7806394392,2010820000,"ОАО \"Центральное конструкторское бюро машиностроения\"","Да"]
[69,"ЧМЗ",1829008035,2010230300,"ОАО \"Чепецкий механический завод\"","Да"]
[70,"ЭГМК",1402047530,2010020400,"ЗАО \"Эльконский горно-металлургический комбинат\"","Да"]
[71,"Энергоспецмонтаж",7718083574,2010270000,"ОАО \"Энергоспецмонтаж\"","Да"]
[72,"ЭНИЦ",5035037441,2010830000,"ОАО \"Электрогорский научно-исследовательский центр по безопасности атомных электростанций\"","Да"]
[73,"ЭХЗ",2453013555,2010840000,"ОАО \"Производственное объединение \"Электрохимический завод\"","Да"]
[74,"НЗХК-Инструмент",5410021660,2010230207,"ООО \"НЗХК-Инструмент\"","Да"]
[75,"НЗХК-Энергия",5410028351,2010230210,"ООО \"НЗХК-Энергия\"","Да"]
[76,"Искра",2453014750,2010230001,"ООО \"Искра\"","Да"]
[77,"ЭЛЕМАШ-ТЭК",5053055010,2010230110,"ООО \"ЭЛЕМАШ-ТЭК\"","Да"]
[78,"Экоальянс",6629026420,2010800800,"ООО \"Экоальянс\"","Да"]
[79,"Тепловодоканал",1837004370,2010230306,"ООО \"Тепловодоканал\"","Да"]
[80,"Уралприбор",6629020789,2010242000,"ООО \"Новоуральский приборный завод\"","Да"]
[81,"ННКЦ",6629020806,2010241900,"ООО \"Новоуральский научно-конструкторский центр\"","Да"]
[82,"Точмаш-авто",3329064483,2010440300,"ООО \"Точмаш-авто\"","Да"]
[83,"EMSS Holdings","EMSS Holdings",2010230948,"EMSS Holdings Limited (ЭМСС ХОЛДИНГЗ ЛИМИТЕД)","Да"]
[84,"UMP Trading","UMP Trading",2010230952,"UMP Trading (Швейцария)","Да"]
[85,"ЦНИИТМАШ",7723564851,2010140000,"ОАО Государственный научный центр РФ \"Научно-производственное объединение \"Центральный научно-исследовательский институт технологии машиностроения\"","Да"]
[86,"МСЗ-М",5053066861,2010230115,"ООО \"МСЗ-МЕХАНИКА\"","Да"]
[87,"АЛАБУГА-ВОЛОКНО",1646031132,2010242201,"ООО \"Алабуга-Волокно\"","Да"]
[88,"Русатом Сервис",7705966318,2010592200,"ЗАО \"Русатом Сервис\"","Да"]
[89,"НИИГрафит",7720723422,2010630000,"ОАО \"Государственный научно-исследовательский институт конструкционных материалов на основе графита \"НИИграфит\"","Да"]
[90,"Красная Звезда",7726682003,2010600000,"ОАО \"Красная Звезда\"","Да"]
[91,"Молния",7721730486,2010740000,"ОАО \"Производственное объединение \"Машиностроительный завод \"Молния\"","Да"]
[92,"Балтийская АЭС",3904612644,2010592100,"ОАО \"Балтийская АЭС\"","Да"]
[93,"УДК Горное",7536087140,2010020200,"ЗАО \"Уранодобывающая компания \"Горное\"","Да"]
[94,"СЕТЕС",7024037370,2010550001,"ОАО\"Северские теплосистемы\"","Да"]
[95,"НИАЭП-Сервис",6916015670,2010620200,"ООО \"НИАЭП-Сервис\"","Да"]
[96,"Вента",6624002377,2010050000,"ОАО \"Нижнетуринский машиностроительный завод \"Вента\"","Да"]
[97,"ЭМКО",7709735135,2010230912,"ООО \"Энергомашкомплекс\"","Да"]
[98,"ОЗТМиТС",7726633119,2010700000,"ОАО \"Опытный завод тугоплавких металлов и твердых сплавов\" (ОАО \"ОЗТМиТС\")","Да"]
[99,"Энергомашспецсталь","Энергомашспецсталь",2010230943,"ОАО \"Энергомашспецсталь\"","Да"]
[100,"Русатом МС",770680549,2010980000,"ЗАО \"Русатом-международная сеть\"","Да"]
[101,"ВНИПИПромтехнологии",7724683379,2010430000,"ОАО \"Ведущий проектно-изыскательский и научно-исследовательский институт промышленной технологии\"","Да"]
[102,"ОДЦ УГР",7024033350,2010780500,"ООО \"Опытно-демонстрационный центр вывода из эксплуатации уран-графитовых ядерных реакторов\"","Да"]
[103,"Трест РСЭМ",6916013425,2010620400,"ООО \"Трест Росспецэнергомонтаж\"","Да"]
[104,"ЖТЭЦ",2458013365,2010551000,"ОАО \"Железногорская ТЭЦ\"","Да"]
[105,"РАОС Войма Ои","РАОС Войма Ои",2010931000,"РАОС Войма Ои","Да"]
[106,"АЭМ-активы",7706785593,6090010000,"ООО «АЭМ-активы»","Да"]
[107,"Атомтехэкспорт",7705408850,2010591900,"ЗАО \"Атомтехэкспорт\" ","Да"]
[108,"Промышленные инновации",7725524660,2010231200,"ЗАО \"Промышленные инновации\"","Да"]
[109,"ВНИИАМ",7743654609,2010390000,"ОАО \"Всероссийский научно-исследовательский и проектно-конструкторский институт атомного энергетического машиностроения (ВНИИАМ)\"","Да"]
[110,"RAOS Project Oy",386588,2010932000,"RAOS Project Oy","Да"]
[111,"Uranium One Holding","8171.63.219",2010021200,"Uranium One Holding N.V.","Да"]
[112,"Uranium",817104549,2010021500,"Uranium One Inc.","Да"]
[113,"INTERNEXCO GmbH (Швейцария)","CHE-255.290.400",2010241000,"INTERNEXCO GmbH (Швейцария)","Да"]
[114,"РАСУ",7734358970,2010990000,"АО \"Русатом Автоматизированные Системы Управления\"","Да"]
[115,"АтомМедТехнолоджи-ДВ",2536279414,2010933000,"ООО \"АтомМедТехнолоджи- Дальний Восток\"","Да"]
[116,"ЦВТД",7726750415,2010911000,"ООО «Центр высокотехнологичной диагностики»","Да"]
[117,"ЯМТ-Снежинск",7459003496,2010912000,"ООО \"Ядерные медицинские технологии-Снежинск\"","Да"]
[118,"АТМ",7734242302,2010230915,"ЗАО \"Атомтрубопроводмонтаж\"","Да"]
[119,"Атомэнергосбыт",7704228075,2010591300,"АО \"АтомЭнергоСбыт\"","Да"]
[120,"Атомэнергопромсбыт",7725828549,2010591320,"АО \"Атомэнергопромсбыт\"","Да"]

{"sheet":"Периметр АЭПК_1_кв_ 2016","index":18,"n_rows":119,"n_cols":6,"rows_kept":119,"cut":false,"hidden":true,"merged":[]}
["№","Сокращенное название","ИНН","Номер ЦФО","Полное название","Включена в Периметр АЭПК по МСФО"]
[1,"INTERNEXCO","HBR 6557",2010241200,"INTERNEXCO GmbH","Да"]
[2,"KWINDER HOLDINGS LIMITED","KWINDER HOLDINGS LIMITED",{"$f":"#REF!","v":{"$error":"#REF!"}},"KWINDER HOLDINGS LIMITED","Да"]
[3,"Mantra Resources Ltd.","Mantra Resources Ltd.",{"$f":"#REF!","v":{"$error":"#REF!"}},"Mantra Resources Limited","Да"]
[4,"ROSATOM FINANCE","ROSATOM FINANCE",2010940000,"ROSATOM FINANCE LTD","Да"]
[5,"ROSATOM Securities Limited","ROSATOM Securities Limited",2010950000,"ROSATOM Securities Limited","Да"]
[6,"Аргон",6454074501,2010240800,"ООО \"Аргон\"","Да"]
[7,"АРМЗ",7706016076,2010020000,"ОАО \"Урановый холдинг АРМЗ\" (\"Атомредметзолото\")","Да"]
[8,"Атомспецтранс",7717609102,2010340000,"ОАО \"Атомспецтранс\" ","Да"]
[9,"Атомтехэнерго",5029106714,2010350000,"ОАО по наладке, совершенствованию эксплуатации и организации управления атомных станций \"Атомтехэнерго\" ","Да"]
[10,"Атомэнергомаш",7706614573,2010230900,"ОАО \"Атомное и энергетическое машиностроение\" (ОАО \"Атомэнергомаш\")","Да"]
[11,"Атомэнергоремонт",5029112443,2010590700,"ОАО \"Атомэнергоремонт\"","Да"]
[12,"АЭМ-лизинг",7706673635,2010230902,"ЗАО \"АЭМ-лизинг\"","Да"]
[13,"АЭМ-технологии",7817311895,2010230904,"ЗАО \"АЭМ-технологии\"","Да"]
[14,"АЭПК",7706664260,2010000000,"ОАО \"Атомный энергопромышленный комплекс\" (ОАО \"Атомэнергопром\")","Да"]
[15,"Аккую Нуклеар","Аккую Нуклеар",2010450108,"Аккую Нуклеар","Да"]
[16,"АЭХК",3801098402,2010370000,"ОАО \"Ангарский электролизный химический комбинат\"","Да"]
[17,"ВНИИАЭС",7721247141,2010591800,"ОАО\"Всеросийский научно-исследовательский институт по эксплуатации атомных электростанций\"","Да"]
[18,"ВНИИНМ",7734598490,2010400000,"ОАО \"Всероссийский научно-исследовательский институт неорганических материалов имени академика А.А.Бочвара\"","Да"]
[19,"ВНИИХТ",7724675770,2010420000,"ОАО \"Ведущий научно-исследовательский институт химической технологии (ВНИИХТ)\"","Да"]
[20,"АТОМПРОЕКТ",7814417371,{"$f":"#REF!","v":{"$error":"#REF!"}},"ОАО «Научно-исследовательский и проектно-конструкторский институт энергетических технологий «АТОМПРОЕКТ»","Да"]
[21,"Гидропресс",5036092340,2010710000,"ОАО \"Ордена Трудового Красного Знамени и ордена труда ЧССР - опытное конструкторское бюро \"ГИДРОПРЕСС\"","Да"]
[22,"Гиредмет",7706699062,2010470000,"ОАО \"Государственный научно-исследовательский проектный институт редкометаллической промышленности \"Гиредмет\"","Да"]
[23,"Гринатом",7706729736,2010900000,"ЗАО \"Гринатом\"","Да"]
[24,"ГСПИ",7708697977,2010500000,"ОАО \"Государственный специализированный проектный институт\" (ОАО \"ГСПИ\")","Да"]
[25,"Далур",4506004751,2010230800,"ЗАО \"Далур\"","Да"]
[26,"ДЕЗ",7706730001,2010890000,"ОАО \"Дирекция Единого Заказа оборудования для АЭС\"","Да"]
[27,"АРМЗ-Сервис",7708671295,{"$f":"#REF!","v":{"$error":"#REF!"}},"ООО \"АРМЗ - сервис\" ","Да"]
[28,"ЗАЭС",7701763846,2010450000,"ОАО \"Всероссийское производственное объединение \"Зарубежатомэнергострой\" (ОАО \"ВПО \"ЗАЭС\")","Да"]
[29,"ЗиО-Подольск",5036040729,2010230918,"ОАО \"Машиностроительный завод \"ЗиО Подольск\"","Да"]
[30,"ЗИОМАР",5036039258,2010230917,"ОАО \"Инжиниринговая компания \"ЗИОМАР\"","Да"]
[31,"ЗУКМ",7450045935,2010241600,"ООО \"Завод углеродных и композиционных материалов\"","Да"]
[32,"ИЦ РГЦ",7706689000,2010242300,"ОАО \"Инжиниринговый центр \"Русская газовая центрифуга\"","Да"]
[33,"КМЗ",3305004397,2010240600,"ОАО \"Ковровский механический завод\"","Да"]
[34,"Краун",7705833438,2010241100,"ООО \"Краун\"","Да"]
[35,"КЦ",7715020463,2010231300,"ОАО\"Коммерческий центр\"","Да"]
[36,"МЗП",7724558466,2010100000,"ОАО \"Московский завод полиметаллов\"","Да"]
[37,"МСЗ",5053005918,2010230100,"ОАО \"Машиностроительный завод\"","Да"]
[38,"НЗХК",5410114184,2010230200,"ОАО \"Новосибирский завод химконцентратов\"","Да"]
[39,"НИАЭП",5260214123,2010620000,"ОАО Нижегородская инжиниринговая компания \"Атомэнергопроект\" (ОАО \"НИАЭП\")","Да"]
[40,"НИИТФА",7726606316,2010410000,"ОАО \"Научно-исследовательский институт технической физики и автоматизации (НИИТФА)\"","Да"]
[41,"НИКИМТ-Атомстрой",7715719854,2010550000,"ОАО \"НИКИМТ \"Атомстрой\"","Да"]
[42,"НИКИЭТ",7708698473,2010650000,"ОАО \"Научно-исследовательский и конструкторский институт энерготехники имени Н.А. Доллежаля\"","Да"]
[43,"НПК ХПИ",7706688991,2010242200,"ОАО \"НПК \"Химпроминжиниринг\"","Да"]
[44,"ОИК",7706751361,2010910000,"ООО \"Объединенная инновационная корпорация\"","Да"]
[45,"ОК РСК",7706704146,2010860000,"ОАО \"Объединенная компания “Разделительно-сублиматный комплекс”","Да"]
[46,"ОКБМ",5259077666,2010720000,"ОАО \"Опытное Конструкторское Бюро Машиностроения имени И.И. Африкантова\"","Да"]
[47,"ППГХО",7530000048,2010230400,"ОАО \"Приаргунское производственное горно-химическое объединение\"","Да"]
[48,"ПСР",7721699740,2010592000,"ОАО \"Производственная система \"ПСР\"","Да"]
[49,"РБМ",7713190205,2010020600,"ЗАО \"РУСБУРМАШ\"","Да"]
[50,"Росэнергоатом",7721632827,2010590000,"ОАО \"Российский концерн по производству электрической и тепловой энергии на атомных станциях \"Росэнергоатом\"","Да"]
[51,"REIN ",7706759586,2010930000,"АО «Русатом Энерго Интернешнл»","Да"]
[52,"РЭМКО",5036076690,2010230911,"ЗАО \"Русская ЭнергоМашиностроительная Компания\"","Да"]
[53,"Сайпрус","Сайпрус",2010230916,"ATOMENERGOMASH CYPRUS LIMITED ЧК \"Атомэнергомаш Сайпрус Лимитед\"","Да"]
[54,"СвердНИИхиммаш",6664003909,2010200000,"ОАО \"Свердловский научно-исследовательский институт химического машиностроения (\"СвердНИИхиммаш\")\"","Да"]
[55,"СНИИП",7734592593,2010660000,"ОАО \"Специализированный научно-исследовательский институт приборостроения\" (ОАО \"СНИИП\")","Да"]
[56,"СХК",7024029499,2010780000,"ОАО \"Сибирский химический комбинат\"","Да"]
[57,"ТВЭЛ",7706123550,2010230000,"ОАО \"ТВЭЛ\"","Да"]
[58,"ТВЭЛ-Строй",7726523814,2010231100,"ЗАО \"ТВЭЛ-СТРОИ\"","Да"]
[59,"ТЕНЕКС-Сервис",7706604582,2010240100,"ЗАО \"ТЕНЕКС-Сервис\"","Да"]
[60,"Техснабэкспорт",7706039242,2010240000,"ОАО \"Техснабэкспорт\"","Да"]
[61,"Точмаш",3329051460,2010440000,"ОАО \"Владимирское производственное объединение \"Точмаш\"","Да"]
[62,"ТЦ ТЕНЕКС",7706609414,2010240200,"ЗАО \"Технологический центр \"ТЕНЕКС\"","Да"]
[63,"УУГ",7706641432,2010020100,"АО \"Ураниум Уан Груп\"","Да"]
[64,"УЗГЦ",6629020796,2010241800,"ООО \"Уральский завод газовых центрифуг\"","Да"]
[65,"УЭХК",6629022962,2010800000,"ОАО \"Уральский электрохимический комбинат\"","Да"]
[66,"Хиагда","0302001219",2010230700,"ОАО \"Хиагда\"","Да"]
[67,"ЦентрАтом",7706723156,2010870000,"ОАО \"Центр управления непрофильными активами атомной отрасли\"","Да"]
[68,"ЦКБМ",7806394392,2010820000,"ОАО \"Центральное конструкторское бюро машиностроения\"","Да"]
[69,"ЧМЗ",1829008035,2010230300,"ОАО \"Чепецкий механический завод\"","Да"]
[70,"ЭГМК",1402047530,2010020400,"ЗАО \"Эльконский горно-металлургический комбинат\"","Да"]
[71,"Энергоспецмонтаж",7718083574,2010270000,"ОАО \"Энергоспецмонтаж\"","Да"]
[72,"ЭНИЦ",5035037441,2010830000,"ОАО \"Электрогорский научно-исследовательский центр по безопасности атомных электростанций\"","Да"]
[73,"ЭХЗ",2453013555,2010840000,"ОАО \"Производственное объединение \"Электрохимический завод\"","Да"]
[74,"НЗХК-Инструмент",5410021660,2010230207,"ООО \"НЗХК-Инструмент\"","Да"]
[75,"НЗХК-Энергия",5410028351,2010230210,"ООО \"НЗХК-Энергия\"","Да"]
[76,"Искра",2453014750,2010230001,"ООО \"Искра\"","Да"]
[77,"ЭЛЕМАШ-ТЭК",5053055010,2010230110,"ООО \"ЭЛЕМАШ-ТЭК\"","Да"]
[78,"Экоальянс",6629026420,2010800800,"ООО \"Экоальянс\"","Да"]
[79,"Тепловодоканал",1837004370,2010230306,"ООО \"Тепловодоканал\"","Да"]
[80,"Уралприбор",6629020789,2010242000,"ООО \"Новоуральский приборный завод\"","Да"]
[81,"ННКЦ",6629020806,2010241900,"ООО \"Новоуральский научно-конструкторский центр\"","Да"]
[82,"Точмаш-авто",3329064483,2010440300,"ООО \"Точмаш-авто\"","Да"]
[83,"EMSS Holdings","EMSS Holdings",2010230948,"EMSS Holdings Limited (ЭМСС ХОЛДИНГЗ ЛИМИТЕД)","Да"]
[84,"UMP Trading","UMP Trading",2010230952,"UMP Trading (Швейцария)","Да"]
[85,"ЦНИИТМАШ",7723564851,2010140000,"ОАО Государственный научный центр РФ \"Научно-производственное объединение \"Центральный научно-исследовательский институт технологии машиностроения\"","Да"]
[86,"МСЗ-М",5053066861,2010230115,"ООО \"МСЗ-МЕХАНИКА\"","Да"]
[87,"АЛАБУГА-ВОЛОКНО",1646031132,2010242201,"ООО \"Алабуга-Волокно\"","Да"]
[88,"Русатом Сервис",7705966318,2010592200,"ЗАО \"Русатом Сервис\"","Да"]
[89,"НИИГрафит",7720723422,2010630000,"ОАО \"Государственный научно-исследовательский институт конструкционных материалов на основе графита \"НИИграфит\"","Да"]
[90,"Красная Звезда",7726682003,2010600000,"ОАО \"Красная Звезда\"","Да"]
[91,"Молния",7721730486,2010740000,"ОАО \"Производственное объединение \"Машиностроительный завод \"Молния\"","Да"]
[92,"Балтийская АЭС",3904612644,2010592100,"ОАО \"Балтийская АЭС\"","Да"]
[93,"УДК Горное",7536087140,2010020200,"ЗАО \"Уранодобывающая компания \"Горное\"","Да"]
[94,"СЕТЕС",7024037370,2010550001,"ОАО\"Северские теплосистемы\"","Да"]
[95,"НИАЭП-Сервис",6916015670,2010620200,"ООО \"НИАЭП-Сервис\"","Да"]
[96,"Вента",6624002377,2010050000,"ОАО \"Нижнетуринский машиностроительный завод \"Вента\"","Да"]
[97,"ЭМКО",7709735135,2010230912,"ООО \"Энергомашкомплекс\"","Да"]
[98,"ОЗТМиТС",7726633119,2010700000,"ОАО \"Опытный завод тугоплавких металлов и твердых сплавов\" (ОАО \"ОЗТМиТС\")","Да"]
[99,"Энергомашспецсталь","Энергомашспецсталь",2010230943,"ОАО \"Энергомашспецсталь\"","Да"]
[100,"Русатом МС",770680549,2010980000,"ЗАО \"Русатом-международная сеть\"","Да"]
[101,"ВНИПИПромтехнологии",7724683379,2010430000,"ОАО \"Ведущий проектно-изыскательский и научно-исследовательский институт промышленной технологии\"","Да"]
[102,"ОДЦ УГР",7024033350,2010780500,"ООО \"Опытно-демонстрационный центр вывода из эксплуатации уран-графитовых ядерных реакторов\"","Да"]
[103,"Трест РСЭМ",6916013425,2010620400,"ООО \"Трест Росспецэнергомонтаж\"","Да"]
[104,"ЖТЭЦ",2458013365,2010551000,"ОАО \"Железногорская ТЭЦ\"","Да"]
[105,"РАОС Войма Ои","РАОС Войма Ои",2010931000,"РАОС Войма Ои","Да"]
[106,"АЭМ-активы",7706785593,6090010000,"ООО «АЭМ-активы»","Да"]
[107,"Атомтехэкспорт",7705408850,2010591900,"ЗАО \"Атомтехэкспорт\" ","Да"]
[108,"Промышленные инновации",7725524660,2010231200,"ЗАО \"Промышленные инновации\"","Да"]
[109,"ВНИИАМ",7743654609,2010390000,"ОАО \"Всероссийский научно-исследовательский и проектно-конструкторский институт атомного энергетического машиностроения (ВНИИАМ)\"","Да"]
[110,"RAOS Project Oy",386588,2010932000,"RAOS Project Oy","Да"]
[111,"Uranium One Holding","8171.63.219",2010021200,"Uranium One Holding N.V.","Да"]
[112,"Uranium",817104549,2010021500,"Uranium One Inc.","Да"]
[113,"INTERNEXCO GmbH (Швейцария)","CHE-255.290.400",2010241000,"INTERNEXCO GmbH (Швейцария)","Да"]
[114,"РАСУ",7734358970,2010990000,"АО \"Русатом Автоматизированные Системы Управления\"","Да"]
[115,"АтомМедТехнолоджи-ДВ",2536279414,2010933000,"ООО \"АтомМедТехнолоджи- Дальний Восток\"","Да"]
[116,"ЦВТД",7726750415,2010911000,"ООО «Центр высокотехнологичной диагностики»","Да"]
[117,"ЯМТ-Снежинск",7459003496,2010912000,"ООО \"Ядерные медицинские технологии-Снежинск\"","Да"]
[118,"АТМ",7734242302,2010230915,"ЗАО \"Атомтрубопроводмонтаж\"","Да"]

{"sheet":"Эффект доли 2015","index":19,"n_rows":481,"n_cols":53,"rows_kept":481,"cut":false,"hidden":true,"merged":[]}
[]
[]
[]
[]
[]
[]
[null,null,null,null,null,null,null,1,{"$f":"H7+1","v":2},{"$f":"I7+1","v":3},4,5,6,7,8,9,10,11,12,13,14,15,16,17,18,19,20,21,22,23,24,25,26,27,28,29,30,31,32,33,34,35,36,37,38,39,40]
[7,"принадлежность","кодировка","ОПФС","Название предприятия","Название предприятия",null,"Сокращенное название предприятия","Головная организация","Доля владения","Статус доли: 0- не подтв.владение в пред.отч.периоде(квартале), 1-данные по сведениям о ДФВ. 2-данные из выписок и справок из реестров акционеров. 3- данные ДПКР из их сводного реестра. 4- нет данных о доле владения от организации владельца, 5-поправлено по замечаниям аудиторов. 6- новые (на конец отчетного периода по сведениям ДФВ)","Организация","Доля владения","Статус доли: 0- не подтв.владение в пред.отч.периоде(квартале), 1-данные по сведениям о ДФВ. 2-данные из выписок и справок из реестров акционеров. 3- данные ДПКР из их сводного реестра. 4- нет данных о доле владения от организации владельца, 5-поправлено по замечаниям аудиторов. 6- новые (на конец отчетного периода по сведениям ДФВ)","Организация","Доля владения","Статус доли: 0- не подтв.владение в пред.отч.периоде(квартале), 1-данные по сведениям о ДФВ. 2-данные из выписок и справок из реестров акционеров. 3- данные ДПКР из их сводного реестра. 4- нет данных о доле владения от организации владельца, 5-поправлено по замечаниям аудиторов. 6- новые (на конец отчетного периода по сведениям ДФВ)","Организация","Доля владения","Статус доли: 0- не подтв.владение в пред.отч.периоде(квартале), 1-данные по сведениям о ДФВ. 2-данные из выписок и справок из реестров акционеров. 3- данные ДПКР из их сводного реестра. 4- нет данных о доле владения от организации владельца, 5-поправлено по замечаниям аудиторов. 6- новые (на конец отчетного периода по сведениям ДФВ)","Организация","Доля владения","Статус доли: 0- не подтв.владение в пред.отч.периоде(квартале), 1-данные по сведениям о ДФВ. 2-данные из выписок и справок из реестров акционеров. 3- данные ДПКР из их сводного реестра. 4- нет данных о доле владения от организации владельца, 5-поправлено по замечаниям аудиторов. 6- новые (на конец отчетного периода по сведениям ДФВ)","Организация","Доля владения",null,"Организация","Доля владения",null,"Организация","Доля владения",null,"Организация","Доля владения",null,"Итого доля организаций Росатома","Сторонние организации","Доля 100% проверка","Расчет доли ГК  для периметра ГК Росатом 1 полгодие 2011","Расчет доли ГК  для периметра ГК Росатом",null,"9 мес. 2011 Группа консолидации ГК Росатом ","Доля АЭПК","Входят в периметр \nГК Росатом","Эффективная доля владения для консолидации \nГК Росатом","Входят в периметр \nАЭПК","Эффективная доля владения для консолидации \nАЭПК","Организация","Доля владения","Статус доли: 0- не подтв.владение в пред.отч.периоде(квартале), 1-данные по сведениям о ДФВ. 2-данные из выписок и справок из реестров акционеров. 3- данные ДПКР из их сводного реестра. 4- нет данных о доле владения от организации владельца, 5-поправлено по замечаниям аудиторов. 6- новые (на конец отчетного периода по сведениям ДФВ)","Организация","Доля владения","Прямая доля "]
[1,null,null,null,"Likuyu Resources Limited",null,null,"Likuyu Resources Limited","Uranium One Exploration Pty Ltd",0.99990000000000001,null,null,null,null,null,null,null,null,null,null,null,null,null,null,null,null,null,null,null,null,null,null,null,null,null,{"$f":"J9+M9+P9+S9+V9+Y9+AB9+AE9+AH9","v":0.99990000000000001},{"$f":"1-AJ9","v":9.9999999999988987E-5},{"$f":"AJ9+AK9","v":1},null,null,null,null,null,null,{"$f":"IF(I9=\"ГК Росатом\",J9,J9*SUMIF($H:$H,I9,$AS:$AS))+IF(L9=\"ГК Росатом\",M9*100%,M9*SUMIF($H:$H,L9,$AS:$AS))+IF(O9=\"РФ в лице ГК Росатом\",P9*100%,P9*SUMIF($H:$H,O9,$AS:$AS))+S9*SUMIF($H:$H,R9,$AS:$AS)+V9*SUMIF($H:$H,U98,$AS:$AS)+Y9*SUMIF($H:$H,X9,$AS:$AS)+AB9*SUMIF($H:$H,AA9,$AS:$AS)+AE9*SUMIF($H:$H,AD9,$AS:$AS)","v":0.9998590963884969},null,{"$f":"IF(I9=\"АЭПК\",J9,J9*SUMIF($H:$H,I9,$AU:$AU))+IF(L9=\"РФ в лице ГК Росатом\",0,M9*SUMIF($H:$H,$L9,$AU:$AU))+IF(O9=\"РФ в лице ГК Росатом\",0,P9*SUMIF($H:$H,O9,$AU:$AU))+S9*SUMIF($H:$H,R9,$AU:$AU)+V9*SUMIF($H:$H,U9,$AU:$AU)+Y9*SUMIF($H:$H,X9,$AU:$AU)+AB9*SUMIF($H:$H,AA9,$AU:$AU)+AE9*SUMIF($H:$H,AD9,$AU:$AU)","v":0.98787712710063791},null,null,null,null,null,{"$f":"J9+M9+P9+S9+V9+Y9+AB9+AE9+AH9","v":0.99990000000000001}]
[2,null,null,null,"Mantra East Africa Limited",null,null,"Mantra East Africa Limited","Mantra Resources Ltd.",1,null,null,null,null,null,null,null,null,null,null,null,null,null,null,null,null,null,null,null,null,null,null,null,null,null,{"$f":"J10+M10+P10+S10+V10+Y10+AB10+AE10+AH10","v":1},{"$f":"1-AJ10","v":0},{"$f":"AJ10+AK10","v":1},null,null,null,null,null,null,{"$f":"IF(I10=\"ГК Росатом\",J10,J10*SUMIF($H:$H,I10,$AS:$AS))+IF(L10=\"ГК Росатом\",M10*100%,M10*SUMIF($H:$H,L10,$AS:$AS))+IF(O10=\"РФ в лице ГК Росатом\",P10*100%,P10*SUMIF($H:$H,O10,$AS:$AS))+S10*SUMIF($H:$H,R10,$AS:$AS)+V10*SUMIF($H:$H,U99,$AS:$AS)+Y10*SUMIF($H:$H,X10,$AS:$AS)+AB10*SUMIF($H:$H,AA10,$AS:$AS)+AE10*SUMIF($H:$H,AD10,$AS:$AS)","v":0.99995909229772661},null,{"$f":"IF(I10=\"АЭПК\",J10,J10*SUMIF($H:$H,I10,$AU:$AU))+IF(L10=\"РФ в лице ГК Росатом\",0,M10*SUMIF($H:$H,$L10,$AU:$AU))+IF(O10=\"РФ в лице ГК Росатом\",0,P10*SUMIF($H:$H,O10,$AU:$AU))+S10*SUMIF($H:$H,R10,$AU:$AU)+V10*SUMIF($H:$H,U10,$AU:$AU)+Y10*SUMIF($H:$H,X10,$AU:$AU)+AB10*SUMIF($H:$H,AA10,$AU:$AU)+AE10*SUMIF($H:$H,AD10,$AU:$AU)","v":0.98797592469310724},null,null,null,null,null,{"$f":"J10+M10+P10+S10+V10+Y10+AB10+AE10+AH10","v":1}]
[3,null,null,null,"IES-EnergoStroyEngineering S.A.R.L.",null,null,"IES-EnergoStroyEngineering S.A.R.L.","Сайпрус",0.51,null,null,null,null,null,null,null,null,null,null,null,null,null,null,null,null,null,null,null,null,null,null,null,null,null,0.51,0.49,1,null,null,null,null,null,null,0.51,null,0.51,null,null,null,null,null,0.51]
[4,null,null,null,"Компания  ЦАУ ",null,null,"Компания  ЦАУ ","ППГХО",0.21,null,null,null,null,null,null,null,null,null,null,null,null,null,null,null,null,null,null,null,null,null,null,null,null,null,0.21,0.79,1,null,null,null,null,null,null,0.199785306084,null,0.19723858146299997,null,null,null,null,null,0.21]
[5,null,null,null,"АПМ",null,null,"АПМ","Энергоатоминвест",0.84670000000000001,null,null,null,null,null,null,null,null,null,null,null,null,null,null,null,null,null,null,null,null,null,null,null,null,null,0.84670000000000001,0.15329999999999999,1,null,null,null,null,null,null,0.84670000000000001,null,0.77562715529999993,null,null,null,null,null,0.84670000000000001]
[6,null,null,null,"АРГК",null,null,"АРГК","АРМЗ",0,null,null,null,null,null,null,null,null,null,null,null,null,null,null,null,null,null,null,null,null,null,null,null,null,null,0,1,1,null,null,null,null,null,null,0,null,0,null,null,null,null,null,0]
[7,null,null,null,"Rosatom Central Europe s.r.o.",null,null,"Rosatom Central Europe s.r.o.","ЧУ РМС",1,null,null,null,null,null,null,null,null,null,null,null,null,null,null,null,null,null,null,null,null,null,null,null,null,null,1,0,1,null,null,null,null,null,null,0,null,0,null,null,null,null,null,1]
[8,null,null,null,"REVISS UK",null,null,"REVISS UK","Reviss Servis Limited",1,null,null,null,null,null,null,null,null,null,null,null,null,null,null,null,null,null,null,null,null,null,null,null,null,null,1,0,1,null,null,null,null,null,null,0.7,null,0.2,null,null,null,null,null,1]
[9,null,null,null,"SELMI",null,null,"SELMI","ЭХЗ",0.51959999999999995,null,null,null,null,null,null,null,null,null,null,null,null,null,null,null,null,null,null,null,null,null,null,null,null,null,0.51959999999999995,0.48040000000000005,1,null,null,null,null,null,null,0.51959999999999995,null,0.51959999999999995,null,null,null,null,null,0.51959999999999995]
[10,null,null,null,"TRADEWILL LIMITED",null,null,"TRADEWILL LIMITED","Техснабэкспорт",1,null,null,null,null,null,null,null,null,null,null,null,null,null,null,null,null,null,null,null,null,null,null,null,null,null,1,0,1,null,null,null,null,null,null,1,null,1,null,null,null,null,null,1]
[11,null,null,null,"Tri Alpha Energy, Inc.",null,null,"Tri Alpha Energy, Inc.","РР-Энергия",5.6800000000000003E-2,null,null,null,null,null,null,null,null,null,null,null,null,null,null,null,null,null,null,null,null,null,null,null,null,null,5.6800000000000003E-2,0.94320000000000004,1,null,null,null,null,null,null,2.8400000000000002E-2,null,2.8400000000000002E-2,null,null,null,null,null,5.6800000000000003E-2]
[12,null,null,null,"PASEK - stavebni firma spol. s.r.o.",null,null,"PASEK - stavebni firma spol. s.r.o.","Chladici veze Praha, a.s",1,null,null,null,null,null,null,null,null,null,null,null,null,null,null,null,null,null,null,null,null,null,null,null,null,null,1,0,1,null,null,null,null,null,null,0.51,null,0.51,null,null,null,null,null,1]
[13,null,null,null,"HVCom s.r.o.",null,null,"HVCom s.r.o.","Chladici veze Praha, a.s",1,null,null,null,null,null,null,null,null,null,null,null,null,null,null,null,null,null,null,null,null,null,null,null,null,null,1,0,1,null,null,null,null,null,null,0.51,null,0.51,null,null,null,null,null,1]
[14,null,null,null,"Алвэл",null,null,"Алвэл","ТВЭЛ",0.5,null,null,null,null,null,null,null,null,null,null,null,null,null,null,null,null,null,null,null,null,null,null,null,null,null,0.5,0.5,1,null,null,null,null,null,null,0.5,null,0.5,null,null,null,null,null,0.5]
[15,null,null,null," ООО \"Техэнерго-ЭХП\" ",null,null," ООО \"Техэнерго-ЭХП\" ","ЭХП",0.5,null,null,null,null,null,null,null,null,null,null,null,null,null,null,null,null,null,null,null,null,null,null,null,null,null,0.5,0.5,1,null,null,null,null,null,null,0.5,null,0,null,null,null,null,null,0.5]
[16,null,null,null,"АТОМЭНЕРГОПРОМ (Киев)",null,null,"АТОМЭНЕРГОПРОМ (Киев)","Сайпрус",0.5,null,null,null,null,null,null,null,null,null,null,null,null,null,null,null,null,null,null,null,null,null,null,null,null,null,0.5,0.5,1,null,null,null,null,null,null,0.5,null,0.5,null,null,null,null,null,0.5]
[17,null,null,null,"ЗПЯТ",null,null,"ЗПЯТ","ТВЭЛ",0.5,null,null,null,null,null,null,null,null,null,null,null,null,null,null,null,null,null,null,null,null,null,null,null,null,null,0.5,0.5,1,null,null,null,null,null,null,0.5,null,0.5,null,null,null,null,null,0.5]
[18,null,null,null,"ООО «РОСАТОМ ВЕ»",null,null,"ООО «РОСАТОМ ВЕ»","ЧУ РМС",0.99999899999999997,null,null,null,null,null,null,null,null,null,null,null,null,null,null,null,null,null,null,null,null,null,null,null,null,null,0.99999899999999997,1.0000000000287557E-6,1,null,null,null,null,null,null,0,null,0,null,null,null,null,null,0.99999899999999997]
[19,null,null,null,"РОСАТОМ ЛАТИНСКАЯ АМЕРИКА",null,null,"РОСАТОМ ЛАТИНСКАЯ АМЕРИКА","ЧУ РМС",0.999,null,null,null,null,null,null,null,null,null,null,null,null,null,null,null,null,null,null,null,null,null,null,null,null,null,0.999,1.0000000000000009E-3,1,null,null,null,null,null,null,0,null,0,null,null,null,null,null,0.999]
[20,null,null,null,"REVISS Inc",null,null,"REVISS Inc","REVISS UK",1,null,null,null,null,null,null,null,null,null,null,null,null,null,null,null,null,null,null,null,null,null,null,null,null,null,1,0,1,null,null,null,null,null,null,0.7,null,0.2,null,null,null,null,null,1]
[21,null,null,null,"REUNITY BV",null,null,"REUNITY BV","REIN",1,null,null,null,null,null,null,null,null,null,null,null,null,null,null,null,null,null,null,null,null,null,null,null,null,null,1,0,1,null,null,null,null,null,null,1,null,0.55866899999999997,null,null,null,null,null,1]
[22,null,null,null,"FAIR GmbH (ФАИР)",null,null,"FAIR GmbH (ФАИР)","ГК Росатом",0.17448,null,null,null,null,null,null,null,null,null,null,null,null,null,null,null,null,null,null,null,null,null,null,null,null,null,0.17448,0.82552000000000003,1,null,null,null,null,null,null,0.17448,null,0,null,null,null,null,null,0.17448]
[23,null,null,null,"Изотоп техно",null,null,"Изотоп техно","НИИАР",0.51,null,null,null,null,null,null,null,null,null,null,null,null,null,null,null,null,null,null,null,null,null,null,null,null,null,0.51,0.49,1,null,null,null,null,null,null,0.51,null,0.25409985000000002,null,null,null,null,null,0.51]
[24,null,null,null,"Likuyu Resources Limited",null,null,"Likuyu Resources Limited","Cheetah Resources s.a.r.l.",1E-4,null,null,null,null,null,null,null,null,null,null,null,null,null,null,null,null,null,null,null,null,null,null,null,null,null,1E-4,0.99990000000000001,1,null,null,null,null,null,null,9.9997823075288655E-5,null,9.9360132561543649E-5,null,null,null,null,null,1E-4]
[25,null,null,null,"Сангтуд ГЭС",null,null,"Сангтуд ГЭС","ГК Росатом",0.60126999999999997,null,null,null,null,null,null,null,null,null,null,null,null,null,null,null,null,null,null,null,null,null,null,null,null,null,0.60126999999999997,0.39873000000000003,1,null,null,null,null,null,null,0.60126999999999997,null,0,null,null,null,null,null,0.60126999999999997]
[26,null,null,null,"Аккую Нуклеар",null,null,"Аккую Нуклеар","REIN",0.74914563999999995,null,"Росэнергоатом",0.21948455,null,"АСЭ",2.267011E-2,null,"Атомтехэнерго",2.4624E-4,null,"Атомэнергоремонт",2.4624E-4,null,null,null,null,null,null,null,null,null,null,null,null,null,0.99179277999999982,8.2072200000001816E-3,1,null,null,null,null,null,null,0.99154653999999987,null,0.62003638367792979,null,null,null,null,null,0.99179277999999982]
[27,null,null,null,"OmegaCorp Minerais Limitada",null,null,"OmegaCorp Minerais Limitada","Namtumbo Resources Pty Ltd",0.99,null,null,null,null,null,null,null,null,null,null,null,null,null,null,null,null,null,null,null,null,null,null,null,null,null,0.99,1.0000000000000009E-2,1,null,null,null,null,null,null,0.98995950137474931,null,0.97809616544617617,null,null,null,null,null,0.99]
[28,null,null,null,"Rosatom France SARL",null,null,"Rosatom France SARL","ЧУ РМС",1,null,null,null,null,null,null,null,null,null,null,null,null,null,null,null,null,null,null,null,null,null,null,null,null,null,1,0,1,null,null,null,null,null,null,0,null,0,null,null,null,null,null,1]
[29,null,null,null,"Uranium One Holding N.V.",null,null,"Uranium One Holding N.V.","УУГ",0.67527999999999999,null,"АРМЗ",0.32472000000000001,null,"АтомКапитал",0,null,null,null,null,null,null,null,null,null,null,null,null,null,null,null,null,null,null,null,1,0,1,null,null,null,null,null,null,0.99997712067583655,null,0.99327503864984545,null,null,null,null,null,1]
[30,null,null,null,"Mantra Resources Ltd.",null,null,"Mantra Resources Ltd.","АРМЗ",0.8609,null,"Uranium",0.1391,null,null,null,null,null,null,null,null,null,null,null,null,null,null,null,null,null,null,null,null,null,null,1,0,1,null,null,null,null,null,null,0.99995909229772661,null,0.98797592469310724,null,null,null,null,null,1]
[31,null,null,null,"Uranium One Friesland Cooperatief",null,null,"Uranium One Friesland Cooperatief","Uranium",0.99990000000000001,null,null,null,null,null,null,null,null,null,null,null,null,null,null,null,null,null,null,null,null,null,null,null,null,null,0.99990000000000001,9.9999999999988987E-5,1,null,null,null,null,null,null,0.99987823292981126,null,0.99350196548287495,null,null,null,null,null,0.99990000000000001]
[32,null,null,null,"Uranium One Exploration Pty Ltd",null,null,"Uranium One Exploration Pty Ltd","Mantra Resources Ltd.",1,null,null,null,null,null,null,null,null,null,null,null,null,null,null,null,null,null,null,null,null,null,null,null,null,null,1,0,1,null,null,null,null,null,null,0.99995909229772661,null,0.98797592469310724,null,null,null,null,null,1]
[33,null,null,null,"Namtumbo Resources Pty Ltd",null,null,"Namtumbo Resources Pty Ltd","Uranium One Exploration Pty Ltd",1,null,null,null,null,null,null,null,null,null,null,null,null,null,null,null,null,null,null,null,null,null,null,null,null,null,1,0,1,null,null,null,null,null,null,0.99995909229772661,null,0.98797592469310724,null,null,null,null,null,1]
[34,null,null,null,"Гуанья",null,null,"Гуанья","Маяк",0.5,null,null,null,null,null,null,null,null,null,null,null,null,null,null,null,null,null,null,null,null,null,null,null,null,null,0.5,0.5,1,null,null,null,null,null,null,0.5,null,0,null,null,null,null,null,0.5]
[35,null,null,null,"ПЗМ-Сервис",null,null,"ПЗМ-Сервис","АЭМ-технологии",1,null,null,null,null,null,null,null,null,null,null,null,null,null,null,null,null,null,null,null,null,null,null,null,null,null,1,0,1,null,null,null,null,null,null,0.99999800000000005,null,0.99999800000000005,null,null,null,null,null,1]
[36,null,null,null,"ПЗМ-ТНП",null,null,"ПЗМ-ТНП","АЭМ-технологии",1,null,null,null,null,null,null,null,null,null,null,null,null,null,null,null,null,null,null,null,null,null,null,null,null,null,1,0,1,null,null,null,null,null,null,0.99999800000000005,null,0.99999800000000005,null,null,null,null,null,1]
[37,null,null,null,"ПЗМ",null,null,"ПЗМ","АЭМ-технологии",1,null,null,null,null,null,null,null,null,null,null,null,null,null,null,null,null,null,null,null,null,null,null,null,null,null,1,0,1,null,null,null,null,null,null,0.99999800000000005,null,0.99999800000000005,null,null,null,null,null,1]
[38,null,null,null,"Лунное",null,null,"Лунное","АРМЗ",0.50029999999999997,null,null,null,null,null,null,null,null,null,null,null,null,null,null,null,null,null,null,null,null,null,null,null,null,null,0.50029999999999997,0.49970000000000003,1,null,null,null,null,null,null,0.50027798680000002,null,0.49382962009999998,null,null,null,null,null,0.50029999999999997]
[39,null,null,null,"ЭГМК",null,null,"ЭГМК","АРМЗ",1,null,null,null,null,null,null,null,null,null,null,null,null,null,null,null,null,null,null,null,null,null,null,null,null,null,1,0,1,null,null,null,null,null,null,0.99995600000000007,null,0.98706700000000003,null,null,null,null,null,1]
[40,null,null,null,"ЭГМК-проект",null,null,"ЭГМК-проект","АРМЗ",4.0000000000000003E-5,null,null,null,null,"РФ в лице ГК Росатом",0.99992499999999995,null,null,null,null,null,null,null,null,null,null,null,null,null,null,null,null,null,null,null,0.99996499999999999,3.5000000000007248E-5,1,null,null,null,null,null,null,0.99996499823999996,null,3.9482680000000006E-5,null,null,null,null,null,0.99996499999999999]
[41,null,null,null,"КРЮЯ",null,null,"КРЮЯ","АРМЗ",0.251,null,null,null,null,null,null,null,null,null,null,null,null,null,null,null,null,null,null,null,null,null,null,null,null,null,0.251,0.749,1,null,null,null,null,null,null,0.25098895600000004,null,0.24775381700000002,null,null,null,null,null,0.251]
[42,null,null,null,"АЛАБУГА-ВОЛОКНО",null,null,"АЛАБУГА-ВОЛОКНО","НПК ХПИ",1,null,null,null,null,null,null,null,null,null,null,null,null,null,null,null,null,null,null,null,null,null,null,null,null,null,1,0,1,null,null,null,null,null,null,1,null,0.59175999999999995,null,null,null,null,null,1]
[43,null,null,null,"ЧМЗ",null,null,"ЧМЗ","ТВЭЛ",1,null,null,null,null,null,null,null,null,null,null,null,null,null,null,null,null,null,null,null,null,null,null,null,null,null,1,0,1,null,null,null,null,null,null,1,null,1,null,null,null,null,null,1]
[44,null,null,null,"Иж-Астро",null,null,"Иж-Астро","ЧМЗ",2.4119000000000002E-2,null,null,null,null,null,null,null,null,null,null,null,null,null,null,null,null,null,null,null,null,null,null,null,null,null,2.4119000000000002E-2,0.975881,1,null,null,null,null,null,null,2.4119000000000002E-2,null,2.4119000000000002E-2,null,null,null,null,null,2.4119000000000002E-2]
[45,null,null,null,"УАТ",null,null,"УАТ","СХК",1,null,null,null,null,null,null,null,null,null,null,null,null,null,null,null,null,null,null,null,null,null,null,null,null,null,1,0,1,null,null,null,null,null,null,0.95509999999999995,null,0.88149299999999997,null,null,null,null,null,1]
[46,null,null,null,"ГК Глазов",null,null,"ГК Глазов","ЧМЗ",1,null,null,null,null,null,null,null,null,null,null,null,null,null,null,null,null,null,null,null,null,null,null,null,null,null,1,0,1,null,null,null,null,null,null,1,null,1,null,null,null,null,null,1]
[47,null,null,null,"СП Чепца",null,null,"СП Чепца","ЧМЗ",1,null,null,null,null,null,null,null,null,null,null,null,null,null,null,null,null,null,null,null,null,null,null,null,null,null,1,0,1,null,null,null,null,null,null,1,null,1,null,null,null,null,null,1]
[48,null,null,null,"Энергоремонт",null,null,"Энергоремонт","ЧМЗ",1,null,null,null,null,null,null,null,null,null,null,null,null,null,null,null,null,null,null,null,null,null,null,null,null,null,1,0,1,null,null,null,null,null,null,1,null,1,null,null,null,null,null,1]
[49,null,null,null,"Тепловодоканал",null,null,"Тепловодоканал","ЧМЗ",1,null,null,null,null,null,null,null,null,null,null,null,null,null,null,null,null,null,null,null,null,null,null,null,null,null,1,0,1,null,null,null,null,null,null,1,null,1,null,null,null,null,null,1]
[50,null,null,null,"МК ЧМЗ",null,null,"МК ЧМЗ","ЧМЗ",0,null,null,null,null,null,null,null,null,null,null,null,null,null,null,null,null,null,null,null,null,null,null,null,null,null,0,1,1,null,null,null,null,null,null,0,null,0,null,null,null,null,null,0]
[51,null,null,null,"Точмаш Глазов",null,null,"Точмаш Глазов","ЧМЗ",1,null,null,null,null,null,null,null,null,null,null,null,null,null,null,null,null,null,null,null,null,null,null,null,null,null,1,0,1,null,null,null,null,null,null,1,null,1,null,null,null,null,null,1]
[52,null,null,null,"Прибор-Сервис",null,null,"Прибор-Сервис","ЧМЗ",1,null,null,null,null,null,null,null,null,null,null,null,null,null,null,null,null,null,null,null,null,null,null,null,null,null,1,0,1,null,null,null,null,null,null,1,null,1,null,null,null,null,null,1]
[53,null,null,null,"Энергомашспецсталь",null,null,"Энергомашспецсталь","EMSS Holdings",0.92677100000000001,null,null,null,null,null,null,null,null,null,null,null,null,null,null,null,null,null,null,null,null,null,null,null,null,null,0.92677100000000001,7.3228999999999989E-2,1,null,null,null,null,null,null,0.46338735354199995,null,0.46338735354199995,null,null,null,null,null,0.92677100000000001]
[54,null,null,null,"СКЭМ",null,null,"СКЭМ","Атомэнергомаш",0.255,null,null,null,null,null,null,null,null,null,null,null,null,null,null,null,null,null,null,null,null,null,null,null,null,null,0.255,0.745,1,null,null,null,null,null,null,0.255,null,0.255,null,null,null,null,null,0.255]
[55,null,null,null,"Березка",null,null,"Березка","ЭХЗ",1,null,null,null,null,null,null,null,null,null,null,null,null,null,null,null,null,null,null,null,null,null,null,null,null,null,1,0,1,null,null,null,null,null,null,1,null,1,null,null,null,null,null,1]
[56,null,null,null,"ГХК",null,null,"ГХК","ГК Росатом",1,null,null,null,null,null,null,null,null,null,null,null,null,null,null,null,null,null,null,null,null,null,null,null,null,null,1,0,1,null,null,null,null,null,null,1,null,0,null,null,null,null,null,1]
[57,null,null,null,"Юбилейный ГХК",null,null,"Юбилейный ГХК","ГХК",1,null,null,null,null,null,null,null,null,null,null,null,null,null,null,null,null,null,null,null,null,null,null,null,null,null,1,0,1,null,null,null,null,null,null,1,null,0,null,null,null,null,null,1]
[58,null,null,null,"ПРЭХ ГХЭК",null,null,"ПРЭХ ГХЭК","ГХК",1,null,null,null,null,null,null,null,null,null,null,null,null,null,null,null,null,null,null,null,null,null,null,null,null,null,1,0,1,null,null,null,null,null,null,1,null,0,null,null,null,null,null,1]
[59,null,null,null,"СТС",null,null,"СТС","ГХК",1,null,null,null,null,null,null,null,null,null,null,null,null,null,null,null,null,null,null,null,null,null,null,null,null,null,1,0,1,null,null,null,null,null,null,1,null,0,null,null,null,null,null,1]
[60,null,null,null,"УЖТ",null,null,"УЖТ","ГХК",1,null,null,null,null,null,null,null,null,null,null,null,null,null,null,null,null,null,null,null,null,null,null,null,null,null,1,0,1,null,null,null,null,null,null,1,null,0,null,null,null,null,null,1]
[61,null,null,null,"Телеком ГХК",null,null,"Телеком ГХК","ГХК",1,null,null,null,null,null,null,null,null,null,null,null,null,null,null,null,null,null,null,null,null,null,null,null,null,null,1,0,1,null,null,null,null,null,null,1,null,0,null,null,null,null,null,1]
[62,null,null,null,"РМЗ ГХК",null,null,"РМЗ ГХК","ГХК",1,null,null,null,null,null,null,null,null,null,null,null,null,null,null,null,null,null,null,null,null,null,null,null,null,null,1,0,1,null,null,null,null,null,null,1,null,0,null,null,null,null,null,1]
[63,null,null,null,"СМРП ГХК",null,null,"СМРП ГХК","ГХК",1,null,null,null,null,null,null,null,null,null,null,null,null,null,null,null,null,null,null,null,null,null,null,null,null,null,1,0,1,null,null,null,null,null,null,1,null,0,null,null,null,null,null,1]
[64,null,null,null,"ЭХЗ",null,null,"ЭХЗ","ОК РСК",0.9999999597,null,"ТВЭЛ",4.0299999999999997E-8,null,null,null,null,null,null,null,null,null,null,null,null,null,null,null,null,null,null,null,null,null,null,1,0,1,null,null,null,null,null,null,1,null,1,null,null,null,null,null,1]
[65,null,null,null,"Искра",null,null,"Искра","ЭХЗ",0.99999000000000005,null,null,null,null,null,null,null,null,null,null,null,null,null,null,null,null,null,null,null,null,null,null,null,null,null,0.99999000000000005,9.9999999999544897E-6,1,null,null,null,null,null,null,0.99999000000000005,null,0.99999000000000005,null,null,null,null,null,0.99999000000000005]
[66,null,null,null,"ЖТЭЦ",null,null,"ЖТЭЦ","НИКИМТ-Атомстрой",1,null,null,null,null,null,null,null,null,null,null,null,null,null,null,null,null,null,null,null,null,null,null,null,null,null,{"$f":"J74+M74+P74+S74+V74+Y74+AB74+AE74+AH74","v":1},{"$f":"1-AJ74","v":0},{"$f":"AJ74+AK74","v":1},null,null,null,null,null,null,{"$f":"IF(I74=\"ГК Росатом\",J74,J74*SUMIF($H:$H,I74,$AS:$AS))+IF(L74=\"ГК Росатом\",M74*100%,M74*SUMIF($H:$H,L74,$AS:$AS))+IF(O74=\"РФ в лице ГК Росатом\",P74*100%,P74*SUMIF($H:$H,O74,$AS:$AS))+S74*SUMIF($H:$H,R74,$AS:$AS)+V74*SUMIF($H:$H,U163,$AS:$AS)+Y74*SUMIF($H:$H,X74,$AS:$AS)+AB74*SUMIF($H:$H,AA74,$AS:$AS)+AE74*SUMIF($H:$H,AD74,$AS:$AS)","v":1},null,{"$f":"IF(I74=\"АЭПК\",J74,J74*SUMIF($H:$H,I74,$AU:$AU))+IF(L74=\"РФ в лице ГК Росатом\",0,M74*SUMIF($H:$H,$L74,$AU:$AU))+IF(O74=\"РФ в лице ГК Росатом\",0,P74*SUMIF($H:$H,O74,$AU:$AU))+S74*SUMIF($H:$H,R74,$AU:$AU)+V74*SUMIF($H:$H,U74,$AU:$AU)+Y74*SUMIF($H:$H,X74,$AU:$AU)+AB74*SUMIF($H:$H,AA74,$AU:$AU)+AE74*SUMIF($H:$H,AD74,$AU:$AU)","v":1},null,null,null,null,null,{"$f":"J74+M74+P74+S74+V74+Y74+AB74+AE74+AH74","v":1}]
[67,null,null,null,"АтомМедТехнолоджи-ДВ",null,null,"АтомМедТехнолоджи-ДВ","REIN",0.67,null,null,null,null,null,null,null,null,null,null,null,null,null,null,null,null,null,null,null,null,null,null,null,null,null,0.67,0.32999999999999996,1,null,null,null,null,null,null,0.67,null,0.37430823000000002,null,null,null,null,null,0.67]
[68,null,null,null,"Эксп №2",null,null,"Эксп №2","ГК Росатом",1,null,null,null,null,null,null,null,null,null,null,null,null,null,null,null,null,null,null,null,null,null,null,null,null,null,1,0,1,null,null,null,null,null,null,1,null,0,null,null,null,null,null,1]
[69,null,null,null,"ТД ГЭМ-Белгород",null,null,"ТД ГЭМ-Белгород","АЭМ-активы",1,null,null,null,null,null,null,null,null,null,null,null,null,null,null,null,null,null,null,null,null,null,null,null,null,null,1,0,1,null,null,null,null,null,null,1,null,1,null,null,null,null,null,1]
[70,null,null,null,"КМЗ",null,null,"КМЗ","ТВЭЛ",0.67559999999999998,null,"ИЦ РГЦ",0.26600000000000001,null,null,null,null,null,null,null,null,null,null,null,null,null,null,null,null,null,null,null,null,null,null,0.94159999999999999,5.8400000000000007E-2,1,null,null,null,null,null,null,0.94159999999999999,null,0.94159999999999999,null,null,null,null,null,0.94159999999999999]
[71,null,null,null,"РПД  Радуга",null,null,"РПД  Радуга","КМЗ",0.30959999999999999,null,null,null,null,null,null,null,null,null,null,null,null,null,null,null,null,null,null,null,null,null,null,null,null,null,0.30959999999999999,0.69040000000000001,1,null,null,null,null,null,null,0.29151936000000001,null,0.29151936000000001,null,null,null,null,null,0.30959999999999999]
[72,null,null,null,"КМЗ-Спецмаш",null,null,"КМЗ-Спецмаш","ИЦ РГЦ",0.99029999999999996,null,"КМЗ",9.7000000000000003E-3,null,null,null,null,null,null,null,null,null,null,null,null,null,null,null,null,null,null,null,null,null,null,1,0,1,null,null,null,null,null,null,0.99943351999999996,null,0.99943351999999996,null,null,null,null,null,1]
[73,null,null,null,"КМЗ-Авто",null,null,"КМЗ-Авто","КМЗ",1,null,null,null,null,null,null,null,null,null,null,null,null,null,null,null,null,null,null,null,null,null,null,null,null,null,1,0,1,null,null,null,null,null,null,0.94159999999999999,null,0.94159999999999999,null,null,null,null,null,1]
[74,null,null,null,"ИНТЕР СМАРТ",null,null,"ИНТЕР СМАРТ","Центр энергоэффективности ИНТЕР РАО ЕЭС",0.5,null,"Промышленные инновации",0.5,null,null,null,null,null,null,null,null,null,null,null,null,null,null,null,null,null,null,null,null,null,null,1,0,1,null,null,null,null,null,null,0.75,null,0.75,null,null,null,null,null,1]
[75,null,null,null,"Точмаш",null,null,"Точмаш","ИЦ РГЦ",0.68989999999999996,null,"ТВЭЛ",0.31009999999999999,null,null,null,null,null,null,null,null,null,null,null,null,null,null,null,null,null,null,null,null,null,null,1,0,1,null,null,null,null,null,null,1,null,1,null,null,null,null,null,1]
[76,null,null,null,"ИФ \"Пионер\"",null,null,"ИФ \"Пионер\"","Точмаш",1,null,null,null,null,null,null,null,null,null,null,null,null,null,null,null,null,null,null,null,null,null,null,null,null,null,1,0,1,null,null,null,null,null,null,1,null,1,null,null,null,null,null,1]
[77,null,null,null,"Станкомаш",null,null,"Станкомаш","Точмаш",1,null,null,null,null,null,null,null,null,null,null,null,null,null,null,null,null,null,null,null,null,null,null,null,null,null,1,0,1,null,null,null,null,null,null,1,null,1,null,null,null,null,null,1]
[78,null,null,null,"Точмаш-авто",null,null,"Точмаш-авто","Точмаш",1,null,null,null,null,null,null,null,null,null,null,null,null,null,null,null,null,null,null,null,null,null,null,null,null,null,1,0,1,null,null,null,null,null,null,1,null,1,null,null,null,null,null,1]
[79,null,null,null,"Промпарксервис",null,null,"Промпарксервис","Точмаш",1,null,null,null,null,null,null,null,null,null,null,null,null,null,null,null,null,null,null,null,null,null,null,null,null,null,1,0,1,null,null,null,null,null,null,1,null,1,null,null,null,null,null,1]
[80,null,null,null,"Нововоронежская АЭС – Авто",null,null,"Нововоронежская АЭС – Авто","Энергоатоминвест",0.99999199999999999,null,null,null,null,null,null,null,null,null,null,null,null,null,null,null,null,null,null,null,null,null,null,null,null,null,0.99999199999999999,8.0000000000080007E-6,1,null,null,null,null,null,null,0.99999199999999999,null,0.91605167152799993,null,null,null,null,null,0.99999199999999999]
[81,null,null,null,"НововоронежАЭС-Сервис",null,null,"НововоронежАЭС-Сервис","Энергоатоминвест",0.98,null,null,null,null,null,null,null,null,null,null,null,null,null,null,null,null,null,null,null,null,null,null,null,null,null,0.98,2.0000000000000018E-2,1,null,null,null,null,null,null,0.98,null,0.89773781999999991,null,null,null,null,null,0.98]
[82,null,null,null,"ВАЭС",null,null,"ВАЭС","АТС",0.49,null,null,null,null,null,null,null,null,null,null,null,null,null,null,null,null,null,null,null,null,null,null,null,null,null,0.49,0.51,1,null,null,null,null,null,null,9.799137604067E-2,null,8.9765881944440101E-2,null,null,null,null,null,0.49]
[83,null,null,null,"Оргстройпроект",null,null,"Оргстройпроект","АЭП",1,null,null,null,null,null,null,null,null,null,null,null,null,null,null,null,null,null,null,null,null,null,null,null,null,null,1,0,1,null,null,null,null,null,null,1,null,3.0600000000000003E-10,null,null,null,null,null,1]
[84,null,null,null,"ЦОУ",null,null,"ЦОУ","ТВЭЛ",0.5,null,null,null,null,null,null,null,null,null,null,null,null,null,null,null,null,null,null,null,null,null,null,null,null,null,0.5,0.5,1,null,null,null,null,null,null,0.5,null,0.5,null,null,null,null,null,0.5]
[85,null,null,null,"МЦОУ",null,null,"МЦОУ","ГК Росатом",0.7,null,null,null,null,null,null,null,null,null,null,null,null,null,null,null,null,null,null,null,null,null,null,null,null,null,0.7,0.30000000000000004,1,null,null,null,null,null,null,0.7,null,0,null,null,null,null,null,0.7]
[86,null,null,null,"АЭХК",null,null,"АЭХК","ОК РСК",0.99999999990999999,null,"ТВЭЛ",8.9999999999999999E-11,null,null,null,null,null,null,null,null,null,null,null,null,null,null,null,null,null,null,null,null,null,null,1,0,1,null,null,null,null,null,null,1,null,1,null,null,null,null,null,1]
[87,null,null,null,"Атом-спорт",null,null,"Атом-спорт","Техснабэкспорт",1,null,null,null,null,null,null,null,null,null,null,null,null,null,null,null,null,null,null,null,null,null,null,null,null,null,1,0,1,null,null,null,null,null,null,1,null,1,null,null,null,null,null,1]
[88,null,null,null,"Сервисный центр Прогресс",null,null,"Сервисный центр Прогресс","АЭХК",1,null,null,null,null,null,null,null,null,null,null,null,null,null,null,null,null,null,null,null,null,null,null,null,null,null,1,0,1,null,null,null,null,null,null,1,null,1,null,null,null,null,null,1]
[89,null,null,null,"Балтийская АЭС",null,null,"Балтийская АЭС","Росэнергоатом",1,null,null,null,null,null,null,null,null,null,null,null,null,null,null,null,null,null,null,null,null,null,null,null,null,null,1,0,1,null,null,null,null,null,null,1,null,0.91605899999999996,null,null,null,null,null,1]
[90,null,null,null,"Кривское",null,null,"Кривское","ФЭИ",0.1024,null,null,null,null,null,null,null,null,null,null,null,null,null,null,null,null,null,null,null,null,null,null,null,null,null,0.1024,0.89759999999999995,1,null,null,null,null,null,null,0.1024,null,0,null,null,null,null,null,0.1024]
[91,null,null,null,"Курчатовец",null,null,"Курчатовец","ЦентрАтом",6.9999999999999994E-5,null,null,null,null,null,null,null,null,null,null,null,null,null,null,null,null,null,null,null,null,null,null,null,null,null,6.9999999999999994E-5,0.99992999999999999,1,null,null,null,null,null,null,6.9999999999999994E-5,null,6.9999999999999994E-5,null,null,null,null,null,6.9999999999999994E-5]
[92,null,null,null,"НТА \"Актис\"",null,null,"НТА \"Актис\"","ФЭИ",0.125,null,null,null,null,null,null,null,null,null,null,null,null,null,null,null,null,null,null,null,null,null,null,null,null,null,0.125,0.875,1,null,null,null,null,null,null,0.125,null,0,null,null,null,null,null,0.125]
[93,null,null,null,"ЦИПК",null,null,"ЦИПК","АЭПК",1,null,null,null,null,null,null,null,null,null,null,null,null,null,null,null,null,null,null,null,null,null,null,null,null,null,1,0,1,null,null,null,null,null,null,1,null,1,null,null,null,null,null,1]
[94,null,null,null,"ОЦНТ",null,null,"ОЦНТ","ФЭИ",0.26319999999999999,null,null,null,null,null,null,null,null,null,null,null,null,null,null,null,null,null,null,null,null,null,null,null,null,null,0.26319999999999999,0.73680000000000001,1,null,null,null,null,null,null,0.26319999999999999,null,0,null,null,null,null,null,0.26319999999999999]
[95,null,null,null,"ФЭИ",null,null,"ФЭИ","ГК Росатом",0.877919,null,null,null,null,"РФ в лице ГК Росатом",0.122081,null,null,null,null,null,null,null,null,null,null,null,null,null,null,null,null,null,null,null,1,0,1,null,null,null,null,null,null,1,null,0,null,null,null,null,null,1]
[96,null,null,null,"Энергоатоминвест",null,null,"Энергоатоминвест","Росэнергоатом",1,null,null,null,null,null,null,null,null,null,null,null,null,null,null,null,null,null,null,null,null,null,null,null,null,null,1,0,1,null,null,null,null,null,null,1,null,0.91605899999999996,null,null,null,null,null,1]
[97,null,null,null,"Далур",null,null,"Далур","АРМЗ",0.9889,null,null,null,null,null,null,null,null,null,null,null,null,null,null,null,null,null,null,null,null,null,null,null,null,null,0.9889,1.1099999999999999E-2,1,null,null,null,null,null,null,0.98885648840000007,null,0.97611055629999999,null,null,null,null,null,0.9889]
[98,null,null,null,"Далур-Сервис",null,null,"Далур-Сервис","Далур",1,null,null,null,null,null,null,null,null,null,null,null,null,null,null,null,null,null,null,null,null,null,null,null,null,null,1,0,1,null,null,null,null,null,null,0.98885648840000007,null,0.97611055629999999,null,null,null,null,null,1]
[99,null,null,null,"Курская  АЭС-Авто",null,null,"Курская  АЭС-Авто","Энергоатоминвест",0.99780500000000005,null,null,null,null,null,null,null,null,null,null,null,null,null,null,null,null,null,null,null,null,null,null,null,null,null,0.99780500000000005,2.194999999999947E-3,1,null,null,null,null,null,null,0.99780500000000005,null,0.91404825049500005,null,null,null,null,null,0.99780500000000005]
[100,null,null,null,"КурскАЭС-Сервис",null,null,"КурскАЭС-Сервис","Энергоатоминвест",0.98,null,null,null,null,null,null,null,null,null,null,null,null,null,null,null,null,null,null,null,null,null,null,null,null,null,0.98,2.0000000000000018E-2,1,null,null,null,null,null,null,0.98,null,0.89773781999999991,null,null,null,null,null,0.98]
[101,null,null,null,"НИТИ",null,null,"НИТИ","ГК Росатом",1,null,null,null,null,null,null,null,null,null,null,null,null,null,null,null,null,null,null,null,null,null,null,null,null,null,1,0,1,null,null,null,null,null,null,1,null,0,null,null,null,null,null,1]
[102,null,null,null,"РосРАО",null,null,"РосРАО","ГК Росатом",1,null,null,null,null,null,null,null,null,null,null,null,null,null,null,null,null,null,null,null,null,null,null,null,null,null,1,0,1,null,null,null,null,null,null,1,null,0,null,null,null,null,null,1]
[103,null,null,null,"Ленинградская АЭС – Авто",null,null,"Ленинградская АЭС – Авто","Энергоатоминвест",0.99998699999999996,null,null,null,null,null,null,null,null,null,null,null,null,null,null,null,null,null,null,null,null,null,null,null,null,null,0.99998699999999996,1.3000000000040757E-5,1,null,null,null,null,null,null,0.99998699999999996,null,0.91604709123299988,null,null,null,null,null,0.99998699999999996]
[104,null,null,null,"Ленатомэнергострой",null,null,"Ленатомэнергострой","АЭП",0.99999000000000005,null,null,null,null,"РФ в лице ГК Росатом",9.0000000000000002E-6,null,null,null,null,null,null,null,null,null,null,null,null,null,null,null,null,null,null,null,0.99999900000000008,9.9999999991773336E-7,1,null,null,null,null,null,null,0.99999900000000008,null,3.0599694000000005E-10,null,null,null,null,null,0.99999900000000008]
[105,null,null,null,"Дедал",null,null,"Дедал","АЭПК",1,null,null,null,null,null,null,null,null,null,null,null,null,null,null,null,null,null,null,null,null,null,null,null,null,null,1,0,1,null,null,null,null,null,null,1,null,1,null,null,null,null,null,1]
[106,null,null,null,"ИФТП",null,null,"ИФТП","Атомэнергомаш",1,null,null,null,null,null,null,null,null,null,null,null,null,null,null,null,null,null,null,null,null,null,null,null,null,null,1,0,1,null,null,null,null,null,null,1,null,1,null,null,null,null,null,1]
[107,null,null,null,"Квантовые технологии",null,null,"Квантовые технологии","ВНИИЭФ",0,null,null,null,null,null,null,null,null,null,null,null,null,null,null,null,null,null,null,null,null,null,null,null,null,null,0,1,1,null,null,null,null,null,null,0,null,0,null,null,null,null,null,0]
[108,null,null,null,"НИЦ ОАЭ",null,null,"НИЦ ОАЭ","Росэнергоатом",1,null,null,null,null,null,null,null,null,null,null,null,null,null,null,null,null,null,null,null,null,null,null,null,null,null,1,0,1,null,null,null,null,null,null,1,null,0.91605899999999996,null,null,null,null,null,1]
[109,null,null,null,"ЦОиС ОЛенКур",null,null,"ЦОиС ОЛенКур","ЦентрАтом",1,null,null,null,null,null,null,null,null,null,null,null,null,null,null,null,null,null,null,null,null,null,null,null,null,null,1,0,1,null,null,null,null,null,null,1,null,1,null,null,null,null,null,1]
[110,null,null,null,"НИИП",null,null,"НИИП","ГК Росатом",1,null,null,null,null,null,null,null,null,null,null,null,null,null,null,null,null,null,null,null,null,null,null,null,null,null,1,0,1,null,null,null,null,null,null,1,null,0,null,null,null,null,null,1]
[111,null,null,null,"НПП Термотекс",null,null,"НПП Термотекс","УЭХК",0.32019999999999998,null,null,null,null,null,null,null,null,null,null,null,null,null,null,null,null,null,null,null,null,null,null,null,null,null,0.32019999999999998,0.67979999999999996,1,null,null,null,null,null,null,0.28014298000640397,null,0.28014298000640397,null,null,null,null,null,0.32019999999999998]
[112,null,null,null,"Атомтехэнерго",null,null,"Атомтехэнерго","Росэнергоатом",1,null,null,null,null,null,null,null,null,null,null,null,null,null,null,null,null,null,null,null,null,null,null,null,null,null,1,0,1,null,null,null,null,null,null,1,null,0.91605899999999996,null,null,null,null,null,1]
[113,null,null,null,"Атомэнергоремонт",null,null,"Атомэнергоремонт","Росэнергоатом",1,null,null,null,null,null,null,null,null,null,null,null,null,null,null,null,null,null,null,null,null,null,null,null,null,null,1,0,1,null,null,null,null,null,null,1,null,0.91605899999999996,null,null,null,null,null,1]
[114,null,null,null,"ЛОК Колонтаево",null,null,"ЛОК Колонтаево","МСЗ",1,null,null,null,null,null,null,null,null,null,null,null,null,null,null,null,null,null,null,null,null,null,null,null,null,null,1,0,1,null,null,null,null,null,null,0.81731200000000004,null,0.75585999999999998,null,null,null,null,null,1]
[115,null,null,null,"ЭНИЦ",null,null,"ЭНИЦ","Росэнергоатом",1,null,null,null,null,null,null,null,null,null,null,null,null,null,null,null,null,null,null,null,null,null,null,null,null,null,1,0,1,null,null,null,null,null,null,1,null,0.91605899999999996,null,null,null,null,null,1]
[116,null,null,null,"АВТОДОМ",null,null,"АВТОДОМ","ЭНИЦ",0.99866600000000005,null,null,null,null,null,null,null,null,null,null,null,null,null,null,null,null,null,null,null,null,null,null,null,null,null,0.99866600000000005,1.3339999999999463E-3,1,null,null,null,null,null,null,0.99866600000000005,null,0.91483697729400004,null,null,null,null,null,0.99866600000000005]
[117,null,null,null,"НПО Луч",null,null,"НПО Луч","ГК Росатом",1,null,null,null,null,null,null,null,null,null,null,null,null,null,null,null,null,null,null,null,null,null,null,null,null,null,1,0,1,null,null,null,null,null,null,1,null,0,null,null,null,null,null,1]
[118,null,null,null,"Опыт",null,null,"Опыт","ЗиО-Подольск",1,null,null,null,null,null,null,null,null,null,null,null,null,null,null,null,null,null,null,null,null,null,null,null,null,null,1,0,1,null,null,null,null,null,null,0.99436400000000003,null,0.99436400000000003,null,null,null,null,null,1]
[119,null,null,null,"ЗИОМАР",null,null,"ЗИОМАР","РЭМКО",0.99997999999999998,null,"Атомэнергомаш",2.0000000000000002E-5,null,null,null,null,null,null,null,null,null,null,null,null,null,null,null,null,null,null,null,null,null,null,1,0,1,null,null,null,null,null,null,1,null,1,null,null,null,null,null,1]
[120,null,null,null,"ЗиО-Подольск",null,null,"ЗиО-Подольск","РЭМКО",0.73433300000000001,null,"ЗИОМАР",0.26003100000000001,null,null,null,null,null,null,null,null,null,null,null,null,null,null,null,null,null,null,null,null,null,null,0.99436400000000003,5.6359999999999744E-3,1,null,null,null,null,null,null,0.99436400000000003,null,0.99436400000000003,null,null,null,null,null,0.99436400000000003]
[121,null,null,null,"РЭМКО",null,null,"РЭМКО","Атомэнергомаш",1,null,null,null,null,null,null,null,null,null,null,null,null,null,null,null,null,null,null,null,null,null,null,null,null,null,1,0,1,null,null,null,null,null,null,1,null,1,null,null,null,null,null,1]
[122,null,null,null,"ААЭМ ",null,null,"ААЭМ ","ЗиО-Подольск",0.51,null,null,null,null,null,null,null,null,null,null,null,null,null,null,null,null,null,null,null,null,null,null,null,null,null,0.51,0.49,1,null,null,null,null,null,null,0.50712564000000004,null,0.50712564000000004,null,null,null,null,null,0.51]
[123,null,null,null,"Гидропресс",null,null,"Гидропресс","АЭПК",0.99876600000000004,null,"ГК Росатом",1.2340000000000001E-3,null,null,null,null,null,null,null,null,null,null,null,null,null,null,null,null,null,null,null,null,null,null,1,0,1,null,null,null,null,null,null,1,null,0.99876600000000004,null,null,null,null,null,1]
[124,null,null,null,"БИНОМ",null,null,"БИНОМ","ЗиО-Подольск",1,null,null,null,null,null,null,null,null,null,null,null,null,null,null,null,null,null,null,null,null,null,null,null,null,null,1,0,1,null,null,null,null,null,null,0.99436400000000003,null,0.99436400000000003,null,null,null,null,null,1]
[125,null,null,null,"ВетроОГК",null,null,"ВетроОГК","ЗИОМАР",1,null,null,null,null,null,null,null,null,null,null,null,null,null,null,null,null,null,null,null,null,null,null,null,null,null,1,0,1,null,null,null,null,null,null,1,null,1,null,null,null,null,null,1]
[126,null,null,null,"Прогресс",null,null,"Прогресс","Атомэнергомаш",0.25019999999999998,null,null,null,null,null,null,null,null,null,null,null,null,null,null,null,null,null,null,null,null,null,null,null,null,null,0.25019999999999998,0.74980000000000002,1,null,null,null,null,null,null,0.25019999999999998,null,0.25019999999999998,null,null,null,null,null,0.25019999999999998]
[127,null,null,null,"Взрывиспытания",null,null,"Взрывиспытания","ВНИИТФ",2.3800000000000002E-2,null,null,null,null,null,null,null,null,null,null,null,null,null,null,null,null,null,null,null,null,null,null,null,null,null,2.3800000000000002E-2,0.97619999999999996,1,null,null,null,null,null,null,2.3800000000000002E-2,null,0,null,null,null,null,null,2.3800000000000002E-2]
[128,null,null,null,"Атомбезопасность",null,null,"Атомбезопасность","ГК Росатом",1,null,null,null,null,null,null,null,null,null,null,null,null,null,null,null,null,null,null,null,null,null,null,null,null,null,1,0,1,null,null,null,null,null,null,1,null,0,null,null,null,null,null,1]
[129,null,null,null,"ОКТБ ИС",null,null,"ОКТБ ИС","Атомэнергомаш",1,null,null,null,null,null,null,null,null,null,null,null,null,null,null,null,null,null,null,null,null,null,null,null,null,null,1,0,1,null,null,null,null,null,null,1,null,1,null,null,null,null,null,1]
[130,null,null,null,"МСЗ",null,null,"МСЗ","ТВЭЛ",0.72860999999999998,null,"ГК Росатом",5.1465999999999998E-2,null,"РФ в лице ГК Росатом",9.9860000000000001E-3,null,"ОК РСК",2.725E-2,null,null,null,null,null,null,null,null,null,null,null,null,null,null,null,null,{"$f":"J138+M138+P138+S138+V138+Y138+AB138+AE138+AH138","v":0.81731200000000004},{"$f":"1-AJ138","v":0.18268799999999996},{"$f":"AJ138+AK138","v":1},null,null,null,null,null,null,{"$f":"IF(I138=\"ГК Росатом\",J138,J138*SUMIF($H:$H,I138,$AS:$AS))+IF(L138=\"ГК Росатом\",M138*100%,M138*SUMIF($H:$H,L138,$AS:$AS))+IF(O138=\"РФ в лице ГК Росатом\",P138*100%,P138*SUMIF($H:$H,O138,$AS:$AS))+S138*SUMIF($H:$H,R138,$AS:$AS)+V138*SUMIF($H:$H,U227,$AS:$AS)+Y138*SUMIF($H:$H,X138,$AS:$AS)+AB138*SUMIF($H:$H,AA138,$AS:$AS)+AE138*SUMIF($H:$H,AD138,$AS:$AS)","v":0.81731200000000004},null,{"$f":"IF(I138=\"АЭПК\",J138,J138*SUMIF($H:$H,I138,$AU:$AU))+IF(L138=\"РФ в лице ГК Росатом\",0,M138*SUMIF($H:$H,$L138,$AU:$AU))+IF(O138=\"РФ в лице ГК Росатом\",0,P138*SUMIF($H:$H,O138,$AU:$AU))+S138*SUMIF($H:$H,R138,$AU:$AU)+V138*SUMIF($H:$H,U138,$AU:$AU)+Y138*SUMIF($H:$H,X138,$AU:$AU)+AB138*SUMIF($H:$H,AA138,$AU:$AU)+AE138*SUMIF($H:$H,AD138,$AU:$AU)","v":0.75585999999999998},null,null,null,null,null,{"$f":"J138+M138+P138+S138+V138+Y138+AB138+AE138+AH138","v":0.81731200000000004}]
[131,null,null,null,"ЭЛЕМАШ-ЭНЕРГО",null,null,"ЭЛЕМАШ-ЭНЕРГО","ТВЭЛ",9.0899999999999995E-2,null,null,null,null,null,null,null,null,null,null,null,null,null,null,null,null,null,null,null,null,null,null,null,null,null,9.0899999999999995E-2,0.90910000000000002,1,null,null,null,null,null,null,9.0899999999999995E-2,null,9.0899999999999995E-2,null,null,null,null,null,9.0899999999999995E-2]
[132,null,null,null,"ЭПОС",null,null,"ЭПОС","МСЗ",0.53459999999999996,null,null,null,null,null,null,null,null,null,null,null,null,null,null,null,null,null,null,null,null,null,null,null,null,null,0.53459999999999996,0.46540000000000004,1,null,null,null,null,null,null,0.43693499520000001,null,0.40408275599999999,null,null,null,null,null,0.53459999999999996]
[133,null,null,null,"ЭМСТ",null,null,"ЭМСТ","МСЗ",1,null,null,null,null,null,null,null,null,null,null,null,null,null,null,null,null,null,null,null,null,null,null,null,null,null,1,0,1,null,null,null,null,null,null,0.81731200000000004,null,0.75585999999999998,null,null,null,null,null,1]
[134,null,null,null,"ЭЛЕМАШ-МАГНИТ",null,null,"ЭЛЕМАШ-МАГНИТ","КМЗ",1,null,null,null,null,null,null,null,null,null,null,null,null,null,null,null,null,null,null,null,null,null,null,null,null,null,1,0,1,null,null,null,null,null,null,0.94159999999999999,null,0.94159999999999999,null,null,null,null,null,1]
[135,null,null,null,"ЭЛЕМАШ-АВТО",null,null,"ЭЛЕМАШ-АВТО","МСЗ",1,null,null,null,null,null,null,null,null,null,null,null,null,null,null,null,null,null,null,null,null,null,null,null,null,null,1,0,1,null,null,null,null,null,null,0.81731200000000004,null,0.75585999999999998,null,null,null,null,null,1]
[136,null,null,null,"ЭЛЕМАШ-ТЭК",null,null,"ЭЛЕМАШ-ТЭК","МСЗ",1,null,null,null,null,null,null,null,null,null,null,null,null,null,null,null,null,null,null,null,null,null,null,null,null,null,1,0,1,null,null,null,null,null,null,0.81731200000000004,null,0.75585999999999998,null,null,null,null,null,1]
[137,null,null,null,"ЭЛЕМАШ СТП",null,null,"ЭЛЕМАШ СТП","ЧМЗ",1,null,null,null,null,null,null,null,null,null,null,null,null,null,null,null,null,null,null,null,null,null,null,null,null,null,1,0,1,null,null,null,null,null,null,1,null,1,null,null,null,null,null,1]
[138,null,null,null,"МСЗ-М",null,null,"МСЗ-М","МСЗ",1,null,null,null,null,null,null,null,null,null,null,null,null,null,null,null,null,null,null,null,null,null,null,null,null,null,1,0,1,null,null,null,null,null,null,0.81731200000000004,null,0.75585999999999998,null,null,null,null,null,1]
[139,null,null,null,"ЭКА",null,null,"ЭКА","НПО Луч",2.5999999999999999E-3,null,null,null,null,null,null,null,null,null,null,null,null,null,null,null,null,null,null,null,null,null,null,null,null,null,2.5999999999999999E-3,0.99739999999999995,1,null,null,null,null,null,null,2.5999999999999999E-3,null,0,null,null,null,null,null,2.5999999999999999E-3]
[140,null,null,null,"КольскаяАЭС-Авто",null,null,"КольскаяАЭС-Авто","Энергоатоминвест",0.999996,null,null,null,null,null,null,null,null,null,null,null,null,null,null,null,null,null,null,null,null,null,null,null,null,null,0.999996,4.0000000000040004E-6,1,null,null,null,null,null,null,0.999996,null,0.916055335764,null,null,null,null,null,0.999996]
[141,null,null,null,"КольскаяАЭС-Сервис",null,null,"КольскаяАЭС-Сервис","Энергоатоминвест",0.99985599999999997,null,null,null,null,null,null,null,null,null,null,null,null,null,null,null,null,null,null,null,null,null,null,null,null,null,0.99985599999999997,1.4400000000003299E-4,1,null,null,null,null,null,null,0.99985599999999997,null,0.91592708750399998,null,null,null,null,null,0.99985599999999997]
[142,null,null,null,"Атомфлот",null,null,"Атомфлот","ГК Росатом",1,null,null,null,null,null,null,null,null,null,null,null,null,null,null,null,null,null,null,null,null,null,null,null,null,null,1,0,1,null,null,null,null,null,null,1,null,0,null,null,null,null,null,1]
[143,null,null,null,"Геостар",null,null,"Геостар","Итманово",0.97970000000000002,null,"АРМЗ",2.0299999999999999E-2,null,null,null,null,null,null,null,null,null,null,null,null,null,null,null,null,null,null,null,null,null,null,1,0,1,null,null,null,null,null,null,0.99995600000000007,null,0.98706700000000003,null,null,null,null,null,1]
[144,null,null,null,"Итманово",null,null,"Итманово","АРМЗ",1,null,null,null,null,null,null,null,null,null,null,null,null,null,null,null,null,null,null,null,null,null,null,null,null,null,1,0,1,null,null,null,null,null,null,0.99995600000000007,null,0.98706700000000003,null,null,null,null,null,1]
[145,null,null,null,"ЦКО ООО",null,null,"ЦКО ООО","ВНИИЭФ",1,null,null,null,null,null,null,null,null,null,null,null,null,null,null,null,null,null,null,null,null,null,null,null,null,null,1,0,1,null,null,null,null,null,null,1,null,0,null,null,null,null,null,1]
[146,null,null,null,"ЗАО \"Технопарк \"Саров\"",null,null,"ЗАО \"Технопарк \"Саров\"","Технопарк-Технология",0.25,null,null,null,null,null,null,null,null,null,null,null,null,null,null,null,null,null,null,null,null,null,null,null,null,null,0.25,0.75,1,null,null,null,null,null,null,0.25,null,0,null,null,null,null,null,0.25]
[147,null,null,null,"Технопарк-Технология",null,null,"Технопарк-Технология","ГК Росатом",1,null,null,null,null,null,null,null,null,null,null,null,null,null,null,null,null,null,null,null,null,null,null,null,null,null,1,0,1,null,null,null,null,null,null,1,null,0,null,null,null,null,null,1]
[148,null,null,null,"ВНИИЭФ",null,null,"ВНИИЭФ","ГК Росатом",1,null,null,null,null,null,null,null,null,null,null,null,null,null,null,null,null,null,null,null,null,null,null,null,null,null,1,0,1,null,null,null,null,null,null,1,null,0,null,null,null,null,null,1]
[149,null,null,null,"ВНИИЭФ \"ТАНИК\"",null,null,"ВНИИЭФ \"ТАНИК\"","ВНИИЭФ",2E-3,null,null,null,null,null,null,null,null,null,null,null,null,null,null,null,null,null,null,null,null,null,null,null,null,null,2E-3,0.998,1,null,null,null,null,null,null,2E-3,null,0,null,null,null,null,null,2E-3]
[150,null,null,null,"ВНИИЭФ-Конверсия ",null,null,"ВНИИЭФ-Конверсия ","ГК Росатом",1,null,null,null,null,null,null,null,null,null,null,null,null,null,null,null,null,null,null,null,null,null,null,null,null,null,1,0,1,null,null,null,null,null,null,1,null,0,null,null,null,null,null,1]
[151,null,null,null,"Титан",null,null,"Титан","ВНИИЭФ-Конверсия ",0.1,null,null,null,null,null,null,null,null,null,null,null,null,null,null,null,null,null,null,null,null,null,null,null,null,null,0.1,0.9,1,null,null,null,null,null,null,0.14609000000000003,null,0,null,null,null,null,null,0.1]
[152,null,null,null,"Гидроаппарат",null,null,"Гидроаппарат","ВНИИЭФ-Конверсия ",0.4,null,null,null,null,null,null,null,null,null,null,null,null,null,null,null,null,null,null,null,null,null,null,null,null,null,0.4,0.6,1,null,null,null,null,null,null,0.5843600000000001,null,0,null,null,null,null,null,0.4]
[153,null,null,null,"А.С.Т.",null,null,"А.С.Т.","ВНИИЭФ-Конверсия ",0.85,null,null,null,null,null,null,null,null,null,null,null,null,null,null,null,null,null,null,null,null,null,null,null,null,null,0.85,0.15000000000000002,1,null,null,null,null,null,null,1.241765,null,0,null,null,null,null,null,0.85]
[154,null,null,null,"Газета \"Город Номер\"",null,null,"Газета \"Город Номер\"","ВНИИЭФ",0.19500000000000001,null,null,null,null,null,null,null,null,null,null,null,null,null,null,null,null,null,null,null,null,null,null,null,null,null,0.19500000000000001,0.80499999999999994,1,null,null,null,null,null,null,0.19500000000000001,null,0,null,null,null,null,null,0.19500000000000001]
[155,null,null,null,"БИТЕХ",null,null,"БИТЕХ","ВНИИЭФ",1,null,null,null,null,null,null,null,null,null,null,null,null,null,null,null,null,null,null,null,null,null,null,null,null,null,1,0,1,null,null,null,null,null,null,1,null,0,null,null,null,null,null,1]
[156,null,null,null,"ВНИИЭФ-Гарант",null,null,"ВНИИЭФ-Гарант","ВНИИЭФ",0.61112999999999995,null,"Обесп РФЯЦ-ВНИИЭФ",2.4379999999999999E-2,null,null,null,null,null,null,null,null,null,null,null,null,null,null,null,null,null,null,null,null,null,null,0.63550999999999991,0.36449000000000009,1,null,null,null,null,null,null,0.63550999999999991,null,2.4379999999999999E-2,null,null,null,null,null,0.63550999999999991]
[157,null,null,null,"СОИСК",null,null,"СОИСК","ФЭИ",0.2606,null,null,null,null,null,null,null,null,null,null,null,null,null,null,null,null,null,null,null,null,null,null,null,null,null,0.2606,0.73940000000000006,1,null,null,null,null,null,null,0.2606,null,0,null,null,null,null,null,0.2606]
[158,null,null,null,"САРОВ-ВОЛГОГАЗ",null,null,"САРОВ-ВОЛГОГАЗ","ВНИИЭФ",0.21,null,null,null,null,null,null,null,null,null,null,null,null,null,null,null,null,null,null,null,null,null,null,null,null,null,0.21,0.79,1,null,null,null,null,null,null,0.21,null,0,null,null,null,null,null,0.21]
[159,null,null,null,"Обесп РФЯЦ-ВНИИЭФ",null,null,"Обесп РФЯЦ-ВНИИЭФ","АЭПК",1,null,null,null,null,null,null,null,null,null,null,null,null,null,null,null,null,null,null,null,null,null,null,null,null,null,1,0,1,null,null,null,null,null,null,1,null,1,null,null,null,null,null,1]
[160,null,null,null,"СаровГаз",null,null,"СаровГаз","Обесп РФЯЦ-ВНИИЭФ",1,null,null,null,null,null,null,null,null,null,null,null,null,null,null,null,null,null,null,null,null,null,null,null,null,null,1,0,1,null,null,null,null,null,null,1,null,1,null,null,null,null,null,1]
[161,null,null,null,"СГК",null,null,"СГК","Обесп РФЯЦ-ВНИИЭФ",1,null,null,null,null,null,null,null,null,null,null,null,null,null,null,null,null,null,null,null,null,null,null,null,null,null,1,0,1,null,null,null,null,null,null,1,null,1,null,null,null,null,null,1]
[162,null,null,null,"СЭСК",null,null,"СЭСК","Обесп РФЯЦ-ВНИИЭФ",1,null,null,null,null,null,null,null,null,null,null,null,null,null,null,null,null,null,null,null,null,null,null,null,null,null,1,0,1,null,null,null,null,null,null,1,null,1,null,null,null,null,null,1]
[163,null,null,null,"КУЖФ",null,null,"КУЖФ","Обесп РФЯЦ-ВНИИЭФ",0.99995000000000001,null,null,null,null,null,null,null,null,null,null,null,null,null,null,null,null,null,null,null,null,null,null,null,null,null,0.99995000000000001,4.9999999999994493E-5,1,null,null,null,null,null,null,0.99995000000000001,null,0.99995000000000001,null,null,null,null,null,0.99995000000000001]
[164,null,null,null,"СТСК",null,null,"СТСК","Обесп РФЯЦ-ВНИИЭФ",1,null,null,null,null,null,null,null,null,null,null,null,null,null,null,null,null,null,null,null,null,null,null,null,null,null,1,0,1,null,null,null,null,null,null,1,null,1,null,null,null,null,null,1]
[165,null,null,null,"ЭнергоАвтотранс",null,null,"ЭнергоАвтотранс","Обесп РФЯЦ-ВНИИЭФ",0.99998399999999998,null,null,null,null,null,null,null,null,null,null,null,null,null,null,null,null,null,null,null,null,null,null,null,null,null,0.99998399999999998,1.6000000000016001E-5,1,null,null,null,null,null,null,0.99998399999999998,null,0.99998399999999998,null,null,null,null,null,0.99998399999999998]
[166,null,null,null,"КП",null,null,"КП","ВНИИЭФ",1,null,null,null,null,null,null,null,null,null,null,null,null,null,null,null,null,null,null,null,null,null,null,null,null,null,1,0,1,null,null,null,null,null,null,1,null,0,null,null,null,null,null,1]
[167,null,null,null,"РАДЭФ",null,null,"РАДЭФ","ВНИИЭФ",0.22,null,"НИИИС",0.06,null,"Старт",0.06,null,"ВНИИА",0.06,null,null,null,null,null,null,null,null,null,null,null,null,null,null,null,null,0.4,0.6,1,null,null,null,null,null,null,0.4,null,0,null,null,null,null,null,0.4]
[168,null,null,null,"ВНИИЭФ-Конверсия ",null,null,"ВНИИЭФ-Конверсия ","ВНИИЭФ",0.46089999999999998,null,null,null,null,null,null,null,null,null,null,null,null,null,null,null,null,null,null,null,null,null,null,null,null,null,0.46089999999999998,0.53910000000000002,1,null,null,null,null,null,null,0.46089999999999998,null,0,null,null,null,null,null,0.46089999999999998]
[169,null,null,null,"ОКБ-НН",null,null,"ОКБ-НН","ИЦ РГЦ",0.999,null,"ТВЭЛ",1E-3,null,null,null,null,null,null,null,null,null,null,null,null,null,null,null,null,null,null,null,null,null,null,1,0,1,null,null,null,null,null,null,1,null,1,null,null,null,null,null,1]
[170,null,null,null," СП УКРТВС",null,null," СП УКРТВС","ТВЭЛ",0.33329999999999999,null,null,null,null,null,null,null,null,null,null,null,null,null,null,null,null,null,null,null,null,null,null,null,null,null,0.33329999999999999,0.66670000000000007,1,null,null,null,null,null,null,0.33329999999999999,null,0.33329999999999999,null,null,null,null,null,0.33329999999999999]
[171,null,null,null,"ОКБМ",null,null,"ОКБМ","АЭПК",0.69349799999999995,null,"ГК Росатом",0.306502,null,null,null,null,null,null,null,null,null,null,null,null,null,null,null,null,null,null,null,null,null,null,1,0,1,null,null,null,null,null,null,1,null,0.69349799999999995,null,null,null,null,null,1]
[172,null,null,null,"НИАЭП",null,null,"НИАЭП","АЭПК",0.51,null,"АСЭ",0.49,null,null,null,null,null,null,null,null,null,null,null,null,null,null,null,null,null,null,null,null,null,null,1,0,1,null,null,null,null,null,null,1,null,0.51,null,null,null,null,null,1]
[173,null,null,null,"СМУ №1",null,null,"СМУ №1","НИАЭП",1,null,null,null,null,null,null,null,null,null,null,null,null,null,null,null,null,null,null,null,null,null,null,null,null,null,1,0,1,null,null,null,null,null,null,1,null,0.51,null,null,null,null,null,1]
[174,null,null,null,"НИИИС",null,null,"НИИИС","ГК Росатом",1,null,null,null,null,null,null,null,null,null,null,null,null,null,null,null,null,null,null,null,null,null,null,null,null,null,1,0,1,null,null,null,null,null,null,1,null,0,null,null,null,null,null,1]
[175,null,null,null,"СЭлС",null,null,"СЭлС","ПО Север",0.16669999999999999,null,null,null,null,null,null,null,null,null,null,null,null,null,null,null,null,null,null,null,null,null,null,null,null,null,0.16669999999999999,0.83330000000000004,1,null,null,null,null,null,null,0.16669999999999999,null,0,null,null,null,null,null,0.16669999999999999]
[176,null,null,null,"НЗХК-Инструмент",null,null,"НЗХК-Инструмент","НЗХК",1,null,null,null,null,null,null,null,null,null,null,null,null,null,null,null,null,null,null,null,null,null,null,null,null,null,1,0,1,null,null,null,null,null,null,0.88997599999999999,null,0.88997599999999999,null,null,null,null,null,1]
[177,null,null,null,"НЗХК-Инжиниринг",null,null,"НЗХК-Инжиниринг","ЦПТИ",1,null,null,null,null,null,null,null,null,null,null,null,null,null,null,null,null,null,null,null,null,null,null,null,null,null,1,0,1,null,null,null,null,null,null,1,null,1,null,null,null,null,null,1]
[178,null,null,null,"ПКО",null,null,"ПКО","ЦПТИ",0,null,null,null,null,null,null,null,null,null,null,null,null,null,null,null,null,null,null,null,null,null,null,null,null,null,0,1,1,null,null,null,null,null,null,0,null,0,null,null,null,null,null,0]
[179,null,null,null,"НЗХК-Энергия",null,null,"НЗХК-Энергия","НЗХК",1,null,null,null,null,null,null,null,null,null,null,null,null,null,null,null,null,null,null,null,null,null,null,null,null,null,1,0,1,null,null,null,null,null,null,0.88997599999999999,null,0.88997599999999999,null,null,null,null,null,1]
[180,null,null,null,"Катодные Материалы",null,null,"Катодные Материалы","Промышленные инновации",0.38940000000000002,null,"НЗХК",0.32829999999999998,null,null,null,null,null,null,null,null,null,null,null,null,null,null,null,null,null,null,null,null,null,null,0.7177,0.2823,1,null,null,null,null,null,null,0.68157912079999994,null,0.68157912079999994,null,null,null,null,null,0.7177]
[181,null,null,null,"ПО Север",null,null,"ПО Север","ГК Росатом",1,null,null,null,null,null,null,null,null,null,null,null,null,null,null,null,null,null,null,null,null,null,null,null,null,null,1,0,1,null,null,null,null,null,null,1,null,0,null,null,null,null,null,1]
[182,null,null,null,"НЗХК",null,null,"НЗХК","ТВЭЛ",0.88997599999999999,null,null,null,null,null,null,null,null,null,null,null,null,null,null,null,null,null,null,null,null,null,null,null,null,null,0.88997599999999999,0.11002400000000001,1,null,null,null,null,null,null,0.88997599999999999,null,0.88997599999999999,null,null,null,null,null,0.88997599999999999]
[183,null,null,null,"СП ООО \"СКС\"",null,null,"СП ООО \"СКС\"","ПО Север",0.37519999999999998,null,null,null,null,null,null,null,null,null,null,null,null,null,null,null,null,null,null,null,null,null,null,null,null,null,0.37519999999999998,0.62480000000000002,1,null,null,null,null,null,null,0.37519999999999998,null,0,null,null,null,null,null,0.37519999999999998]
[184,null,null,null,"УАТ НЗХК",null,null,"УАТ НЗХК","НЗХК",1,null,null,null,null,null,null,null,null,null,null,null,null,null,null,null,null,null,null,null,null,null,null,null,null,null,1,0,1,null,null,null,null,null,null,0.88997599999999999,null,0.88997599999999999,null,null,null,null,null,1]
[185,null,null,null,"Былина",null,null,"Былина","НЗХК",1,null,null,null,null,null,null,null,null,null,null,null,null,null,null,null,null,null,null,null,null,null,null,null,null,null,1,0,1,null,null,null,null,null,null,0.88997599999999999,null,0.88997599999999999,null,null,null,null,null,1]
[186,null,null,null,"Старт",null,null,"Старт","ГК Росатом",1,null,null,null,null,null,null,null,null,null,null,null,null,null,null,null,null,null,null,null,null,null,null,null,null,null,1,0,1,null,null,null,null,null,null,1,null,0,null,null,null,null,null,1]
[187,null,null,null,"НО РАО",null,null,"НО РАО","ГК Росатом",1,null,null,null,null,null,null,null,null,null,null,null,null,null,null,null,null,null,null,null,null,null,null,null,null,null,1,0,1,null,null,null,null,null,null,1,null,0,null,null,null,null,null,1]
[188,null,null,null,"Автотранс – А",null,null,"Автотранс – А","АЭМ-активы",0,null,null,null,null,null,null,null,null,null,null,null,null,null,null,null,null,null,null,null,null,null,null,null,null,null,0,1,1,null,null,null,null,null,null,0,null,0,null,null,null,null,null,0]
[189,null,null,null,"СМК-ЮГ",null,null,"СМК-ЮГ","РАС-Инвест",1,null,null,null,null,null,null,null,null,null,null,null,null,null,null,null,null,null,null,null,null,null,null,null,null,null,1,0,1,null,null,null,null,null,null,1,null,1,null,null,null,null,null,1]
[190,null,null,null,"Медсанчасть",null,null,"Медсанчасть","АЭМ-активы",0,null,null,null,null,null,null,null,null,null,null,null,null,null,null,null,null,null,null,null,null,null,null,null,null,null,0,1,1,null,null,null,null,null,null,0,null,0,null,null,null,null,null,0]
[191,null,null,null,"ВНИИАМ ОАО",null,null,"ВНИИАМ ОАО","АЭМ-технологии",1,null,null,null,null,null,null,null,null,null,null,null,null,null,null,null,null,null,null,null,null,null,null,null,null,null,1,0,1,null,null,null,null,null,null,0.99999800000000005,null,0.99999800000000005,null,null,null,null,null,1]
[192,null,null,null,"ВДМУ",null,null,"ВДМУ","НИАЭП",1,null,null,null,null,null,null,null,null,null,null,null,null,null,null,null,null,null,null,null,null,null,null,null,null,null,1,0,1,null,null,null,null,null,null,1,null,0.51,null,null,null,null,null,1]
[193,null,null,null,"Энергомаш (Волгодонск) – Атоммаш",null,null,"Энергомаш (Волгодонск) – Атоммаш","АЭМ-активы",1,null,null,null,null,null,null,null,null,null,null,null,null,null,null,null,null,null,null,null,null,null,null,null,null,null,1,0,1,null,null,null,null,null,null,1,null,1,null,null,null,null,null,1]
[194,null,null,null,"ВАЭС-Сервис",null,null,"ВАЭС-Сервис","Энергоатоминвест",0.99998799999999999,null,null,null,null,null,null,null,null,null,null,null,null,null,null,null,null,null,null,null,null,null,null,null,null,null,{"$f":"J202+M202+P202+S202+V202+Y202+AB202+AE202+AH202","v":0.99998799999999999},{"$f":"1-AJ202","v":1.2000000000012001E-5},{"$f":"AJ202+AK202","v":1},null,null,null,null,null,null,{"$f":"IF(I202=\"ГК Росатом\",J202,J202*SUMIF($H:$H,I202,$AS:$AS))+IF(L202=\"ГК Росатом\",M202*100%,M202*SUMIF($H:$H,L202,$AS:$AS))+IF(O202=\"РФ в лице ГК Росатом\",P202*100%,P202*SUMIF($H:$H,O202,$AS:$AS))+S202*SUMIF($H:$H,R202,$AS:$AS)+V202*SUMIF($H:$H,U291,$AS:$AS)+Y202*SUMIF($H:$H,X202,$AS:$AS)+AB202*SUMIF($H:$H,AA202,$AS:$AS)+AE202*SUMIF($H:$H,AD202,$AS:$AS)","v":0.99998799999999999},null,{"$f":"IF(I202=\"АЭПК\",J202,J202*SUMIF($H:$H,I202,$AU:$AU))+IF(L202=\"РФ в лице ГК Росатом\",0,M202*SUMIF($H:$H,$L202,$AU:$AU))+IF(O202=\"РФ в лице ГК Росатом\",0,P202*SUMIF($H:$H,O202,$AU:$AU))+S202*SUMIF($H:$H,R202,$AU:$AU)+V202*SUMIF($H:$H,U202,$AU:$AU)+Y202*SUMIF($H:$H,X202,$AU:$AU)+AB202*SUMIF($H:$H,AA202,$AU:$AU)+AE202*SUMIF($H:$H,AD202,$AU:$AU)","v":0.91604800729199998},null,null,null,null,null,{"$f":"J202+M202+P202+S202+V202+Y202+AB202+AE202+AH202","v":0.99998799999999999}]
[195,null,null,null,"Энергомаш (Волгодонск) – Атоммаш",null,null,"Энергомаш (Волгодонск) – Атоммаш","АЭМ-активы",1,null,"АЭМ-активы",null,null,null,null,null,null,null,null,null,null,null,null,null,null,null,null,null,null,null,null,null,null,null,1,0,1,null,null,null,null,null,null,1,null,1,null,null,null,null,null,1]
[196,null,null,null,"АТОММАШ-СЕРВИС",null,null,"АТОММАШ-СЕРВИС","Медсанчасть",0.99,null,null,null,null,null,null,null,null,null,null,null,null,null,null,null,null,null,null,null,null,null,null,null,null,null,0.99,1.0000000000000009E-2,1,null,null,null,null,null,null,0,null,0,null,null,null,null,null,0.99]
[197,null,null,null,"Базальт",null,null,"Базальт","ГК Росатом",1,null,null,null,null,null,null,null,null,null,null,null,null,null,null,null,null,null,null,null,null,null,null,null,null,null,1,0,1,null,null,null,null,null,null,1,null,0,null,null,null,null,null,1]
[198,null,null,null,"Балаковская АЭС-Авто",null,null,"Балаковская АЭС-Авто","Энергоатоминвест",0.99998200000000004,null,null,null,null,null,null,null,null,null,null,null,null,null,null,null,null,null,null,null,null,null,null,null,null,null,0.99998200000000004,1.799999999996249E-5,1,null,null,null,null,null,null,0.99998200000000004,null,0.91604251093800004,null,null,null,null,null,0.99998200000000004]
[199,null,null,null,"СНВ",null,null,"СНВ","НПК ХПИ",0,null,null,null,null,null,null,null,null,null,null,null,null,null,null,null,null,null,null,null,null,null,null,null,null,null,0,1,1,null,null,null,null,null,null,0,null,0,null,null,null,null,null,0]
[200,null,null,null,"Инжект",null,null,"Инжект","ВНИИЭФ",1,null,null,null,null,null,null,null,null,null,null,null,null,null,null,null,null,null,null,null,null,null,null,null,null,null,1,0,1,null,null,null,null,null,null,1,null,0,null,null,null,null,null,1]
[201,null,null,null,"Аргон",null,null,"Аргон","НПК ХПИ",0.99990000000000001,null,null,null,null,null,null,null,null,null,null,null,null,null,null,null,null,null,null,null,null,null,null,null,null,null,0.99990000000000001,9.9999999999988987E-5,1,null,null,null,null,null,null,0.99990000000000001,null,0.59170082400000001,null,null,null,null,null,0.99990000000000001]
[202,null,null,null,"ФРЗТ",null,null,"ФРЗТ","Росэнергоатом",0.19139999999999999,null,null,null,null,null,null,null,null,null,null,null,null,null,null,null,null,null,null,null,null,null,null,null,null,null,0.19139999999999999,0.80859999999999999,1,null,null,null,null,null,null,0.19139999999999999,null,0.17533369259999998,null,null,null,null,null,0.19139999999999999]
[203,null,null,null,"МА Титан",null,null,"МА Титан","Гиредмет",4.7600000000000003E-2,null,"ЧМЗ",4.7600000000000003E-2,null,null,null,null,null,null,null,null,null,null,null,null,null,null,null,null,null,null,null,null,null,null,9.5200000000000007E-2,0.90480000000000005,1,null,null,null,null,null,null,9.398391805600001E-2,null,9.1413229600000007E-2,null,null,null,null,null,9.5200000000000007E-2]
[204,null,null,null,"УЭМЗ",null,null,"УЭМЗ","ГК Росатом",1,null,null,null,null,null,null,null,null,null,null,null,null,null,null,null,null,null,null,null,null,null,null,null,null,null,1,0,1,null,null,null,null,null,null,1,null,0,null,null,null,null,null,1]
[205,null,null,null,"ПНФ «Термоксид»",null,null,"ПНФ «Термоксид»","Росэнергоатом",0.679087,null,null,null,null,null,null,null,null,null,null,null,null,null,null,null,null,null,null,null,null,null,null,null,null,null,0.679087,0.320913,1,null,null,null,null,null,null,0.679087,null,0.62208375813299999,null,null,null,null,null,0.679087]
[206,null,null,null,"БАЭС-2",null,null,"БАЭС-2","Росэнергоатом",0.80600000000000005,null,"Энергоатоминвест",7.0000000000000001E-3,null,null,null,null,null,null,null,null,null,null,null,null,null,null,null,null,null,null,null,null,null,null,0.81300000000000006,0.18699999999999994,1,null,null,null,null,null,null,0.81300000000000006,null,0.74475596699999991,null,null,null,null,null,0.81300000000000006]
[207,null,null,null,"Вента",null,null,"Вента","Атомэнергомаш",0.74839999999999995,null,null,null,null,null,null,null,null,null,null,null,null,null,null,null,null,null,null,null,null,null,null,null,null,null,0.74839999999999995,0.25160000000000005,1,null,null,null,null,null,null,0.74839999999999995,null,0.74839999999999995,null,null,null,null,null,0.74839999999999995]
[208,null,null,null,"Издательская фирма \"Нейва-пресс\"",null,null,"Издательская фирма \"Нейва-пресс\"","УЭХК",0.4375,null,null,null,null,null,null,null,null,null,null,null,null,null,null,null,null,null,null,null,null,null,null,null,null,null,0.4375,0.5625,1,null,null,null,null,null,null,0.38276875000874999,null,0.38276875000874999,null,null,null,null,null,0.4375]
[209,null,null,null,"ООО \"Страховая компания \"Кольцо Урала\".",null,null,"ООО \"Страховая компания \"Кольцо Урала\".","БАЭС-2",7.3999999999999999E-4,null,null,null,null,null,null,null,null,null,null,null,null,null,null,null,null,null,null,null,null,null,null,null,null,null,7.3999999999999999E-4,0.99926000000000004,1,null,null,null,null,null,null,6.0162000000000008E-4,null,5.5111941557999997E-4,null,null,null,null,null,7.3999999999999999E-4]
[210,null,null,null,"Уралприбор",null,null,"Уралприбор","ИЦ РГЦ",1,null,null,null,null,null,null,null,null,null,null,null,null,null,null,null,null,null,null,null,null,null,null,null,null,null,1,0,1,null,null,null,null,null,null,1,null,1,null,null,null,null,null,1]
[211,null,null,null,"УЗГЦ",null,null,"УЗГЦ","ТВЭЛ",0.73885000000000001,null,"ИЦ РГЦ",0.26114999999999999,null,null,null,null,null,null,null,null,null,null,null,null,null,null,null,null,null,null,null,null,null,null,1,0,1,null,null,null,null,null,null,1,null,1,null,null,null,null,null,1]
[212,null,null,null,"ННКЦ",null,null,"ННКЦ","ТВЭЛ",0.59835000000000005,null,"ИЦ РГЦ",0.40165000000000001,null,null,null,null,null,null,null,null,null,null,null,null,null,null,null,null,null,null,null,null,null,null,1,0,1,null,null,null,null,null,null,1,null,1,null,null,null,null,null,1]
[213,null,null,null,"УЭХК",null,null,"УЭХК","ОК РСК",0.74990000000000001,null,"ЦОУ",0.25,null,"ТВЭЛ",1.9999999999999999E-11,null,null,null,null,null,null,null,null,null,null,null,null,null,null,null,null,null,null,null,0.99990000002000001,9.9999979999987332E-5,1,null,null,null,null,null,null,0.87490000002000001,null,0.87490000002000001,null,null,null,null,null,0.99990000002000001]
[214,null,null,null,"УЭХК-ТЕЛЕКОМ",null,null,"УЭХК-ТЕЛЕКОМ","УЭХК",1,null,null,null,null,null,null,null,null,null,null,null,null,null,null,null,null,null,null,null,null,null,null,null,null,null,1,0,1,null,null,null,null,null,null,0.87490000002000001,null,0.87490000002000001,null,null,null,null,null,1]
[215,null,null,null,"МЦ \"Изумруд\"",null,null,"МЦ \"Изумруд\"","УЭХК",1,null,null,null,null,null,null,null,null,null,null,null,null,null,null,null,null,null,null,null,null,null,null,null,null,null,1,0,1,null,null,null,null,null,null,0.87490000002000001,null,0.87490000002000001,null,null,null,null,null,1]
[216,null,null,null,"Экоальянс",null,null,"Экоальянс","УЭХК",0.74,null,"Промышленные инновации",0.26,null,null,null,null,null,null,null,null,null,null,null,null,null,null,null,null,null,null,null,null,null,null,1,0,1,null,null,null,null,null,null,0.9074260000148,null,0.9074260000148,null,null,null,null,null,1]
[217,null,null,null,"Транспортно-Логистический Центр",null,null,"Транспортно-Логистический Центр","УЭХК",1,null,null,null,null,null,null,null,null,null,null,null,null,null,null,null,null,null,null,null,null,null,null,null,null,null,1,0,1,null,null,null,null,null,null,0.87490000002000001,null,0.87490000002000001,null,null,null,null,null,1]
[218,null,null,null,"ЗЭП",null,null,"ЗЭП","УЭХК",1,null,null,null,null,null,null,null,null,null,null,null,null,null,null,null,null,null,null,null,null,null,null,null,null,null,1,0,1,null,null,null,null,null,null,0.87490000002000001,null,0.87490000002000001,null,null,null,null,null,1]
[219,null,null,null,"ЭХП",null,null,"ЭХП","ГК Росатом",1,null,null,null,null,null,null,null,null,null,null,null,null,null,null,null,null,null,null,null,null,null,null,null,null,null,1,0,1,null,null,null,null,null,null,1,null,0,null,null,null,null,null,1]
[220,null,null,null,"БСУ-1",null,null,"БСУ-1","БАЭС-2",0.5,null,null,null,null,null,null,null,null,null,null,null,null,null,null,null,null,null,null,null,null,null,null,null,null,null,0.5,0.5,1,null,null,null,null,null,null,0.40650000000000003,null,0.37237798349999995,null,null,null,null,null,0.5]
[221,null,null,null,"БАЭС-Авто",null,null,"БАЭС-Авто","Энергоатоминвест",0.99999199999999999,null,null,null,null,null,null,null,null,null,null,null,null,null,null,null,null,null,null,null,null,null,null,null,null,null,0.99999199999999999,8.0000000000080007E-6,1,null,null,null,null,null,null,0.99999199999999999,null,0.91605167152799993,null,null,null,null,null,0.99999199999999999]
[222,null,null,null,"ИРМ",null,null,"ИРМ","АЭПК",0.93071800000000005,null,"ГК Росатом",4.5067999999999997E-2,null,"РФ в лице ГК Росатом",2.4213999999999999E-2,null,null,null,null,null,null,null,null,null,null,null,null,null,null,null,null,null,null,null,1,0,1,null,null,null,null,null,null,1,null,0.93071800000000005,null,null,null,null,null,1]
[223,null,null,null,"БАЭС-Сервис",null,null,"БАЭС-Сервис","Энергоатоминвест",0.98,null,null,null,null,null,null,null,null,null,null,null,null,null,null,null,null,null,null,null,null,null,null,null,null,null,0.98,2.0000000000000018E-2,1,null,null,null,null,null,null,0.98,null,0.89773781999999991,null,null,null,null,null,0.98]
[224,null,null,null,"КП Урал",null,null,"КП Урал","УЭМЗ",0.75039999999999996,null,null,null,null,null,null,null,null,null,null,null,null,null,null,null,null,null,null,null,null,null,null,null,null,null,0.75039999999999996,0.24960000000000004,1,null,null,null,null,null,null,0.75039999999999996,null,0,null,null,null,null,null,0.75039999999999996]
[225,null,null,null,"СвердНИИхиммаш",null,null,"СвердНИИхиммаш","Атомэнергомаш",0.88990000000000002,null,"Росэнергоатом",3.0335999999999998E-2,null,null,null,null,null,null,null,null,null,null,null,null,null,null,null,null,null,null,null,null,null,null,0.92023600000000005,7.9763999999999946E-2,1,null,null,null,null,null,null,0.92023600000000005,null,0.91768956582400008,null,null,null,null,null,0.92023600000000005]
[226,null,null,null,"АЭМ",null,null,"АЭМ","РАС-Инвест",0,null,null,null,null,null,null,null,null,null,null,null,null,null,null,null,null,null,null,null,null,null,null,null,null,null,0,1,1,null,null,null,null,null,null,0,null,0,null,null,null,null,null,0]
[227,null,null,null,"Изотоп Ектб",null,null,"Изотоп Ектб","ВО Изотоп",1,null,null,null,null,null,null,null,null,null,null,null,null,null,null,null,null,null,null,null,null,null,null,null,null,null,1,0,1,null,null,null,null,null,null,1,null,0,null,null,null,null,null,1]
[228,null,null,null,"Атомтранс",null,null,"Атомтранс","Росэнергоатом",1,null,null,null,null,null,null,null,null,null,null,null,null,null,null,null,null,null,null,null,null,null,null,null,null,null,1,0,1,null,null,null,null,null,null,1,null,0.91605899999999996,null,null,null,null,null,1]
[229,null,null,null,"САЭС-Сервис",null,null,"САЭС-Сервис","Энергоатоминвест",0.99963599999999997,null,null,null,null,null,null,null,null,null,null,null,null,null,null,null,null,null,null,null,null,null,null,null,null,null,0.99963599999999997,3.6400000000003097E-4,1,null,null,null,null,null,null,0.99963599999999997,null,0.91572555452399995,null,null,null,null,null,0.99963599999999997]
[230,null,null,null,"Трест РСЭМ",null,null,"Трест РСЭМ","НИАЭП",0.999,null,null,null,null,null,null,null,null,null,null,null,null,null,null,null,null,null,null,null,null,null,null,null,null,null,0.999,1.0000000000000009E-3,1,null,null,null,null,null,null,0.999,null,0.50949,null,null,null,null,null,0.999]
[231,null,null,null,"ТАЭМ",null,null,"ТАЭМ","РАС-Инвест",0.26,null,null,null,null,null,null,null,null,null,null,null,null,null,null,null,null,null,null,null,null,null,null,null,null,null,0.26,0.74,1,null,null,null,null,null,null,0.26,null,0.26,null,null,null,null,null,0.26]
[232,null,null,null,"НИАЭП-Сервис",null,null,"НИАЭП-Сервис","НИАЭП",1,null,null,null,null,null,null,null,null,null,null,null,null,null,null,null,null,null,null,null,null,null,null,null,null,null,1,0,1,null,null,null,null,null,null,1,null,0.51,null,null,null,null,null,1]
[233,null,null,null,"КАЭС-Сервис",null,null,"КАЭС-Сервис","Энергоатоминвест",0.99999000000000005,null,null,null,null,null,null,null,null,null,null,null,null,null,null,null,null,null,null,null,null,null,null,null,null,null,0.99999000000000005,9.9999999999544897E-6,1,null,null,null,null,null,null,0.99999000000000005,null,0.91604983940999996,null,null,null,null,null,0.99999000000000005]
[234,null,null,null,"Синий Утёс",null,null,"Синий Утёс","СХК",0.9103,null,null,null,null,null,null,null,null,null,null,null,null,null,null,null,null,null,null,null,null,null,null,null,null,null,0.9103,8.9700000000000002E-2,1,null,null,null,null,null,null,0.86942752999999995,null,0.8024230779,null,null,null,null,null,0.9103]
[235,null,null,null,"СХК",null,null,"СХК","ОК РСК",0.76982600000000001,null,"ТВЭЛ",0.111667,null,"РФ в лице ГК Росатом",7.3607000000000006E-2,null,"ГК Росатом",4.4899000000000001E-2,null,null,null,null,null,null,null,null,null,null,null,null,null,null,null,null,0.99999899999999997,1.0000000000287557E-6,1,null,null,null,null,null,null,0.95509999999999995,null,0.88149299999999997,null,null,null,null,null,0.99999899999999997]
[236,null,null,null,"ОДЦ УГР",null,null,"ОДЦ УГР","АЭПК",1,null,null,null,null,null,null,null,null,null,null,null,null,null,null,null,null,null,null,null,null,null,null,null,null,null,1,0,1,null,null,null,null,null,null,1,null,1,null,null,null,null,null,1]
[237,null,null,null,"СТК",null,null,"СТК","СХК",1,null,null,null,null,null,null,null,null,null,null,null,null,null,null,null,null,null,null,null,null,null,null,null,null,null,1,0,1,null,null,null,null,null,null,0.95509999999999995,null,0.88149299999999997,null,null,null,null,null,1]
[238,null,null,null,"УАТ Северск",null,null,"УАТ Северск","ЧМЗ",1,null,null,null,null,null,null,null,null,null,null,null,null,null,null,null,null,null,null,null,null,null,null,null,null,null,1,0,1,null,null,null,null,null,null,1,null,1,null,null,null,null,null,1]
[239,null,null,null,"СибМЗ",null,null,"СибМЗ","СХК",1,null,null,null,null,null,null,null,null,null,null,null,null,null,null,null,null,null,null,null,null,null,null,null,null,null,1,0,1,null,null,null,null,null,null,0.95509999999999995,null,0.88149299999999997,null,null,null,null,null,1]
[240,null,null,null,"СибРегионПромсервис",null,null,"СибРегионПромсервис","СХК",1,null,null,null,null,null,null,null,null,null,null,null,null,null,null,null,null,null,null,null,null,null,null,null,null,null,1,0,1,null,null,null,null,null,null,0.95509999999999995,null,0.88149299999999997,null,null,null,null,null,1]
[241,null,null,null,"Прибор-Сервис Томск",null,null,"Прибор-Сервис Томск","СХК",1,null,null,null,null,null,null,null,null,null,null,null,null,null,null,null,null,null,null,null,null,null,null,null,null,null,1,0,1,null,null,null,null,null,null,0.95509999999999995,null,0.88149299999999997,null,null,null,null,null,1]
[242,null,null,null,"Энергосервисная компания ",null,null,"Энергосервисная компания ","СХК",1,null,null,null,null,null,null,null,null,null,null,null,null,null,null,null,null,null,null,null,null,null,null,null,null,null,1,0,1,null,null,null,null,null,null,0.95509999999999995,null,0.88149299999999997,null,null,null,null,null,1]
[243,null,null,null,"СЕТЕС",null,null,"СЕТЕС","НИКИМТ-Атомстрой",1,null,null,null,null,null,null,null,null,null,null,null,null,null,null,null,null,null,null,null,null,null,null,null,null,null,1,0,1,null,null,null,null,null,null,1,null,1,null,null,null,null,null,1]
[244,null,null,null,"НГСС",null,null,"НГСС","РАС-Инвест",0.51,null,null,null,null,null,null,null,null,null,null,null,null,null,null,null,null,null,null,null,null,null,null,null,null,null,{"$f":"J252+#REF!+P252+S252+V252+Y252+AB252+AE252+AH252","v":{"$error":"#REF!"}},{"$error":"#REF!"},{"$error":"#REF!"},null,null,null,null,null,null,0.51,null,0.51,null,null,null,null,null,0.51]
[245,null,null,null,"НИИАР",null,null,"НИИАР","АЭПК",0.49823499999999998,null,"ГК Росатом",0.50176500000000002,null,null,null,null,null,null,null,null,null,null,null,null,null,null,null,null,null,null,null,null,null,null,{"$f":"M253+J253+P253+S253+V253+Y253+AB253+AE253+AH253","v":1},0,1,null,null,null,null,null,null,1,null,0.49823499999999998,null,null,null,null,null,{"$f":"M253+J253+P253+S253+V253+Y253+AB253+AE253+AH253","v":1}]
[246,null,null,null,"ПСЗ",null,null,"ПСЗ","ГК Росатом",1,null,null,null,null,null,null,null,null,null,null,null,null,null,null,null,null,null,null,null,null,null,null,null,null,null,1,0,1,null,null,null,null,null,null,1,null,0,null,null,null,null,null,1]
[247,null,null,null,"ЭКОцентр",null,null,"ЭКОцентр","ПСЗ",0.13159999999999999,null,null,null,null,null,null,null,null,null,null,null,null,null,null,null,null,null,null,null,null,null,null,null,null,null,0.13159999999999999,0.86840000000000006,1,null,null,null,null,null,null,0.13159999999999999,null,0,null,null,null,null,null,0.13159999999999999]
[248,null,null,null,"ЮУрСЦУ",null,null,"ЮУрСЦУ","ПСЗ",0.2445,null,null,null,null,null,null,null,null,null,null,null,null,null,null,null,null,null,null,null,null,null,null,null,null,null,0.2445,0.75550000000000006,1,null,null,null,null,null,null,0.2445,null,0,null,null,null,null,null,0.2445]
[249,null,null,null,"Маяк",null,null,"Маяк","ГК Росатом",1,null,null,null,null,null,null,null,null,null,null,null,null,null,null,null,null,null,null,null,null,null,null,null,null,null,1,0,1,null,null,null,null,null,null,1,null,0,null,null,null,null,null,1]
[250,null,null,null,"УМПК",null,null,"УМПК","АСЭ-Финанс",0.501,null,null,null,null,null,null,null,null,null,null,null,null,null,null,null,null,null,null,null,null,null,null,null,null,null,0.501,0.499,1,null,null,null,null,null,null,0.501,null,0,null,null,null,null,null,0.501]
[251,null,null,null,"ВНИИТФ",null,null,"ВНИИТФ","ГК Росатом",1,null,null,null,null,null,null,null,null,null,null,null,null,null,null,null,null,null,null,null,null,null,null,null,null,null,1,0,1,null,null,null,null,null,null,1,null,0,null,null,null,null,null,1]
[252,null,null,null,"Сервис",null,null,"Сервис","ВНИИТФ",5.0000000000000001E-3,null,null,null,null,null,null,null,null,null,null,null,null,null,null,null,null,null,null,null,null,null,null,null,null,null,5.0000000000000001E-3,0.995,1,null,null,null,null,null,null,5.0000000000000001E-3,null,0,null,null,null,null,null,5.0000000000000001E-3]
[253,null,null,null,"Трансэнерго",null,null,"Трансэнерго","ВНИИТФ",0.51,null,null,null,null,null,null,null,null,null,null,null,null,null,null,null,null,null,null,null,null,null,null,null,null,null,0.51,0.49,1,null,null,null,null,null,null,0.51,null,0,null,null,null,null,null,0.51]
[254,null,null,null,"МЦКДМ",null,null,"МЦКДМ","ВНИИТФ",1,null,null,null,null,null,null,null,null,null,null,null,null,null,null,null,null,null,null,null,null,null,null,null,null,null,1,0,1,null,null,null,null,null,null,1,null,0,null,null,null,null,null,1]
[255,null,null,null,"ЗУКМ",null,null,"ЗУКМ","НПК ХПИ",0.99,null,null,null,null,"ТЦ ТЕНЕКС",0.01,null,null,null,null,null,null,null,null,null,null,null,null,null,null,null,null,null,null,null,1,0,1,null,null,null,null,null,null,0.99990000000000001,null,0.59170082400000001,null,null,null,null,null,1]
[256,null,null,null,"УГК-Холдинг",null,null,"УГК-Холдинг","ВНИИТФ",0.5,null,null,null,null,null,null,null,null,null,null,null,null,null,null,null,null,null,null,null,null,null,null,null,null,null,0.5,0.5,1,null,null,null,null,null,null,0.5,null,0,null,null,null,null,null,0.5]
[257,null,null,null,"ЯМТ-Снежинск",null,null,"ЯМТ-Снежинск","ОИК",0.505,null,"REIN",0.255,null,"ВНИИТФ",0.24,null,null,null,null,null,null,null,null,null,null,null,null,null,null,null,null,null,null,null,1,0,1,null,null,null,null,null,null,1,null,0.48005309500000004,null,null,null,null,null,1]
[258,null,null,null,"ППГХО",null,null,"ППГХО","АРМЗ",0.94089999999999996,null,"ТВЭЛ",1.0500000000000001E-2,null,null,null,null,null,null,null,null,null,null,null,null,null,null,null,null,null,null,null,null,null,null,{"$f":"J266+M266+P266+S266+V266+Y266+AB266+AE266+AH266","v":0.95139999999999991},{"$f":"1-AJ266","v":4.8600000000000088E-2},{"$f":"AJ266+AK266","v":1},null,null,null,null,null,null,{"$f":"IF(I266=\"ГК Росатом\",J266,J266*SUMIF($H:$H,I266,$AS:$AS))+IF(L266=\"ГК Росатом\",M266*100%,M266*SUMIF($H:$H,L266,$AS:$AS))+IF(O266=\"РФ в лице ГК Росатом\",P266*100%,P266*SUMIF($H:$H,O266,$AS:$AS))+S266*SUMIF($H:$H,R266,$AS:$AS)+V266*SUMIF($H:$H,U355,$AS:$AS)+Y266*SUMIF($H:$H,X266,$AS:$AS)+AB266*SUMIF($H:$H,AA266,$AS:$AS)+AE266*SUMIF($H:$H,AD266,$AS:$AS)","v":0.95135860039999998},null,{"$f":"IF(I266=\"АЭПК\",J266,J266*SUMIF($H:$H,I266,$AU:$AU))+IF(L266=\"РФ в лице ГК Росатом\",0,M266*SUMIF($H:$H,$L266,$AU:$AU))+IF(O266=\"РФ в лице ГК Росатом\",0,P266*SUMIF($H:$H,O266,$AU:$AU))+S266*SUMIF($H:$H,R266,$AU:$AU)+V266*SUMIF($H:$H,U266,$AU:$AU)+Y266*SUMIF($H:$H,X266,$AU:$AU)+AB266*SUMIF($H:$H,AA266,$AU:$AU)+AE266*SUMIF($H:$H,AD266,$AU:$AU)","v":0.93923134029999988},null,null,null,null,null,{"$f":"J266+M266+P266+S266+V266+Y266+AB266+AE266+AH266","v":0.95139999999999991}]
[259,null,null,null,"ТВ центр",null,null,"ТВ центр","ППГХО",0.57999999999999996,null,null,null,null,null,null,null,null,null,null,null,null,null,null,null,null,null,null,null,null,null,null,null,null,null,0.57999999999999996,0.42000000000000004,1,null,null,null,null,null,null,0.55178798823199993,null,0.54475417737399989,null,null,null,null,null,0.57999999999999996]
[260,null,null,null,"ССРТ",null,null,"ССРТ","ППГХО",1,null,null,null,null,null,null,null,null,null,null,null,null,null,null,null,null,null,null,null,null,null,null,null,null,null,1,0,1,null,null,null,null,null,null,0.95135860039999998,null,0.93923134029999988,null,null,null,null,null,1]
[261,null,null,null,"УОПиРТ",null,null,"УОПиРТ","ППГХО",1,null,null,null,null,null,null,null,null,null,null,null,null,null,null,null,null,null,null,null,null,null,null,null,null,null,1,0,1,null,null,null,null,null,null,0.95135860039999998,null,0.93923134029999988,null,null,null,null,null,1]
[262,null,null,null,"АТП",null,null,"АТП","ППГХО",1,null,null,null,null,null,null,null,null,null,null,null,null,null,null,null,null,null,null,null,null,null,null,null,null,null,1,0,1,null,null,null,null,null,null,0.95135860039999998,null,0.93923134029999988,null,null,null,null,null,1]
[263,null,null,null,"Автохозяйство Уртуйское",null,null,"Автохозяйство Уртуйское","ППГХО",1,null,null,null,null,null,null,null,null,null,null,null,null,null,null,null,null,null,null,null,null,null,null,null,null,null,1,0,1,null,null,null,null,null,null,0.95135860039999998,null,0.93923134029999988,null,null,null,null,null,1]
[264,null,null,null,"ПЭС",null,null,"ПЭС","ППГХО",1,null,null,null,null,null,null,null,null,null,null,null,null,null,null,null,null,null,null,null,null,null,null,null,null,null,1,0,1,null,null,null,null,null,null,0.95135860039999998,null,0.93923134029999988,null,null,null,null,null,1]
[265,null,null,null,"РМЗ",null,null,"РМЗ","ППГХО",1,null,null,null,null,null,null,null,null,null,null,null,null,null,null,null,null,null,null,null,null,null,null,null,null,null,1,0,1,null,null,null,null,null,null,0.95135860039999998,null,0.93923134029999988,null,null,null,null,null,1]
[266,null,null,null,"УДК Горное",null,null,"УДК Горное","АРМЗ",1,null,null,null,null,null,null,null,null,null,null,null,null,null,null,null,null,null,null,null,null,null,null,null,null,null,1,0,1,null,null,null,null,null,null,0.99995600000000007,null,0.98706700000000003,null,null,null,null,null,1]
[267,null,null,null,"Цеолиты Забайкалья",null,null,"Цеолиты Забайкалья","ППГХО",0.5,null,null,null,null,null,null,null,null,null,null,null,null,null,null,null,null,null,null,null,null,null,null,null,null,null,0.5,0.5,1,null,null,null,null,null,null,0.47567930019999999,null,0.46961567014999994,null,null,null,null,null,0.5]
[268,null,null,null,"Люмпекс",null,null,"Люмпекс","Гиредмет",0.21199999999999999,null,null,null,null,null,null,null,null,null,null,null,null,null,null,null,null,null,null,null,null,null,null,null,null,null,0.21199999999999999,0.78800000000000003,1,null,null,null,null,null,null,0.20658383672,null,0.19513455199999999,null,null,null,null,null,0.21199999999999999]
[269,null,null,null,"АСЭ",null,null,"АСЭ","ГК Росатом",1,null,null,null,null,null,null,null,null,null,null,null,null,null,null,null,null,null,null,null,null,null,null,null,null,null,1,0,1,null,null,null,null,null,null,1,null,0,null,null,null,null,null,1]
[270,null,null,null,"Потаповский",null,null,"Потаповский","Росэнергоатом",1,null,null,null,null,null,null,null,null,null,null,null,null,null,null,null,null,null,null,null,null,null,null,null,null,null,1,0,1,null,null,null,null,null,null,1,null,0.91605899999999996,null,null,null,null,null,1]
[271,null,null,null,"ЗАЭС",null,null,"ЗАЭС","Росэнергоатом",1,null,null,null,null,null,null,null,null,null,null,null,null,null,null,null,null,null,null,null,null,null,null,null,null,null,1,0,1,null,null,null,null,null,null,1,null,0.91605899999999996,null,null,null,null,null,1]
[272,null,null,null,"АЭП",null,null,"АЭП","АСЭ",0.99999999939999995,null,"НИАЭП",6E-10,null,null,null,null,null,null,null,null,null,null,null,null,null,null,null,null,null,null,null,null,null,null,1,0,1,null,null,null,null,null,null,1,null,3.0600000000000003E-10,null,null,null,null,null,1]
[273,null,null,null,"Первая горнорудная компания",null,null,"Первая горнорудная компания","АРМЗ",0.99709999999999999,null,null,null,null,null,null,null,null,null,null,null,null,null,null,null,null,null,null,null,null,null,null,null,null,null,0.99709999999999999,2.9000000000000137E-3,1,null,null,null,null,null,null,0.99705612760000006,null,0.98420450570000007,null,null,null,null,null,0.99709999999999999]
[274,null,null,null,"РАДОН",null,null,"РАДОН","ГК Росатом",1,null,null,null,null,null,null,null,null,null,null,null,null,null,null,null,null,null,null,null,null,null,null,null,null,null,1,0,1,null,null,null,null,null,null,1,null,0,null,null,null,null,null,1]
[275,null,null,null,"Атомэнергосбыт",null,null,"Атомэнергосбыт","Росэнергоатом",0.19999900000000001,null,null,null,null,null,null,null,null,null,null,null,null,null,null,null,null,null,null,null,null,null,null,null,null,null,0.19999900000000001,0.80000099999999996,1,null,null,null,null,null,null,0.19999900000000001,null,0.18321088394099999,null,null,null,null,null,0.19999900000000001]
[276,null,null,null,"ИКАО",null,null,"ИКАО","Росэнергоатом",1,null,null,null,null,null,null,null,null,null,null,null,null,null,null,null,null,null,null,null,null,null,null,null,null,null,1,0,1,null,null,null,null,null,null,1,null,0.91605899999999996,null,null,null,null,null,1]
[277,null,null,null,"Хладици Веже - Восток",null,null,"Хладици Веже - Восток","Chladici veze Praha, a.s",1,null,null,null,null,null,null,null,null,null,null,null,null,null,null,null,null,null,null,null,null,null,null,null,null,null,1,0,1,null,null,null,null,null,null,0.51,null,0.51,null,null,null,null,null,1]
[278,null,null,null,"ВО Изотоп",null,null,"ВО Изотоп","ГК Росатом",1,null,null,null,null,null,null,null,null,null,null,null,null,null,null,null,null,null,null,null,null,null,null,null,null,null,1,0,1,null,null,null,null,null,null,1,null,0,null,null,null,null,null,1]
[279,null,null,null,"Центр энергоэффективности ИНТЕР РАО ЕЭС",null,null,"Центр энергоэффективности ИНТЕР РАО ЕЭС","АЭПК",0.5,null,null,null,null,null,null,null,null,null,null,null,null,null,null,null,null,null,null,null,null,null,null,null,null,null,0.5,0.5,1,null,null,null,null,null,null,0.5,null,0.5,null,null,null,null,null,0.5]
[280,null,null,null,"Атомтехэкспорт ",null,null,"Атомтехэкспорт","Росэнергоатом",0.51,null,"Технатом",0.49,null,null,null,null,null,null,null,null,null,null,null,null,null,null,null,null,null,null,null,null,null,null,1,0,1,null,null,null,null,null,null,0.99998480999999995,null,0.91707526666155004,null,null,null,null,null,1]
[281,null,null,null,"АСЭ-Финанс",null,null,"АСЭ-Финанс","АСЭ",1,null,null,null,null,null,null,null,null,null,null,null,null,null,null,null,null,null,null,null,null,null,null,null,null,null,1,0,1,null,null,null,null,null,null,1,null,0,null,null,null,null,null,1]
[282,null,null,null,"Краун",null,null,"Краун","Техснабэкспорт",0.99999800000000005,null,"ТЕНЕКС-Логистика",1.9999999999999999E-6,null,null,null,null,null,null,null,null,null,null,null,null,null,null,null,null,null,null,null,null,null,null,1,0,1,null,null,null,null,null,null,1,null,1,null,null,null,null,null,1]
[283,null,null,null,"Объединенные урановые предприятия",null,null,"Объединенные урановые предприятия","АРМЗ",0.5,null,"Uranium One Holding N.V.",0.5,null,null,null,null,null,null,null,null,null,null,null,null,null,null,null,null,null,null,null,null,null,null,1,0,1,null,null,null,null,null,null,0.99996656033791831,null,0.99017101932492269,null,null,null,null,null,1]
[284,null,null,null,"АСЭ-Инжиниринг",null,null,"АСЭ-Инжиниринг","АСЭ",1,null,null,null,null,null,null,null,null,null,null,null,null,null,null,null,null,null,null,null,null,null,null,null,null,null,1,0,1,null,null,null,null,null,null,1,null,0,null,null,null,null,null,1]
[285,null,null,null,"Вентиляционные системы",null,null,"Вентиляционные системы","АСЭ",0,null,null,null,null,null,null,null,null,null,null,null,null,null,null,null,null,null,null,null,null,null,null,null,null,null,0,1,1,null,null,null,null,null,null,0,null,0,null,null,null,null,null,0]
[286,null,null,null,"АтомТеплоЭлектроСеть",null,null,"АтомТеплоЭлектроСеть","Атомэнергосбыт",0.99,null,"АТС",9.2E-5,null,null,null,null,null,null,null,null,null,null,null,null,null,null,null,null,null,null,null,null,null,null,0.99009199999999997,9.9080000000000279E-3,1,null,null,null,null,null,null,0.19801740838080764,null,0.18139562910391424,null,null,null,null,null,0.99009199999999997]
[287,null,null,null,"Русатом Сервис",null,null,"Русатом Сервис","Росэнергоатом",0.96210499999999999,null,"Гидропресс",1.2632000000000001E-2,null,"Атомтехэнерго",1.2632000000000001E-2,null,"Атомэнергомаш",1.26E-2,null,null,null,null,null,null,null,null,null,null,null,null,null,null,null,null,0.99996899999999989,3.1000000000114269E-5,1,null,null,null,null,null,null,0.99996899999999989,null,0.9181330135950001,null,null,null,null,null,0.99996899999999989]
[288,null,null,null,"АРМЗ",null,null,"АРМЗ","АЭПК",0.82569999999999999,null,"ГК Росатом",1.2888999999999999E-2,null,"ТВЭЛ",0.16136700000000001,null,null,null,null,null,null,null,null,null,null,null,null,null,null,null,null,null,null,null,{"$f":"J296+P296+M296+S296+V296+Y296+AB296+AE296+AH296","v":0.99995600000000007},4.3999999999932982E-5,1,null,null,null,null,null,null,0.99995600000000007,null,0.98706700000000003,null,null,null,null,null,0.99995600000000007]
[289,null,null,null,"Ансертэко",null,null,"Ансертэко","Гиредмет",6.6699999999999995E-2,null,null,null,null,null,null,null,null,null,null,null,null,null,null,null,null,null,null,null,null,null,null,null,null,null,{"$f":"J297+#REF!+P297+S297+V297+Y297+AB297+AE297+AH297","v":{"$error":"#REF!"}},{"$error":"#REF!"},{"$error":"#REF!"},null,null,null,null,null,null,6.4995952401999998E-2,null,6.1393748199999994E-2,null,null,null,null,null,6.6699999999999995E-2]
[290,null,null,null,"Атомзащитаинформ",null,null,"Атомзащитаинформ","ГК Росатом",1,null,null,null,null,null,null,null,null,null,null,null,null,null,null,null,null,null,null,null,null,null,null,null,null,null,1,0,1,null,null,null,null,null,null,1,null,0,null,null,null,null,null,1]
[291,null,null,null,"Техснабэкспорт",null,null,"Техснабэкспорт","АЭПК",1,null,null,null,null,null,null,null,null,null,null,null,null,null,null,null,null,null,null,null,null,null,null,null,null,null,1,0,1,null,null,null,null,null,null,1,null,1,null,null,null,null,null,1]
[292,null,null,null,"ТВЭЛ",null,null,"ТВЭЛ","АЭПК",1,null,null,null,null,null,null,null,null,null,null,null,null,null,null,null,null,null,null,null,null,null,null,null,null,null,1,0,1,null,null,null,null,null,null,1,null,1,null,null,null,null,null,1]
[293,null,null,null,"СКЦ",null,null,"СКЦ","ГК Росатом",1,null,null,null,null,null,null,null,null,null,null,null,null,null,null,null,null,null,null,null,null,null,null,null,null,null,1,0,1,null,null,null,null,null,null,1,null,0,null,null,null,null,null,1]
[294,null,null,null,"Атом-охрана",null,null,"Атом-охрана","ГК Росатом",1,null,null,null,null,null,null,null,null,null,null,null,null,null,null,null,null,null,null,null,null,null,null,null,null,null,1,0,1,null,null,null,null,null,null,1,null,0,null,null,null,null,null,1]
[295,null,null,null,"Корпоративная Академия Росатома",null,null,"Корпоративная Академия Росатома","АЭПК",1,null,null,null,null,null,null,null,null,null,null,null,null,null,null,null,null,null,null,null,null,null,null,null,null,null,1,0,1,null,null,null,null,null,null,1,null,1,null,null,null,null,null,1]
[296,null,null,null,"ТЕНЕКС-Сервис",null,null,"ТЕНЕКС-Сервис","АЭПК",1,null,null,null,null,null,null,null,null,null,null,null,null,null,null,null,null,null,null,null,null,null,null,null,null,null,1,0,1,null,null,null,null,null,null,1,null,1,null,null,null,null,null,1]
[297,null,null,null,"ТЕНЕКС-Логистика",null,null,"ТЕНЕКС-Логистика","Техснабэкспорт",1,null,null,null,null,null,null,null,null,null,null,null,null,null,null,null,null,null,null,null,null,null,null,null,null,null,1,0,1,null,null,null,null,null,null,1,null,1,null,null,null,null,null,1]
[298,null,null,null,"ТЦ ТЕНЕКС",null,null,"ТЦ ТЕНЕКС","НПК ХПИ",0.99,null,null,null,null,null,null,null,null,null,null,null,null,null,null,null,null,null,null,null,null,null,null,null,null,null,0.99,1.0000000000000009E-2,1,null,null,null,null,null,null,0.99,null,0.58584239999999999,null,null,null,null,null,0.99]
[299,null,null,null,"Атомэнергомаш",null,null,"Атомэнергомаш","АЭПК",{"$f":"94.1924%+1.8497%+0.0354%","v":0.96077500000000005},null,"ТВЭЛ",3.9225000000000003E-2,null,"АЭМ-лизинг(1,8497%)",null,null,"ЭМКО(0,0354%)",null,null,"Техснабэкспорт",0,null,null,null,null,null,null,null,null,null,null,null,null,null,1,0,1,null,null,null,null,null,null,1,null,1,null,null,null,null,null,1]
[300,null,null,null,"ЦентрАтомКонсалт",null,null,"ЦентрАтомКонсалт","ЦентрАтом",1,null,null,null,null,null,null,null,null,null,null,null,null,null,null,null,null,null,null,null,null,null,null,null,null,null,1,0,1,null,null,null,null,null,null,1,null,1,null,null,null,null,null,1]
[301,null,null,null,"УУГ",null,null,"УУГ","АЭПК",0.710839,null,"АРМЗ",0.289161,null,null,null,null,null,null,null,null,null,null,null,null,null,null,null,null,null,null,null,null,null,null,1,0,1,null,null,null,null,null,null,0.99998727691600009,null,0.99626028078700002,null,null,null,null,null,1]
[302,null,null,null,"АЭПК",null,null,"АЭПК","ГК Росатом",1,"РФ в лице Минфина 5,6507%",null,null,null,null,null,null,null,null,null,null,null,null,null,null,null,null,null,null,null,null,null,null,null,null,1,0,1,null,null,null,null,null,null,1,null,0,null,null,null,null,null,1]
[303,null,null,null,"АЭМ-лизинг",null,null,"АЭМ-лизинг","Атомэнергомаш",1,null,null,null,null,null,null,null,null,null,null,null,null,null,null,null,null,null,null,null,null,null,null,null,null,null,1,0,1,null,null,null,null,null,null,1,null,1,null,null,null,null,null,1]
[304,null,null,null,"НПК ХПИ",null,null,"НПК ХПИ","АЭПК",0.59175999999999995,null,"ГК Росатом",0.40823999999999999,null,"Техснабэкспорт",0,null,null,null,null,null,null,null,null,null,null,null,null,null,null,null,null,null,null,null,1,0,1,null,null,null,null,null,null,1,null,0.59175999999999995,null,null,null,null,null,1]
[305,null,null,null,"ИЦ РГЦ",null,null,"ИЦ РГЦ","ТВЭЛ",1,null,null,null,null,null,null,null,null,null,null,null,null,null,null,null,null,null,null,null,null,null,null,null,null,null,1,0,1,null,null,null,null,null,null,1,null,1,null,null,null,null,null,1]
[306,null,null,null,"Гиредмет",null,null,"Гиредмет","АЭПК",0.92044599999999999,null,"ГК Росатом",5.3747999999999997E-2,null,"РФ в лице ГК Росатом",2.5806000000000001E-4,null,null,null,null,null,null,null,null,null,null,null,null,null,null,null,null,null,null,null,0.97445205999999995,2.5547940000000047E-2,1,null,null,null,null,null,null,0.97445205999999995,null,0.92044599999999999,null,null,null,null,null,0.97445205999999995]
[307,null,null,null,"ОК РСК",null,null,"ОК РСК","ТВЭЛ",1,null,null,null,null,null,null,null,null,null,null,null,null,null,null,null,null,null,null,null,null,null,null,null,null,null,1,0,1,null,null,null,null,null,null,1,null,1,null,null,null,null,null,1]
[308,null,null,null,"ЭНПРАН",null,null,"ЭНПРАН","АЭПК",1,null,null,null,null,null,null,null,null,null,null,null,null,null,null,null,null,null,null,null,null,null,null,null,null,null,1,0,1,null,null,null,null,null,null,1,null,1,null,null,null,null,null,1]
[309,null,null,null,"ЦентрАтом",null,null,"ЦентрАтом","АЭПК",1,null,null,null,null,null,null,null,null,null,null,null,null,null,null,null,null,null,null,null,null,null,null,null,null,null,1,0,1,null,null,null,null,null,null,1,null,1,null,null,null,null,null,1]
[310,null,null,null,"АКМЭ-Инжиниринг",null,null,"АКМЭ-Инжиниринг","ГК Росатом",0.5,null,null,null,null,null,null,null,null,null,null,null,null,null,null,null,null,null,null,null,null,null,null,null,null,null,0.5,0.5,1,null,null,null,null,null,null,0.5,null,0,null,null,null,null,null,0.5]
[311,null,null,null,"Гринатом",null,null,"Гринатом","АЭПК",1,null,null,null,null,null,null,null,null,null,null,null,null,null,null,null,null,null,null,null,null,null,null,null,null,null,1,0,1,null,null,null,null,null,null,1,null,1,null,null,null,null,null,1]
[312,null,null,null,"ДЕЗ",null,null,"ДЕЗ","АЭПК",1,null,null,null,null,null,null,null,null,null,null,null,null,null,null,null,null,null,null,null,null,null,null,null,null,null,1,0,1,null,null,null,null,null,null,1,null,1,null,null,null,null,null,1]
[313,null,null,null,"Атомкомплект",null,null,"Атомкомплект","ГК Росатом",1,null,null,null,null,null,null,null,null,null,null,null,null,null,null,null,null,null,null,null,null,null,null,null,null,null,1,0,1,null,null,null,null,null,null,1,null,0,null,null,null,null,null,1]
[314,null,null,null,"ОИК",null,null,"ОИК","АЭПК",0.66849999999999998,null,"АтомКапитал",0.33150000000000002,null,null,null,null,null,null,null,null,null,null,null,null,null,null,null,null,null,null,null,null,null,null,1,0,1,null,null,null,null,null,null,1,null,0.66849999999999998,null,null,null,null,null,1]
[315,null,null,null,"ОТЭК",null,null,"ОТЭК","АЭПК",1,null,null,null,null,null,null,null,null,null,null,null,null,null,null,null,null,null,null,null,null,null,null,null,null,null,1,0,1,null,null,null,null,null,null,1,null,1,null,null,null,null,null,1]
[316,null,null,null,"REIN",null,null,"REIN","АЭПК",0.55866899999999997,null,"ГК Росатом",0.44133099999999997,null,null,null,null,null,null,null,null,null,null,null,null,null,null,null,null,null,null,null,null,null,null,1,0,1,null,null,null,null,null,null,1,null,0.55866899999999997,null,null,null,null,null,1]
[317,null,null,null,"Наука и инновации",null,null,"Наука и инновации","АЭПК",1,null,null,null,null,null,null,null,null,null,null,null,null,null,null,null,null,null,null,null,null,null,null,null,null,null,1,0,1,null,null,null,null,null,null,1,null,1,null,null,null,null,null,1]
[318,null,null,null,"АЭМ-активы",null,null,"АЭМ-активы","Атомэнергомаш",1,null,null,null,null,null,null,null,null,null,null,null,null,null,null,null,null,null,null,null,null,null,null,null,null,null,1,0,1,null,null,null,null,null,null,1,null,1,null,null,null,null,null,1]
[319,null,null,null,"АтомКапитал",null,null,"АтомКапитал","ГК Росатом",1,null,null,null,null,null,null,null,null,null,null,null,null,null,null,null,null,null,null,null,null,null,null,null,null,null,1,0,1,null,null,null,null,null,null,1,null,0,null,null,null,null,null,1]
[320,null,null,null,"ФЦЯРБ",null,null,"ФЦЯРБ","ГК Росатом",1,null,null,null,null,null,null,null,null,null,null,null,null,null,null,null,null,null,null,null,null,null,null,null,null,null,1,0,1,null,null,null,null,null,null,1,null,0,null,null,null,null,null,1]
[321,null,null,null,"Комбинат питания",null,null,"Комбинат питания","СХК",0.999,null,null,null,null,null,null,null,null,null,null,null,null,null,null,null,null,null,null,null,null,null,null,null,null,null,0.999,1.0000000000000009E-3,1,null,null,null,null,null,null,0.95414489999999996,null,0.88061150700000002,null,null,null,null,null,0.999]
[322,null,null,null,"УАЗ",null,null,"УАЗ","ГК Росатом",1,null,null,null,null,null,null,null,null,null,null,null,null,null,null,null,null,null,null,null,null,null,null,null,null,null,{"$f":"J330+M330+P330+S330+V330+Y330+AB330+AE330+AH330","v":1},{"$f":"1-AJ330","v":0},{"$f":"AJ330+AK330","v":1},null,null,null,null,null,null,{"$f":"IF(I330=\"ГК Росатом\",J330,J330*SUMIF($H:$H,I330,$AS:$AS))+IF(L330=\"ГК Росатом\",M330*100%,M330*SUMIF($H:$H,L330,$AS:$AS))+IF(O330=\"РФ в лице ГК Росатом\",P330*100%,P330*SUMIF($H:$H,O330,$AS:$AS))+S330*SUMIF($H:$H,R330,$AS:$AS)+V330*SUMIF($H:$H,U419,$AS:$AS)+Y330*SUMIF($H:$H,X330,$AS:$AS)+AB330*SUMIF($H:$H,AA330,$AS:$AS)+AE330*SUMIF($H:$H,AD330,$AS:$AS)","v":1},null,{"$f":"IF(I330=\"АЭПК\",J330,J330*SUMIF($H:$H,I330,$AU:$AU))+IF(L330=\"РФ в лице ГК Росатом\",0,M330*SUMIF($H:$H,$L330,$AU:$AU))+IF(O330=\"РФ в лице ГК Росатом\",0,P330*SUMIF($H:$H,O330,$AU:$AU))+S330*SUMIF($H:$H,R330,$AU:$AU)+V330*SUMIF($H:$H,U330,$AU:$AU)+Y330*SUMIF($H:$H,X330,$AU:$AU)+AB330*SUMIF($H:$H,AA330,$AU:$AU)+AE330*SUMIF($H:$H,AD330,$AU:$AU)","v":0},null,null,null,null,null,{"$f":"J330+M330+P330+S330+V330+Y330+AB330+AE330+AH330","v":1}]
[323,null,null,null,"Русатом Оверсиз Инк",null,null,"Русатом Оверсиз Инк","АЭПК",1,null,null,null,null,null,null,null,null,null,null,null,null,null,null,null,null,null,null,null,null,null,null,null,null,null,1,0,1,null,null,null,null,null,null,1,null,1,null,null,null,null,null,1]
[324,null,null,null,"ВНИИА",null,null,"ВНИИА","ГК Росатом",1,null,null,null,null,null,null,null,null,null,null,null,null,null,null,null,null,null,null,null,null,null,null,null,null,null,1,0,1,null,null,null,null,null,null,1,null,0,null,null,null,null,null,1]
[325,null,null,null,"ИЦП МАЭ",null,null,"ИЦП МАЭ","НИКИЭТ",1,null,null,null,null,null,null,null,null,null,null,null,null,null,null,null,null,null,null,null,null,null,null,null,null,null,1,0,1,null,null,null,null,null,null,0.97921399999999992,null,0.67025999999999997,null,null,null,null,null,1]
[326,null,null,null,"ИЦД НИКИЭТ",null,null,"ИЦД НИКИЭТ","НИКИЭТ",1,null,null,null,null,null,null,null,null,null,null,null,null,null,null,null,null,null,null,null,null,null,null,null,null,null,1,0,1,null,null,null,null,null,null,0.97921399999999992,null,0.67025999999999997,null,null,null,null,null,1]
[327,null,null,null,"АРМЗ-Сервис",null,null,"АРМЗ-Сервис","ППГХО",0.21324000000000001,null,"Далур",0.19431999999999999,null,"РБМ",0.19431999999999999,null,"Хиагда",0.19431999999999999,null,"УДК Горное",0.18482999999999999,null,"ЭГМК",1.8970000000000001E-2,null,null,null,null,null,null,null,null,null,null,1,0,1,null,null,null,null,null,null,0.80261436593518409,null,0.97473746778578807,null,null,null,null,null,1]
[328,null,null,null,"ГСПИ",null,null,"ГСПИ","Атомэнергомаш",1,null,null,null,null,null,null,null,null,null,null,null,null,null,null,null,null,null,null,null,null,null,null,null,null,null,1,0,1,null,null,null,null,null,null,1,null,1,null,null,null,null,null,1]
[329,null,null,null,"НИКИЭТ",null,null,"НИКИЭТ","АЭПК",0.67025999999999997,"2,1% - РФ в лице Росимущества","ГК Росатом",0.17308599999999999,null,"РФ в лице ГК Росатом",0.13586799999999999,null,null,null,null,null,null,null,null,null,null,null,null,null,null,null,null,null,null,null,0.97921399999999992,2.0786000000000082E-2,1,null,null,null,null,null,null,0.97921399999999992,null,0.67025999999999997,null,null,null,null,null,0.97921399999999992]
[330,null,null,null,"АТС",null,null,"АТС","Атомэнергосбыт",0.99991699999999994,null,"АтомТеплоЭлектроСеть()",8.3000000000055252E-5,null,null,null,null,null,null,null,null,null,null,null,null,null,null,null,null,null,null,null,null,null,null,1,0,1,null,null,null,null,null,null,0.199982400083,null,0.18319567743763288,null,null,null,null,null,1]
[331,null,null,null,"ЭМКО",null,null,"ЭМКО","Атомэнергомаш",1,null,null,null,null,null,null,null,null,null,null,null,null,null,null,null,null,null,null,null,null,null,null,null,null,null,1,0,1,null,null,null,null,null,null,1,null,1,null,null,null,null,null,1]
[332,null,null,null,"НИФХИ",null,null,"НИФХИ","ГК Росатом",1,null,null,null,null,null,null,null,null,null,null,null,null,null,null,null,null,null,null,null,null,null,null,null,null,null,1,0,1,null,null,null,null,null,null,1,null,0,null,null,null,null,null,1]
[333,null,null,null,"Е4-ЦЭМ",null,null,"Е4-ЦЭМ","Атомэнергомаш",0.25498100000000001,null,null,null,null,null,null,null,null,null,null,null,null,null,null,null,null,null,null,null,null,null,null,null,null,null,0.25498100000000001,0.74501899999999999,1,null,null,null,null,null,null,0.25498100000000001,null,0.25498100000000001,null,null,null,null,null,0.25498100000000001]
[334,null,null,null,"Интерфакс-АЭИ",null,null,"Интерфакс-АЭИ","Энергоатоминвест",0.2727,null,null,null,null,null,null,null,null,null,null,null,null,null,null,null,null,null,null,null,null,null,null,null,null,null,0.2727,0.72730000000000006,1,null,null,null,null,null,null,0.2727,null,0.24980928929999999,null,null,null,null,null,0.2727]
[335,null,null,null,"Консист-ОС",null,null,"Консист-ОС","Росэнергоатом",1,null,null,null,null,null,null,null,null,null,null,null,null,null,null,null,null,null,null,null,null,null,null,null,null,null,1,0,1,null,null,null,null,null,null,1,null,0.91605899999999996,null,null,null,null,null,1]
[336,null,null,null,"РБМ",null,null,"РБМ","АРМЗ",1,null,null,null,null,null,null,null,null,null,null,null,null,null,null,null,null,null,null,null,null,null,null,null,null,null,1,0,1,null,null,null,null,null,null,0.99995600000000007,null,0.98706700000000003,null,null,null,null,null,1]
[337,null,null,null,"КЦ",null,null,"КЦ","ТВЭЛ",0.97819999999999996,null,null,null,null,null,null,null,null,null,null,null,null,null,null,null,null,null,null,null,null,null,null,null,null,null,0.97819999999999996,2.1800000000000042E-2,1,null,null,null,null,null,null,0.97819999999999996,null,0.97819999999999996,null,null,null,null,null,0.97819999999999996]
[338,null,null,null,"ЦУФС",null,null,"ЦУФС","ГК Росатом",1,null,null,null,null,null,null,null,null,null,null,null,null,null,null,null,null,null,null,null,null,null,null,null,null,null,1,0,1,null,null,null,null,null,null,1,null,0,null,null,null,null,null,1]
[339,null,null,null,"НИКИМТ-Атомстрой",null,null,"НИКИМТ-Атомстрой","АЭПК",1,null,null,null,null,null,null,null,null,null,null,null,null,null,null,null,null,null,null,null,null,null,null,null,null,null,1,0,1,null,null,null,null,null,null,1,null,1,null,null,null,null,null,1]
[340,null,null,null,"МосСАЭМ",null,null,"МосСАЭМ","АЭПК",0.255,null,"Росэнергоатом",7.9000000000000001E-2,null,null,null,null,null,null,null,null,null,null,null,null,null,null,null,null,null,null,null,null,null,null,0.33400000000000002,0.66599999999999993,1,null,null,null,null,null,null,0.33400000000000002,null,0.32736866100000001,null,null,null,null,null,0.33400000000000002]
[341,null,null,null,"Редметсервис",null,null,"Редметсервис","Гиредмет",1.6E-2,null,null,null,null,null,null,null,null,null,null,null,null,null,null,null,null,null,null,null,null,null,null,null,null,null,1.6E-2,0.98399999999999999,1,null,null,null,null,null,null,1.559123296E-2,null,1.4727136E-2,null,null,null,null,null,1.6E-2]
[342,null,null,null,"Атомспецтранс",null,null,"Атомспецтранс","АЭПК",0.80086999999999997,null,"ГК Росатом",0.18940599999999999,null,"РФ в лице ГК Росатом",9.724E-3,null,null,null,null,null,null,null,null,null,null,null,null,null,null,null,null,null,null,null,0.99999999999999989,0,0.99999999999999989,null,null,null,null,null,null,0.99999999999999989,null,0.80086999999999997,null,null,null,null,null,0.99999999999999989]
[343,null,null,null,"Энергоспецмонтаж",null,null,"Энергоспецмонтаж","АЭПК",0.99797100000000005,null,null,null,null,null,null,null,null,null,null,null,null,null,null,null,null,null,null,null,null,null,null,null,null,null,0.99797100000000005,2.0289999999999475E-3,1,null,null,null,null,null,null,0.99797100000000005,null,0.99797100000000005,null,null,null,null,null,0.99797100000000005]
[344,null,null,null,"Технатом",null,null,"Технатом","Русатом Сервис",1,null,null,null,null,null,null,null,null,null,null,null,null,null,null,null,null,null,null,null,null,null,null,null,null,null,1,0,1,null,null,null,null,null,null,0.99996899999999989,null,0.9181330135950001,null,null,null,null,null,1]
[345,null,null,null,"Трест САЭМ",null,null,"Трест САЭМ","Liges",0.9,null,null,null,null,null,null,null,null,null,null,null,null,null,null,null,null,null,null,null,null,null,null,null,null,null,0.9,9.9999999999999978E-2,1,null,null,null,null,null,null,0.9,null,0.9,null,null,null,null,null,0.9]
[346,null,null,null,"НИИГрафит",null,null,"НИИГрафит","АЭПК",0.69948200000000005,null,"ГК Росатом",0.30051800000000001,null,null,null,null,null,null,null,null,null,null,null,null,null,null,null,null,null,null,null,null,null,null,1,0,1,null,null,null,null,null,null,1,null,0.69948200000000005,null,null,null,null,null,1]
[347,null,null,null,"Элегаз-Конверсия",null,null,"Элегаз-Конверсия","ВНИИЭФ",0.33329999999999999,null,null,null,null,null,null,null,null,null,null,null,null,null,null,null,null,null,null,null,null,null,null,null,null,null,0.33329999999999999,0.66670000000000007,1,null,null,null,null,null,null,0.33329999999999999,null,0,null,null,null,null,null,0.33329999999999999]
[348,null,null,null,"ВНИИАЭС",null,null,"ВНИИАЭС","Росэнергоатом",0.75002000000000002,null,"ИКБВ",0.24998000000000001,null,null,null,null,null,null,null,null,null,null,null,null,null,null,null,null,null,null,null,null,null,null,1,0,1,null,null,null,null,null,null,1,null,0.91605899999999996,null,null,null,null,null,1]
[349,null,null,null,"ВНИИАСУ",null,null,"ВНИИАСУ","СНИИП",0.5333,null,null,null,null,null,null,null,null,null,null,null,null,null,null,null,null,null,null,null,null,null,null,null,null,null,0.5333,0.4667,1,null,null,null,null,null,null,0.5333,null,0.5333,null,null,null,null,null,0.5333]
[350,null,null,null,"Росэнергоатом",null,null,"Росэнергоатом","АЭПК",0.91605899999999996,null,"ГК Росатом",8.3941000000000002E-2,null,null,null,null,null,null,null,null,null,null,null,null,null,null,null,null,null,null,null,null,null,null,1,0,1,null,null,null,null,null,null,1,null,0.91605899999999996,null,null,null,null,null,1]
[351,null,null,null,"ПСР",null,null,"ПСР","АЭПК",1,null,null,null,null,null,null,null,null,null,null,null,null,null,null,null,null,null,null,null,null,null,null,null,null,null,1,0,1,null,null,null,null,null,null,1,null,1,null,null,null,null,null,1]
[352,null,null,null,"Молния",null,null,"Молния","АЭПК",1,null,null,null,null,null,null,null,null,null,null,null,null,null,null,null,null,null,null,null,null,null,null,null,null,null,1,0,1,null,null,null,null,null,null,1,null,1,null,null,null,null,null,1]
[353,null,null,null,"Опытный завод ВЭИ",null,null,"Опытный завод ВЭИ","ГК Росатом",1,null,null,null,null,null,null,null,null,null,null,null,null,null,null,null,null,null,null,null,null,null,null,null,null,null,1,0,1,null,null,null,null,null,null,1,null,0,null,null,null,null,null,1]
[354,null,null,null,"ВЭИ",null,null,"ВЭИ","ГК Росатом",1,null,null,null,null,null,null,null,null,null,null,null,null,null,null,null,null,null,null,null,null,null,null,null,null,null,1,0,1,null,null,null,null,null,null,1,null,0,null,null,null,null,null,1]
[355,null,null,null,"ЦИМТ",null,null,"ЦИМТ","ВНИИЭФ",0,null,null,null,null,null,null,null,null,null,null,null,null,null,null,null,null,null,null,null,null,null,null,null,null,null,0,1,1,null,null,null,null,null,null,0,null,0,null,null,null,null,null,0]
[356,null,null,null,"ЦНИИТМАШ",null,null,"ЦНИИТМАШ","АЭМ-технологии",0.5,null,"ГК Росатом",0.5,null,null,null,null,null,null,null,null,null,null,null,null,null,null,null,null,null,null,null,null,null,null,1,0,1,null,null,null,null,null,null,0.99999900000000008,null,0.49999900000000003,null,null,null,null,null,1]
[357,null,null,null,"Спецмонтажмеханизация",null,null,"Спецмонтажмеханизация","АЭПК",0.49,null,null,null,null,null,null,null,null,null,null,null,null,null,null,null,null,null,null,null,null,null,null,null,null,null,0.49,0.51,1,null,null,null,null,null,null,0.49,null,0.49,null,null,null,null,null,0.49]
[358,null,null,null,"МХО ИАЭ",null,null,"МХО ИАЭ","ВНИИА",0.13,null,null,null,null,null,null,null,null,null,null,null,null,null,null,null,null,null,null,null,null,null,null,null,null,null,0.13,0.87,1,null,null,null,null,null,null,0.13,null,0,null,null,null,null,null,0.13]
[359,null,null,null,"1-НПФ фонд",null,null,"1-НПФ фонд","МСЗ",4.0309999999999999E-3,null,"ТВЭЛ",0,null,null,null,null,null,null,null,null,null,null,null,null,null,null,null,null,null,null,null,null,null,null,4.0309999999999999E-3,0.99596899999999999,1,null,null,null,null,null,null,3.2945846720000001E-3,null,3.04687166E-3,null,null,null,null,null,4.0309999999999999E-3]
[360,null,null,null,"УАТГАЗ",null,null,"УАТГАЗ","АТА",0.24,null,null,null,null,null,null,null,null,null,null,null,null,null,null,null,null,null,null,null,null,null,null,null,null,null,0.24,0.76,1,null,null,null,null,null,null,0.24,null,0.24,null,null,null,null,null,0.24]
[361,null,null,null,"Уралит",null,null,"Уралит","ЭХП",1,null,null,null,null,null,null,null,null,null,null,null,null,null,null,null,null,null,null,null,null,null,null,null,null,null,1,0,1,null,null,null,null,null,null,1,null,0,null,null,null,null,null,1]
[362,null,null,null,"НПП ВНИИХТ ГЕОТЭП",null,null,"НПП ВНИИХТ ГЕОТЭП","ВНИИХТ",0.1,null,null,null,null,null,null,null,null,null,null,null,null,null,null,null,null,null,null,null,null,null,null,null,null,null,0.1,0.9,1,null,null,null,null,null,null,0.1,null,9.5970500000000014E-2,null,null,null,null,null,0.1]
[363,null,null,null,"Элерон",null,null,"Элерон","ГК Росатом",0.95531600000000005,null,null,null,null,"РФ в лице ГК Росатом",4.4684000000000001E-2,null,null,null,null,null,null,null,null,null,null,null,null,null,null,null,null,null,null,null,1,0,1,null,null,null,null,null,null,1,null,0,null,null,null,null,null,1]
[364,null,null,null,"МЗП",null,null,"МЗП","ТВЭЛ",1,null,null,null,null,null,null,null,null,null,null,null,null,null,null,null,null,null,null,null,null,null,null,null,null,null,1,0,1,null,null,null,null,null,null,1,null,1,null,null,null,null,null,1]
[365,null,null,null,"АТА",null,null,"АТА","ЦентрАтом",1,null,null,null,null,null,null,null,null,null,null,null,null,null,null,null,null,null,null,null,null,null,null,null,null,null,1,0,1,null,null,null,null,null,null,1,null,1,null,null,null,null,null,1]
[366,null,null,null,"ВНИИХТ",null,null,"ВНИИХТ","АЭПК",0.95970500000000003,null,"ГК Росатом",1.1188999999999999E-2,null,"РФ в лице ГК Росатом",2.9106E-2,null,null,null,null,null,null,null,null,null,null,null,null,null,null,null,null,null,null,null,1,0,1,null,null,null,null,null,null,1,null,0.95970500000000003,null,null,null,null,null,1]
[367,null,null,null,"ВНИПИПромтехнологии",null,null,"ВНИПИПромтехнологии","АРМЗ",1,null,null,null,null,null,null,null,null,null,null,null,null,null,null,null,null,null,null,null,null,null,null,null,null,null,1,0,1,null,null,null,null,null,null,0.99995600000000007,null,0.98706700000000003,null,null,null,null,null,1]
[368,null,null,null,"ЦПТИ",null,null,"ЦПТИ","ТВЭЛ",1,null,null,null,null,null,null,null,null,null,null,null,null,null,null,null,null,null,null,null,null,null,null,null,null,null,1,0,1,null,null,null,null,null,null,1,null,1,null,null,null,null,null,1]
[369,null,null,null,"Промышленные инновации",null,null,"Промышленные инновации","ТВЭЛ",1,null,null,null,null,null,null,null,null,null,null,null,null,null,null,null,null,null,null,null,null,null,null,null,null,null,1,0,1,null,null,null,null,null,null,1,null,1,null,null,null,null,null,1]
[370,null,null,null,"ИКБВ",null,null,"ИКБВ","ЭНИЦ",1,null,null,null,null,null,null,null,null,null,null,null,null,null,null,null,null,null,null,null,null,null,null,null,null,null,1,0,1,null,null,null,null,null,null,1,null,0.91605899999999996,null,null,null,null,null,1]
[371,null,null,null,"Атомэнергопромсбыт",null,null,"Атомэнергопромсбыт","Атомэнергосбыт",1,null,null,null,null,null,null,null,null,null,null,null,null,null,null,null,null,null,null,null,null,null,null,null,null,null,1,0,1,null,null,null,null,null,null,0.19999900000000001,null,0.18321088394099999,null,null,null,null,null,1]
[372,null,null,null,"Нуклеарконтроль",null,null,"Нуклеарконтроль","АЭП",0.36,null,"Росэнергоатом",0.04,null,"ЗАЭС",3.0200000000000001E-2,null,"ЭНИЦ",2.07E-2,null,"ВНИИА",1.8E-3,null,null,null,null,null,null,null,null,null,null,null,null,null,0.45269999999999999,0.54730000000000001,1,null,null,null,null,null,null,0.45089999999999997,null,8.3269763210159997E-2,null,null,null,null,null,0.45269999999999999]
[373,null,null,null,"ТВЭЛ-Строй",null,null,"ТВЭЛ-Строй","ТВЭЛ",0.2505,null,"НЗХК",0.24990000000000001,null,"ЧМЗ",0.24979999999999999,null,"МСЗ",0.24979999999999999,null,null,null,null,null,null,null,null,null,null,null,null,null,null,null,null,1,0,1,null,null,null,null,null,null,0.92686953999999999,null,0.91151883040000004,null,null,null,null,null,1]
[374,null,null,null,"НИИТФА",null,null,"НИИТФА","АЭПК",0.95554499999999998,null,"ГК Росатом",4.4455000000000001E-2,null,null,null,null,null,null,null,null,null,null,null,null,null,null,null,null,null,null,null,null,null,null,1,0,1,null,null,null,null,null,null,1,null,0.95554499999999998,null,null,null,null,null,1]
[375,null,null,null,"ОЗТМиТС",null,null,"ОЗТМиТС","АЭПК",0.28478500000000001,null,"Атомэнергомаш",0.71519999999999995,null,null,null,null,null,null,null,null,null,null,null,null,null,null,null,null,null,null,null,null,null,null,{"$f":"M383+J383+P383+S383+V383+Y383+AB383+AE383+AH383","v":0.9999849999999999},1.5000000000098268E-5,1,null,null,null,null,null,null,0.9999849999999999,null,0.9999849999999999,null,null,null,null,null,{"$f":"M383+J383+P383+S383+V383+Y383+AB383+AE383+AH383","v":0.9999849999999999}]
[376,null,null,null,"Атом-ЖКХ. Полярные Зори",null,null,"Атом-ЖКХ. Полярные Зори","АТС",0.99990000000000001,null,null,null,null,null,null,null,null,null,null,null,null,null,null,null,null,null,null,null,null,null,null,null,null,null,0.99990000000000001,9.9999999999988987E-5,1,null,null,null,null,null,null,0.19996240184299172,null,0.18317735786988912,null,null,null,null,null,0.99990000000000001]
[377,null,null,null,"РСП",null,null,"РСП","ГК Росатом",1,null,null,null,null,null,null,null,null,null,null,null,null,null,null,null,null,null,null,null,null,null,null,null,null,null,1,0,1,null,null,null,null,null,null,1,null,0,null,null,null,null,null,1]
[378,null,null,null,"Красная Звезда",null,null,"Красная Звезда","АЭПК",0.953403,null,"ГК Росатом",3.3583000000000002E-2,null,"РФ в лице ГК Росатом",1.3014E-2,null,null,null,null,null,null,null,null,null,null,null,null,null,null,null,null,null,null,null,1,0,1,null,null,null,null,null,null,1,null,0.953403,null,null,null,null,null,1]
[379,null,null,null,"РР-Энергия",null,null,"РР-Энергия","АЭПК",0.5,null,null,null,null,null,null,null,null,null,null,null,null,null,null,null,null,null,null,null,null,null,null,null,null,null,0.5,0.5,1,null,null,null,null,null,null,0.5,null,0.5,null,null,null,null,null,0.5]
[380,null,null,null,"ЦВТД",null,null,"ЦВТД","ОИК",0.51,null,"REIN",0.25,null,"НИИТФА",0.24,null,null,null,null,null,null,null,null,null,null,null,null,null,null,null,null,null,null,null,1,0,1,null,null,null,null,null,null,1,null,0.70993304999999995,null,null,null,null,null,1]
[381,null,null,null,"НКМ",null,null,"НКМ","ГК Росатом",0.45,null,null,null,null,null,null,null,null,null,null,null,null,null,null,null,null,null,null,null,null,null,null,null,null,null,0.45,0.55000000000000004,1,null,null,null,null,null,null,0.45,null,0,null,null,null,null,null,0.45]
[382,null,null,null,"Нуклид-Транс",null,null,"Нуклид-Транс","ФЭИ",0.26,null,null,null,null,null,null,null,null,null,null,null,null,null,null,null,null,null,null,null,null,null,null,null,null,null,0.26,0.74,1,null,null,null,null,null,null,0.26,null,0,null,null,null,null,null,0.26]
[383,null,null,null,"АТМ",null,null,"АТМ","Атомэнергомаш",0.51,null,null,null,null,null,null,null,null,null,null,null,null,null,null,null,null,null,null,null,null,null,null,null,null,null,0.51,0.49,1,null,null,null,null,null,null,0.51,null,0.51,null,null,null,null,null,0.51]
[384,null,null,null,"РАСУ",null,null,"РАСУ","АЭПК",1,null,null,null,null,null,null,null,null,null,null,null,null,null,null,null,null,null,null,null,null,null,null,null,null,null,1,0,1,null,null,null,null,null,null,1,null,1,null,null,null,null,null,1]
[385,null,null,null,"СКУ- атом",null,null,"СКУ- атом","ВНИИАСУ",0.51790000000000003,null,null,null,null,null,null,null,null,null,null,null,null,null,null,null,null,null,null,null,null,null,null,null,null,null,0.51790000000000003,0.48209999999999997,1,null,null,null,null,null,null,0.27619607000000002,null,0.27619607000000002,null,null,null,null,null,0.51790000000000003]
[386,null,null,null,"СНИИП",null,null,"СНИИП","Атомэнергомаш",1,null,null,null,null,null,null,null,null,null,null,null,null,null,null,null,null,null,null,null,null,null,null,null,null,null,{"$f":"J394+M394+P394+S394+V394+Y394+AB394+AE394+AH394","v":1},{"$f":"1-AJ394","v":0},{"$f":"AJ394+AK394","v":1},null,null,null,null,null,null,{"$f":"IF(I394=\"ГК Росатом\",J394,J394*SUMIF($H:$H,I394,$AS:$AS))+IF(L394=\"ГК Росатом\",M394*100%,M394*SUMIF($H:$H,L394,$AS:$AS))+IF(O394=\"РФ в лице ГК Росатом\",P394*100%,P394*SUMIF($H:$H,O394,$AS:$AS))+S394*SUMIF($H:$H,R394,$AS:$AS)+V394*SUMIF($H:$H,U483,$AS:$AS)+Y394*SUMIF($H:$H,X394,$AS:$AS)+AB394*SUMIF($H:$H,AA394,$AS:$AS)+AE394*SUMIF($H:$H,AD394,$AS:$AS)","v":1},null,{"$f":"IF(I394=\"АЭПК\",J394,J394*SUMIF($H:$H,I394,$AU:$AU))+IF(L394=\"РФ в лице ГК Росатом\",0,M394*SUMIF($H:$H,$L394,$AU:$AU))+IF(O394=\"РФ в лице ГК Росатом\",0,P394*SUMIF($H:$H,O394,$AU:$AU))+S394*SUMIF($H:$H,R394,$AU:$AU)+V394*SUMIF($H:$H,U394,$AU:$AU)+Y394*SUMIF($H:$H,X394,$AU:$AU)+AB394*SUMIF($H:$H,AA394,$AU:$AU)+AE394*SUMIF($H:$H,AD394,$AU:$AU)","v":1},null,null,null,null,null,{"$f":"J394+M394+P394+S394+V394+Y394+AB394+AE394+AH394","v":1}]
[387,null,null,null,"ВНИИНМ",null,null,"ВНИИНМ","ГК Росатом",0.105297,null,"ТВЭЛ",0.88661599999999996,null,"РФ в лице ГК Росатом",8.0870000000000004E-3,null,null,null,null,null,null,null,null,null,null,null,null,null,null,null,null,null,null,null,0.99999999999999989,0,0.99999999999999989,null,null,null,null,null,null,0.99999999999999989,null,0.88661599999999996,null,null,null,null,null,0.99999999999999989]
[388,null,null,null,"НПП \"НАНОЭЛЕКТРО\"",null,null,"НПП \"НАНОЭЛЕКТРО\"","ВНИИНМ",0.62549999999999994,null,null,null,null,null,null,null,null,null,null,null,null,null,null,null,null,null,null,null,null,null,null,null,null,null,0.62549999999999994,0.37450000000000006,1,null,null,null,null,null,null,0.62549999999999983,null,0.55457830799999996,null,null,null,null,null,0.62549999999999994]
[389,null,null,null,"ЗАО \"НП-Атом\"",null,null,"ЗАО \"НП-Атом\"","ВНИИНМ",0.83606599999999998,null,null,null,null,null,null,null,null,null,null,null,null,null,null,null,null,null,null,null,null,null,null,null,null,null,0.83606599999999998,0.16393400000000002,1,null,null,null,null,null,null,0.83606599999999986,null,0.74126949265599995,null,null,null,null,null,0.83606599999999998]
[390,null,null,null,"РАС-Менеджмент",null,null,"РАС-Менеджмент","Liges",1,null,null,null,null,null,null,null,null,null,null,null,null,null,null,null,null,null,null,null,null,null,null,null,null,null,1,0,1,null,null,null,null,null,null,1,null,1,null,null,null,null,null,1]
[391,null,null,null,"РАС-Инвест",null,null,"РАС-Инвест","Атомэнергомаш",1,null,null,null,null,null,null,null,null,null,null,null,null,null,null,null,null,null,null,null,null,null,null,null,null,null,1,0,1,null,null,null,null,null,null,1,null,1,null,null,null,null,null,1]
[392,null,null,null,"Бирюза-М",null,null,"Бирюза-М","НИИТФА",0.5,null,null,null,null,null,null,null,null,null,null,null,null,null,null,null,null,null,null,null,null,null,null,null,null,null,0.5,0.5,1,null,null,null,null,null,null,0.5,null,0.47777249999999999,null,null,null,null,null,0.5]
[393,null,null,null,"ВНИИАМ",null,null,"ВНИИАМ","АЭПК",0.74836499999999995,null,"ГК Росатом",0.25159999999999999,null,null,null,null,null,null,null,null,null,null,null,null,null,null,null,null,null,null,null,null,null,null,0.99996499999999999,3.5000000000007248E-5,1,null,null,null,null,null,null,0.99996499999999999,null,0.74836499999999995,null,null,null,null,null,0.99996499999999999]
[394,null,null,null,"ТРИНИТИ",null,null,"ТРИНИТИ","ГК Росатом",0.99192899999999995,null,null,null,null,"РФ в лице ГК Росатом",8.071E-3,null,null,null,null,null,null,null,null,null,null,null,null,null,null,null,null,null,null,null,1,0,1,null,null,null,null,null,null,1,null,0,null,null,null,null,null,1]
[395,null,null,null,"Атомэнерго",null,null,"Атомэнерго","ОКБМ",0.32600000000000001,null,"Атомфлот",0.11600000000000001,null,null,null,null,null,null,null,null,null,null,null,null,null,null,null,null,null,null,null,null,null,null,0.442,0.55800000000000005,1,null,null,null,null,null,null,0.442,null,0.22608034799999999,null,null,null,null,null,0.442]
[396,null,null,null,"АЭС Северо-Запад",null,null,"АЭС Северо-Запад","Атомэнергосбыт",0.51,null,null,null,null,null,null,null,null,null,null,null,null,null,null,null,null,null,null,null,null,null,null,null,null,null,0.51,0.49,1,null,null,null,null,null,null,0.10199949000000001,null,9.3437550809909994E-2,null,null,null,null,null,0.51]
[397,null,null,null,"РИТВЕРЦ",null,null,"РИТВЕРЦ","НПО РИ",0.28000000000000003,null,null,null,null,null,null,null,null,null,null,null,null,null,null,null,null,null,null,null,null,null,null,null,null,null,0.28000000000000003,0.72,1,null,null,null,null,null,null,0.28000000000000003,null,0,null,null,null,null,null,0.28000000000000003]
[398,null,null,null,"АТЦ СПб",null,null,"АТЦ СПб","ГК Росатом",1,null,null,null,null,null,null,null,null,null,null,null,null,null,null,null,null,null,null,null,null,null,null,null,null,null,1,0,1,null,null,null,null,null,null,1,null,0,null,null,null,null,null,1]
[399,null,null,null,"НТЦ ЯФИ",null,null,"НТЦ ЯФИ","АЭПК",1,null,null,null,null,null,null,null,null,null,null,null,null,null,null,null,null,null,null,null,null,null,null,null,null,null,1,0,1,null,null,null,null,null,null,1,null,1,null,null,null,null,null,1]
[400,null,null,null,"ЦИРФРИ",null,null,"ЦИРФРИ","НПО РИ",1,null,null,null,null,null,null,null,null,null,null,null,null,null,null,null,null,null,null,null,null,null,null,null,null,null,1,0,1,null,null,null,null,null,null,1,null,0,null,null,null,null,null,1]
[401,null,null,null,"НПО РИ",null,null,"НПО РИ","ГК Росатом",0.91760699999999995,null,null,null,null,"РФ в лице ГК Росатом",8.2392999999999994E-2,null,null,null,null,null,null,null,null,null,null,null,null,null,null,null,null,null,null,null,1,0,1,null,null,null,null,null,null,1,null,0,null,null,null,null,null,1]
[402,null,null,null,"Центротех",null,null,"Центротех","ИЦ РГЦ",0.999,null,"ТВЭЛ",1E-3,null,null,null,null,null,null,null,null,null,null,null,null,null,null,null,null,null,null,null,null,null,null,1,0,1,null,null,null,null,null,null,1,null,1,null,null,null,null,null,1]
[403,null,null,null,"ЦКБМ",null,null,"ЦКБМ","Атомэнергомаш",1,null,null,null,null,null,null,null,null,null,null,null,null,null,null,null,null,null,null,null,null,null,null,null,null,null,1,0,1,null,null,null,null,null,null,1,null,1,null,null,null,null,null,1]
[404,null,null,null,"ЭИЗ",null,null,"ЭИЗ","АЭП",1,null,null,null,null,null,null,null,null,null,null,null,null,null,null,null,null,null,null,null,null,null,null,null,null,null,1,0,1,null,null,null,null,null,null,1,null,3.0600000000000003E-10,null,null,null,null,null,1]
[405,null,null,null,"АТОМПРОЕКТ  ",null,null,"АТОМПРОЕКТ","АЭПК",1,null,null,null,null,null,null,null,null,null,null,null,null,null,null,null,null,null,null,null,null,null,null,null,null,null,1,0,1,null,null,null,null,null,null,1,null,1,null,null,null,null,null,1]
[406,null,null,null,"АЭМ-технологии",null,null,"АЭМ-технологии","Атомэнергомаш",0.99999800000000005,null,null,null,null,null,null,null,null,null,null,null,null,null,null,null,null,null,null,null,null,null,null,null,null,null,0.99999800000000005,1.999999999946489E-6,1,null,null,null,null,null,null,0.99999800000000005,null,0.99999800000000005,null,null,null,null,null,0.99999800000000005]
[407,null,null,null,"АРАКО",null,null,"АРАКО","ARAKO",1,null,null,null,null,null,null,null,null,null,null,null,null,null,null,null,null,null,null,null,null,null,null,null,null,null,1,0,1,null,null,null,null,null,null,1,null,1,null,null,null,null,null,1]
[408,null,null,null,"НИИЭФА",null,null,"НИИЭФА","ГК Росатом",0.98470800000000003,null,null,null,null,"РФ в лице ГК Росатом",1.5292E-2,null,null,null,null,null,null,null,null,null,null,null,null,null,null,null,null,null,null,null,1,0,1,null,null,null,null,null,null,1,null,0,null,null,null,null,null,1]
[409,null,null,null,"НПО «Энергоатоминвент» ",null,null,"НПО «Энергоатоминвент» ","Росэнергоатом",0.24,null,null,null,null,null,null,null,null,null,null,null,null,null,null,null,null,null,null,null,null,null,null,null,null,null,0.24,0.76,1,null,null,null,null,null,null,0.24,null,0.21985415999999999,null,null,null,null,null,0.24]
[410,null,null,null,"Триада",null,null,"Триада","Энергоатоминвест",0.32,null,"Росэнергоатом",0.19,null,null,null,null,null,null,null,null,null,null,null,null,null,null,null,null,null,null,null,null,null,null,0.51,0.49,1,null,null,null,null,null,null,0.51,null,0.46719009,null,null,null,null,null,0.51]
[411,null,null,null,"СПб ИЗОТОП",null,null,"СПб ИЗОТОП","Техснабэкспорт",1,null,null,null,null,null,null,null,null,null,null,null,null,null,null,null,null,null,null,null,null,null,null,null,null,null,1,0,1,null,null,null,null,null,null,1,null,1,null,null,null,null,null,1]
[412,null,null,null,"Mantra Uranium South Africa (Pty) Ltd",null,null,"Mantra Uranium South Africa (Pty) Ltd","Mantra Resources Ltd.",1,null,null,null,null,null,null,null,null,null,null,null,null,null,null,null,null,null,null,null,null,null,null,null,null,null,1,0,1,null,null,null,null,null,null,0.99995909229772661,null,0.98797592469310724,null,null,null,null,null,1]
[413,null,null,null,"Cheetah Resources s.a.r.l.",null,null,"Cheetah Resources s.a.r.l.","Uranium",1,null,null,null,null,null,null,null,null,null,null,null,null,null,null,null,null,null,null,null,null,null,null,null,null,null,1,0,1,null,null,null,null,null,null,0.9999782307528865,null,0.99360132561543646,null,null,null,null,null,1]
[414,null,null,null,"МЭА",null,null,"МЭА","АСЭ",0.5,null,null,null,null,null,null,null,null,null,null,null,null,null,null,null,null,null,null,null,null,null,null,null,null,null,0.5,0.5,1,null,null,null,null,null,null,0.5,null,0,null,null,null,null,null,0.5]
[415,null,null,null,"Казатомпром-Демеу",null,null,"Казатомпром-Демеу","Uranium One Holding N.V.",0.21149999999999999,null,null,null,null,null,null,null,null,null,null,null,null,null,null,null,null,null,null,null,null,null,null,null,null,null,0.21149999999999999,0.78849999999999998,1,null,null,null,null,null,null,0.21149516102293942,null,0.2100776706744423,null,null,null,null,null,0.21149999999999999]
[416,null,null,null,"СП РБМ-Казахстан",null,null,"СП РБМ-Казахстан","Uranium One Holding N.V.",0.51,null,null,null,null,null,null,null,null,null,null,null,null,null,null,null,null,null,null,null,null,null,null,null,null,null,0.51,0.49,1,null,null,null,null,null,null,0.5099883315446766,null,0.50657026971142116,null,null,null,null,null,0.51]
[417,null,null,null,"ТОО «Росатом Центральная Азия»",null,null,"ТОО «Росатом Центральная Азия»","ЧУ РМС",1,null,null,null,null,null,null,null,null,null,null,null,null,null,null,null,null,null,null,null,null,null,null,null,null,null,1,0,1,null,null,null,null,null,null,0,null,0,null,null,null,null,null,1]
[418,null,null,null,"Хладици Веже Прага - Киев",null,null,"Хладици Веже Прага - Киев","Chladici veze Praha, a.s",0.61,null,null,null,null,null,null,null,null,null,null,null,null,null,null,null,null,null,null,null,null,null,null,null,null,null,0.61,0.39,1,null,null,null,null,null,null,0.31109999999999999,null,0.31109999999999999,null,null,null,null,null,0.61]
[419,null,null,null,"КРКАС",null,null,"КРКАС","АСЭ",0.5,null,null,null,null,null,null,null,null,null,null,null,null,null,null,null,null,null,null,null,null,null,null,null,null,null,0.5,0.5,1,null,null,null,null,null,null,0.5,null,0,null,null,null,null,null,0.5]
[420,null,null,null,"КИАЭ-НИИАР",null,null,"КИАЭ-НИИАР","НИИАР",0.5,null,null,null,null,null,null,null,null,null,null,null,null,null,null,null,null,null,null,null,null,null,null,null,null,null,0.5,0.5,1,null,null,null,null,null,null,0.5,null,0.24911749999999999,null,null,null,null,null,0.5]
[421,null,null,null,"EMSS Holdings",null,null,"EMSS Holdings","Сайпрус",0.50000199999999995,null,null,null,null,null,null,null,null,null,null,null,null,null,null,null,null,null,null,null,null,null,null,null,null,null,0.50000199999999995,0.49999800000000005,1,null,null,null,null,null,null,0.50000199999999995,null,0.50000199999999995,null,null,null,null,null,0.50000199999999995]
[422,null,null,null,"TENEX-Japan",null,null,"TENEX-Japan","Техснабэкспорт",1,null,null,null,null,null,null,null,null,null,null,null,null,null,null,null,null,null,null,null,null,null,null,null,null,null,1,0,1,null,null,null,null,null,null,1,null,1,null,null,null,null,null,1]
[423,null,null,null,"УКИПСМ",null,null,"УКИПСМ","Энергоатоминвест",0.98,null,null,null,null,null,null,null,null,null,null,null,null,null,null,null,null,null,null,null,null,null,null,null,null,null,0.98,2.0000000000000018E-2,1,null,null,null,null,null,null,0.98,null,0.89773781999999991,null,null,null,null,null,0.98]
[424,null,null,null,"Хиагда",null,null,"Хиагда","АРМЗ",1,null,null,null,null,null,null,null,null,null,null,null,null,null,null,null,null,null,null,null,null,null,null,null,null,null,1,0,1,null,null,null,null,null,null,0.99995600000000007,null,0.98706700000000003,null,null,null,null,null,1]
[425,null,null,null,"Belfinvest",null,null,"Belfinvest","Reviss Servis Limited",1,null,null,null,null,null,null,null,null,null,null,null,null,null,null,null,null,null,null,null,null,null,null,null,null,null,1,0,1,null,null,null,null,null,null,0.7,null,0.2,null,null,null,null,null,1]
[426,null,null,null,"Raims",null,null,"Raims","ВО Изотоп",1,null,null,null,null,null,null,null,null,null,null,null,null,null,null,null,null,null,null,null,null,null,null,null,null,null,1,0,1,null,null,null,null,null,null,1,null,0,null,null,null,null,null,1]
[427,null,null,null,"AFEX COMPANY",null,null,"AFEX COMPANY","Runex",0.251,null,null,null,null,null,null,null,null,null,null,null,null,null,null,null,null,null,null,null,null,null,null,null,null,null,0.251,0.749,1,null,null,null,null,null,null,0.25099425728963498,null,0.24931203470111121,null,null,null,null,null,0.251]
[428,null,null,null,"Mantra Tanzania Limited",null,null,"Mantra Tanzania Limited","Mantra Resources Ltd.",1,null,null,null,null,null,null,null,null,null,null,null,null,null,null,null,null,null,null,null,null,null,null,null,null,null,1,0,1,null,null,null,null,null,null,0.99995909229772661,null,0.98797592469310724,null,null,null,null,null,1]
[429,null,null,null,"Uranium One Investments Inc.",null,null,"Uranium One Investments Inc.","Uranium",1,null,null,null,null,null,null,null,null,null,null,null,null,null,null,null,null,null,null,null,null,null,null,null,null,null,1,0,1,null,null,null,null,null,null,0.9999782307528865,null,0.99360132561543646,null,null,null,null,null,1]
[430,null,null,null,"Ганз инжиниринг и энергетика",null,null,"Ганз инжиниринг и энергетика","ЦКБМ",0.51,null,null,null,null,null,null,null,null,null,null,null,null,null,null,null,null,null,null,null,null,null,null,null,null,null,0.51,0.49,1,null,null,null,null,null,null,0.51,null,0.51,null,null,null,null,null,0.51]
[431,null,null,null,"TENEX-Korea",null,null,"TENEX-Korea","Техснабэкспорт",1,null,null,null,null,null,null,null,null,null,null,null,null,null,null,null,null,null,null,null,null,null,null,null,null,null,1,0,1,null,null,null,null,null,null,1,null,1,null,null,null,null,null,1]
[432,null,null,null,"Nyanza Goldfields Limited",null,null,"Nyanza Goldfields Limited","Mantra Resources Ltd.",1,null,null,null,null,null,null,null,null,null,null,null,null,null,null,null,null,null,null,null,null,null,null,null,null,null,1,0,1,null,null,null,null,null,null,0.99995909229772661,null,0.98797592469310724,null,null,null,null,null,1]
[433,null,null,null,"Ruvuma Resources Limited",null,null,"Ruvuma Resources Limited","Mantra Resources Ltd.",1,null,null,null,null,null,null,null,null,null,null,null,null,null,null,null,null,null,null,null,null,null,null,null,null,null,1,0,1,null,null,null,null,null,null,0.99995909229772661,null,0.98797592469310724,null,null,null,null,null,1]
[434,null,null,null,"Сайпрус",null,null,"Сайпрус","Атомэнергомаш",1,null,null,null,null,null,null,null,null,null,null,null,null,null,null,null,null,null,null,null,null,null,null,null,null,null,1,0,1,null,null,null,null,null,null,1,null,1,null,null,null,null,null,1]
[435,null,null,null,"KWINDER HOLDINGS LIMITED",null,null,"KWINDER HOLDINGS LIMITED","АЭПК",1,null,null,null,null,null,null,null,null,null,null,null,null,null,null,null,null,null,null,null,null,null,null,null,null,null,1,0,1,null,null,null,null,null,null,1,null,1,null,null,null,null,null,1]
[436,null,null,null,"Rosatom Finance",null,null,"Rosatom Finance","АЭПК",1,null,null,null,null,null,null,null,null,null,null,null,null,null,null,null,null,null,null,null,null,null,null,null,null,null,1,0,1,null,null,null,null,null,null,1,null,1,null,null,null,null,null,1]
[437,null,null,null,"ROSATOM Securities Limited",null,null,"ROSATOM Securities Limited","АЭПК",1,null,null,null,null,null,null,null,null,null,null,null,null,null,null,null,null,null,null,null,null,null,null,null,null,null,1,0,1,null,null,null,null,null,null,1,null,1,null,null,null,null,null,1]
[438,null,null,null,"SWA URANIUM MINES (PTY) LIMITED",null,null,"SWA URANIUM MINES (PTY) LIMITED","AFEX COMPANY",1,null,null,null,null,null,null,null,null,null,null,null,null,null,null,null,null,null,null,null,null,null,null,null,null,null,1,0,1,null,null,null,null,null,null,0.25099425728963498,null,0.24931203470111121,null,null,null,null,null,1]
[439,null,null,null,"Runex",null,null,"Runex","Uranium One Holding N.V.",1,null,null,null,null,null,null,null,null,null,null,null,null,null,null,null,null,null,null,null,null,null,null,null,null,null,1,0,1,null,null,null,null,null,null,0.99997712067583655,null,0.99327503864984545,null,null,null,null,null,1]
[440,null,null,null,"АРМЗ Намибия",null,null,"АРМЗ Намибия","Uranium One Holding N.V.",1,null,null,null,null,null,null,null,null,null,null,null,null,null,null,null,null,null,null,null,null,null,null,null,null,null,1,0,1,null,null,null,null,null,null,0.99997712067583655,null,0.99327503864984545,null,null,null,null,null,1]
[441,null,null,null,"Headspring Investments (PTY.) Ltd.",null,null,"Headspring Investments (PTY.) Ltd.","VPR",1,null,null,null,null,null,null,null,null,null,null,null,null,null,null,null,null,null,null,null,null,null,null,null,null,null,1,0,1,null,null,null,null,null,null,0.99995600000000007,null,0.98706700000000003,null,null,null,null,null,1]
[442,null,null,null,"GLADSTONE PTE. LTD.",null,null,"GLADSTONE PTE. LTD.","Uranium One Holding N.V.",0.4,null,null,null,null,null,null,null,null,null,null,null,null,null,null,null,null,null,null,null,null,null,null,null,null,null,0.4,0.6,1,null,null,null,null,null,null,0.39999084827033465,null,0.39731001545993821,null,null,null,null,null,0.4]
[443,null,null,null,"Rosatom Africa (Pty) Ltd",null,null,"Rosatom Africa (Pty) Ltd","Русатом Оверсиз Инк",0,null,null,null,null,null,null,null,null,null,null,null,null,null,null,null,null,null,null,null,null,null,null,null,null,null,0,1,1,null,null,null,null,null,null,0,null,0,null,null,null,null,null,0]
[444,null,null,null,"Rosatom Asia PTE. LTD",null,null,"Rosatom Asia PTE. LTD","Русатом Оверсиз Инк",0,null,null,null,null,null,null,null,null,null,null,null,null,null,null,null,null,null,null,null,null,null,null,null,null,null,0,1,1,null,null,null,null,null,null,0,null,0,null,null,null,null,null,0]
[445,null,null,null,"NUKEM",null,null,"NUKEM","АСЭ",1,null,null,null,null,null,null,null,null,null,null,null,null,null,null,null,null,null,null,null,null,null,null,null,null,null,1,0,1,null,null,null,null,null,null,1,null,0,null,null,null,null,null,1]
[446,null,null,null,"Nukem Technologies",null,null,"Nukem Technologies","NUKEM",1,null,null,null,null,null,null,null,null,null,null,null,null,null,null,null,null,null,null,null,null,null,null,null,null,null,1,0,1,null,null,null,null,null,null,1,null,0,null,null,null,null,null,1]
[447,null,null,null,"Fennovoima Oy",null,null,"Fennovoima Oy","RAOS Voima",0.34,null,null,null,null,null,null,null,null,null,null,null,null,null,null,null,null,null,null,null,null,null,null,null,null,null,0.34,0.65999999999999992,1,null,null,null,null,null,null,0.34,null,0.18994746000000001,null,null,null,null,null,0.34]
[448,null,null,null,"RAOS Voima",null,null,"RAOS Voima","REIN",1,null,null,null,null,null,null,null,null,null,null,null,null,null,null,null,null,null,null,null,null,null,null,null,null,null,1,0,1,null,null,null,null,null,null,1,null,0.55866899999999997,null,null,null,null,null,1]
[449,null,null,null,"RAOS Project Oy",null,null,"RAOS Project Oy","REIN",1,null,null,null,null,null,null,null,null,null,null,null,null,null,null,null,null,null,null,null,null,null,null,null,null,null,1,0,1,null,null,null,null,null,null,1,null,0.55866899999999997,null,null,null,null,null,1]
[450,null,null,null,"TENAM",null,null,"TENAM","Техснабэкспорт",1,null,null,null,null,null,null,null,null,null,null,null,null,null,null,null,null,null,null,null,null,null,null,null,null,null,{"$f":"J458+M458+P458+S458+V458+Y458+AB458+AE458+AH458","v":1},{"$f":"1-AJ458","v":0},{"$f":"AJ458+AK458","v":1},null,null,null,null,null,null,{"$f":"IF(I458=\"ГК Росатом\",J458,J458*SUMIF($H:$H,I458,$AS:$AS))+IF(L458=\"ГК Росатом\",M458*100%,M458*SUMIF($H:$H,L458,$AS:$AS))+IF(O458=\"РФ в лице ГК Росатом\",P458*100%,P458*SUMIF($H:$H,O458,$AS:$AS))+S458*SUMIF($H:$H,R458,$AS:$AS)+V458*SUMIF($H:$H,U547,$AS:$AS)+Y458*SUMIF($H:$H,X458,$AS:$AS)+AB458*SUMIF($H:$H,AA458,$AS:$AS)+AE458*SUMIF($H:$H,AD458,$AS:$AS)","v":1},null,{"$f":"IF(I458=\"АЭПК\",J458,J458*SUMIF($H:$H,I458,$AU:$AU))+IF(L458=\"РФ в лице ГК Росатом\",0,M458*SUMIF($H:$H,$L458,$AU:$AU))+IF(O458=\"РФ в лице ГК Росатом\",0,P458*SUMIF($H:$H,O458,$AU:$AU))+S458*SUMIF($H:$H,R458,$AU:$AU)+V458*SUMIF($H:$H,U458,$AU:$AU)+Y458*SUMIF($H:$H,X458,$AU:$AU)+AB458*SUMIF($H:$H,AA458,$AU:$AU)+AE458*SUMIF($H:$H,AD458,$AU:$AU)","v":1},null,null,null,null,null,{"$f":"J458+M458+P458+S458+V458+Y458+AB458+AE458+AH458","v":1}]
[451,null,null,null,"ФБВТ",null,null,"ФБВТ","Гиредмет",0.05,null,null,null,null,null,null,null,null,null,null,null,null,null,null,null,null,null,null,null,null,null,null,null,null,null,0.05,0.95,1,null,null,null,null,null,null,4.8722603000000003E-2,null,4.6022300000000002E-2,null,null,null,null,null,0.05]
[452,null,null,null,"Uranium",null,null,"Uranium","Uranium One Holding N.V.",0.89070000000000005,null,"УУГ",0.10929999999999999,null,null,null,null,null,null,null,null,null,null,null,null,null,null,null,null,null,null,null,null,null,null,1,0,1,null,null,null,null,null,null,0.9999782307528865,null,0.99360132561543646,null,null,null,null,null,1]
[453,null,null,null,"SX Resources Inc.",null,null,"SX Resources Inc.","Uranium",1,null,null,null,null,null,null,null,null,null,null,null,null,null,null,null,null,null,null,null,null,null,null,null,null,null,1,0,1,null,null,null,null,null,null,0.9999782307528865,null,0.99360132561543646,null,null,null,null,null,1]
[454,null,null,null,"UrAsia Energy Ltd.\n",null,null,"UrAsia Energy Ltd.\n","Uranium",1,null,null,null,null,null,null,null,null,null,null,null,null,null,null,null,null,null,null,null,null,null,null,null,null,null,1,0,1,null,null,null,null,null,null,0.9999782307528865,null,0.99360132561543646,null,null,null,null,null,1]
[455,null,null,null,"UMP Trading",null,null,"UMP Trading","EMSS Holdings",1,null,null,null,null,null,null,null,null,null,null,null,null,null,null,null,null,null,null,null,null,null,null,null,null,null,1,0,1,null,null,null,null,null,null,0.50000199999999995,null,0.50000199999999995,null,null,null,null,null,1]
[456,null,null,null,"INTERNEXCO (Швейцария)",null,null,"INTERNEXCO (Швейцария)","Техснабэкспорт",1,null,null,null,null,null,null,null,null,null,null,null,null,null,null,null,null,null,null,null,null,null,null,null,null,null,1,0,1,null,null,null,null,null,null,1,null,1,null,null,null,null,null,1]
[457,null,null,null,"ARAKO",null,null,"ARAKO","Атомэнергомаш",0.76459999999999995,null,"Liges",0.2354,null,null,null,null,null,null,null,null,null,null,null,null,null,null,null,null,null,null,null,null,null,null,1,0,1,null,null,null,null,null,null,1,null,1,null,null,null,null,null,1]
[458,null,null,null,"Гардеа",null,null,"Гардеа","Атомэнергомаш",0.51,null,null,null,null,null,null,null,null,null,null,null,null,null,null,null,null,null,null,null,null,null,null,null,null,null,0.51,0.49,1,null,null,null,null,null,null,0.51,null,0.51,null,null,null,null,null,0.51]
[459,null,null,null,"Liges",null,null,"Liges","Атомэнергомаш",1,null,null,null,null,null,null,null,null,null,null,null,null,null,null,null,null,null,null,null,null,null,null,null,null,null,1,0,1,null,null,null,null,null,null,1,null,1,null,null,null,null,null,1]
[460,null,null,null,"Chladici veze Praha, a.s",null,null,"Chladici veze Praha, a.s","Гардеа",1,null,null,null,null,null,null,null,null,null,null,null,null,null,null,null,null,null,null,null,null,null,null,null,null,null,1,0,1,null,null,null,null,null,null,0.51,null,0.51,null,null,null,null,null,1]
[461,null,null,null,"VPR",null,null,"VPR","АРМЗ",1,null,null,null,null,null,null,null,null,null,null,null,null,null,null,null,null,null,null,null,null,null,null,null,null,null,1,0,1,null,null,null,null,null,null,0.99995600000000007,null,0.98706700000000003,null,null,null,null,null,1]
[462,null,null,null,"Reviss Servis Limited",null,null,"Reviss Servis Limited","Маяк",0.5,null,"Техснабэкспорт",0.2,null,null,null,null,null,null,null,null,null,null,null,null,null,null,null,null,null,null,null,null,null,null,0.7,0.30000000000000004,1,null,null,null,null,null,null,0.7,null,0.2,null,null,null,null,null,0.7]
[463,null,null,null,"INTERNEXCO",null,null,"INTERNEXCO","Техснабэкспорт",1,null,null,null,null,null,null,null,null,null,null,null,null,null,null,null,null,null,null,null,null,null,null,null,null,null,1,0,1,null,null,null,null,null,null,1,null,1,null,null,null,null,null,1]
[464,null,null,null,"Topmax ",null,null,"Topmax ","Сайпрус",0.5,null,null,null,null,null,null,null,null,null,null,null,null,null,null,null,null,null,null,null,null,null,null,null,null,null,0.5,0.5,1,null,null,null,null,null,null,0.5,null,0.5,null,null,null,null,null,0.5]
[{"$f":"A472+1","v":465},null,null,null,"С - плюс",null,null,"С - плюс","НИИГрафит",0.51,null,null,null,null,null,null,null,null,null,null,null,null,null,null,null,null,null,null,null,null,null,null,null,null,null,0.51,0.49,1,null,null,null,null,null,null,0.51,null,0.35673582000000004,null,null,null,null,null,0.51]
[{"$f":"A473+1","v":466},null,null,null,"Rosatom East Asia (Beijing) Consulting Co. Ltd.\n",null,null,"Rosatom East Asia (Beijing) Consulting Co. Ltd.\n","ЧУ РМС",1,null,null,null,null,null,null,null,null,null,null,null,null,null,null,null,null,null,null,null,null,null,null,null,null,null,1,0,1,null,null,null,null,null,null,0,null,0,null,null,null,null,null,1]
[467,null,null,null,"ROSATOM NORTH AMERICA LLC",null,null,"ROSATOM NORTH AMERICA LLC","ЧУ РМС",1,null,null,null,null,null,null,null,null,null,null,null,null,null,null,null,null,null,null,null,null,null,null,null,null,null,1,0,1,null,null,null,null,null,null,0,null,0,null,null,null,null,null,1]
[468,null,null,null,"Rosatom South Asia Marketing (India) Private Limited",null,null,"Rosatom South Asia Marketing (India) Private Limited","ЧУ РМС",0.99,null,null,null,null,null,null,null,null,null,null,null,null,null,null,null,null,null,null,null,null,null,null,null,null,null,0.99,1.0000000000000009E-2,1,null,null,null,null,null,null,0,null,0,null,null,null,null,null,0.99]
[469,null,null,null,"Rosatom Middle East and North Africa FZ-LLC",null,null,"Rosatom Middle East and North Africa FZ-LLC","ЧУ РМС",1,null,null,null,null,null,null,null,null,null,null,null,null,null,null,null,null,null,null,null,null,null,null,null,null,null,1,0,1,null,null,null,null,null,null,0,null,0,null,null,null,null,null,1]
[470,null,null,null,"Rosatom Africa (Pty) Ltd",null,null,"Rosatom Africa (Pty) Ltd","ТОО «Росатом Центральная Азия»",1,null,null,null,null,null,null,null,null,null,null,null,null,null,null,null,null,null,null,null,null,null,null,null,null,null,1,0,1,null,null,null,null,null,null,0,null,0,null,null,null,null,null,1]
[471,null,null,null,"Rosatom Asia PTE. LTD",null,null,"Rosatom Asia PTE. LTD","ТОО «Росатом Центральная Азия»",1,null,null,null,null,null,null,null,null,null,null,null,null,null,null,null,null,null,null,null,null,null,null,null,null,null,1,0,1,null,null,null,null,null,null,0,null,0,null,null,null,null,null,1]
[472,null,null,null,"НИИАР-Генерация ",null,null,"НИИАР-ГЕНЕРАЦИЯ","НИИАР",1,null,null,null,null,null,null,null,null,null,null,null,null,null,null,null,null,null,null,null,null,null,null,null,null,null,1,0,1,null,null,null,null,null,null,1,null,0.49823499999999998,null,null,null,null,null,1]
[null,null,null,null,null,null,null,"ЧУ РМС"]

{"sheet":"Периметр АЭПК 9 месяцев 2015","index":20,"n_rows":117,"n_cols":9,"rows_kept":117,"cut":false,"hidden":true,"merged":[]}
["№","Сокращенное название","ИНН","Номер ЦФО","Полное название","Включена в Периметр АЭПК по МСФО",null,"N","Организация"]
[1,"INTERNEXCO",{"$f":"VLOOKUP(B2,[6]Список_компаний_полный!$A:$D,2,0)","v":"HBR 6557"},"2010241200",{"$f":"VLOOKUP(B2,[6]Список_компаний_полный!$A:$D,4,0)","v":"INTERNEXCO GmbH"},"Да",null,1,"INTERNEXCO"]
[2,"KWINDER HOLDINGS LIMITED","",2010240310,"KWINDER HOLDINGS LIMITED","Да",null,2,"KWINDER HOLDINGS LIMITED"]
[3,"Mantra Resources Ltd.","Mantra Resources Ltd.",2010021600,"Mantra Resources Limited","Да",null,3,"Mantra Resources Ltd."]
[4,"ROSATOM FINANCE","ROSATOM FINANCE","2010940000","ROSATOM FINANCE LTD","Да",null,4,"ROSATOM FINANCE"]
[5,"ROSATOM Securities Limited","ROSATOM Securities Limited","2010950000","ROSATOM Securities Limited","Да",null,5,"ROSATOM Securities Limited"]
[6,"Аргон",{"$f":"VLOOKUP(B7,[6]Список_компаний_полный!$A:$D,2,0)","v":6454074501},"2010240800",{"$f":"VLOOKUP(B7,[6]Список_компаний_полный!$A:$D,4,0)","v":"ООО \"Аргон\""},"Да",null,6,"Аргон"]
[7,"АРМЗ",{"$f":"VLOOKUP(B8,[6]Список_компаний_полный!$A:$D,2,0)","v":7706016076},"2010020000",{"$f":"VLOOKUP(B8,[6]Список_компаний_полный!$A:$D,4,0)","v":"ОАО \"Урановый холдинг АРМЗ\" (\"Атомредметзолото\")"},"Да",null,7,"АРМЗ"]
[8,"Атомспецтранс",{"$f":"VLOOKUP(B9,[6]Список_компаний_полный!$A:$D,2,0)","v":7717609102},"2010340000",{"$f":"VLOOKUP(B9,[6]Список_компаний_полный!$A:$D,4,0)","v":"ОАО \"Атомспецтранс\" "},"Да",null,8,"Атомспецтранс"]
[9,"Атомтехэнерго",{"$f":"VLOOKUP(B10,[6]Список_компаний_полный!$A:$D,2,0)","v":5029106714},"2010350000",{"$f":"VLOOKUP(B10,[6]Список_компаний_полный!$A:$D,4,0)","v":"ОАО по наладке, совершенствованию эксплуатации и организации управления атомных станций \"Атомтехэнерго\" "},"Да",null,9,"Атомтехэнерго"]
[10,"Атомэнергомаш",{"$f":"VLOOKUP(B11,[6]Список_компаний_полный!$A:$D,2,0)","v":7706614573},"2010230900",{"$f":"VLOOKUP(B11,[6]Список_компаний_полный!$A:$D,4,0)","v":"ОАО \"Атомное и энергетическое машиностроение\" (ОАО \"Атомэнергомаш\")"},"Да",null,10,"Атомэнергомаш"]
[11,"Атомэнергоремонт",{"$f":"VLOOKUP(B12,[6]Список_компаний_полный!$A:$D,2,0)","v":5029112443},"2010590700",{"$f":"VLOOKUP(B12,[6]Список_компаний_полный!$A:$D,4,0)","v":"ОАО \"Атомэнергоремонт\""},"Да",null,11,"Атомэнергоремонт"]
[12,"АЭМ-лизинг",{"$f":"VLOOKUP(B13,[6]Список_компаний_полный!$A:$D,2,0)","v":7706673635},"2010230902",{"$f":"VLOOKUP(B13,[6]Список_компаний_полный!$A:$D,4,0)","v":"ЗАО \"АЭМ-лизинг\""},"Да",null,12,"АЭМ-лизинг"]
[13,"АЭМ-технологии",{"$f":"VLOOKUP(B14,[6]Список_компаний_полный!$A:$D,2,0)","v":7817311895},"2010230904",{"$f":"VLOOKUP(B14,[6]Список_компаний_полный!$A:$D,4,0)","v":"ЗАО \"АЭМ-технологии\""},"Да",null,13,"АЭМ-технологии"]
[14,"АЭПК",{"$f":"VLOOKUP(B15,[6]Список_компаний_полный!$A:$D,2,0)","v":7706664260},"2010000000",{"$f":"VLOOKUP(B15,[6]Список_компаний_полный!$A:$D,4,0)","v":"ОАО \"Атомный энергопромышленный комплекс\" (ОАО \"Атомэнергопром\")"},"Да",null,14,"АЭПК"]
[15,"Аккую Нуклеар","Аккую Нуклеар","2010450108","Аккую Нуклеар","Да",null,15,"Аккую Нуклеар"]
[16,"АЭХК",{"$f":"VLOOKUP(B17,[6]Список_компаний_полный!$A:$D,2,0)","v":3801098402},"2010370000",{"$f":"VLOOKUP(B17,[6]Список_компаний_полный!$A:$D,4,0)","v":"ОАО \"Ангарский электролизный химический комбинат\""},"Да",null,16,"АЭХК"]
[17,"ВНИИАЭС",{"$f":"VLOOKUP(B18,[6]Список_компаний_полный!$A:$D,2,0)","v":7721247141},"2010591800",{"$f":"VLOOKUP(B18,[6]Список_компаний_полный!$A:$D,4,0)","v":"ОАО\"Всеросийский научно-исследовательский институт по эксплуатации атомных электростанций\""},"Да",null,17,"ВНИИАЭС"]
[18,"ВНИИНМ",{"$f":"VLOOKUP(B19,[6]Список_компаний_полный!$A:$D,2,0)","v":7734598490},"2010400000",{"$f":"VLOOKUP(B19,[6]Список_компаний_полный!$A:$D,4,0)","v":"ОАО \"Всероссийский научно-исследовательский институт неорганических материалов имени академика А.А.Бочвара\""},"Да",null,18,"ВНИИНМ"]
[19,"ВНИИХТ",{"$f":"VLOOKUP(B20,[6]Список_компаний_полный!$A:$D,2,0)","v":7724675770},"2010420000",{"$f":"VLOOKUP(B20,[6]Список_компаний_полный!$A:$D,4,0)","v":"ОАО \"Ведущий научно-исследовательский институт химической технологии (ВНИИХТ)\""},"Да",null,19,"ВНИИХТ"]
[20,"АТОМПРОЕКТ",7814417371,2010460000,"ОАО «Научно-исследовательский и проектно-конструкторский институт энергетических технологий «АТОМПРОЕКТ»","Да",null,20,"АТОМПРОЕКТ"]
[21,"Гидропресс",{"$f":"VLOOKUP(B22,[6]Список_компаний_полный!$A:$D,2,0)","v":5036092340},"2010710000",{"$f":"VLOOKUP(B22,[6]Список_компаний_полный!$A:$D,4,0)","v":"ОАО \"Ордена Трудового Красного Знамени и ордена труда ЧССР - опытное конструкторское бюро \"ГИДРОПРЕСС\""},"Да",null,21,"Гидропресс"]
[22,"Гиредмет",{"$f":"VLOOKUP(B23,[6]Список_компаний_полный!$A:$D,2,0)","v":7706699062},"2010470000",{"$f":"VLOOKUP(B23,[6]Список_компаний_полный!$A:$D,4,0)","v":"ОАО \"Государственный научно-исследовательский проектный институт редкометаллической промышленности \"Гиредмет\""},"Да",null,22,"Гиредмет"]
[23,"Гринатом",{"$f":"VLOOKUP(B24,[6]Список_компаний_полный!$A:$D,2,0)","v":7706729736},"2010900000",{"$f":"VLOOKUP(B24,[6]Список_компаний_полный!$A:$D,4,0)","v":"ЗАО \"Гринатом\""},"Да",null,23,"Гринатом"]
[24,"ГСПИ",{"$f":"VLOOKUP(B25,[6]Список_компаний_полный!$A:$D,2,0)","v":7708697977},"2010500000",{"$f":"VLOOKUP(B25,[6]Список_компаний_полный!$A:$D,4,0)","v":"ОАО \"Государственный специализированный проектный институт\" (ОАО \"ГСПИ\")"},"Да",null,24,"ГСПИ"]
[25,"Далур",{"$f":"VLOOKUP(B26,[6]Список_компаний_полный!$A:$D,2,0)","v":4506004751},"2010230800",{"$f":"VLOOKUP(B26,[6]Список_компаний_полный!$A:$D,4,0)","v":"ЗАО \"Далур\""},"Да",null,25,"Далур"]
[26,"ДЕЗ",{"$f":"VLOOKUP(B27,[6]Список_компаний_полный!$A:$D,2,0)","v":7706730001},"2010890000",{"$f":"VLOOKUP(B27,[6]Список_компаний_полный!$A:$D,4,0)","v":"ОАО \"Дирекция Единого Заказа оборудования для АЭС\""},"Да",null,26,"ДЕЗ"]
[27,"АРМЗ-Сервис",7708671295,2010020602,"ООО \"АРМЗ - сервис\" ","Да",null,27,"АРМЗ-Сервис"]
[28,"ЗАЭС",{"$f":"VLOOKUP(B29,[6]Список_компаний_полный!$A:$D,2,0)","v":7701763846},"2010450000",{"$f":"VLOOKUP(B29,[6]Список_компаний_полный!$A:$D,4,0)","v":"ОАО \"Всероссийское производственное объединение \"Зарубежатомэнергострой\" (ОАО \"ВПО \"ЗАЭС\")"},"Да",null,28,"ЗАЭС"]
[29,"ЗиО-Подольск",{"$f":"VLOOKUP(B30,[6]Список_компаний_полный!$A:$D,2,0)","v":5036040729},"2010230918",{"$f":"VLOOKUP(B30,[6]Список_компаний_полный!$A:$D,4,0)","v":"ОАО \"Машиностроительный завод \"ЗиО Подольск\""},"Да",null,29,"ЗиО-Подольск"]
[30,"ЗИОМАР",{"$f":"VLOOKUP(B31,[6]Список_компаний_полный!$A:$D,2,0)","v":5036039258},"2010230917",{"$f":"VLOOKUP(B31,[6]Список_компаний_полный!$A:$D,4,0)","v":"ОАО \"Инжиниринговая компания \"ЗИОМАР\""},"Да",null,30,"ЗИОМАР"]
[31,"ЗУКМ",{"$f":"VLOOKUP(B32,[6]Список_компаний_полный!$A:$D,2,0)","v":7450045935},"2010241600",{"$f":"VLOOKUP(B32,[6]Список_компаний_полный!$A:$D,4,0)","v":"ООО \"Завод углеродных и композиционных материалов\""},"Да",null,31,"ЗУКМ"]
[32,"ИЦ РГЦ",{"$f":"VLOOKUP(B33,[6]Список_компаний_полный!$A:$D,2,0)","v":7706689000},"2010242300",{"$f":"VLOOKUP(B33,[6]Список_компаний_полный!$A:$D,4,0)","v":"ОАО \"Инжиниринговый центр \"Русская газовая центрифуга\""},"Да",null,32,"ИЦ РГЦ"]
[33,"КМЗ",{"$f":"VLOOKUP(B34,[6]Список_компаний_полный!$A:$D,2,0)","v":3305004397},"2010240600",{"$f":"VLOOKUP(B34,[6]Список_компаний_полный!$A:$D,4,0)","v":"ОАО \"Ковровский механический завод\""},"Да",null,33,"КМЗ"]
[34,"Краун",{"$f":"VLOOKUP(B35,[6]Список_компаний_полный!$A:$D,2,0)","v":7705833438},"2010241100",{"$f":"VLOOKUP(B35,[6]Список_компаний_полный!$A:$D,4,0)","v":"ООО \"Краун\""},"Да",null,34,"Краун"]
[35,"КЦ",7715020463,2010231300,"ОАО\"Коммерческий центр\"","Да",null,35,"КЦ"]
[36,"МЗП",{"$f":"VLOOKUP(B37,[6]Список_компаний_полный!$A:$D,2,0)","v":7724558466},"2010100000",{"$f":"VLOOKUP(B37,[6]Список_компаний_полный!$A:$D,4,0)","v":"ОАО \"Московский завод полиметаллов\""},"Да",null,36,"МЗП"]
[37,"МСЗ",{"$f":"VLOOKUP(B38,[6]Список_компаний_полный!$A:$D,2,0)","v":5053005918},"2010230100",{"$f":"VLOOKUP(B38,[6]Список_компаний_полный!$A:$D,4,0)","v":"ОАО \"Машиностроительный завод\""},"Да",null,37,"МСЗ"]
[38,"НЗХК",{"$f":"VLOOKUP(B39,[6]Список_компаний_полный!$A:$D,2,0)","v":5410114184},"2010230200",{"$f":"VLOOKUP(B39,[6]Список_компаний_полный!$A:$D,4,0)","v":"ОАО \"Новосибирский завод химконцентратов\""},"Да",null,38,"НЗХК"]
[39,"НИАЭП",{"$f":"VLOOKUP(B40,[6]Список_компаний_полный!$A:$D,2,0)","v":5260214123},"2010620000",{"$f":"VLOOKUP(B40,[6]Список_компаний_полный!$A:$D,4,0)","v":"ОАО Нижегородская инжиниринговая компания \"Атомэнергопроект\" (ОАО \"НИАЭП\")"},"Да",null,39,"НИАЭП"]
[40,"НИИАР",{"$f":"VLOOKUP(B41,[6]Список_компаний_полный!$A:$D,2,0)","v":7302040242},"2010480000",{"$f":"VLOOKUP(B41,[6]Список_компаний_полный!$A:$D,4,0)","v":"ОАО Государственный научный центр - Научно-исследовательский институт атомных реакторов (ОАО \"ГНЦ НИИАР\")"},"Да",null,40,"НИИАР"]
[41,"НИИТФА",{"$f":"VLOOKUP(B42,[6]Список_компаний_полный!$A:$D,2,0)","v":7726606316},"2010410000",{"$f":"VLOOKUP(B42,[6]Список_компаний_полный!$A:$D,4,0)","v":"ОАО \"Научно-исследовательский институт технической физики и автоматизации (НИИТФА)\""},"Да",null,41,"НИИТФА"]
[42,"НИКИМТ-Атомстрой",{"$f":"VLOOKUP(B43,[6]Список_компаний_полный!$A:$D,2,0)","v":7715719854},"2010550000",{"$f":"VLOOKUP(B43,[6]Список_компаний_полный!$A:$D,4,0)","v":"ОАО \"НИКИМТ \"Атомстрой\""},"Да",null,42,"НИКИМТ-Атомстрой"]
[43,"НИКИЭТ",{"$f":"VLOOKUP(B44,[6]Список_компаний_полный!$A:$D,2,0)","v":7708698473},"2010650000",{"$f":"VLOOKUP(B44,[6]Список_компаний_полный!$A:$D,4,0)","v":"ОАО \"Научно-исследовательский и конструкторский институт энерготехники имени Н.А. Доллежаля\""},"Да",null,43,"НИКИЭТ"]
[44,"НПК ХПИ",{"$f":"VLOOKUP(B45,[6]Список_компаний_полный!$A:$D,2,0)","v":7706688991},"2010242200",{"$f":"VLOOKUP(B45,[6]Список_компаний_полный!$A:$D,4,0)","v":"ОАО \"НПК \"Химпроминжиниринг\""},"Да",null,44,"НПК ХПИ"]
[45,"ОИК",{"$f":"VLOOKUP(B46,[6]Список_компаний_полный!$A:$D,2,0)","v":7706751361},"2010910000",{"$f":"VLOOKUP(B46,[6]Список_компаний_полный!$A:$D,4,0)","v":"ООО \"Объединенная инновационная корпорация\""},"Да",null,45,"ОИК"]
[46,"ОК РСК",{"$f":"VLOOKUP(B47,[6]Список_компаний_полный!$A:$D,2,0)","v":7706704146},"2010860000",{"$f":"VLOOKUP(B47,[6]Список_компаний_полный!$A:$D,4,0)","v":"ОАО \"Объединенная компания “Разделительно-сублиматный комплекс”"},"Да",null,46,"ОК РСК"]
[47,"ОКБМ",{"$f":"VLOOKUP(B48,[6]Список_компаний_полный!$A:$D,2,0)","v":5259077666},"2010720000",{"$f":"VLOOKUP(B48,[6]Список_компаний_полный!$A:$D,4,0)","v":"ОАО \"Опытное Конструкторское Бюро Машиностроения имени И.И. Африкантова\""},"Да",null,47,"ОКБМ"]
[48,"ППГХО",{"$f":"VLOOKUP(B49,[6]Список_компаний_полный!$A:$D,2,0)","v":7530000048},"2010230400",{"$f":"VLOOKUP(B49,[6]Список_компаний_полный!$A:$D,4,0)","v":"ОАО \"Приаргунское производственное горно-химическое объединение\""},"Да",null,48,"ППГХО"]
[49,"ПСР",{"$f":"VLOOKUP(B50,[6]Список_компаний_полный!$A:$D,2,0)","v":7721699740},"2010592000",{"$f":"VLOOKUP(B50,[6]Список_компаний_полный!$A:$D,4,0)","v":"ОАО \"Производственная система \"ПСР\""},"Да",null,49,"ПСР"]
[50,"РБМ",{"$f":"VLOOKUP(B51,[6]Список_компаний_полный!$A:$D,2,0)","v":7713190205},"2010020600",{"$f":"VLOOKUP(B51,[6]Список_компаний_полный!$A:$D,4,0)","v":"ЗАО \"РУСБУРМАШ\""},"Да",null,50,"РБМ"]
[51,"Росэнергоатом",{"$f":"VLOOKUP(B52,[6]Список_компаний_полный!$A:$D,2,0)","v":7721632827},"2010590000",{"$f":"VLOOKUP(B52,[6]Список_компаний_полный!$A:$D,4,0)","v":"ОАО \"Российский концерн по производству электрической и тепловой энергии на атомных станциях \"Росэнергоатом\""},"Да",null,51,"Росэнергоатом"]
[52,"Русатом Оверсиз",{"$f":"VLOOKUP(B53,[6]Список_компаний_полный!$A:$D,2,0)","v":7706759586},"2010930000",{"$f":"VLOOKUP(B53,[6]Список_компаний_полный!$A:$D,4,0)","v":"ЗАО \"Русатом Оверсиз\""},"Да",null,52,"Русатом Оверсиз"]
[53,"РЭМКО",{"$f":"VLOOKUP(B54,[6]Список_компаний_полный!$A:$D,2,0)","v":5036076690},"2010230911",{"$f":"VLOOKUP(B54,[6]Список_компаний_полный!$A:$D,4,0)","v":"ЗАО \"Русская ЭнергоМашиностроительная Компания\""},"Да",null,53,"РЭМКО"]
[54,"Сайпрус","Сайпрус",2010230916,"ATOMENERGOMASH CYPRUS LIMITED ЧК \"Атомэнергомаш Сайпрус Лимитед\"","Да",null,54,"Сайпрус"]
[55,"СвердНИИхиммаш",{"$f":"VLOOKUP(B56,[6]Список_компаний_полный!$A:$D,2,0)","v":6664003909},"2010200000",{"$f":"VLOOKUP(B56,[6]Список_компаний_полный!$A:$D,4,0)","v":"ОАО \"Свердловский научно-исследовательский институт химического машиностроения (\"СвердНИИхиммаш\")\""},"Да",null,55,"СвердНИИхиммаш"]
[56,"СНВ",{"$f":"VLOOKUP(B57,[6]Список_компаний_полный!$A:$D,2,0)","v":6451420231},"2010242100",{"$f":"VLOOKUP(B57,[6]Список_компаний_полный!$A:$D,4,0)","v":"ООО \"СНВ\""},"Да",null,56,"СНВ"]
[57,"СНИИП",{"$f":"VLOOKUP(B58,[6]Список_компаний_полный!$A:$D,2,0)","v":7734592593},"2010660000",{"$f":"VLOOKUP(B58,[6]Список_компаний_полный!$A:$D,4,0)","v":"ОАО \"Специализированный научно-исследовательский институт приборостроения\" (ОАО \"СНИИП\")"},"Да",null,57,"СНИИП"]
[58,"СХК",{"$f":"VLOOKUP(B59,[6]Список_компаний_полный!$A:$D,2,0)","v":7024029499},"2010780000",{"$f":"VLOOKUP(B59,[6]Список_компаний_полный!$A:$D,4,0)","v":"ОАО \"Сибирский химический комбинат\""},"Да",null,58,"СХК"]
[59,"ТВЭЛ",{"$f":"VLOOKUP(B60,[6]Список_компаний_полный!$A:$D,2,0)","v":7706123550},"2010230000",{"$f":"VLOOKUP(B60,[6]Список_компаний_полный!$A:$D,4,0)","v":"ОАО \"ТВЭЛ\""},"Да",null,59,"ТВЭЛ"]
[60,"ТВЭЛ-Строй",{"$f":"VLOOKUP(B61,[6]Список_компаний_полный!$A:$D,2,0)","v":7726523814},"2010231100",{"$f":"VLOOKUP(B61,[6]Список_компаний_полный!$A:$D,4,0)","v":"ЗАО \"ТВЭЛ-СТРОИ\""},"Да",null,60,"ТВЭЛ-Строй"]
[61,"ТЕНЕКС-Сервис",{"$f":"VLOOKUP(B62,[6]Список_компаний_полный!$A:$D,2,0)","v":7706604582},"2010240100",{"$f":"VLOOKUP(B62,[6]Список_компаний_полный!$A:$D,4,0)","v":"ЗАО \"ТЕНЕКС-Сервис\""},"Да",null,61,"ТЕНЕКС-Сервис"]
[62,"Техснабэкспорт",{"$f":"VLOOKUP(B63,[6]Список_компаний_полный!$A:$D,2,0)","v":7706039242},"2010240000",{"$f":"VLOOKUP(B63,[6]Список_компаний_полный!$A:$D,4,0)","v":"ОАО \"Техснабэкспорт\""},"Да",null,62,"Техснабэкспорт"]
[63,"Точмаш",{"$f":"VLOOKUP(B64,[6]Список_компаний_полный!$A:$D,2,0)","v":3329051460},"2010440000",{"$f":"VLOOKUP(B64,[6]Список_компаний_полный!$A:$D,4,0)","v":"ОАО \"Владимирское производственное объединение \"Точмаш\""},"Да",null,63,"Точмаш"]
[64,"ТЦ ТЕНЕКС",{"$f":"VLOOKUP(B65,[6]Список_компаний_полный!$A:$D,2,0)","v":7706609414},"2010240200",{"$f":"VLOOKUP(B65,[6]Список_компаний_полный!$A:$D,4,0)","v":"ЗАО \"Технологический центр \"ТЕНЕКС\""},"Да",null,64,"ТЦ ТЕНЕКС"]
[65,"УГРК",{"$f":"VLOOKUP(B66,[6]Список_компаний_полный!$A:$D,2,0)","v":7706641432},"2010020100",{"$f":"VLOOKUP(B66,[6]Список_компаний_полный!$A:$D,4,0)","v":"ОАО \"Урановая Горнорудная компания\" (УГРК)"},"Да",null,65,"УУГ"]
[66,"УЗГЦ",{"$f":"VLOOKUP(B67,[6]Список_компаний_полный!$A:$D,2,0)","v":6629020796},"2010241800",{"$f":"VLOOKUP(B67,[6]Список_компаний_полный!$A:$D,4,0)","v":"ООО \"Уральский завод газовых центрифуг\""},"Да",null,66,"УЗГЦ"]
[67,"УЭХК",{"$f":"VLOOKUP(B68,[6]Список_компаний_полный!$A:$D,2,0)","v":6629022962},"2010800000",{"$f":"VLOOKUP(B68,[6]Список_компаний_полный!$A:$D,4,0)","v":"ОАО \"Уральский электрохимический комбинат\""},"Да",null,67,"УЭХК"]
[68,"Хиагда",{"$f":"VLOOKUP(B69,[6]Список_компаний_полный!$A:$D,2,0)","v":"0302001219"},"2010230700",{"$f":"VLOOKUP(B69,[6]Список_компаний_полный!$A:$D,4,0)","v":"ОАО \"Хиагда\""},"Да",null,68,"Хиагда"]
[69,"ЦентрАтом",{"$f":"VLOOKUP(B70,[6]Список_компаний_полный!$A:$D,2,0)","v":7706723156},"2010870000",{"$f":"VLOOKUP(B70,[6]Список_компаний_полный!$A:$D,4,0)","v":"ОАО \"Центр управления непрофильными активами атомной отрасли\""},"Да",null,69,"ЦентрАтом"]
[70,"ЦКБМ",{"$f":"VLOOKUP(B71,[6]Список_компаний_полный!$A:$D,2,0)","v":7806394392},"2010820000",{"$f":"VLOOKUP(B71,[6]Список_компаний_полный!$A:$D,4,0)","v":"ОАО \"Центральное конструкторское бюро машиностроения\""},"Да",null,70,"ЦКБМ"]
[71,"ЧМЗ",{"$f":"VLOOKUP(B72,[6]Список_компаний_полный!$A:$D,2,0)","v":1829008035},"2010230300",{"$f":"VLOOKUP(B72,[6]Список_компаний_полный!$A:$D,4,0)","v":"ОАО \"Чепецкий механический завод\""},"Да",null,71,"ЧМЗ"]
[72,"ЭГМК",{"$f":"VLOOKUP(B73,[6]Список_компаний_полный!$A:$D,2,0)","v":1402047530},"2010020400",{"$f":"VLOOKUP(B73,[6]Список_компаний_полный!$A:$D,4,0)","v":"ЗАО \"Эльконский горно-металлургический комбинат\""},"Да",null,72,"ЭГМК"]
[73,"Энергоспецмонтаж",{"$f":"VLOOKUP(B74,[6]Список_компаний_полный!$A:$D,2,0)","v":7718083574},"2010270000",{"$f":"VLOOKUP(B74,[6]Список_компаний_полный!$A:$D,4,0)","v":"ОАО \"Энергоспецмонтаж\""},"Да",null,73,"Энергоспецмонтаж"]
[74,"ЭНИЦ",{"$f":"VLOOKUP(B75,[6]Список_компаний_полный!$A:$D,2,0)","v":5035037441},"2010830000",{"$f":"VLOOKUP(B75,[6]Список_компаний_полный!$A:$D,4,0)","v":"ОАО \"Электрогорский научно-исследовательский центр по безопасности атомных электростанций\""},"Да",null,74,"ЭНИЦ"]
[75,"ЭХЗ",{"$f":"VLOOKUP(B76,[6]Список_компаний_полный!$A:$D,2,0)","v":2453013555},"2010840000",{"$f":"VLOOKUP(B76,[6]Список_компаний_полный!$A:$D,4,0)","v":"ОАО \"Производственное объединение \"Электрохимический завод\""},"Да",null,75,"ЭХЗ"]
[76,"НЗХК-Инструмент",{"$f":"VLOOKUP(B77,[6]Список_компаний_полный!$A:$D,2,0)","v":5410021660},"2010230207",{"$f":"VLOOKUP(B77,[6]Список_компаний_полный!$A:$D,4,0)","v":"ООО \"НЗХК-Инструмент\""},"Да",null,76,"НЗХК-Инструмент"]
[77,"НЗХК-Энергия",{"$f":"VLOOKUP(B78,[6]Список_компаний_полный!$A:$D,2,0)","v":5410028351},"2010230210",{"$f":"VLOOKUP(B78,[6]Список_компаний_полный!$A:$D,4,0)","v":"ООО \"НЗХК-Энергия\""},"Да",null,77,"НЗХК-Энергия"]
[78,"Искра",{"$f":"VLOOKUP(B79,[6]Список_компаний_полный!$A:$D,2,0)","v":2453014750},"2010230001",{"$f":"VLOOKUP(B79,[6]Список_компаний_полный!$A:$D,4,0)","v":"ООО \"Искра\""},"Да",null,78,"Искра"]
[79,"ЭЛЕМАШ-ТЭК",{"$f":"VLOOKUP(B80,[6]Список_компаний_полный!$A:$D,2,0)","v":5053055010},"2010230110",{"$f":"VLOOKUP(B80,[6]Список_компаний_полный!$A:$D,4,0)","v":"ООО \"ЭЛЕМАШ-ТЭК\""},"Да",null,79,"ЭЛЕМАШ-ТЭК"]
[80,"Экоальянс",{"$f":"VLOOKUP(B81,[6]Список_компаний_полный!$A:$D,2,0)","v":6629026420},"2010800800",{"$f":"VLOOKUP(B81,[6]Список_компаний_полный!$A:$D,4,0)","v":"ООО \"Экоальянс\""},"Да",null,80,"Экоальянс"]
[81,"Тепловодоканал",{"$f":"VLOOKUP(B82,[6]Список_компаний_полный!$A:$D,2,0)","v":1837004370},"2010230306",{"$f":"VLOOKUP(B82,[6]Список_компаний_полный!$A:$D,4,0)","v":"ООО \"Тепловодоканал\""},"Да",null,81,"Тепловодоканал"]
[82,"Уралприбор",{"$f":"VLOOKUP(B83,[6]Список_компаний_полный!$A:$D,2,0)","v":6629020789},"2010242000",{"$f":"VLOOKUP(B83,[6]Список_компаний_полный!$A:$D,4,0)","v":"ООО \"Новоуральский приборный завод\""},"Да",null,82,"Уралприбор"]
[83,"ННКЦ",{"$f":"VLOOKUP(B84,[6]Список_компаний_полный!$A:$D,2,0)","v":6629020806},"2010241900",{"$f":"VLOOKUP(B84,[6]Список_компаний_полный!$A:$D,4,0)","v":"ООО \"Новоуральский научно-конструкторский центр\""},"Да",null,83,"ННКЦ"]
[84,"ОКБ-НН",{"$f":"VLOOKUP(B85,[6]Список_компаний_полный!$A:$D,2,0)","v":5256065824},"2010840400",{"$f":"VLOOKUP(B85,[6]Список_компаний_полный!$A:$D,4,0)","v":"ЗАО \"ОКБ - Нижний Новгород\""},"Да",null,84,"ОКБ-НН"]
[85,"Точмаш-авто",{"$f":"VLOOKUP(B86,[6]Список_компаний_полный!$A:$D,2,0)","v":3329064483},"2010440300",{"$f":"VLOOKUP(B86,[6]Список_компаний_полный!$A:$D,4,0)","v":"ООО \"Точмаш-авто\""},"Да",null,85,"Точмаш-авто"]
[86,"EMSS Holdings","EMSS Holdings",2010230948,"EMSS Holdings Limited (ЭМСС ХОЛДИНГЗ ЛИМИТЕД)","Да",null,86,"EMSS Holdings"]
[87,"UMP Trading","UMP Trading",2010230952,"UMP Trading (Швейцария)","Да",null,87,"UMP Trading"]
[88,"ЦНИИТМАШ",{"$f":"VLOOKUP(B89,[6]Список_компаний_полный!$A:$D,2,0)","v":7723564851},"2010140000",{"$f":"VLOOKUP(B89,[6]Список_компаний_полный!$A:$D,4,0)","v":"ОАО Государственный научный центр РФ \"Научно-производственное объединение \"Центральный научно-исследовательский институт технологии машиностроения\""},"Да",null,88,"ЦНИИТМАШ"]
[89,"МСЗ-М",{"$f":"VLOOKUP(B90,[6]Список_компаний_полный!$A:$D,2,0)","v":5053066861},"2010230115",{"$f":"VLOOKUP(B90,[6]Список_компаний_полный!$A:$D,4,0)","v":"ООО \"МСЗ-МЕХАНИКА\""},"Да",null,89,"МСЗ-М"]
[90,"АЛАБУГА-ВОЛОКНО",{"$f":"VLOOKUP(B91,[6]Список_компаний_полный!$A:$D,2,0)","v":1646031132},"2010242201",{"$f":"VLOOKUP(B91,[6]Список_компаний_полный!$A:$D,4,0)","v":"ООО \"Алабуга-Волокно\""},"Да",null,90,"АЛАБУГА-ВОЛОКНО"]
[91,"Русатом Сервис",{"$f":"VLOOKUP(B92,[6]Список_компаний_полный!$A:$D,2,0)","v":7705966318},"2010592200",{"$f":"VLOOKUP(B92,[6]Список_компаний_полный!$A:$D,4,0)","v":"ЗАО \"Русатом Сервис\""},"Да",null,91,"Русатом Сервис"]
[92,"НИИГрафит",{"$f":"VLOOKUP(B93,[6]Список_компаний_полный!$A:$D,2,0)","v":7720723422},"2010630000",{"$f":"VLOOKUP(B93,[6]Список_компаний_полный!$A:$D,4,0)","v":"ОАО \"Государственный научно-исследовательский институт конструкционных материалов на основе графита \"НИИграфит\""},"Да",null,92,"НИИГрафит"]
[93,"Красная Звезда",{"$f":"VLOOKUP(B94,[6]Список_компаний_полный!$A:$D,2,0)","v":7726682003},"2010600000",{"$f":"VLOOKUP(B94,[6]Список_компаний_полный!$A:$D,4,0)","v":"ОАО \"Красная Звезда\""},"Да",null,93,"Красная Звезда"]
[94,"Молния",{"$f":"VLOOKUP(B95,[6]Список_компаний_полный!$A:$D,2,0)","v":7721730486},"2010740000",{"$f":"VLOOKUP(B95,[6]Список_компаний_полный!$A:$D,4,0)","v":"ОАО \"Производственное объединение \"Машиностроительный завод \"Молния\""},"Да",null,94,"Молния"]
[95,"Балтийская АЭС",{"$f":"VLOOKUP(B96,[6]Список_компаний_полный!$A:$D,2,0)","v":3904612644},"2010592100",{"$f":"VLOOKUP(B96,[6]Список_компаний_полный!$A:$D,4,0)","v":"ОАО \"Балтийская АЭС\""},"Да",null,95,"Балтийская АЭС"]
[96,"УДК Горное",{"$f":"VLOOKUP(B97,[6]Список_компаний_полный!$A:$D,2,0)","v":7536087140},"2010020200",{"$f":"VLOOKUP(B97,[6]Список_компаний_полный!$A:$D,4,0)","v":"ЗАО \"Уранодобывающая компания \"Горное\""},"Да",null,96,"УДК Горное"]
[97,"СЕТЕС",7024037370,2010550001,"ОАО\"Северские теплосистемы\"","Да",null,97,"СЕТЕС"]
[98,"НИИАР-ГЕНЕРАЦИЯ",7329008990,2010970000,"ООО «НИИАР-ГЕНЕРАЦИЯ»","Да",null,98,"НИИАР-Генерация"]
[99,"НИАЭП-Сервис",6916015670,2010620200,"ООО \"НИАЭП-Сервис\"","Да",null,99,"НИАЭП-Сервис"]
[100,"Вента",{"$f":"VLOOKUP(B101,[6]Список_компаний_полный!$A:$D,2,0)","v":6624002377},"2010050000",{"$f":"VLOOKUP(B101,[6]Список_компаний_полный!$A:$D,4,0)","v":"ОАО \"Нижнетуринский машиностроительный завод \"Вента\""},"Да",null,100,"Вента"]
[101,"ЭМКО",{"$f":"VLOOKUP(B102,[6]Список_компаний_полный!$A:$D,2,0)","v":7709735135},"2010230912",{"$f":"VLOOKUP(B102,[6]Список_компаний_полный!$A:$D,4,0)","v":"ООО \"Энергомашкомплекс\""},"Да",null,101,"ЭМКО"]
[102,"ОЗТМиТС",{"$f":"VLOOKUP(B103,[6]Список_компаний_полный!$A:$D,2,0)","v":7726633119},"2010700000",{"$f":"VLOOKUP(B103,[6]Список_компаний_полный!$A:$D,4,0)","v":"ОАО \"Опытный завод тугоплавких металлов и твердых сплавов\" (ОАО \"ОЗТМиТС\")"},"Да",null,102,"ОЗТМиТС"]
[103,"Энергомашспецсталь","Энергомашспецсталь",2010230943,"ОАО \"Энергомашспецсталь\"","Да",null,103,"Энергомашспецсталь"]
[104,"Русатом МС",770680549,2010980000,"ЗАО \"Русатом-международная сеть\"","Да",null,104,"Русатом Оверсиз Инк"]
[105,"ВНИПИПромтехнологии",{"$f":"VLOOKUP(B106,[6]Список_компаний_полный!$A:$D,2,0)","v":7724683379},"2010430000",{"$f":"VLOOKUP(B106,[6]Список_компаний_полный!$A:$D,4,0)","v":"ОАО \"Ведущий проектно-изыскательский и научно-исследовательский институт промышленной технологии\""},"Да",null,105,"ВНИПИПромтехнологии"]
[106,"ОДЦ УГР",{"$f":"VLOOKUP(B107,[6]Список_компаний_полный!$A:$D,2,0)","v":7024033350},"2010780500",{"$f":"VLOOKUP(B107,[6]Список_компаний_полный!$A:$D,4,0)","v":"ООО \"Опытно-демонстрационный центр вывода из эксплуатации уран-графитовых ядерных реакторов\""},"Да",null,106,"ОДЦ УГР"]
[107,"Трест РСЭМ",6916013425,2010620400,"ООО \"Трест Росспецэнергомонтаж\"","Да",null,107,"Трест РСЭМ"]
[108,"ЖТЭЦ",2458013365,"2010551000","ОАО \"Железногорская ТЭЦ\"","Да",null,108,"ЖТЭЦ"]
[109,"РАОС Войма Ои","РАОС Войма Ои","2010931000","РАОС Войма Ои","Да",null,109,"RAOS Voima"]
[110,{"$f":"#REF!","v":{"$error":"#REF!"}},7706785593,{"$f":"#REF!","v":{"$error":"#REF!"}},"ООО «АЭМ-активы»","Да",null,113,"АЭМ-активы"]
[111,"Атомтехэкспорт",{"$f":"VLOOKUP(B112,[6]Список_компаний_полный!$A:$D,2,0)","v":7705408850},2010591900,{"$f":"VLOOKUP(B112,[6]Список_компаний_полный!$A:$D,4,0)","v":"ЗАО \"Атомтехэкспорт\" "},"Да",null,110,"Атомтехэкспорт"]
[112,"Промышленные инновации",{"$f":"VLOOKUP(B113,[6]Список_компаний_полный!$A:$D,2,0)","v":7725524660},2010231200,{"$f":"VLOOKUP(B113,[6]Список_компаний_полный!$A:$D,4,0)","v":"ЗАО \"Промышленные инновации\""},"Да",null,111,"Промышленные инновации"]
[113,"ВНИИАМ",{"$f":"VLOOKUP(B114,[6]Список_компаний_полный!$A:$D,2,0)","v":7743654609},2010390000,{"$f":"VLOOKUP(B114,[6]Список_компаний_полный!$A:$D,4,0)","v":"ОАО \"Всероссийский научно-исследовательский и проектно-конструкторский институт атомного энергетического машиностроения (ВНИИАМ)\""},"Да",null,112,"ВНИИАМ"]
[114,"RAOS Project Oy",null,null,"RAOS Project Oy","ДА"]
[115,"Uranium One Holding","8171.63.219",2010021200,"Uranium One Holding N.V.","Да"]
[116,"Uranium",817104549,2010021500,"Uranium One Inc.","Да"]

{"sheet":"Периметр АЭПК 6 месяцев 2015","index":21,"n_rows":115,"n_cols":9,"rows_kept":115,"cut":false,"hidden":true,"merged":[]}
["№","Сокращенное название","ИНН","Номер ЦФО","Полное название","Включена в Периметр АЭПК по МСФО",null,"N","Организация"]
[1,"INTERNEXCO",{"$f":"VLOOKUP(B2,[6]Список_компаний_полный!$A:$D,2,0)","v":"HBR 6557"},"2010241200",{"$f":"VLOOKUP(B2,[6]Список_компаний_полный!$A:$D,4,0)","v":"INTERNEXCO GmbH"},"Да",null,1,"INTERNEXCO"]
[2,"KWINDER HOLDINGS LIMITED","",2010240310,"KWINDER HOLDINGS LIMITED","Да",null,2,"KWINDER HOLDINGS LIMITED"]
[3,"Mantra Resources Ltd.","Mantra Resources Ltd.",2010021600,"Mantra Resources Limited","Да",null,3,"Mantra Resources Ltd."]
[4,"ROSATOM FINANCE","ROSATOM FINANCE","2010940000","ROSATOM FINANCE LTD","Да",null,4,"ROSATOM FINANCE"]
[5,"ROSATOM Securities Limited","ROSATOM Securities Limited","2010950000","ROSATOM Securities Limited","Да",null,5,"ROSATOM Securities Limited"]
[6,"Аргон",{"$f":"VLOOKUP(B7,[6]Список_компаний_полный!$A:$D,2,0)","v":6454074501},"2010240800",{"$f":"VLOOKUP(B7,[6]Список_компаний_полный!$A:$D,4,0)","v":"ООО \"Аргон\""},"Да",null,6,"Аргон"]
[7,"АРМЗ",{"$f":"VLOOKUP(B8,[6]Список_компаний_полный!$A:$D,2,0)","v":7706016076},"2010020000",{"$f":"VLOOKUP(B8,[6]Список_компаний_полный!$A:$D,4,0)","v":"ОАО \"Урановый холдинг АРМЗ\" (\"Атомредметзолото\")"},"Да",null,7,"АРМЗ"]
[8,"Атомспецтранс",{"$f":"VLOOKUP(B9,[6]Список_компаний_полный!$A:$D,2,0)","v":7717609102},"2010340000",{"$f":"VLOOKUP(B9,[6]Список_компаний_полный!$A:$D,4,0)","v":"ОАО \"Атомспецтранс\" "},"Да",null,8,"Атомспецтранс"]
[9,"Атомтехэнерго",{"$f":"VLOOKUP(B10,[6]Список_компаний_полный!$A:$D,2,0)","v":5029106714},"2010350000",{"$f":"VLOOKUP(B10,[6]Список_компаний_полный!$A:$D,4,0)","v":"ОАО по наладке, совершенствованию эксплуатации и организации управления атомных станций \"Атомтехэнерго\" "},"Да",null,9,"Атомтехэнерго"]
[10,"Атомэнергомаш",{"$f":"VLOOKUP(B11,[6]Список_компаний_полный!$A:$D,2,0)","v":7706614573},"2010230900",{"$f":"VLOOKUP(B11,[6]Список_компаний_полный!$A:$D,4,0)","v":"ОАО \"Атомное и энергетическое машиностроение\" (ОАО \"Атомэнергомаш\")"},"Да",null,10,"Атомэнергомаш"]
[11,"Атомэнергоремонт",{"$f":"VLOOKUP(B12,[6]Список_компаний_полный!$A:$D,2,0)","v":5029112443},"2010590700",{"$f":"VLOOKUP(B12,[6]Список_компаний_полный!$A:$D,4,0)","v":"ОАО \"Атомэнергоремонт\""},"Да",null,11,"Атомэнергоремонт"]
[12,"АЭМ-лизинг",{"$f":"VLOOKUP(B13,[6]Список_компаний_полный!$A:$D,2,0)","v":7706673635},"2010230902",{"$f":"VLOOKUP(B13,[6]Список_компаний_полный!$A:$D,4,0)","v":"ЗАО \"АЭМ-лизинг\""},"Да",null,12,"АЭМ-лизинг"]
[13,"АЭМ-технологии",{"$f":"VLOOKUP(B14,[6]Список_компаний_полный!$A:$D,2,0)","v":7817311895},"2010230904",{"$f":"VLOOKUP(B14,[6]Список_компаний_полный!$A:$D,4,0)","v":"ЗАО \"АЭМ-технологии\""},"Да",null,13,"АЭМ-технологии"]
[14,"АЭПК",{"$f":"VLOOKUP(B15,[6]Список_компаний_полный!$A:$D,2,0)","v":7706664260},"2010000000",{"$f":"VLOOKUP(B15,[6]Список_компаний_полный!$A:$D,4,0)","v":"ОАО \"Атомный энергопромышленный комплекс\" (ОАО \"Атомэнергопром\")"},"Да",null,14,"АЭПК"]
[15,"Аккую Нуклеар","Аккую Нуклеар","2010450108","Аккую Нуклеар","Да",null,15,"Аккую Нуклеар"]
[16,"АЭХК",{"$f":"VLOOKUP(B17,[6]Список_компаний_полный!$A:$D,2,0)","v":3801098402},"2010370000",{"$f":"VLOOKUP(B17,[6]Список_компаний_полный!$A:$D,4,0)","v":"ОАО \"Ангарский электролизный химический комбинат\""},"Да",null,16,"АЭХК"]
[17,"ВНИИАЭС",{"$f":"VLOOKUP(B18,[6]Список_компаний_полный!$A:$D,2,0)","v":7721247141},"2010591800",{"$f":"VLOOKUP(B18,[6]Список_компаний_полный!$A:$D,4,0)","v":"ОАО\"Всеросийский научно-исследовательский институт по эксплуатации атомных электростанций\""},"Да",null,17,"ВНИИАЭС"]
[18,"ВНИИНМ",{"$f":"VLOOKUP(B19,[6]Список_компаний_полный!$A:$D,2,0)","v":7734598490},"2010400000",{"$f":"VLOOKUP(B19,[6]Список_компаний_полный!$A:$D,4,0)","v":"ОАО \"Всероссийский научно-исследовательский институт неорганических материалов имени академика А.А.Бочвара\""},"Да",null,18,"ВНИИНМ"]
[19,"ВНИИХТ",{"$f":"VLOOKUP(B20,[6]Список_компаний_полный!$A:$D,2,0)","v":7724675770},"2010420000",{"$f":"VLOOKUP(B20,[6]Список_компаний_полный!$A:$D,4,0)","v":"ОАО \"Ведущий научно-исследовательский институт химической технологии (ВНИИХТ)\""},"Да",null,19,"ВНИИХТ"]
[20,"АТОМПРОЕКТ",7814417371,2010460000,"ОАО «Научно-исследовательский и проектно-конструкторский институт энергетических технологий «АТОМПРОЕКТ»","Да",null,20,"АТОМПРОЕКТ"]
[21,"Гидропресс",{"$f":"VLOOKUP(B22,[6]Список_компаний_полный!$A:$D,2,0)","v":5036092340},"2010710000",{"$f":"VLOOKUP(B22,[6]Список_компаний_полный!$A:$D,4,0)","v":"ОАО \"Ордена Трудового Красного Знамени и ордена труда ЧССР - опытное конструкторское бюро \"ГИДРОПРЕСС\""},"Да",null,21,"Гидропресс"]
[22,"Гиредмет",{"$f":"VLOOKUP(B23,[6]Список_компаний_полный!$A:$D,2,0)","v":7706699062},"2010470000",{"$f":"VLOOKUP(B23,[6]Список_компаний_полный!$A:$D,4,0)","v":"ОАО \"Государственный научно-исследовательский проектный институт редкометаллической промышленности \"Гиредмет\""},"Да",null,22,"Гиредмет"]
[23,"Гринатом",{"$f":"VLOOKUP(B24,[6]Список_компаний_полный!$A:$D,2,0)","v":7706729736},"2010900000",{"$f":"VLOOKUP(B24,[6]Список_компаний_полный!$A:$D,4,0)","v":"ЗАО \"Гринатом\""},"Да",null,23,"Гринатом"]
[24,"ГСПИ",{"$f":"VLOOKUP(B25,[6]Список_компаний_полный!$A:$D,2,0)","v":7708697977},"2010500000",{"$f":"VLOOKUP(B25,[6]Список_компаний_полный!$A:$D,4,0)","v":"ОАО \"Государственный специализированный проектный институт\" (ОАО \"ГСПИ\")"},"Да",null,24,"ГСПИ"]
[25,"Далур",{"$f":"VLOOKUP(B26,[6]Список_компаний_полный!$A:$D,2,0)","v":4506004751},"2010230800",{"$f":"VLOOKUP(B26,[6]Список_компаний_полный!$A:$D,4,0)","v":"ЗАО \"Далур\""},"Да",null,25,"Далур"]
[26,"ДЕЗ",{"$f":"VLOOKUP(B27,[6]Список_компаний_полный!$A:$D,2,0)","v":7706730001},"2010890000",{"$f":"VLOOKUP(B27,[6]Список_компаний_полный!$A:$D,4,0)","v":"ОАО \"Дирекция Единого Заказа оборудования для АЭС\""},"Да",null,26,"ДЕЗ"]
[27,"АРМЗ-Сервис",7708671295,2010020602,"ООО \"АРМЗ - сервис\" ","Да",null,27,"АРМЗ-Сервис"]
[28,"ЗАЭС",{"$f":"VLOOKUP(B29,[6]Список_компаний_полный!$A:$D,2,0)","v":7701763846},"2010450000",{"$f":"VLOOKUP(B29,[6]Список_компаний_полный!$A:$D,4,0)","v":"ОАО \"Всероссийское производственное объединение \"Зарубежатомэнергострой\" (ОАО \"ВПО \"ЗАЭС\")"},"Да",null,28,"ЗАЭС"]
[29,"ЗиО-Подольск",{"$f":"VLOOKUP(B30,[6]Список_компаний_полный!$A:$D,2,0)","v":5036040729},"2010230918",{"$f":"VLOOKUP(B30,[6]Список_компаний_полный!$A:$D,4,0)","v":"ОАО \"Машиностроительный завод \"ЗиО Подольск\""},"Да",null,29,"ЗиО-Подольск"]
[30,"ЗИОМАР",{"$f":"VLOOKUP(B31,[6]Список_компаний_полный!$A:$D,2,0)","v":5036039258},"2010230917",{"$f":"VLOOKUP(B31,[6]Список_компаний_полный!$A:$D,4,0)","v":"ОАО \"Инжиниринговая компания \"ЗИОМАР\""},"Да",null,30,"ЗИОМАР"]
[31,"ЗУКМ",{"$f":"VLOOKUP(B32,[6]Список_компаний_полный!$A:$D,2,0)","v":7450045935},"2010241600",{"$f":"VLOOKUP(B32,[6]Список_компаний_полный!$A:$D,4,0)","v":"ООО \"Завод углеродных и композиционных материалов\""},"Да",null,31,"ЗУКМ"]
[32,"ИЦ РГЦ",{"$f":"VLOOKUP(B33,[6]Список_компаний_полный!$A:$D,2,0)","v":7706689000},"2010242300",{"$f":"VLOOKUP(B33,[6]Список_компаний_полный!$A:$D,4,0)","v":"ОАО \"Инжиниринговый центр \"Русская газовая центрифуга\""},"Да",null,32,"ИЦ РГЦ"]
[33,"КМЗ",{"$f":"VLOOKUP(B34,[6]Список_компаний_полный!$A:$D,2,0)","v":3305004397},"2010240600",{"$f":"VLOOKUP(B34,[6]Список_компаний_полный!$A:$D,4,0)","v":"ОАО \"Ковровский механический завод\""},"Да",null,33,"КМЗ"]
[34,"Краун",{"$f":"VLOOKUP(B35,[6]Список_компаний_полный!$A:$D,2,0)","v":7705833438},"2010241100",{"$f":"VLOOKUP(B35,[6]Список_компаний_полный!$A:$D,4,0)","v":"ООО \"Краун\""},"Да",null,34,"Краун"]
[35,"КЦ",7715020463,2010231300,"ОАО\"Коммерческий центр\"","Да",null,35,"КЦ"]
[36,"МЗП",{"$f":"VLOOKUP(B37,[6]Список_компаний_полный!$A:$D,2,0)","v":7724558466},"2010100000",{"$f":"VLOOKUP(B37,[6]Список_компаний_полный!$A:$D,4,0)","v":"ОАО \"Московский завод полиметаллов\""},"Да",null,36,"МЗП"]
[37,"МСЗ",{"$f":"VLOOKUP(B38,[6]Список_компаний_полный!$A:$D,2,0)","v":5053005918},"2010230100",{"$f":"VLOOKUP(B38,[6]Список_компаний_полный!$A:$D,4,0)","v":"ОАО \"Машиностроительный завод\""},"Да",null,37,"МСЗ"]
[38,"НЗХК",{"$f":"VLOOKUP(B39,[6]Список_компаний_полный!$A:$D,2,0)","v":5410114184},"2010230200",{"$f":"VLOOKUP(B39,[6]Список_компаний_полный!$A:$D,4,0)","v":"ОАО \"Новосибирский завод химконцентратов\""},"Да",null,38,"НЗХК"]
[39,"НИАЭП",{"$f":"VLOOKUP(B40,[6]Список_компаний_полный!$A:$D,2,0)","v":5260214123},"2010620000",{"$f":"VLOOKUP(B40,[6]Список_компаний_полный!$A:$D,4,0)","v":"ОАО Нижегородская инжиниринговая компания \"Атомэнергопроект\" (ОАО \"НИАЭП\")"},"Да",null,39,"НИАЭП"]
[40,"НИИАР",{"$f":"VLOOKUP(B41,[6]Список_компаний_полный!$A:$D,2,0)","v":7302040242},"2010480000",{"$f":"VLOOKUP(B41,[6]Список_компаний_полный!$A:$D,4,0)","v":"ОАО Государственный научный центр - Научно-исследовательский институт атомных реакторов (ОАО \"ГНЦ НИИАР\")"},"Да",null,40,"НИИАР"]
[41,"НИИТФА",{"$f":"VLOOKUP(B42,[6]Список_компаний_полный!$A:$D,2,0)","v":7726606316},"2010410000",{"$f":"VLOOKUP(B42,[6]Список_компаний_полный!$A:$D,4,0)","v":"ОАО \"Научно-исследовательский институт технической физики и автоматизации (НИИТФА)\""},"Да",null,41,"НИИТФА"]
[42,"НИКИМТ-Атомстрой",{"$f":"VLOOKUP(B43,[6]Список_компаний_полный!$A:$D,2,0)","v":7715719854},"2010550000",{"$f":"VLOOKUP(B43,[6]Список_компаний_полный!$A:$D,4,0)","v":"ОАО \"НИКИМТ \"Атомстрой\""},"Да",null,42,"НИКИМТ-Атомстрой"]
[43,"НИКИЭТ",{"$f":"VLOOKUP(B44,[6]Список_компаний_полный!$A:$D,2,0)","v":7708698473},"2010650000",{"$f":"VLOOKUP(B44,[6]Список_компаний_полный!$A:$D,4,0)","v":"ОАО \"Научно-исследовательский и конструкторский институт энерготехники имени Н.А. Доллежаля\""},"Да",null,43,"НИКИЭТ"]
[44,"НПК ХПИ",{"$f":"VLOOKUP(B45,[6]Список_компаний_полный!$A:$D,2,0)","v":7706688991},"2010242200",{"$f":"VLOOKUP(B45,[6]Список_компаний_полный!$A:$D,4,0)","v":"ОАО \"НПК \"Химпроминжиниринг\""},"Да",null,44,"НПК ХПИ"]
[45,"ОИК",{"$f":"VLOOKUP(B46,[6]Список_компаний_полный!$A:$D,2,0)","v":7706751361},"2010910000",{"$f":"VLOOKUP(B46,[6]Список_компаний_полный!$A:$D,4,0)","v":"ООО \"Объединенная инновационная корпорация\""},"Да",null,45,"ОИК"]
[46,"ОК РСК",{"$f":"VLOOKUP(B47,[6]Список_компаний_полный!$A:$D,2,0)","v":7706704146},"2010860000",{"$f":"VLOOKUP(B47,[6]Список_компаний_полный!$A:$D,4,0)","v":"ОАО \"Объединенная компания “Разделительно-сублиматный комплекс”"},"Да",null,46,"ОК РСК"]
[47,"ОКБМ",{"$f":"VLOOKUP(B48,[6]Список_компаний_полный!$A:$D,2,0)","v":5259077666},"2010720000",{"$f":"VLOOKUP(B48,[6]Список_компаний_полный!$A:$D,4,0)","v":"ОАО \"Опытное Конструкторское Бюро Машиностроения имени И.И. Африкантова\""},"Да",null,47,"ОКБМ"]
[48,"ППГХО",{"$f":"VLOOKUP(B49,[6]Список_компаний_полный!$A:$D,2,0)","v":7530000048},"2010230400",{"$f":"VLOOKUP(B49,[6]Список_компаний_полный!$A:$D,4,0)","v":"ОАО \"Приаргунское производственное горно-химическое объединение\""},"Да",null,48,"ППГХО"]
[49,"ПСР",{"$f":"VLOOKUP(B50,[6]Список_компаний_полный!$A:$D,2,0)","v":7721699740},"2010592000",{"$f":"VLOOKUP(B50,[6]Список_компаний_полный!$A:$D,4,0)","v":"ОАО \"Производственная система \"ПСР\""},"Да",null,49,"ПСР"]
[50,"РБМ",{"$f":"VLOOKUP(B51,[6]Список_компаний_полный!$A:$D,2,0)","v":7713190205},"2010020600",{"$f":"VLOOKUP(B51,[6]Список_компаний_полный!$A:$D,4,0)","v":"ЗАО \"РУСБУРМАШ\""},"Да",null,50,"РБМ"]
[51,"Росэнергоатом",{"$f":"VLOOKUP(B52,[6]Список_компаний_полный!$A:$D,2,0)","v":7721632827},"2010590000",{"$f":"VLOOKUP(B52,[6]Список_компаний_полный!$A:$D,4,0)","v":"ОАО \"Российский концерн по производству электрической и тепловой энергии на атомных станциях \"Росэнергоатом\""},"Да",null,51,"Росэнергоатом"]
[52,"Русатом Оверсиз",{"$f":"VLOOKUP(B53,[6]Список_компаний_полный!$A:$D,2,0)","v":7706759586},"2010930000",{"$f":"VLOOKUP(B53,[6]Список_компаний_полный!$A:$D,4,0)","v":"ЗАО \"Русатом Оверсиз\""},"Да",null,52,"Русатом Оверсиз"]
[53,"РЭМКО",{"$f":"VLOOKUP(B54,[6]Список_компаний_полный!$A:$D,2,0)","v":5036076690},"2010230911",{"$f":"VLOOKUP(B54,[6]Список_компаний_полный!$A:$D,4,0)","v":"ЗАО \"Русская ЭнергоМашиностроительная Компания\""},"Да",null,53,"РЭМКО"]
[54,"Сайпрус","Сайпрус",2010230916,"ATOMENERGOMASH CYPRUS LIMITED ЧК \"Атомэнергомаш Сайпрус Лимитед\"","Да",null,54,"Сайпрус"]
[55,"СвердНИИхиммаш",{"$f":"VLOOKUP(B56,[6]Список_компаний_полный!$A:$D,2,0)","v":6664003909},"2010200000",{"$f":"VLOOKUP(B56,[6]Список_компаний_полный!$A:$D,4,0)","v":"ОАО \"Свердловский научно-исследовательский институт химического машиностроения (\"СвердНИИхиммаш\")\""},"Да",null,55,"СвердНИИхиммаш"]
[56,"СНВ",{"$f":"VLOOKUP(B57,[6]Список_компаний_полный!$A:$D,2,0)","v":6451420231},"2010242100",{"$f":"VLOOKUP(B57,[6]Список_компаний_полный!$A:$D,4,0)","v":"ООО \"СНВ\""},"Да",null,56,"СНВ"]
[57,"СНИИП",{"$f":"VLOOKUP(B58,[6]Список_компаний_полный!$A:$D,2,0)","v":7734592593},"2010660000",{"$f":"VLOOKUP(B58,[6]Список_компаний_полный!$A:$D,4,0)","v":"ОАО \"Специализированный научно-исследовательский институт приборостроения\" (ОАО \"СНИИП\")"},"Да",null,57,"СНИИП"]
[58,"СХК",{"$f":"VLOOKUP(B59,[6]Список_компаний_полный!$A:$D,2,0)","v":7024029499},"2010780000",{"$f":"VLOOKUP(B59,[6]Список_компаний_полный!$A:$D,4,0)","v":"ОАО \"Сибирский химический комбинат\""},"Да",null,58,"СХК"]
[59,"ТВЭЛ",{"$f":"VLOOKUP(B60,[6]Список_компаний_полный!$A:$D,2,0)","v":7706123550},"2010230000",{"$f":"VLOOKUP(B60,[6]Список_компаний_полный!$A:$D,4,0)","v":"ОАО \"ТВЭЛ\""},"Да",null,59,"ТВЭЛ"]
[60,"ТВЭЛ-Строй",{"$f":"VLOOKUP(B61,[6]Список_компаний_полный!$A:$D,2,0)","v":7726523814},"2010231100",{"$f":"VLOOKUP(B61,[6]Список_компаний_полный!$A:$D,4,0)","v":"ЗАО \"ТВЭЛ-СТРОИ\""},"Да",null,60,"ТВЭЛ-Строй"]
[61,"ТЕНЕКС-Сервис",{"$f":"VLOOKUP(B62,[6]Список_компаний_полный!$A:$D,2,0)","v":7706604582},"2010240100",{"$f":"VLOOKUP(B62,[6]Список_компаний_полный!$A:$D,4,0)","v":"ЗАО \"ТЕНЕКС-Сервис\""},"Да",null,61,"ТЕНЕКС-Сервис"]
[62,"Техснабэкспорт",{"$f":"VLOOKUP(B63,[6]Список_компаний_полный!$A:$D,2,0)","v":7706039242},"2010240000",{"$f":"VLOOKUP(B63,[6]Список_компаний_полный!$A:$D,4,0)","v":"ОАО \"Техснабэкспорт\""},"Да",null,62,"Техснабэкспорт"]
[63,"Точмаш",{"$f":"VLOOKUP(B64,[6]Список_компаний_полный!$A:$D,2,0)","v":3329051460},"2010440000",{"$f":"VLOOKUP(B64,[6]Список_компаний_полный!$A:$D,4,0)","v":"ОАО \"Владимирское производственное объединение \"Точмаш\""},"Да",null,63,"Точмаш"]
[64,"ТЦ ТЕНЕКС",{"$f":"VLOOKUP(B65,[6]Список_компаний_полный!$A:$D,2,0)","v":7706609414},"2010240200",{"$f":"VLOOKUP(B65,[6]Список_компаний_полный!$A:$D,4,0)","v":"ЗАО \"Технологический центр \"ТЕНЕКС\""},"Да",null,64,"ТЦ ТЕНЕКС"]
[65,"УГРК",{"$f":"VLOOKUP(B66,[6]Список_компаний_полный!$A:$D,2,0)","v":7706641432},"2010020100",{"$f":"VLOOKUP(B66,[6]Список_компаний_полный!$A:$D,4,0)","v":"ОАО \"Урановая Горнорудная компания\" (УГРК)"},"Да",null,65,"УУГ"]
[66,"УЗГЦ",{"$f":"VLOOKUP(B67,[6]Список_компаний_полный!$A:$D,2,0)","v":6629020796},"2010241800",{"$f":"VLOOKUP(B67,[6]Список_компаний_полный!$A:$D,4,0)","v":"ООО \"Уральский завод газовых центрифуг\""},"Да",null,66,"УЗГЦ"]
[67,"УЭХК",{"$f":"VLOOKUP(B68,[6]Список_компаний_полный!$A:$D,2,0)","v":6629022962},"2010800000",{"$f":"VLOOKUP(B68,[6]Список_компаний_полный!$A:$D,4,0)","v":"ОАО \"Уральский электрохимический комбинат\""},"Да",null,67,"УЭХК"]
[68,"Хиагда",{"$f":"VLOOKUP(B69,[6]Список_компаний_полный!$A:$D,2,0)","v":"0302001219"},"2010230700",{"$f":"VLOOKUP(B69,[6]Список_компаний_полный!$A:$D,4,0)","v":"ОАО \"Хиагда\""},"Да",null,68,"Хиагда"]
[69,"ЦентрАтом",{"$f":"VLOOKUP(B70,[6]Список_компаний_полный!$A:$D,2,0)","v":7706723156},"2010870000",{"$f":"VLOOKUP(B70,[6]Список_компаний_полный!$A:$D,4,0)","v":"ОАО \"Центр управления непрофильными активами атомной отрасли\""},"Да",null,69,"ЦентрАтом"]
[70,"ЦКБМ",{"$f":"VLOOKUP(B71,[6]Список_компаний_полный!$A:$D,2,0)","v":7806394392},"2010820000",{"$f":"VLOOKUP(B71,[6]Список_компаний_полный!$A:$D,4,0)","v":"ОАО \"Центральное конструкторское бюро машиностроения\""},"Да",null,70,"ЦКБМ"]
[71,"ЧМЗ",{"$f":"VLOOKUP(B72,[6]Список_компаний_полный!$A:$D,2,0)","v":1829008035},"2010230300",{"$f":"VLOOKUP(B72,[6]Список_компаний_полный!$A:$D,4,0)","v":"ОАО \"Чепецкий механический завод\""},"Да",null,71,"ЧМЗ"]
[72,"ЭГМК",{"$f":"VLOOKUP(B73,[6]Список_компаний_полный!$A:$D,2,0)","v":1402047530},"2010020400",{"$f":"VLOOKUP(B73,[6]Список_компаний_полный!$A:$D,4,0)","v":"ЗАО \"Эльконский горно-металлургический комбинат\""},"Да",null,72,"ЭГМК"]
[73,"Энергоспецмонтаж",{"$f":"VLOOKUP(B74,[6]Список_компаний_полный!$A:$D,2,0)","v":7718083574},"2010270000",{"$f":"VLOOKUP(B74,[6]Список_компаний_полный!$A:$D,4,0)","v":"ОАО \"Энергоспецмонтаж\""},"Да",null,73,"Энергоспецмонтаж"]
[74,"ЭНИЦ",{"$f":"VLOOKUP(B75,[6]Список_компаний_полный!$A:$D,2,0)","v":5035037441},"2010830000",{"$f":"VLOOKUP(B75,[6]Список_компаний_полный!$A:$D,4,0)","v":"ОАО \"Электрогорский научно-исследовательский центр по безопасности атомных электростанций\""},"Да",null,74,"ЭНИЦ"]
[75,"ЭХЗ",{"$f":"VLOOKUP(B76,[6]Список_компаний_полный!$A:$D,2,0)","v":2453013555},"2010840000",{"$f":"VLOOKUP(B76,[6]Список_компаний_полный!$A:$D,4,0)","v":"ОАО \"Производственное объединение \"Электрохимический завод\""},"Да",null,75,"ЭХЗ"]
[76,"НЗХК-Инструмент",{"$f":"VLOOKUP(B77,[6]Список_компаний_полный!$A:$D,2,0)","v":5410021660},"2010230207",{"$f":"VLOOKUP(B77,[6]Список_компаний_полный!$A:$D,4,0)","v":"ООО \"НЗХК-Инструмент\""},"Да",null,76,"НЗХК-Инструмент"]
[77,"НЗХК-Энергия",{"$f":"VLOOKUP(B78,[6]Список_компаний_полный!$A:$D,2,0)","v":5410028351},"2010230210",{"$f":"VLOOKUP(B78,[6]Список_компаний_полный!$A:$D,4,0)","v":"ООО \"НЗХК-Энергия\""},"Да",null,77,"НЗХК-Энергия"]
[78,"Искра",{"$f":"VLOOKUP(B79,[6]Список_компаний_полный!$A:$D,2,0)","v":2453014750},"2010230001",{"$f":"VLOOKUP(B79,[6]Список_компаний_полный!$A:$D,4,0)","v":"ООО \"Искра\""},"Да",null,78,"Искра"]
[79,"ЭЛЕМАШ-ТЭК",{"$f":"VLOOKUP(B80,[6]Список_компаний_полный!$A:$D,2,0)","v":5053055010},"2010230110",{"$f":"VLOOKUP(B80,[6]Список_компаний_полный!$A:$D,4,0)","v":"ООО \"ЭЛЕМАШ-ТЭК\""},"Да",null,79,"ЭЛЕМАШ-ТЭК"]
[80,"Экоальянс",{"$f":"VLOOKUP(B81,[6]Список_компаний_полный!$A:$D,2,0)","v":6629026420},"2010800800",{"$f":"VLOOKUP(B81,[6]Список_компаний_полный!$A:$D,4,0)","v":"ООО \"Экоальянс\""},"Да",null,80,"Экоальянс"]
[81,"Тепловодоканал",{"$f":"VLOOKUP(B82,[6]Список_компаний_полный!$A:$D,2,0)","v":1837004370},"2010230306",{"$f":"VLOOKUP(B82,[6]Список_компаний_полный!$A:$D,4,0)","v":"ООО \"Тепловодоканал\""},"Да",null,81,"Тепловодоканал"]
[82,"Уралприбор",{"$f":"VLOOKUP(B83,[6]Список_компаний_полный!$A:$D,2,0)","v":6629020789},"2010242000",{"$f":"VLOOKUP(B83,[6]Список_компаний_полный!$A:$D,4,0)","v":"ООО \"Новоуральский приборный завод\""},"Да",null,82,"Уралприбор"]
[83,"ННКЦ",{"$f":"VLOOKUP(B84,[6]Список_компаний_полный!$A:$D,2,0)","v":6629020806},"2010241900",{"$f":"VLOOKUP(B84,[6]Список_компаний_полный!$A:$D,4,0)","v":"ООО \"Новоуральский научно-конструкторский центр\""},"Да",null,83,"ННКЦ"]
[84,"ОКБ-НН",{"$f":"VLOOKUP(B85,[6]Список_компаний_полный!$A:$D,2,0)","v":5256065824},"2010840400",{"$f":"VLOOKUP(B85,[6]Список_компаний_полный!$A:$D,4,0)","v":"ЗАО \"ОКБ - Нижний Новгород\""},"Да",null,84,"ОКБ-НН"]
[85,"Точмаш-авто",{"$f":"VLOOKUP(B86,[6]Список_компаний_полный!$A:$D,2,0)","v":3329064483},"2010440300",{"$f":"VLOOKUP(B86,[6]Список_компаний_полный!$A:$D,4,0)","v":"ООО \"Точмаш-авто\""},"Да",null,85,"Точмаш-авто"]
[86,"EMSS Holdings","EMSS Holdings",2010230948,"EMSS Holdings Limited (ЭМСС ХОЛДИНГЗ ЛИМИТЕД)","Да",null,86,"EMSS Holdings"]
[87,"UMP Trading","UMP Trading",2010230952,"UMP Trading (Швейцария)","Да",null,87,"UMP Trading"]
[88,"ЦНИИТМАШ",{"$f":"VLOOKUP(B89,[6]Список_компаний_полный!$A:$D,2,0)","v":7723564851},"2010140000",{"$f":"VLOOKUP(B89,[6]Список_компаний_полный!$A:$D,4,0)","v":"ОАО Государственный научный центр РФ \"Научно-производственное объединение \"Центральный научно-исследовательский институт технологии машиностроения\""},"Да",null,88,"ЦНИИТМАШ"]
[89,"МСЗ-М",{"$f":"VLOOKUP(B90,[6]Список_компаний_полный!$A:$D,2,0)","v":5053066861},"2010230115",{"$f":"VLOOKUP(B90,[6]Список_компаний_полный!$A:$D,4,0)","v":"ООО \"МСЗ-МЕХАНИКА\""},"Да",null,89,"МСЗ-М"]
[90,"АЛАБУГА-ВОЛОКНО",{"$f":"VLOOKUP(B91,[6]Список_компаний_полный!$A:$D,2,0)","v":1646031132},"2010242201",{"$f":"VLOOKUP(B91,[6]Список_компаний_полный!$A:$D,4,0)","v":"ООО \"Алабуга-Волокно\""},"Да",null,90,"АЛАБУГА-ВОЛОКНО"]
[91,"Русатом Сервис",{"$f":"VLOOKUP(B92,[6]Список_компаний_полный!$A:$D,2,0)","v":7705966318},"2010592200",{"$f":"VLOOKUP(B92,[6]Список_компаний_полный!$A:$D,4,0)","v":"ЗАО \"Русатом Сервис\""},"Да",null,91,"Русатом Сервис"]
[92,"НИИГрафит",{"$f":"VLOOKUP(B93,[6]Список_компаний_полный!$A:$D,2,0)","v":7720723422},"2010630000",{"$f":"VLOOKUP(B93,[6]Список_компаний_полный!$A:$D,4,0)","v":"ОАО \"Государственный научно-исследовательский институт конструкционных материалов на основе графита \"НИИграфит\""},"Да",null,92,"НИИГрафит"]
[93,"Красная Звезда",{"$f":"VLOOKUP(B94,[6]Список_компаний_полный!$A:$D,2,0)","v":7726682003},"2010600000",{"$f":"VLOOKUP(B94,[6]Список_компаний_полный!$A:$D,4,0)","v":"ОАО \"Красная Звезда\""},"Да",null,93,"Красная Звезда"]
[94,"Молния",{"$f":"VLOOKUP(B95,[6]Список_компаний_полный!$A:$D,2,0)","v":7721730486},"2010740000",{"$f":"VLOOKUP(B95,[6]Список_компаний_полный!$A:$D,4,0)","v":"ОАО \"Производственное объединение \"Машиностроительный завод \"Молния\""},"Да",null,94,"Молния"]
[95,"Балтийская АЭС",{"$f":"VLOOKUP(B96,[6]Список_компаний_полный!$A:$D,2,0)","v":3904612644},"2010592100",{"$f":"VLOOKUP(B96,[6]Список_компаний_полный!$A:$D,4,0)","v":"ОАО \"Балтийская АЭС\""},"Да",null,95,"Балтийская АЭС"]
[96,"УДК Горное",{"$f":"VLOOKUP(B97,[6]Список_компаний_полный!$A:$D,2,0)","v":7536087140},"2010020200",{"$f":"VLOOKUP(B97,[6]Список_компаний_полный!$A:$D,4,0)","v":"ЗАО \"Уранодобывающая компания \"Горное\""},"Да",null,96,"УДК Горное"]
[97,"СЕТЕС",7024037370,2010550001,"ОАО\"Северские теплосистемы\"","Да",null,97,"СЕТЕС"]
[98,"НИИАР-ГЕНЕРАЦИЯ",7329008990,2010970000,"ООО «НИИАР-ГЕНЕРАЦИЯ»","Да",null,98,"НИИАР-Генерация"]
[99,"НИАЭП-Сервис",6916015670,2010620200,"ООО \"НИАЭП-Сервис\"","Да",null,99,"НИАЭП-Сервис"]
[100,"Вента",{"$f":"VLOOKUP(B101,[6]Список_компаний_полный!$A:$D,2,0)","v":6624002377},"2010050000",{"$f":"VLOOKUP(B101,[6]Список_компаний_полный!$A:$D,4,0)","v":"ОАО \"Нижнетуринский машиностроительный завод \"Вента\""},"Да",null,100,"Вента"]
[101,"ЭМКО",{"$f":"VLOOKUP(B102,[6]Список_компаний_полный!$A:$D,2,0)","v":7709735135},"2010230912",{"$f":"VLOOKUP(B102,[6]Список_компаний_полный!$A:$D,4,0)","v":"ООО \"Энергомашкомплекс\""},"Да",null,101,"ЭМКО"]
[102,"ОЗТМиТС",{"$f":"VLOOKUP(B103,[6]Список_компаний_полный!$A:$D,2,0)","v":7726633119},"2010700000",{"$f":"VLOOKUP(B103,[6]Список_компаний_полный!$A:$D,4,0)","v":"ОАО \"Опытный завод тугоплавких металлов и твердых сплавов\" (ОАО \"ОЗТМиТС\")"},"Да",null,102,"ОЗТМиТС"]
[103,"Энергомашспецсталь","Энергомашспецсталь",2010230943,"ОАО \"Энергомашспецсталь\"","Да",null,103,"Энергомашспецсталь"]
[104,"Русатом МС",770680549,2010980000,"ЗАО \"Русатом-международная сеть\"","Да",null,104,"Русатом Оверсиз Инк"]
[105,"ВНИПИПромтехнологии",{"$f":"VLOOKUP(B106,[6]Список_компаний_полный!$A:$D,2,0)","v":7724683379},"2010430000",{"$f":"VLOOKUP(B106,[6]Список_компаний_полный!$A:$D,4,0)","v":"ОАО \"Ведущий проектно-изыскательский и научно-исследовательский институт промышленной технологии\""},"Да",null,105,"ВНИПИПромтехнологии"]
[106,"ОДЦ УГР",{"$f":"VLOOKUP(B107,[6]Список_компаний_полный!$A:$D,2,0)","v":7024033350},"2010780500",{"$f":"VLOOKUP(B107,[6]Список_компаний_полный!$A:$D,4,0)","v":"ООО \"Опытно-демонстрационный центр вывода из эксплуатации уран-графитовых ядерных реакторов\""},"Да",null,106,"ОДЦ УГР"]
[107,"Трест РСЭМ",6916013425,2010620400,"ООО \"Трест Росспецэнергомонтаж\"","Да",null,107,"Трест РСЭМ"]
[108,"ЖТЭЦ",2458013365,"2010551000","ОАО \"Железногорская ТЭЦ\"","Да",null,108,"ЖТЭЦ"]
[109,"РАОС Войма Ои","РАОС Войма Ои","2010931000","РАОС Войма Ои","Да",null,109,"RAOS Voima"]
[110,{"$f":"#REF!","v":{"$error":"#REF!"}},7706785593,{"$f":"#REF!","v":{"$error":"#REF!"}},"ООО «АЭМ-активы»","Да",null,113,"АЭМ-активы"]
[111,"Атомтехэкспорт",{"$f":"VLOOKUP(B112,[6]Список_компаний_полный!$A:$D,2,0)","v":7705408850},2010591900,{"$f":"VLOOKUP(B112,[6]Список_компаний_полный!$A:$D,4,0)","v":"ЗАО \"Атомтехэкспорт\" "},"Да",null,110,"Атомтехэкспорт"]
[112,"Промышленные инновации",{"$f":"VLOOKUP(B113,[6]Список_компаний_полный!$A:$D,2,0)","v":7725524660},2010231200,{"$f":"VLOOKUP(B113,[6]Список_компаний_полный!$A:$D,4,0)","v":"ЗАО \"Промышленные инновации\""},"Да",null,111,"Промышленные инновации"]
[113,"ВНИИАМ",{"$f":"VLOOKUP(B114,[6]Список_компаний_полный!$A:$D,2,0)","v":7743654609},2010390000,{"$f":"VLOOKUP(B114,[6]Список_компаний_полный!$A:$D,4,0)","v":"ОАО \"Всероссийский научно-исследовательский и проектно-конструкторский институт атомного энергетического машиностроения (ВНИИАМ)\""},"Да",null,112,"ВНИИАМ"]
[114,"RAOS Project Oy",null,null,"RAOS Project Oy","ДА"]

{"sheet":"Периметр АЭПК 3 месяца 2015","index":22,"n_rows":118,"n_cols":6,"rows_kept":118,"cut":false,"hidden":true,"merged":[]}
["№","Сокращенное название","ИНН","Номер ЦФО","Полное название","Включена в Периметр АЭПК по МСФО"]
[1,"INTERNEXCO",{"$f":"VLOOKUP(B2,[6]Список_компаний_полный!$A:$D,2,0)","v":"HBR 6557"},"2010241200",{"$f":"VLOOKUP(B2,[6]Список_компаний_полный!$A:$D,4,0)","v":"INTERNEXCO GmbH"},"Да"]
[2,"KWINDER HOLDINGS LIMITED","",2010240310,"KWINDER HOLDINGS LIMITED","Да"]
[3,"Mantra Resources Ltd.","Mantra Resources Ltd.",2010021600,"Mantra Resources Limited","Да"]
[4,"ROSATOM FINANCE","ROSATOM FINANCE","2010940000","ROSATOM FINANCE LTD","Да"]
[5,"ROSATOM Securities Limited","ROSATOM Securities Limited","2010950000","ROSATOM Securities Limited","Да"]
[6,"Аргон",{"$f":"VLOOKUP(B7,[6]Список_компаний_полный!$A:$D,2,0)","v":6454074501},"2010240800",{"$f":"VLOOKUP(B7,[6]Список_компаний_полный!$A:$D,4,0)","v":"ООО \"Аргон\""},"Да"]
[7,"АРМЗ",{"$f":"VLOOKUP(B8,[6]Список_компаний_полный!$A:$D,2,0)","v":7706016076},"2010020000",{"$f":"VLOOKUP(B8,[6]Список_компаний_полный!$A:$D,4,0)","v":"ОАО \"Урановый холдинг АРМЗ\" (\"Атомредметзолото\")"},"Да"]
[8,"Атомспецтранс",{"$f":"VLOOKUP(B9,[6]Список_компаний_полный!$A:$D,2,0)","v":7717609102},"2010340000",{"$f":"VLOOKUP(B9,[6]Список_компаний_полный!$A:$D,4,0)","v":"ОАО \"Атомспецтранс\" "},"Да"]
[9,"Атомтехэнерго",{"$f":"VLOOKUP(B10,[6]Список_компаний_полный!$A:$D,2,0)","v":5029106714},"2010350000",{"$f":"VLOOKUP(B10,[6]Список_компаний_полный!$A:$D,4,0)","v":"ОАО по наладке, совершенствованию эксплуатации и организации управления атомных станций \"Атомтехэнерго\" "},"Да"]
[10,"Атомэнергомаш",{"$f":"VLOOKUP(B11,[6]Список_компаний_полный!$A:$D,2,0)","v":7706614573},"2010230900",{"$f":"VLOOKUP(B11,[6]Список_компаний_полный!$A:$D,4,0)","v":"ОАО \"Атомное и энергетическое машиностроение\" (ОАО \"Атомэнергомаш\")"},"Да"]
[11,"Атомэнергоремонт",{"$f":"VLOOKUP(B12,[6]Список_компаний_полный!$A:$D,2,0)","v":5029112443},"2010590700",{"$f":"VLOOKUP(B12,[6]Список_компаний_полный!$A:$D,4,0)","v":"ОАО \"Атомэнергоремонт\""},"Да"]
[12,"АЭМ-лизинг",{"$f":"VLOOKUP(B13,[6]Список_компаний_полный!$A:$D,2,0)","v":7706673635},"2010230902",{"$f":"VLOOKUP(B13,[6]Список_компаний_полный!$A:$D,4,0)","v":"ЗАО \"АЭМ-лизинг\""},"Да"]
[13,"АЭМ-технологии",{"$f":"VLOOKUP(B14,[6]Список_компаний_полный!$A:$D,2,0)","v":7817311895},"2010230904",{"$f":"VLOOKUP(B14,[6]Список_компаний_полный!$A:$D,4,0)","v":"ЗАО \"АЭМ-технологии\""},"Да"]
[14,"АЭПК",{"$f":"VLOOKUP(B15,[6]Список_компаний_полный!$A:$D,2,0)","v":7706664260},"2010000000",{"$f":"VLOOKUP(B15,[6]Список_компаний_полный!$A:$D,4,0)","v":"ОАО \"Атомный энергопромышленный комплекс\" (ОАО \"Атомэнергопром\")"},"Да"]
[15,"Аккую Нуклеар","Аккую Нуклеар","2010450108","Аккую Нуклеар","Да"]
[16,"АЭХК",{"$f":"VLOOKUP(B17,[6]Список_компаний_полный!$A:$D,2,0)","v":3801098402},"2010370000",{"$f":"VLOOKUP(B17,[6]Список_компаний_полный!$A:$D,4,0)","v":"ОАО \"Ангарский электролизный химический комбинат\""},"Да"]
[17,"ВНИИАЭС",{"$f":"VLOOKUP(B18,[6]Список_компаний_полный!$A:$D,2,0)","v":7721247141},"2010591800",{"$f":"VLOOKUP(B18,[6]Список_компаний_полный!$A:$D,4,0)","v":"ОАО\"Всеросийский научно-исследовательский институт по эксплуатации атомных электростанций\""},"Да"]
[18,"ВНИИНМ",{"$f":"VLOOKUP(B19,[6]Список_компаний_полный!$A:$D,2,0)","v":7734598490},"2010400000",{"$f":"VLOOKUP(B19,[6]Список_компаний_полный!$A:$D,4,0)","v":"ОАО \"Всероссийский научно-исследовательский институт неорганических материалов имени академика А.А.Бочвара\""},"Да"]
[19,"ВНИИХТ",{"$f":"VLOOKUP(B20,[6]Список_компаний_полный!$A:$D,2,0)","v":7724675770},"2010420000",{"$f":"VLOOKUP(B20,[6]Список_компаний_полный!$A:$D,4,0)","v":"ОАО \"Ведущий научно-исследовательский институт химической технологии (ВНИИХТ)\""},"Да"]
[20,"АТОМПРОЕКТ",7814417371,2010460000,"ОАО «Научно-исследовательский и проектно-конструкторский институт энергетических технологий «АТОМПРОЕКТ»","Да"]
[21,"Гидропресс",{"$f":"VLOOKUP(B22,[6]Список_компаний_полный!$A:$D,2,0)","v":5036092340},"2010710000",{"$f":"VLOOKUP(B22,[6]Список_компаний_полный!$A:$D,4,0)","v":"ОАО \"Ордена Трудового Красного Знамени и ордена труда ЧССР - опытное конструкторское бюро \"ГИДРОПРЕСС\""},"Да"]
[22,"Гиредмет",{"$f":"VLOOKUP(B23,[6]Список_компаний_полный!$A:$D,2,0)","v":7706699062},"2010470000",{"$f":"VLOOKUP(B23,[6]Список_компаний_полный!$A:$D,4,0)","v":"ОАО \"Государственный научно-исследовательский проектный институт редкометаллической промышленности \"Гиредмет\""},"Да"]
[23,"Гринатом",{"$f":"VLOOKUP(B24,[6]Список_компаний_полный!$A:$D,2,0)","v":7706729736},"2010900000",{"$f":"VLOOKUP(B24,[6]Список_компаний_полный!$A:$D,4,0)","v":"ЗАО \"Гринатом\""},"Да"]
[24,"ГСПИ",{"$f":"VLOOKUP(B25,[6]Список_компаний_полный!$A:$D,2,0)","v":7708697977},"2010500000",{"$f":"VLOOKUP(B25,[6]Список_компаний_полный!$A:$D,4,0)","v":"ОАО \"Государственный специализированный проектный институт\" (ОАО \"ГСПИ\")"},"Да"]
[25,"Далур",{"$f":"VLOOKUP(B26,[6]Список_компаний_полный!$A:$D,2,0)","v":4506004751},"2010230800",{"$f":"VLOOKUP(B26,[6]Список_компаний_полный!$A:$D,4,0)","v":"ЗАО \"Далур\""},"Да"]
[26,"ДЕЗ",{"$f":"VLOOKUP(B27,[6]Список_компаний_полный!$A:$D,2,0)","v":7706730001},"2010890000",{"$f":"VLOOKUP(B27,[6]Список_компаний_полный!$A:$D,4,0)","v":"ОАО \"Дирекция Единого Заказа оборудования для АЭС\""},"Да"]
[27,"АРМЗ-Сервис",7708671295,2010020602,"ООО \"АРМЗ - сервис\" ","Да"]
[28,"ЗАЭС",{"$f":"VLOOKUP(B29,[6]Список_компаний_полный!$A:$D,2,0)","v":7701763846},"2010450000",{"$f":"VLOOKUP(B29,[6]Список_компаний_полный!$A:$D,4,0)","v":"ОАО \"Всероссийское производственное объединение \"Зарубежатомэнергострой\" (ОАО \"ВПО \"ЗАЭС\")"},"Да"]
[29,"ЗиО-Подольск",{"$f":"VLOOKUP(B30,[6]Список_компаний_полный!$A:$D,2,0)","v":5036040729},"2010230918",{"$f":"VLOOKUP(B30,[6]Список_компаний_полный!$A:$D,4,0)","v":"ОАО \"Машиностроительный завод \"ЗиО Подольск\""},"Да"]
[30,"ЗИОМАР",{"$f":"VLOOKUP(B31,[6]Список_компаний_полный!$A:$D,2,0)","v":5036039258},"2010230917",{"$f":"VLOOKUP(B31,[6]Список_компаний_полный!$A:$D,4,0)","v":"ОАО \"Инжиниринговая компания \"ЗИОМАР\""},"Да"]
[31,"ЗУКМ",{"$f":"VLOOKUP(B32,[6]Список_компаний_полный!$A:$D,2,0)","v":7450045935},"2010241600",{"$f":"VLOOKUP(B32,[6]Список_компаний_полный!$A:$D,4,0)","v":"ООО \"Завод углеродных и композиционных материалов\""},"Да"]
[32,"ИЦ РГЦ",{"$f":"VLOOKUP(B33,[6]Список_компаний_полный!$A:$D,2,0)","v":7706689000},"2010242300",{"$f":"VLOOKUP(B33,[6]Список_компаний_полный!$A:$D,4,0)","v":"ОАО \"Инжиниринговый центр \"Русская газовая центрифуга\""},"Да"]
[33,"КМЗ",{"$f":"VLOOKUP(B34,[6]Список_компаний_полный!$A:$D,2,0)","v":3305004397},"2010240600",{"$f":"VLOOKUP(B34,[6]Список_компаний_полный!$A:$D,4,0)","v":"ОАО \"Ковровский механический завод\""},"Да"]
[34,"Краун",{"$f":"VLOOKUP(B35,[6]Список_компаний_полный!$A:$D,2,0)","v":7705833438},"2010241100",{"$f":"VLOOKUP(B35,[6]Список_компаний_полный!$A:$D,4,0)","v":"ООО \"Краун\""},"Да"]
[35,"КЦ",7715020463,2010231300,"ОАО\"Коммерческий центр\"","Да"]
[36,"МЗП",{"$f":"VLOOKUP(B37,[6]Список_компаний_полный!$A:$D,2,0)","v":7724558466},"2010100000",{"$f":"VLOOKUP(B37,[6]Список_компаний_полный!$A:$D,4,0)","v":"ОАО \"Московский завод полиметаллов\""},"Да"]
[37,"МСЗ",{"$f":"VLOOKUP(B38,[6]Список_компаний_полный!$A:$D,2,0)","v":5053005918},"2010230100",{"$f":"VLOOKUP(B38,[6]Список_компаний_полный!$A:$D,4,0)","v":"ОАО \"Машиностроительный завод\""},"Да"]
[38,"НЗХК",{"$f":"VLOOKUP(B39,[6]Список_компаний_полный!$A:$D,2,0)","v":5410114184},"2010230200",{"$f":"VLOOKUP(B39,[6]Список_компаний_полный!$A:$D,4,0)","v":"ОАО \"Новосибирский завод химконцентратов\""},"Да"]
[39,"НИАЭП",{"$f":"VLOOKUP(B40,[6]Список_компаний_полный!$A:$D,2,0)","v":5260214123},"2010620000",{"$f":"VLOOKUP(B40,[6]Список_компаний_полный!$A:$D,4,0)","v":"ОАО Нижегородская инжиниринговая компания \"Атомэнергопроект\" (ОАО \"НИАЭП\")"},"Да"]
[40,"НИИАР",{"$f":"VLOOKUP(B41,[6]Список_компаний_полный!$A:$D,2,0)","v":7302040242},"2010480000",{"$f":"VLOOKUP(B41,[6]Список_компаний_полный!$A:$D,4,0)","v":"ОАО Государственный научный центр - Научно-исследовательский институт атомных реакторов (ОАО \"ГНЦ НИИАР\")"},"Да"]
[41,"НИИТФА",{"$f":"VLOOKUP(B42,[6]Список_компаний_полный!$A:$D,2,0)","v":7726606316},"2010410000",{"$f":"VLOOKUP(B42,[6]Список_компаний_полный!$A:$D,4,0)","v":"ОАО \"Научно-исследовательский институт технической физики и автоматизации (НИИТФА)\""},"Да"]
[42,"НИКИМТ-Атомстрой",{"$f":"VLOOKUP(B43,[6]Список_компаний_полный!$A:$D,2,0)","v":7715719854},"2010550000",{"$f":"VLOOKUP(B43,[6]Список_компаний_полный!$A:$D,4,0)","v":"ОАО \"НИКИМТ \"Атомстрой\""},"Да"]
[43,"НИКИЭТ",{"$f":"VLOOKUP(B44,[6]Список_компаний_полный!$A:$D,2,0)","v":7708698473},"2010650000",{"$f":"VLOOKUP(B44,[6]Список_компаний_полный!$A:$D,4,0)","v":"ОАО \"Научно-исследовательский и конструкторский институт энерготехники имени Н.А. Доллежаля\""},"Да"]
[44,"НПК ХПИ",{"$f":"VLOOKUP(B45,[6]Список_компаний_полный!$A:$D,2,0)","v":7706688991},"2010242200",{"$f":"VLOOKUP(B45,[6]Список_компаний_полный!$A:$D,4,0)","v":"ОАО \"НПК \"Химпроминжиниринг\""},"Да"]
[45,"ОИК",{"$f":"VLOOKUP(B46,[6]Список_компаний_полный!$A:$D,2,0)","v":7706751361},"2010910000",{"$f":"VLOOKUP(B46,[6]Список_компаний_полный!$A:$D,4,0)","v":"ООО \"Объединенная инновационная корпорация\""},"Да"]
[46,"ОК РСК",{"$f":"VLOOKUP(B47,[6]Список_компаний_полный!$A:$D,2,0)","v":7706704146},"2010860000",{"$f":"VLOOKUP(B47,[6]Список_компаний_полный!$A:$D,4,0)","v":"ОАО \"Объединенная компания “Разделительно-сублиматный комплекс”"},"Да"]
[47,"ОКБМ",{"$f":"VLOOKUP(B48,[6]Список_компаний_полный!$A:$D,2,0)","v":5259077666},"2010720000",{"$f":"VLOOKUP(B48,[6]Список_компаний_полный!$A:$D,4,0)","v":"ОАО \"Опытное Конструкторское Бюро Машиностроения имени И.И. Африкантова\""},"Да"]
[48,"Петрозаводскмаш",1001000358,2010242600,"ОАО\"Петрозаводскмаш\"","Да"]
[49,"ППГХО",{"$f":"VLOOKUP(B50,[6]Список_компаний_полный!$A:$D,2,0)","v":7530000048},"2010230400",{"$f":"VLOOKUP(B50,[6]Список_компаний_полный!$A:$D,4,0)","v":"ОАО \"Приаргунское производственное горно-химическое объединение\""},"Да"]
[50,"ПСР",{"$f":"VLOOKUP(B51,[6]Список_компаний_полный!$A:$D,2,0)","v":7721699740},"2010592000",{"$f":"VLOOKUP(B51,[6]Список_компаний_полный!$A:$D,4,0)","v":"ОАО \"Производственная система \"ПСР\""},"Да"]
[51,"РБМ",{"$f":"VLOOKUP(B52,[6]Список_компаний_полный!$A:$D,2,0)","v":7713190205},"2010020600",{"$f":"VLOOKUP(B52,[6]Список_компаний_полный!$A:$D,4,0)","v":"ЗАО \"РУСБУРМАШ\""},"Да"]
[52,"Росэнергоатом",{"$f":"VLOOKUP(B53,[6]Список_компаний_полный!$A:$D,2,0)","v":7721632827},"2010590000",{"$f":"VLOOKUP(B53,[6]Список_компаний_полный!$A:$D,4,0)","v":"ОАО \"Российский концерн по производству электрической и тепловой энергии на атомных станциях \"Росэнергоатом\""},"Да"]
[53,"Русатом Оверсиз",{"$f":"VLOOKUP(B54,[6]Список_компаний_полный!$A:$D,2,0)","v":7706759586},"2010930000",{"$f":"VLOOKUP(B54,[6]Список_компаний_полный!$A:$D,4,0)","v":"ЗАО \"Русатом Оверсиз\""},"Да"]
[54,"РЭМКО",{"$f":"VLOOKUP(B55,[6]Список_компаний_полный!$A:$D,2,0)","v":5036076690},"2010230911",{"$f":"VLOOKUP(B55,[6]Список_компаний_полный!$A:$D,4,0)","v":"ЗАО \"Русская ЭнергоМашиностроительная Компания\""},"Да"]
[55,"Сайпрус","Сайпрус",2010230916,"ATOMENERGOMASH CYPRUS LIMITED ЧК \"Атомэнергомаш Сайпрус Лимитед\"","Да"]
[56,"СвердНИИхиммаш",{"$f":"VLOOKUP(B57,[6]Список_компаний_полный!$A:$D,2,0)","v":6664003909},"2010200000",{"$f":"VLOOKUP(B57,[6]Список_компаний_полный!$A:$D,4,0)","v":"ОАО \"Свердловский научно-исследовательский институт химического машиностроения (\"СвердНИИхиммаш\")\""},"Да"]
[57,"СНВ",{"$f":"VLOOKUP(B58,[6]Список_компаний_полный!$A:$D,2,0)","v":6451420231},"2010242100",{"$f":"VLOOKUP(B58,[6]Список_компаний_полный!$A:$D,4,0)","v":"ООО \"СНВ\""},"Да"]
[58,"СНИИП",{"$f":"VLOOKUP(B59,[6]Список_компаний_полный!$A:$D,2,0)","v":7734592593},"2010660000",{"$f":"VLOOKUP(B59,[6]Список_компаний_полный!$A:$D,4,0)","v":"ОАО \"Специализированный научно-исследовательский институт приборостроения\" (ОАО \"СНИИП\")"},"Да"]
[59,"СХК",{"$f":"VLOOKUP(B60,[6]Список_компаний_полный!$A:$D,2,0)","v":7024029499},"2010780000",{"$f":"VLOOKUP(B60,[6]Список_компаний_полный!$A:$D,4,0)","v":"ОАО \"Сибирский химический комбинат\""},"Да"]
[60,"ТВЭЛ",{"$f":"VLOOKUP(B61,[6]Список_компаний_полный!$A:$D,2,0)","v":7706123550},"2010230000",{"$f":"VLOOKUP(B61,[6]Список_компаний_полный!$A:$D,4,0)","v":"ОАО \"ТВЭЛ\""},"Да"]
[61,"ТВЭЛ-Строй",{"$f":"VLOOKUP(B62,[6]Список_компаний_полный!$A:$D,2,0)","v":7726523814},"2010231100",{"$f":"VLOOKUP(B62,[6]Список_компаний_полный!$A:$D,4,0)","v":"ЗАО \"ТВЭЛ-СТРОИ\""},"Да"]
[62,"ТЕНЕКС-Сервис",{"$f":"VLOOKUP(B63,[6]Список_компаний_полный!$A:$D,2,0)","v":7706604582},"2010240100",{"$f":"VLOOKUP(B63,[6]Список_компаний_полный!$A:$D,4,0)","v":"ЗАО \"ТЕНЕКС-Сервис\""},"Да"]
[63,"Техснабэкспорт",{"$f":"VLOOKUP(B64,[6]Список_компаний_полный!$A:$D,2,0)","v":7706039242},"2010240000",{"$f":"VLOOKUP(B64,[6]Список_компаний_полный!$A:$D,4,0)","v":"ОАО \"Техснабэкспорт\""},"Да"]
[64,"Точмаш",{"$f":"VLOOKUP(B65,[6]Список_компаний_полный!$A:$D,2,0)","v":3329051460},"2010440000",{"$f":"VLOOKUP(B65,[6]Список_компаний_полный!$A:$D,4,0)","v":"ОАО \"Владимирское производственное объединение \"Точмаш\""},"Да"]
[65,"ТЦ ТЕНЕКС",{"$f":"VLOOKUP(B66,[6]Список_компаний_полный!$A:$D,2,0)","v":7706609414},"2010240200",{"$f":"VLOOKUP(B66,[6]Список_компаний_полный!$A:$D,4,0)","v":"ЗАО \"Технологический центр \"ТЕНЕКС\""},"Да"]
[66,"УГРК",{"$f":"VLOOKUP(B67,[6]Список_компаний_полный!$A:$D,2,0)","v":7706641432},"2010020100",{"$f":"VLOOKUP(B67,[6]Список_компаний_полный!$A:$D,4,0)","v":"ОАО \"Урановая Горнорудная компания\" (УГРК)"},"Да"]
[67,"УЗГЦ",{"$f":"VLOOKUP(B68,[6]Список_компаний_полный!$A:$D,2,0)","v":6629020796},"2010241800",{"$f":"VLOOKUP(B68,[6]Список_компаний_полный!$A:$D,4,0)","v":"ООО \"Уральский завод газовых центрифуг\""},"Да"]
[68,"УЭХК",{"$f":"VLOOKUP(B69,[6]Список_компаний_полный!$A:$D,2,0)","v":6629022962},"2010800000",{"$f":"VLOOKUP(B69,[6]Список_компаний_полный!$A:$D,4,0)","v":"ОАО \"Уральский электрохимический комбинат\""},"Да"]
[69,"Хиагда",{"$f":"VLOOKUP(B70,[6]Список_компаний_полный!$A:$D,2,0)","v":"0302001219"},"2010230700",{"$f":"VLOOKUP(B70,[6]Список_компаний_полный!$A:$D,4,0)","v":"ОАО \"Хиагда\""},"Да"]
[70,"ЦентрАтом",{"$f":"VLOOKUP(B71,[6]Список_компаний_полный!$A:$D,2,0)","v":7706723156},"2010870000",{"$f":"VLOOKUP(B71,[6]Список_компаний_полный!$A:$D,4,0)","v":"ОАО \"Центр управления непрофильными активами атомной отрасли\""},"Да"]
[71,"ЦКБМ",{"$f":"VLOOKUP(B72,[6]Список_компаний_полный!$A:$D,2,0)","v":7806394392},"2010820000",{"$f":"VLOOKUP(B72,[6]Список_компаний_полный!$A:$D,4,0)","v":"ОАО \"Центральное конструкторское бюро машиностроения\""},"Да"]
[72,"ЧМЗ",{"$f":"VLOOKUP(B73,[6]Список_компаний_полный!$A:$D,2,0)","v":1829008035},"2010230300",{"$f":"VLOOKUP(B73,[6]Список_компаний_полный!$A:$D,4,0)","v":"ОАО \"Чепецкий механический завод\""},"Да"]
[73,"ЭГМК",{"$f":"VLOOKUP(B74,[6]Список_компаний_полный!$A:$D,2,0)","v":1402047530},"2010020400",{"$f":"VLOOKUP(B74,[6]Список_компаний_полный!$A:$D,4,0)","v":"ЗАО \"Эльконский горно-металлургический комбинат\""},"Да"]
[74,"Энергоспецмонтаж",{"$f":"VLOOKUP(B75,[6]Список_компаний_полный!$A:$D,2,0)","v":7718083574},"2010270000",{"$f":"VLOOKUP(B75,[6]Список_компаний_полный!$A:$D,4,0)","v":"ОАО \"Энергоспецмонтаж\""},"Да"]
[75,"ЭНИЦ",{"$f":"VLOOKUP(B76,[6]Список_компаний_полный!$A:$D,2,0)","v":5035037441},"2010830000",{"$f":"VLOOKUP(B76,[6]Список_компаний_полный!$A:$D,4,0)","v":"ОАО \"Электрогорский научно-исследовательский центр по безопасности атомных электростанций\""},"Да"]
[76,"ЭХЗ",{"$f":"VLOOKUP(B77,[6]Список_компаний_полный!$A:$D,2,0)","v":2453013555},"2010840000",{"$f":"VLOOKUP(B77,[6]Список_компаний_полный!$A:$D,4,0)","v":"ОАО \"Производственное объединение \"Электрохимический завод\""},"Да"]
[77,"НЗХК-Инструмент",{"$f":"VLOOKUP(B78,[6]Список_компаний_полный!$A:$D,2,0)","v":5410021660},"2010230207",{"$f":"VLOOKUP(B78,[6]Список_компаний_полный!$A:$D,4,0)","v":"ООО \"НЗХК-Инструмент\""},"Да"]
[78,"НЗХК-Энергия",{"$f":"VLOOKUP(B79,[6]Список_компаний_полный!$A:$D,2,0)","v":5410028351},"2010230210",{"$f":"VLOOKUP(B79,[6]Список_компаний_полный!$A:$D,4,0)","v":"ООО \"НЗХК-Энергия\""},"Да"]
[79,"Искра",{"$f":"VLOOKUP(B80,[6]Список_компаний_полный!$A:$D,2,0)","v":2453014750},"2010230001",{"$f":"VLOOKUP(B80,[6]Список_компаний_полный!$A:$D,4,0)","v":"ООО \"Искра\""},"Да"]
[80,"ЭЛЕМАШ-ТЭК",{"$f":"VLOOKUP(B81,[6]Список_компаний_полный!$A:$D,2,0)","v":5053055010},"2010230110",{"$f":"VLOOKUP(B81,[6]Список_компаний_полный!$A:$D,4,0)","v":"ООО \"ЭЛЕМАШ-ТЭК\""},"Да"]
[81,"Экоальянс",{"$f":"VLOOKUP(B82,[6]Список_компаний_полный!$A:$D,2,0)","v":6629026420},"2010800800",{"$f":"VLOOKUP(B82,[6]Список_компаний_полный!$A:$D,4,0)","v":"ООО \"Экоальянс\""},"Да"]
[82,"Тепловодоканал",{"$f":"VLOOKUP(B83,[6]Список_компаний_полный!$A:$D,2,0)","v":1837004370},"2010230306",{"$f":"VLOOKUP(B83,[6]Список_компаний_полный!$A:$D,4,0)","v":"ООО \"Тепловодоканал\""},"Да"]
[83,"Уралприбор",{"$f":"VLOOKUP(B84,[6]Список_компаний_полный!$A:$D,2,0)","v":6629020789},"2010242000",{"$f":"VLOOKUP(B84,[6]Список_компаний_полный!$A:$D,4,0)","v":"ООО \"Новоуральский приборный завод\""},"Да"]
[84,"ННКЦ",{"$f":"VLOOKUP(B85,[6]Список_компаний_полный!$A:$D,2,0)","v":6629020806},"2010241900",{"$f":"VLOOKUP(B85,[6]Список_компаний_полный!$A:$D,4,0)","v":"ООО \"Новоуральский научно-конструкторский центр\""},"Да"]
[85,"ОКБ-НН",{"$f":"VLOOKUP(B86,[6]Список_компаний_полный!$A:$D,2,0)","v":5256065824},"2010840400",{"$f":"VLOOKUP(B86,[6]Список_компаний_полный!$A:$D,4,0)","v":"ЗАО \"ОКБ - Нижний Новгород\""},"Да"]
[86,"Точмаш-авто",{"$f":"VLOOKUP(B87,[6]Список_компаний_полный!$A:$D,2,0)","v":3329064483},"2010440300",{"$f":"VLOOKUP(B87,[6]Список_компаний_полный!$A:$D,4,0)","v":"ООО \"Точмаш-авто\""},"Да"]
[87,"EMSS Holdings","EMSS Holdings",2010230948,"EMSS Holdings Limited (ЭМСС ХОЛДИНГЗ ЛИМИТЕД)","Да"]
[88,"UMP Trading","UMP Trading",2010230952,"UMP Trading (Швейцария)","Да"]
[89,"ЦНИИТМАШ",{"$f":"VLOOKUP(B90,[6]Список_компаний_полный!$A:$D,2,0)","v":7723564851},"2010140000",{"$f":"VLOOKUP(B90,[6]Список_компаний_полный!$A:$D,4,0)","v":"ОАО Государственный научный центр РФ \"Научно-производственное объединение \"Центральный научно-исследовательский институт технологии машиностроения\""},"Да"]
[90,"МСЗ-М",{"$f":"VLOOKUP(B91,[6]Список_компаний_полный!$A:$D,2,0)","v":5053066861},"2010230115",{"$f":"VLOOKUP(B91,[6]Список_компаний_полный!$A:$D,4,0)","v":"ООО \"МСЗ-МЕХАНИКА\""},"Да"]
[91,"АЛАБУГА-ВОЛОКНО",{"$f":"VLOOKUP(B92,[6]Список_компаний_полный!$A:$D,2,0)","v":1646031132},"2010242201",{"$f":"VLOOKUP(B92,[6]Список_компаний_полный!$A:$D,4,0)","v":"ООО \"Алабуга-Волокно\""},"Да"]
[92,"Русатом Сервис",{"$f":"VLOOKUP(B93,[6]Список_компаний_полный!$A:$D,2,0)","v":7705966318},"2010592200",{"$f":"VLOOKUP(B93,[6]Список_компаний_полный!$A:$D,4,0)","v":"ЗАО \"Русатом Сервис\""},"Да"]
[93,"НИИГрафит",{"$f":"VLOOKUP(B94,[6]Список_компаний_полный!$A:$D,2,0)","v":7720723422},"2010630000",{"$f":"VLOOKUP(B94,[6]Список_компаний_полный!$A:$D,4,0)","v":"ОАО \"Государственный научно-исследовательский институт конструкционных материалов на основе графита \"НИИграфит\""},"Да"]
[94,"Красная Звезда",{"$f":"VLOOKUP(B95,[6]Список_компаний_полный!$A:$D,2,0)","v":7726682003},"2010600000",{"$f":"VLOOKUP(B95,[6]Список_компаний_полный!$A:$D,4,0)","v":"ОАО \"Красная Звезда\""},"Да"]
[95,"Молния",{"$f":"VLOOKUP(B96,[6]Список_компаний_полный!$A:$D,2,0)","v":7721730486},"2010740000",{"$f":"VLOOKUP(B96,[6]Список_компаний_полный!$A:$D,4,0)","v":"ОАО \"Производственное объединение \"Машиностроительный завод \"Молния\""},"Да"]
[96,"Балтийская АЭС",{"$f":"VLOOKUP(B97,[6]Список_компаний_полный!$A:$D,2,0)","v":3904612644},"2010592100",{"$f":"VLOOKUP(B97,[6]Список_компаний_полный!$A:$D,4,0)","v":"ОАО \"Балтийская АЭС\""},"Да"]
[97,"УДК Горное",{"$f":"VLOOKUP(B98,[6]Список_компаний_полный!$A:$D,2,0)","v":7536087140},"2010020200",{"$f":"VLOOKUP(B98,[6]Список_компаний_полный!$A:$D,4,0)","v":"ЗАО \"Уранодобывающая компания \"Горное\""},"Да"]
[98,"СЕТЕС",7024037370,2010550001,"ОАО\"Северские теплосистемы\"","Да"]
[99,"ТЕНЕКС-Комплект",{"$f":"VLOOKUP(B100,[6]Список_компаний_полный!$A:$D,2,0)","v":7708541585},"2010240300",{"$f":"VLOOKUP(B100,[6]Список_компаний_полный!$A:$D,4,0)","v":"ООО \"ТЕНЕКС-Комплект\""},"Да"]
[100,"ТЕНЕКС-Логистика",{"$f":"VLOOKUP(B101,[6]Список_компаний_полный!$A:$D,2,0)","v":7706607400},"2010240400",{"$f":"VLOOKUP(B101,[6]Список_компаний_полный!$A:$D,4,0)","v":"ЗАО \"ТЕНЕКС-Логистика\""},"Да"]
[101,"НИИАР-ГЕНЕРАЦИЯ",7329008990,2010970000,"ООО «НИИАР-ГЕНЕРАЦИЯ»","Да"]
[102,"НИАЭП-Сервис",6916015670,2010620200,"ООО \"НИАЭП-Сервис\"","Да"]
[103,"ОООПетрозаводскмаш",1001270058,2010241205,"ООО\"Петрозаводскмаш\"","Да"]
[104,"Вента",{"$f":"VLOOKUP(B105,[6]Список_компаний_полный!$A:$D,2,0)","v":6624002377},"2010050000",{"$f":"VLOOKUP(B105,[6]Список_компаний_полный!$A:$D,4,0)","v":"ОАО \"Нижнетуринский машиностроительный завод \"Вента\""},"Да"]
[105,"ЭМКО",{"$f":"VLOOKUP(B106,[6]Список_компаний_полный!$A:$D,2,0)","v":7709735135},"2010230912",{"$f":"VLOOKUP(B106,[6]Список_компаний_полный!$A:$D,4,0)","v":"ООО \"Энергомашкомплекс\""},"Да"]
[106,"ОЗТМиТС",{"$f":"VLOOKUP(B107,[6]Список_компаний_полный!$A:$D,2,0)","v":7726633119},"2010700000",{"$f":"VLOOKUP(B107,[6]Список_компаний_полный!$A:$D,4,0)","v":"ОАО \"Опытный завод тугоплавких металлов и твердых сплавов\" (ОАО \"ОЗТМиТС\")"},"Да"]
[107,"Энергомашспецсталь","Энергомашспецсталь",2010230943,"ОАО \"Энергомашспецсталь\"","Да"]
[108,"Русатом МС",770680549,2010980000,"ЗАО \"Русатом-международная сеть\"","Да"]
[109,"ВНИПИПромтехнологии",{"$f":"VLOOKUP(B110,[6]Список_компаний_полный!$A:$D,2,0)","v":7724683379},"2010430000",{"$f":"VLOOKUP(B110,[6]Список_компаний_полный!$A:$D,4,0)","v":"ОАО \"Ведущий проектно-изыскательский и научно-исследовательский институт промышленной технологии\""},"Да"]
[110,"ОДЦ УГР",{"$f":"VLOOKUP(B111,[6]Список_компаний_полный!$A:$D,2,0)","v":7024033350},"2010780500",{"$f":"VLOOKUP(B111,[6]Список_компаний_полный!$A:$D,4,0)","v":"ООО \"Опытно-демонстрационный центр вывода из эксплуатации уран-графитовых ядерных реакторов\""},"Да"]
[111,"Трест РСЭМ",6916013425,2010620400,"ООО \"Трест Росспецэнергомонтаж\"","Да"]
[112,"ЖТЭЦ",2458013365,"2010551000","ОАО \"Железногорская ТЭЦ\"","Да"]
[113,"РАОС Войма Ои","РАОС Войма Ои","2010931000","РАОС Войма Ои","Да"]
[114,"АЭМ-активы",7706785593,"6090010000","ООО «АЭМ-активы»","Да"]
[115,"Атомтехэкспорт",{"$f":"VLOOKUP(B116,[6]Список_компаний_полный!$A:$D,2,0)","v":7705408850},2010591900,{"$f":"VLOOKUP(B116,[6]Список_компаний_полный!$A:$D,4,0)","v":"ЗАО \"Атомтехэкспорт\" "},"Да"]
[116,"Промышленные инновации",{"$f":"VLOOKUP(B117,[6]Список_компаний_полный!$A:$D,2,0)","v":7725524660},2010231200,{"$f":"VLOOKUP(B117,[6]Список_компаний_полный!$A:$D,4,0)","v":"ЗАО \"Промышленные инновации\""},"Да"]
[117,"ВНИИАМ",{"$f":"VLOOKUP(B118,[6]Список_компаний_полный!$A:$D,2,0)","v":7743654609},2010390000,{"$f":"VLOOKUP(B118,[6]Список_компаний_полный!$A:$D,4,0)","v":"ОАО \"Всероссийский научно-исследовательский и проектно-конструкторский институт атомного энергетического машиностроения (ВНИИАМ)\""},"Да"]

{"sheet":"Периметр АЭПК 2013","index":23,"n_rows":113,"n_cols":7,"rows_kept":113,"cut":false,"hidden":true,"merged":[[1,2,1,6]]}
[]
[null,null,"Перечень ДЗО, подлежащих включению в периметр АЭПК по МСФО за 2013 год"]
[]
[null,"№","Сокращенное название","ИНН","Номер ЦФО","Полное название","Включена в Периметр АЭПК по МСФО"]
[null,1,"Uranium One Holding","8171.63.219",2010021200,"Uranium One Holding N.V.","Да"]
[null,{"$f":"B5+1","v":2},"INTERNEXCO","HBR 6557",2010241200,"INTERNEXCO GmbH","Да"]
[null,{"$f":"B6+1","v":3},"Mantra Resources Ltd.","Mantra Resources Ltd.",2010021600,"Mantra Resources Limited","Да"]
[null,4,"Uranium",817104549,2010021500,"Uranium One Inc.","Да"]
[null,5,"UMP Trading","UMP Trading",2010230952,"UMP Trading (Швейцария)","Да"]
[null,6,"ROSATOM FINANCE","ROSATOM FINANCE",2010940000,"ROSATOM FINANCE LTD","Да"]
[null,7,"ROSATOM Securities","ROSATOM Securities",2010950000,"ROSATOM Securities Limited","Да"]
[null,8,"EMSS Holdings","EMSS Holdings",2010230948,"EMSS Holdings Limited (ЭМСС ХОЛДИНГЗ ЛИМИТЕД)","Да"]
[null,9,"АЛАБУГА-ВОЛОКНО",1646031132,2010242201,"ООО\"Алабуга-Волокно\"","Да"]
[null,10,"Аргон",6454074501,2010240800,"ООО \"Аргон\"","Да"]
[null,11,"АРМЗ",7706016076,2010020000,"ОАО \"Урановый холдинг АРМЗ\" (\"Атомредметзолото\")","Да"]
[null,12,"АЭС Аккую","АЭС Аккую",2010450108,"АО\"АЭС Аккую\"","Да"]
[null,13,"Атомспецтранс",7717609102,2010340000,"ОАО \"Атомспецтранс\" ","Да"]
[null,14,"Атомтехэнерго",5029106714,2010350000,"ОАО по наладке, совершенствованию эксплуатации и организации управления атомных станций \"Атомтехэнерго\" ","Да"]
[null,15,"Атомэнергомаш",7706614573,2010230900,"ОАО \"Атомное и энергетическое машиностроение\" (ОАО \"Атомэнергомаш\")","Да"]
[null,16,"Атомэнергоремонт",5029112443,2010590700,"ОАО \"Атомэнергоремонт\"","Да"]
[null,17,"АЭМ-технологии",7817311895,2010230904,"ЗАО \"АЭМ-технологии\"","Да"]
[null,18,"АЭП",7701796320,2010360000,"ОАО  \"Атомэнергопроект\"","Да"]
[null,19,"АЭПК",7706664260,2010000000,"ОАО \"Атомный энергопромышленный комплекс\" (ОАО \"Атомэнергопром\")","Да"]
[null,20,"АЭХК",3801098402,2010370000,"ОАО \"Ангарский электролизный химический комбинат\"","Да"]
[null,21,"Балтийская АЭС",3904612644,2010592100,"ОАО \"Балтийская АЭС\"","Да"]
[null,22,"ВНИИАЭС",7721247141,2010591800,"ОАО\"Всеросийский научно-исследовательский институт по эксплуатации атомных электростанций\"","Да"]
[null,23,"ВНИИНМ",7734598490,2010400000,"ОАО \"Всероссийский научно-исследовательский институт неорганических материалов имени академика А.А.Бочвара\"","Да"]
[null,24,"ВНИИХТ",7724675770,2010420000,"ОАО \"Ведущий научно-исследовательский институт химической технологии (ВНИИХТ)\"","Да"]
[null,25,"ГИ ВНИПИЭТ",7814417371,2010460000,"ОАО \"Восточно-Европейский головной научно-исследовательский и проектный институт энергетических технологий\" (ОАО \"Головной институт \"ВНИПИЭТ\")","Да"]
[null,26,"Гидропресс",5036092340,2010710000,"ОАО \"Ордена Трудового Красного Знамени и ордена труда ЧССР - опытное конструкторское бюро \"ГИДРОПРЕСС\"","Да"]
[null,27,"Гиредмет",7706699062,2010470000,"ОАО \"Государственный научно-исследовательский проектный институт редкометаллической промышленности \"Гиредмет\"","Да"]
[null,28,"Гринатом",7706729736,2010900000,"ЗАО \"Гринатом\"","Да"]
[null,29,"ГСПИ",7708697977,2010500000,"ОАО \"Государственный специализированный проектный институт\" (ОАО \"ГСПИ\")","Да"]
[null,30,"Далур",4506004751,2010230800,"ЗАО \"Далур\"","Да"]
[null,31,"ДЕЗ",7706730001,2010890000,"ОАО \"Дирекция единого заказчика\"","Да"]
[null,32,"АРМЗ-Сервис",7708671295,2010020602,"ООО \"АРМЗ - сервис\" ","Да"]
[null,33,"ЗАЭС",7701763846,2010450000,"ОАО \"Всероссийское производственное объединение \"Зарубежатомэнергострой\" (ОАО \"ВПО \"ЗАЭС\")","Да"]
[null,34,"ЗИОМАР",5036039258,2010230917,"ОАО \"Инжиниринговая компания \"ЗИОМАР\"","Да"]
[null,35,"ЗиО-Подольск",5036040729,2010230918,"ОАО \"Машиностроительный завод \"ЗиО Подольск\"","Да"]
[null,36,"ЗУКМ",7450045935,2010241600,"ООО \"Завод углеродных и композиционных материалов\"","Да"]
[null,37,"ИЦ РГЦ",7706689000,2010242300,"ОАО \"Инжиниринговый центр \"Русская газовая центрифуга\"","Да"]
[null,38,"Искра",2453014750,2010230001,"ООО\"Искра\"","Да"]
[null,39,"КМЗ",3305004397,2010240600,"ОАО \"Ковровский механический завод\"","Да"]
[null,40,"Красная Звезда",7726682003,2010600000,"ОАО \"Красная Звезда\"","Да"]
[null,41,"Краун",7705833438,2010241100,"ООО \"Краун\"","Да"]
[null,42,"КЦ",7715020463,2010231300,"ОАО\"Коммерческий центр\"","Да"]
[null,43,"МЗП",7724558466,2010100000,"ОАО \"Московский завод полиметаллов\"","Да"]
[null,44,"Молния",7721730486,2010740000,"ОАО \"Производственное объединение\"  Машиностроительный завод \"Молния\"","Да"]
[null,45,"МСЗ-М",5053066861,2010230115,"ООО\"МСЗ-МЕХАНИКА\"","Да"]
[null,46,"МСЗ",5053005918,2010230100,"ОАО \"Машиностроительный завод\"","Да"]
[null,47,"НИИГрафит",7720723422,2010630000,"ОАО\"Государственный научно-исследовательский институт конструкционных материалов на основе графита\"НИИграфит\"\"","Да"]
[null,48,"НЗХК-Инструмент",5410021660,2010230207,"ООО\"НЗХК-Инструмент\"","Да"]
[null,49,"НЗХК-Энергия",5410028351,2010230210,"ООО\"НЗХК-Энергия\"","Да"]
[null,50,"ННКЦ",6629020806,2010241900,"ООО\"ННКЦ\"","Да"]
[null,51,"НЗХК",5410114184,2010230200,"ОАО \"Новосибирский завод химконцентратов\"","Да"]
[null,52,"НИАЭП",5260214123,2010620000,"ОАО Нижегородский научно-исследовательский и проектно-конструкторский и изыскательский институт Атомэнергопроект\" (ОАО \"НИАЭП\")","Да"]
[null,53,"НИИАР",7302040242,2010480000,"ОАО Государственный научный центр - Научно-исследовательский институт атомных реакторов (ОАО \"ГНЦ НИИАР\")","Да"]
[null,54,"НИИТФА",7726606316,2010410000,"ОАО \"Научно-исследовательский институт технической физики и автоматизации (НИИТФА)\"","Да"]
[null,55,"НИКИМТ-Атомстрой",7715719854,2010550000,"ОАО \"НИКИМТ \"Атомстрой\"","Да"]
[null,56,"НИКИЭТ",7708698473,2010650000,"ОАО \"Научно-исследовательский и конструкторский институт энерготехники имени Н.А. Доллежаля\"","Да"]
[null,57,"НПК ХПИ",7706688991,2010242200,"ОАО \"НПК \"Химпроминжиниринг\"","Да"]
[null,58,"ОКБ-НН",5256065824,2010840400,"ЗАО\"ОКБ - Нижний Новгород\"","Да"]
[null,59,"ОГХК",7536087158,2010020300,"ЗАО \"Оловская горно-химическая компания\"","Да"]
[null,60,"ОИК",7706751361,2010910000,"ООО \"Объединенная инновационная корпорация\"","Да"]
[null,61,"ОК РСК",7706704146,2010860000,"ОАО \"Объединенная компания “Разделительно-сублиматный комплекс”","Да"]
[null,62,"ОКБМ",5259077666,2010720000,"ОАО \"Опытное Конструкторское Бюро Машиностроения имени И.И. Африкантова\"","Да"]
[null,63,"Петрозаводскмаш",1001000358,2010242600,"ОАО\"Петрозаводскмаш\"","Да"]
[null,64,"ППГХО",7530000048,2010230400,"ОАО \"Приаргунское производственное горно-химическое объединение\"","Да"]
[null,65,"ПСР",7721699740,2010592000,"ОАО \"Производственная система \"ПСР\"","Да"]
[null,66,"РБМ",7713190205,2010020600,"ЗАО \"РУСБУРМАШ\"","Да"]
[null,{"$f":"B70+1","v":67},"Росэнергоатом",7721632827,2010590000,"ОАО \"Российский концерн по производству электрической и тепловой энергии на атомных станциях \"Росэнергоатом\"","Да"]
[null,68,"Русатом Оверсиз",7706759586,2010930000,"ЗАО\"Русатом Оверсиз\"","Да"]
[null,69,"Русатом Сервис",7705966318,2010592200,"ЗАО\"Русатом Сервис\"","Да"]
[null,70,"РЭМКО",5036076690,2010230911,"ЗАО \"Русская ЭнергоМашиностроительная Компания\"","Да"]
[null,71,"Сайпрус","Сайпрус",2010230916,"ATOMENERGOMASH CYPRUS LIMITED ЧК \"Атомэнергомаш Сайпрус Лимитед\"","Да"]
[null,72,"СвердНИИхиммаш",6664003909,2010200000,"ОАО \"Свердловский научно-исследовательский институт химического машиностроения (\"СвердНИИхиммаш\")\"","Да"]
[null,73,"СибМЗ",7024034562,2010780900,"ООО\"Сибирский механический завод\"","Да"]
[null,74,"СНВ",6451420231,2010242100,"ООО \"СНВ\"","Да"]
[null,75,"СНИИП",7734592593,2010660000,"ОАО \"Специализированный научно-исследовательский институт приборостроения\" (ОАО \"СНИИП\")","Да"]
[null,76,"СЕТЕС",7024037370,2010550001,"ОАО\"Северские теплосистемы\"","Да"]
[null,77,"СХК",7024029499,2010780000,"ОАО \"Сибирский химический комбинат\"","Да"]
[null,78,"Тепловодоканал",1837004370,2010230306,"ООО\"Тепловодоканал\"","Да"]
[null,79,"Точмаш-авто",3329064483,2010440300,"ООО\"Точмаш-авто\"","Да"]
[null,80,"ТВЭЛ",7706123550,2010230000,"ОАО \"ТВЭЛ\"","Да"]
[null,81,"ТВЭЛ-Строй",7726523814,2010231100,"ЗАО \"ТВЭЛ-СТРОИ\"","Да"]
[null,82,"ТЕНЕКС-Сервис",7706604582,2010240100,"ЗАО \"ТЕНЕКС-Сервис\"","Да"]
[null,83,"Техснабэкспорт",7706039242,2010240000,"ОАО \"Техснабэкспорт\"","Да"]
[null,84,"Точмаш",3329051460,2010440000,"ОАО \"Владимирское производственное объединение \"Точмаш\"","Да"]
[null,85,"ТЦ ТЕНЕКС",7706609414,2010240200,"ЗАО \"Технологический центр \"ТЕНЕКС\"","Да"]
[null,86,"Уралприбор",6629020789,2010242000,"ООО\"Новоуральский приборный завод\"","Да"]
[null,87,"УГРК",7706641432,2010020100,"ОАО \"Урановая Горнорудная компания\" (УГРК)","Да"]
[null,88,"УДК Горное",7536087140,2010020200,"ЗАО \"Уранодобывающая компания \"Горное\"","Да"]
[null,89,"УЗГЦ",6629020796,2010241800,"ООО \"Уральский завод газовых центрифуг\"","Да"]
[null,90,"УЭХК",6629022962,2010800000,"ОАО \"Уральский электрохимический комбинат\"","Да"]
[null,91,"Хиагда",302001219,2010230700,"ОАО \"Хиагда\"","Да"]
[null,92,"ЦентрАтом",7706723156,2010870000,"ОАО \"Центр управления непрофильными активами атомной отрасли\"","Да"]
[null,93,"ЦКБМ",7806394392,2010820000,"ОАО \"Центральное конструкторское бюро машиностроения\"","Да"]
[null,94,"ЦНИИТМАШ",7723564851,2010140000,"ОАО Государственный научный центр РФ \"Научно-производственное объединение \"Центральный научно-исследовательский институт технологии машиностроения\"","Да"]
[null,95,"ЧМЗ",1829008035,2010230300,"ОАО \"Чепецкий механический завод\"","Да"]
[null,96,"ЭЛЕМАШ-ТЭК",5053055010,2010230110,"ООО\"ЭЛЕМАШ-ТЭК\"","Да"]
[null,97,"Экоальянс",6629026420,2010800800,"ООО\"Экоальянс\"","Да"]
[null,98,"ЭГМК",1402047530,2010020400,"ЗАО \"Эльконский горно-металлургический комбинат\"","Да"]
[null,99,"Энергомашспецсталь","Энергомашспецсталь",2010230943,"ОАО \"Энергомашспецсталь\"","Да"]
[null,100,"Энергоспецмонтаж",7718083574,2010270000,"ОАО \"Энергоспецмонтаж\"","Да"]
[null,101,"ЭНИЦ",5035037441,2010830000,"ОАО \"Электрогорский научно-исследовательский центр по безопасности атомных электростанций\"","Да"]
[null,102,"ЭХЗ",2453013555,2010840000,"ОАО \"Производственное объединение \"Электрохимический завод\"","Да"]
[null,103,"KWINDER HOLDINGS LIMITED","",2010240310,"KWINDER HOLDINGS LIMITED","Да"]
[null,104,"АЭМ-лизинг",7706673635,2010230902,"ЗАО \"АЭМ-лизинг\"","Да"]
[null,105,"ОООПетрозаводскмаш",1001270058,2010241205,"ООО\"Петрозаводскмаш\"","Да"]
[null,106,"ТЕНЕКС-Комплект",7708541585,2010240300,"ООО \"ТЕНЕКС-Комплект\"","Да"]
[null,107,"СПб АЭП","7842388732",2010760000,"ОАО \"Санкт-Петербургский научно-исследовательский и проектно-конструкторский институт \"АТОМЭНЕРГОПРОЕКТ\" (ОАО \"СПБ \"АЭП\")","Да"]
[null,108,"Floorboard Trading & Investments Limited","Floorboard Trading & Investments Limited",2010241201,"Floorboard Trading & Investments Limited","Да"]
[null,109,"ТЕНЕКС-Логистика",7706607400,2010240400,"ЗАО \"ТЕНЕКС-Логистика\"","Да"]

{"sheet":"Периметр АЭПК 1 полугодие 2014","index":24,"n_rows":114,"n_cols":6,"rows_kept":114,"cut":false,"hidden":true,"merged":[]}
["№","Сокращенное название","ИНН","Номер ЦФО","Полное название","Включена в Периметр АЭПК по МСФО"]
[1,"INTERNEXCO","HBR 6557",2010241200,"INTERNEXCO GmbH","Да"]
[{"$f":"A2+1","v":2},"Mantra Resources Ltd.","Mantra Resources Ltd.",2010021600,"Mantra Resources Limited","Да"]
[3,"UMP Trading","UMP Trading",2010230952,"UMP Trading (Швейцария)","Да"]
[4,"ROSATOM FINANCE","ROSATOM FINANCE",2010940000,"ROSATOM FINANCE LTD","Да"]
[5,"ROSATOM Securities","ROSATOM Securities",2010950000,"ROSATOM Securities Limited","Да"]
[6,"EMSS Holdings","EMSS Holdings",2010230948,"EMSS Holdings Limited (ЭМСС ХОЛДИНГЗ ЛИМИТЕД)","Да"]
[7,"АЛАБУГА-ВОЛОКНО",1646031132,2010242201,"ООО\"Алабуга-Волокно\"","Да"]
[8,"Аргон",6454074501,2010240800,"ООО \"Аргон\"","Да"]
[9,"АРМЗ",7706016076,2010020000,"ОАО \"Урановый холдинг АРМЗ\" (\"Атомредметзолото\")","Да"]
[10,"АЭС Аккую","АЭС Аккую",2010450108,"АО\"АЭС Аккую\"","Да"]
[11,"Атомспецтранс",7717609102,2010340000,"ОАО \"Атомспецтранс\" ","Да"]
[12,"Атомтехэнерго",5029106714,2010350000,"ОАО по наладке, совершенствованию эксплуатации и организации управления атомных станций \"Атомтехэнерго\" ","Да"]
[13,"Атомэнергомаш",7706614573,2010230900,"ОАО \"Атомное и энергетическое машиностроение\" (ОАО \"Атомэнергомаш\")","Да"]
[14,"Атомэнергоремонт",5029112443,2010590700,"ОАО \"Атомэнергоремонт\"","Да"]
[15,"АЭМ-технологии",7817311895,2010230904,"ЗАО \"АЭМ-технологии\"","Да"]
[16,"АЭП",7701796320,2010360000,"ОАО  \"Атомэнергопроект\"","Да"]
[17,"АЭПК",7706664260,2010000000,"ОАО \"Атомный энергопромышленный комплекс\" (ОАО \"Атомэнергопром\")","Да"]
[18,"АЭХК",3801098402,2010370000,"ОАО \"Ангарский электролизный химический комбинат\"","Да"]
[19,"Балтийская АЭС",3904612644,2010592100,"ОАО \"Балтийская АЭС\"","Да"]
[20,"Вента",6624002377,2010050000,"ОАО \"Нижнетуринский машиностроительный завод \"Вента\"","Да"]
[21,"ВНИИАЭС",7721247141,2010591800,"ОАО\"Всеросийский научно-исследовательский институт по эксплуатации атомных электростанций\"","Да"]
[22,"ВНИИНМ",7734598490,2010400000,"ОАО \"Всероссийский научно-исследовательский институт неорганических материалов имени академика А.А.Бочвара\"","Да"]
[23,"ВНИИХТ",7724675770,2010420000,"ОАО \"Ведущий научно-исследовательский институт химической технологии (ВНИИХТ)\"","Да"]
[24,"ВНИПИПромтехнологии",7724683379,2010430000,"ОАО \"Ведущий проектно-изыскательский и научно-исследовательский институт промышленной технологии\"","Да"]
[25,"ГИ ВНИПИЭТ",7814417371,2010460000,"ОАО \"Восточно-Европейский головной научно-исследовательский и проектный институт энергетических технологий\" (ОАО \"Головной институт \"ВНИПИЭТ\")","Да"]
[26,"Гидропресс",5036092340,2010710000,"ОАО \"Ордена Трудового Красного Знамени и ордена труда ЧССР - опытное конструкторское бюро \"ГИДРОПРЕСС\"","Да"]
[27,"Гиредмет",7706699062,2010470000,"ОАО \"Государственный научно-исследовательский проектный институт редкометаллической промышленности \"Гиредмет\"","Да"]
[28,"Гринатом",7706729736,2010900000,"ЗАО \"Гринатом\"","Да"]
[29,"ГСПИ",7708697977,2010500000,"ОАО \"Государственный специализированный проектный институт\" (ОАО \"ГСПИ\")","Да"]
[30,"Далур",4506004751,2010230800,"ЗАО \"Далур\"","Да"]
[31,"ДЕЗ",7706730001,2010890000,"ОАО \"Дирекция единого заказчика\"","Да"]
[32,"АРМЗ-Сервис",7708671295,2010020602,"ООО \"АРМЗ - сервис\" ","Да"]
[33,"ЗАЭС",7701763846,2010450000,"ОАО \"Всероссийское производственное объединение \"Зарубежатомэнергострой\" (ОАО \"ВПО \"ЗАЭС\")","Да"]
[34,"ЗИОМАР",5036039258,2010230917,"ОАО \"Инжиниринговая компания \"ЗИОМАР\"","Да"]
[35,"ЗиО-Подольск",5036040729,2010230918,"ОАО \"Машиностроительный завод \"ЗиО Подольск\"","Да"]
[36,"ЗУКМ",7450045935,2010241600,"ООО \"Завод углеродных и композиционных материалов\"","Да"]
[37,"ИЦ РГЦ",7706689000,2010242300,"ОАО \"Инжиниринговый центр \"Русская газовая центрифуга\"","Да"]
[38,"Искра",2453014750,2010230001,"ООО\"Искра\"","Да"]
[39,"КМЗ",3305004397,2010240600,"ОАО \"Ковровский механический завод\"","Да"]
[40,"Красная Звезда",7726682003,2010600000,"ОАО \"Красная Звезда\"","Да"]
[41,"Краун",7705833438,2010241100,"ООО \"Краун\"","Да"]
[42,"КЦ",7715020463,2010231300,"ОАО\"Коммерческий центр\"","Да"]
[43,"МЗП",7724558466,2010100000,"ОАО \"Московский завод полиметаллов\"","Да"]
[44,"Молния",7721730486,2010740000,"ОАО \"Производственное объединение\"  Машиностроительный завод \"Молния\"","Да"]
[45,"МСЗ-М",5053066861,2010230115,"ООО\"МСЗ-МЕХАНИКА\"","Да"]
[46,"МСЗ",5053005918,2010230100,"ОАО \"Машиностроительный завод\"","Да"]
[47,"НИИГрафит",7720723422,2010630000,"ОАО\"Государственный научно-исследовательский институт конструкционных материалов на основе графита\"НИИграфит\"\"","Да"]
[48,"НИАЭП-Сервис",6916015670,2010620200,"ООО \"НИАЭП-Сервис\"","Да"]
[49,"НИИАР-ГЕНЕРАЦИЯ",7329008990,2010970000,"ООО «НИИАР-ГЕНЕРАЦИЯ»","Да"]
[50,"НЗХК-Инструмент",5410021660,2010230207,"ООО\"НЗХК-Инструмент\"","Да"]
[51,"НЗХК-Энергия",5410028351,2010230210,"ООО\"НЗХК-Энергия\"","Да"]
[52,"ННКЦ",6629020806,2010241900,"ООО\"ННКЦ\"","Да"]
[53,"НЗХК",5410114184,2010230200,"ОАО \"Новосибирский завод химконцентратов\"","Да"]
[54,"НИАЭП",5260214123,2010620000,"ОАО Нижегородский научно-исследовательский и проектно-конструкторский и изыскательский институт Атомэнергопроект\" (ОАО \"НИАЭП\")","Да"]
[55,"НИИАР",7302040242,2010480000,"ОАО Государственный научный центр - Научно-исследовательский институт атомных реакторов (ОАО \"ГНЦ НИИАР\")","Да"]
[56,"НИИТФА",7726606316,2010410000,"ОАО \"Научно-исследовательский институт технической физики и автоматизации (НИИТФА)\"","Да"]
[57,"НИКИМТ-Атомстрой",7715719854,2010550000,"ОАО \"НИКИМТ \"Атомстрой\"","Да"]
[58,"НИКИЭТ",7708698473,2010650000,"ОАО \"Научно-исследовательский и конструкторский институт энерготехники имени Н.А. Доллежаля\"","Да"]
[59,"НПК ХПИ",7706688991,2010242200,"ОАО \"НПК \"Химпроминжиниринг\"","Да"]
[60,"ОКБ-НН",5256065824,2010840400,"ЗАО\"ОКБ - Нижний Новгород\"","Да"]
[61,"ОГХК",7536087158,2010020300,"ЗАО \"Оловская горно-химическая компания\"","Да"]
[62,"ОЗТМиТС",7726633119,2010700000,"ОАО \"Опытный завод тугоплавких металлов и твердых сплавов\" (ОАО \"ОЗТМиТС\")","Да"]
[63,"ОИК",7706751361,2010910000,"ООО \"Объединенная инновационная корпорация\"","Да"]
[{"$f":"A64+1","v":64},"ОК РСК",7706704146,2010860000,"ОАО \"Объединенная компания “Разделительно-сублиматный комплекс”","Да"]
[65,"ОКБМ",5259077666,2010720000,"ОАО \"Опытное Конструкторское Бюро Машиностроения имени И.И. Африкантова\"","Да"]
[66,"ОДЦ УГР",7024033350,2010780500,"ООО \"Опытно-демонстрационный центр вывода из эксплуатации уран-графитовых ядерных реакторов\"","Да"]
[67,"Петрозаводскмаш",1001000358,2010242600,"ОАО\"Петрозаводскмаш\"","Да"]
[68,"ППГХО",7530000048,2010230400,"ОАО \"Приаргунское производственное горно-химическое объединение\"","Да"]
[69,"ПСР",7721699740,2010592000,"ОАО \"Производственная система \"ПСР\"","Да"]
[70,"РБМ",7713190205,2010020600,"ЗАО \"РУСБУРМАШ\"","Да"]
[71,"Росэнергоатом",7721632827,2010590000,"ОАО \"Российский концерн по производству электрической и тепловой энергии на атомных станциях \"Росэнергоатом\"","Да"]
[72,"Русатом Оверсиз",7706759586,2010930000,"ЗАО\"Русатом Оверсиз\"","Да"]
[73,"Русатом Сервис",7705966318,2010592200,"ЗАО\"Русатом Сервис\"","Да"]
[74,"Русатом МС",770680549,2010980000,"ЗАО \"Русатом-международная сеть\"","Да"]
[75,"РЭМКО",5036076690,2010230911,"ЗАО \"Русская ЭнергоМашиностроительная Компания\"","Да"]
[76,"Сайпрус","Сайпрус",2010230916,"ATOMENERGOMASH CYPRUS LIMITED ЧК \"Атомэнергомаш Сайпрус Лимитед\"","Да"]
[77,"СвердНИИхиммаш",6664003909,2010200000,"ОАО \"Свердловский научно-исследовательский институт химического машиностроения (\"СвердНИИхиммаш\")\"","Да"]
[78,"СибМЗ",7024034562,2010780900,"ООО\"Сибирский механический завод\"","Да"]
[79,"СНВ",6451420231,2010242100,"ООО \"СНВ\"","Да"]
[80,"СНИИП",7734592593,2010660000,"ОАО \"Специализированный научно-исследовательский институт приборостроения\" (ОАО \"СНИИП\")","Да"]
[81,"СЕТЕС",7024037370,2010550001,"ОАО\"Северские теплосистемы\"","Да"]
[82,"СХК",7024029499,2010780000,"ОАО \"Сибирский химический комбинат\"","Да"]
[83,"Тепловодоканал",1837004370,2010230306,"ООО\"Тепловодоканал\"","Да"]
[84,"Точмаш-авто",3329064483,2010440300,"ООО\"Точмаш-авто\"","Да"]
[85,"ТВЭЛ",7706123550,2010230000,"ОАО \"ТВЭЛ\"","Да"]
[86,"ТВЭЛ-Строй",7726523814,2010231100,"ЗАО \"ТВЭЛ-СТРОИ\"","Да"]
[87,"ТЕНЕКС-Сервис",7706604582,2010240100,"ЗАО \"ТЕНЕКС-Сервис\"","Да"]
[88,"Техснабэкспорт",7706039242,2010240000,"ОАО \"Техснабэкспорт\"","Да"]
[89,"Точмаш",3329051460,2010440000,"ОАО \"Владимирское производственное объединение \"Точмаш\"","Да"]
[90,"ТЦ ТЕНЕКС",7706609414,2010240200,"ЗАО \"Технологический центр \"ТЕНЕКС\"","Да"]
[91,"Уралприбор",6629020789,2010242000,"ООО\"Новоуральский приборный завод\"","Да"]
[92,"УГРК",7706641432,2010020100,"ОАО \"Урановая Горнорудная компания\" (УГРК)","Да"]
[93,"УДК Горное",7536087140,2010020200,"ЗАО \"Уранодобывающая компания \"Горное\"","Да"]
[94,"УЗГЦ",6629020796,2010241800,"ООО \"Уральский завод газовых центрифуг\"","Да"]
[95,"УЭХК",6629022962,2010800000,"ОАО \"Уральский электрохимический комбинат\"","Да"]
[96,"Хиагда","0302001219",2010230700,"ОАО \"Хиагда\"","Да"]
[97,"ЦентрАтом",7706723156,2010870000,"ОАО \"Центр управления непрофильными активами атомной отрасли\"","Да"]
[98,"ЦКБМ",7806394392,2010820000,"ОАО \"Центральное конструкторское бюро машиностроения\"","Да"]
[99,"ЦНИИТМАШ",7723564851,2010140000,"ОАО Государственный научный центр РФ \"Научно-производственное объединение \"Центральный научно-исследовательский институт технологии машиностроения\"","Да"]
[100,"ЧМЗ",1829008035,2010230300,"ОАО \"Чепецкий механический завод\"","Да"]
[101,"ЭЛЕМАШ-ТЭК",5053055010,2010230110,"ООО\"ЭЛЕМАШ-ТЭК\"","Да"]
[102,"Экоальянс",6629026420,2010800800,"ООО\"Экоальянс\"","Да"]
[103,"ЭГМК",1402047530,2010020400,"ЗАО \"Эльконский горно-металлургический комбинат\"","Да"]
[104,"ЭМКО",7709735135,2010230912,"ООО \"Энергомашкомплекс\"","Да"]
[105,"Энергомашспецсталь","Энергомашспецсталь",2010230943,"ОАО \"Энергомашспецсталь\"","Да"]
[106,"Энергоспецмонтаж",7718083574,2010270000,"ОАО \"Энергоспецмонтаж\"","Да"]
[107,"ЭНИЦ",5035037441,2010830000,"ОАО \"Электрогорский научно-исследовательский центр по безопасности атомных электростанций\"","Да"]
[108,"ЭХЗ",2453013555,2010840000,"ОАО \"Производственное объединение \"Электрохимический завод\"","Да"]
[109,"KWINDER HOLDINGS LIMITED","",2010240310,"KWINDER HOLDINGS LIMITED","Да"]
[110,"АЭМ-лизинг",7706673635,2010230902,"ЗАО \"АЭМ-лизинг\"","Да"]
[111,"ОООПетрозаводскмаш",1001270058,2010241205,"ООО\"Петрозаводскмаш\"","Да"]
[112,"ТЕНЕКС-Комплект",7708541585,2010240300,"ООО \"ТЕНЕКС-Комплект\"","Да"]
[113,"ТЕНЕКС-Логистика",7706607400,2010240400,"ЗАО \"ТЕНЕКС-Логистика\"","Да"]

{"sheet":"Периметр АЭПК 9 месяцев 2014","index":25,"n_rows":117,"n_cols":6,"rows_kept":117,"cut":false,"hidden":true,"merged":[]}
["№","Сокращенное название","ИНН","Номер ЦФО","Полное название","Включена в Периметр АЭПК по МСФО"]
[1,"INTERNEXCO",{"$f":"VLOOKUP(B2,[6]Список_компаний_полный!$A:$D,2,0)","v":"HBR 6557"},"2010241200",{"$f":"VLOOKUP(B2,[6]Список_компаний_полный!$A:$D,4,0)","v":"INTERNEXCO GmbH"},"Да"]
[2,"KWINDER HOLDINGS LIMITED","",2010240310,"KWINDER HOLDINGS LIMITED","Да"]
[3,"Mantra Resources Ltd.","Mantra Resources Ltd.",2010021600,"Mantra Resources Limited","Да"]
[4,"ROSATOM FINANCE","ROSATOM FINANCE","2010940000","ROSATOM FINANCE LTD","Да"]
[5,"ROSATOM Securities Limited","ROSATOM Securities Limited","2010950000","ROSATOM Securities Limited","Да"]
[6,"Аргон",{"$f":"VLOOKUP(B7,[6]Список_компаний_полный!$A:$D,2,0)","v":6454074501},"2010240800",{"$f":"VLOOKUP(B7,[6]Список_компаний_полный!$A:$D,4,0)","v":"ООО \"Аргон\""},"Да"]
[7,"АРМЗ",{"$f":"VLOOKUP(B8,[6]Список_компаний_полный!$A:$D,2,0)","v":7706016076},"2010020000",{"$f":"VLOOKUP(B8,[6]Список_компаний_полный!$A:$D,4,0)","v":"ОАО \"Урановый холдинг АРМЗ\" (\"Атомредметзолото\")"},"Да"]
[8,"Атомспецтранс",{"$f":"VLOOKUP(B9,[6]Список_компаний_полный!$A:$D,2,0)","v":7717609102},"2010340000",{"$f":"VLOOKUP(B9,[6]Список_компаний_полный!$A:$D,4,0)","v":"ОАО \"Атомспецтранс\" "},"Да"]
[9,"Атомтехэнерго",{"$f":"VLOOKUP(B10,[6]Список_компаний_полный!$A:$D,2,0)","v":5029106714},"2010350000",{"$f":"VLOOKUP(B10,[6]Список_компаний_полный!$A:$D,4,0)","v":"ОАО по наладке, совершенствованию эксплуатации и организации управления атомных станций \"Атомтехэнерго\" "},"Да"]
[10,"Атомэнергомаш",{"$f":"VLOOKUP(B11,[6]Список_компаний_полный!$A:$D,2,0)","v":7706614573},"2010230900",{"$f":"VLOOKUP(B11,[6]Список_компаний_полный!$A:$D,4,0)","v":"ОАО \"Атомное и энергетическое машиностроение\" (ОАО \"Атомэнергомаш\")"},"Да"]
[11,"Атомэнергоремонт",{"$f":"VLOOKUP(B12,[6]Список_компаний_полный!$A:$D,2,0)","v":5029112443},"2010590700",{"$f":"VLOOKUP(B12,[6]Список_компаний_полный!$A:$D,4,0)","v":"ОАО \"Атомэнергоремонт\""},"Да"]
[12,"АЭМ-лизинг",{"$f":"VLOOKUP(B13,[6]Список_компаний_полный!$A:$D,2,0)","v":7706673635},"2010230902",{"$f":"VLOOKUP(B13,[6]Список_компаний_полный!$A:$D,4,0)","v":"ЗАО \"АЭМ-лизинг\""},"Да"]
[13,"АЭМ-технологии",{"$f":"VLOOKUP(B14,[6]Список_компаний_полный!$A:$D,2,0)","v":7817311895},"2010230904",{"$f":"VLOOKUP(B14,[6]Список_компаний_полный!$A:$D,4,0)","v":"ЗАО \"АЭМ-технологии\""},"Да"]
[14,"АЭП",{"$f":"VLOOKUP(B15,[6]Список_компаний_полный!$A:$D,2,0)","v":7701796320},"2010360000",{"$f":"VLOOKUP(B15,[6]Список_компаний_полный!$A:$D,4,0)","v":"ОАО  \"Атомэнергопроект\""},"Да"]
[15,"АЭПК",{"$f":"VLOOKUP(B16,[6]Список_компаний_полный!$A:$D,2,0)","v":7706664260},"2010000000",{"$f":"VLOOKUP(B16,[6]Список_компаний_полный!$A:$D,4,0)","v":"ОАО \"Атомный энергопромышленный комплекс\" (ОАО \"Атомэнергопром\")"},"Да"]
[16,"Аккую Нуклеар","Аккую Нуклеар","2010450108","Аккую Нуклеар","Да"]
[17,"АЭХК",{"$f":"VLOOKUP(B18,[6]Список_компаний_полный!$A:$D,2,0)","v":3801098402},"2010370000",{"$f":"VLOOKUP(B18,[6]Список_компаний_полный!$A:$D,4,0)","v":"ОАО \"Ангарский электролизный химический комбинат\""},"Да"]
[18,"ВНИИАЭС",{"$f":"VLOOKUP(B19,[6]Список_компаний_полный!$A:$D,2,0)","v":7721247141},"2010591800",{"$f":"VLOOKUP(B19,[6]Список_компаний_полный!$A:$D,4,0)","v":"ОАО\"Всеросийский научно-исследовательский институт по эксплуатации атомных электростанций\""},"Да"]
[19,"ВНИИНМ",{"$f":"VLOOKUP(B20,[6]Список_компаний_полный!$A:$D,2,0)","v":7734598490},"2010400000",{"$f":"VLOOKUP(B20,[6]Список_компаний_полный!$A:$D,4,0)","v":"ОАО \"Всероссийский научно-исследовательский институт неорганических материалов имени академика А.А.Бочвара\""},"Да"]
[20,"ВНИИХТ",{"$f":"VLOOKUP(B21,[6]Список_компаний_полный!$A:$D,2,0)","v":7724675770},"2010420000",{"$f":"VLOOKUP(B21,[6]Список_компаний_полный!$A:$D,4,0)","v":"ОАО \"Ведущий научно-исследовательский институт химической технологии (ВНИИХТ)\""},"Да"]
[21,"АТОМПРОЕКТ",7814417371,2010460000,"ОАО «Научно-исследовательский и проектно-конструкторский институт энергетических технологий «АТОМПРОЕКТ»","Да"]
[22,"Гидропресс",{"$f":"VLOOKUP(B23,[6]Список_компаний_полный!$A:$D,2,0)","v":5036092340},"2010710000",{"$f":"VLOOKUP(B23,[6]Список_компаний_полный!$A:$D,4,0)","v":"ОАО \"Ордена Трудового Красного Знамени и ордена труда ЧССР - опытное конструкторское бюро \"ГИДРОПРЕСС\""},"Да"]
[23,"Гиредмет",{"$f":"VLOOKUP(B24,[6]Список_компаний_полный!$A:$D,2,0)","v":7706699062},"2010470000",{"$f":"VLOOKUP(B24,[6]Список_компаний_полный!$A:$D,4,0)","v":"ОАО \"Государственный научно-исследовательский проектный институт редкометаллической промышленности \"Гиредмет\""},"Да"]
[24,"Гринатом",{"$f":"VLOOKUP(B25,[6]Список_компаний_полный!$A:$D,2,0)","v":7706729736},"2010900000",{"$f":"VLOOKUP(B25,[6]Список_компаний_полный!$A:$D,4,0)","v":"ЗАО \"Гринатом\""},"Да"]
[25,"ГСПИ",{"$f":"VLOOKUP(B26,[6]Список_компаний_полный!$A:$D,2,0)","v":7708697977},"2010500000",{"$f":"VLOOKUP(B26,[6]Список_компаний_полный!$A:$D,4,0)","v":"ОАО \"Государственный специализированный проектный институт\" (ОАО \"ГСПИ\")"},"Да"]
[26,"Далур",{"$f":"VLOOKUP(B27,[6]Список_компаний_полный!$A:$D,2,0)","v":4506004751},"2010230800",{"$f":"VLOOKUP(B27,[6]Список_компаний_полный!$A:$D,4,0)","v":"ЗАО \"Далур\""},"Да"]
[27,"ДЕЗ",{"$f":"VLOOKUP(B28,[6]Список_компаний_полный!$A:$D,2,0)","v":7706730001},"2010890000",{"$f":"VLOOKUP(B28,[6]Список_компаний_полный!$A:$D,4,0)","v":"ОАО \"Дирекция Единого Заказа оборудования для АЭС\""},"Да"]
[28,"АРМЗ-Сервис",7708671295,2010020602,"ООО \"АРМЗ - сервис\" ","Да"]
[29,"ЗАЭС",{"$f":"VLOOKUP(B30,[6]Список_компаний_полный!$A:$D,2,0)","v":7701763846},"2010450000",{"$f":"VLOOKUP(B30,[6]Список_компаний_полный!$A:$D,4,0)","v":"ОАО \"Всероссийское производственное объединение \"Зарубежатомэнергострой\" (ОАО \"ВПО \"ЗАЭС\")"},"Да"]
[30,"ЗиО-Подольск",{"$f":"VLOOKUP(B31,[6]Список_компаний_полный!$A:$D,2,0)","v":5036040729},"2010230918",{"$f":"VLOOKUP(B31,[6]Список_компаний_полный!$A:$D,4,0)","v":"ОАО \"Машиностроительный завод \"ЗиО Подольск\""},"Да"]
[31,"ЗИОМАР",{"$f":"VLOOKUP(B32,[6]Список_компаний_полный!$A:$D,2,0)","v":5036039258},"2010230917",{"$f":"VLOOKUP(B32,[6]Список_компаний_полный!$A:$D,4,0)","v":"ОАО \"Инжиниринговая компания \"ЗИОМАР\""},"Да"]
[32,"ЗУКМ",{"$f":"VLOOKUP(B33,[6]Список_компаний_полный!$A:$D,2,0)","v":7450045935},"2010241600",{"$f":"VLOOKUP(B33,[6]Список_компаний_полный!$A:$D,4,0)","v":"ООО \"Завод углеродных и композиционных материалов\""},"Да"]
[33,"ИЦ РГЦ",{"$f":"VLOOKUP(B34,[6]Список_компаний_полный!$A:$D,2,0)","v":7706689000},"2010242300",{"$f":"VLOOKUP(B34,[6]Список_компаний_полный!$A:$D,4,0)","v":"ОАО \"Инжиниринговый центр \"Русская газовая центрифуга\""},"Да"]
[34,"КМЗ",{"$f":"VLOOKUP(B35,[6]Список_компаний_полный!$A:$D,2,0)","v":3305004397},"2010240600",{"$f":"VLOOKUP(B35,[6]Список_компаний_полный!$A:$D,4,0)","v":"ОАО \"Ковровский механический завод\""},"Да"]
[35,"Краун",{"$f":"VLOOKUP(B36,[6]Список_компаний_полный!$A:$D,2,0)","v":7705833438},"2010241100",{"$f":"VLOOKUP(B36,[6]Список_компаний_полный!$A:$D,4,0)","v":"ООО \"Краун\""},"Да"]
[36,"КЦ",7715020463,2010231300,"ОАО\"Коммерческий центр\"","Да"]
[37,"МЗП",{"$f":"VLOOKUP(B38,[6]Список_компаний_полный!$A:$D,2,0)","v":7724558466},"2010100000",{"$f":"VLOOKUP(B38,[6]Список_компаний_полный!$A:$D,4,0)","v":"ОАО \"Московский завод полиметаллов\""},"Да"]
[38,"МСЗ",{"$f":"VLOOKUP(B39,[6]Список_компаний_полный!$A:$D,2,0)","v":5053005918},"2010230100",{"$f":"VLOOKUP(B39,[6]Список_компаний_полный!$A:$D,4,0)","v":"ОАО \"Машиностроительный завод\""},"Да"]
[39,"НЗХК",{"$f":"VLOOKUP(B40,[6]Список_компаний_полный!$A:$D,2,0)","v":5410114184},"2010230200",{"$f":"VLOOKUP(B40,[6]Список_компаний_полный!$A:$D,4,0)","v":"ОАО \"Новосибирский завод химконцентратов\""},"Да"]
[40,"НИАЭП",{"$f":"VLOOKUP(B41,[6]Список_компаний_полный!$A:$D,2,0)","v":5260214123},"2010620000",{"$f":"VLOOKUP(B41,[6]Список_компаний_полный!$A:$D,4,0)","v":"ОАО Нижегородская инжиниринговая компания \"Атомэнергопроект\" (ОАО \"НИАЭП\")"},"Да"]
[41,"НИИАР",{"$f":"VLOOKUP(B42,[6]Список_компаний_полный!$A:$D,2,0)","v":7302040242},"2010480000",{"$f":"VLOOKUP(B42,[6]Список_компаний_полный!$A:$D,4,0)","v":"ОАО Государственный научный центр - Научно-исследовательский институт атомных реакторов (ОАО \"ГНЦ НИИАР\")"},"Да"]
[42,"НИИТФА",{"$f":"VLOOKUP(B43,[6]Список_компаний_полный!$A:$D,2,0)","v":7726606316},"2010410000",{"$f":"VLOOKUP(B43,[6]Список_компаний_полный!$A:$D,4,0)","v":"ОАО \"Научно-исследовательский институт технической физики и автоматизации (НИИТФА)\""},"Да"]
[43,"НИКИМТ-Атомстрой",{"$f":"VLOOKUP(B44,[6]Список_компаний_полный!$A:$D,2,0)","v":7715719854},"2010550000",{"$f":"VLOOKUP(B44,[6]Список_компаний_полный!$A:$D,4,0)","v":"ОАО \"НИКИМТ \"Атомстрой\""},"Да"]
[44,"НИКИЭТ",{"$f":"VLOOKUP(B45,[6]Список_компаний_полный!$A:$D,2,0)","v":7708698473},"2010650000",{"$f":"VLOOKUP(B45,[6]Список_компаний_полный!$A:$D,4,0)","v":"ОАО \"Научно-исследовательский и конструкторский институт энерготехники имени Н.А. Доллежаля\""},"Да"]
[45,"НПК ХПИ",{"$f":"VLOOKUP(B46,[6]Список_компаний_полный!$A:$D,2,0)","v":7706688991},"2010242200",{"$f":"VLOOKUP(B46,[6]Список_компаний_полный!$A:$D,4,0)","v":"ОАО \"НПК \"Химпроминжиниринг\""},"Да"]
[46,"ОИК",{"$f":"VLOOKUP(B47,[6]Список_компаний_полный!$A:$D,2,0)","v":7706751361},"2010910000",{"$f":"VLOOKUP(B47,[6]Список_компаний_полный!$A:$D,4,0)","v":"ООО \"Объединенная инновационная корпорация\""},"Да"]
[47,"ОК РСК",{"$f":"VLOOKUP(B48,[6]Список_компаний_полный!$A:$D,2,0)","v":7706704146},"2010860000",{"$f":"VLOOKUP(B48,[6]Список_компаний_полный!$A:$D,4,0)","v":"ОАО \"Объединенная компания “Разделительно-сублиматный комплекс”"},"Да"]
[48,"ОКБМ",{"$f":"VLOOKUP(B49,[6]Список_компаний_полный!$A:$D,2,0)","v":5259077666},"2010720000",{"$f":"VLOOKUP(B49,[6]Список_компаний_полный!$A:$D,4,0)","v":"ОАО \"Опытное Конструкторское Бюро Машиностроения имени И.И. Африкантова\""},"Да"]
[49,"Петрозаводскмаш",1001000358,2010242600,"ОАО\"Петрозаводскмаш\"","Да"]
[50,"ППГХО",{"$f":"VLOOKUP(B51,[6]Список_компаний_полный!$A:$D,2,0)","v":7530000048},"2010230400",{"$f":"VLOOKUP(B51,[6]Список_компаний_полный!$A:$D,4,0)","v":"ОАО \"Приаргунское производственное горно-химическое объединение\""},"Да"]
[51,"ПСР",{"$f":"VLOOKUP(B52,[6]Список_компаний_полный!$A:$D,2,0)","v":7721699740},"2010592000",{"$f":"VLOOKUP(B52,[6]Список_компаний_полный!$A:$D,4,0)","v":"ОАО \"Производственная система \"ПСР\""},"Да"]
[52,"РБМ",{"$f":"VLOOKUP(B53,[6]Список_компаний_полный!$A:$D,2,0)","v":7713190205},"2010020600",{"$f":"VLOOKUP(B53,[6]Список_компаний_полный!$A:$D,4,0)","v":"ЗАО \"РУСБУРМАШ\""},"Да"]
[53,"Росэнергоатом",{"$f":"VLOOKUP(B54,[6]Список_компаний_полный!$A:$D,2,0)","v":7721632827},"2010590000",{"$f":"VLOOKUP(B54,[6]Список_компаний_полный!$A:$D,4,0)","v":"ОАО \"Российский концерн по производству электрической и тепловой энергии на атомных станциях \"Росэнергоатом\""},"Да"]
[54,"Русатом Оверсиз",{"$f":"VLOOKUP(B55,[6]Список_компаний_полный!$A:$D,2,0)","v":7706759586},"2010930000",{"$f":"VLOOKUP(B55,[6]Список_компаний_полный!$A:$D,4,0)","v":"ЗАО \"Русатом Оверсиз\""},"Да"]
[55,"РЭМКО",{"$f":"VLOOKUP(B56,[6]Список_компаний_полный!$A:$D,2,0)","v":5036076690},"2010230911",{"$f":"VLOOKUP(B56,[6]Список_компаний_полный!$A:$D,4,0)","v":"ЗАО \"Русская ЭнергоМашиностроительная Компания\""},"Да"]
[56,"Сайпрус","Сайпрус",2010230916,"ATOMENERGOMASH CYPRUS LIMITED ЧК \"Атомэнергомаш Сайпрус Лимитед\"","Да"]
[57,"СвердНИИхиммаш",{"$f":"VLOOKUP(B58,[6]Список_компаний_полный!$A:$D,2,0)","v":6664003909},"2010200000",{"$f":"VLOOKUP(B58,[6]Список_компаний_полный!$A:$D,4,0)","v":"ОАО \"Свердловский научно-исследовательский институт химического машиностроения (\"СвердНИИхиммаш\")\""},"Да"]
[58,"СНВ",{"$f":"VLOOKUP(B59,[6]Список_компаний_полный!$A:$D,2,0)","v":6451420231},"2010242100",{"$f":"VLOOKUP(B59,[6]Список_компаний_полный!$A:$D,4,0)","v":"ООО \"СНВ\""},"Да"]
[59,"СНИИП",{"$f":"VLOOKUP(B60,[6]Список_компаний_полный!$A:$D,2,0)","v":7734592593},"2010660000",{"$f":"VLOOKUP(B60,[6]Список_компаний_полный!$A:$D,4,0)","v":"ОАО \"Специализированный научно-исследовательский институт приборостроения\" (ОАО \"СНИИП\")"},"Да"]
[60,"СХК",{"$f":"VLOOKUP(B61,[6]Список_компаний_полный!$A:$D,2,0)","v":7024029499},"2010780000",{"$f":"VLOOKUP(B61,[6]Список_компаний_полный!$A:$D,4,0)","v":"ОАО \"Сибирский химический комбинат\""},"Да"]
[61,"ТВЭЛ",{"$f":"VLOOKUP(B62,[6]Список_компаний_полный!$A:$D,2,0)","v":7706123550},"2010230000",{"$f":"VLOOKUP(B62,[6]Список_компаний_полный!$A:$D,4,0)","v":"ОАО \"ТВЭЛ\""},"Да"]
[62,"ТВЭЛ-Строй",{"$f":"VLOOKUP(B63,[6]Список_компаний_полный!$A:$D,2,0)","v":7726523814},"2010231100",{"$f":"VLOOKUP(B63,[6]Список_компаний_полный!$A:$D,4,0)","v":"ЗАО \"ТВЭЛ-СТРОИ\""},"Да"]
[63,"ТЕНЕКС-Сервис",{"$f":"VLOOKUP(B64,[6]Список_компаний_полный!$A:$D,2,0)","v":7706604582},"2010240100",{"$f":"VLOOKUP(B64,[6]Список_компаний_полный!$A:$D,4,0)","v":"ЗАО \"ТЕНЕКС-Сервис\""},"Да"]
[64,"Техснабэкспорт",{"$f":"VLOOKUP(B65,[6]Список_компаний_полный!$A:$D,2,0)","v":7706039242},"2010240000",{"$f":"VLOOKUP(B65,[6]Список_компаний_полный!$A:$D,4,0)","v":"ОАО \"Техснабэкспорт\""},"Да"]
[65,"Точмаш",{"$f":"VLOOKUP(B66,[6]Список_компаний_полный!$A:$D,2,0)","v":3329051460},"2010440000",{"$f":"VLOOKUP(B66,[6]Список_компаний_полный!$A:$D,4,0)","v":"ОАО \"Владимирское производственное объединение \"Точмаш\""},"Да"]
[66,"ТЦ ТЕНЕКС",{"$f":"VLOOKUP(B67,[6]Список_компаний_полный!$A:$D,2,0)","v":7706609414},"2010240200",{"$f":"VLOOKUP(B67,[6]Список_компаний_полный!$A:$D,4,0)","v":"ЗАО \"Технологический центр \"ТЕНЕКС\""},"Да"]
[67,"УГРК",{"$f":"VLOOKUP(B68,[6]Список_компаний_полный!$A:$D,2,0)","v":7706641432},"2010020100",{"$f":"VLOOKUP(B68,[6]Список_компаний_полный!$A:$D,4,0)","v":"ОАО \"Урановая Горнорудная компания\" (УГРК)"},"Да"]
[68,"УЗГЦ",{"$f":"VLOOKUP(B69,[6]Список_компаний_полный!$A:$D,2,0)","v":6629020796},"2010241800",{"$f":"VLOOKUP(B69,[6]Список_компаний_полный!$A:$D,4,0)","v":"ООО \"Уральский завод газовых центрифуг\""},"Да"]
[69,"УЭХК",{"$f":"VLOOKUP(B70,[6]Список_компаний_полный!$A:$D,2,0)","v":6629022962},"2010800000",{"$f":"VLOOKUP(B70,[6]Список_компаний_полный!$A:$D,4,0)","v":"ОАО \"Уральский электрохимический комбинат\""},"Да"]
[70,"Хиагда",{"$f":"VLOOKUP(B71,[6]Список_компаний_полный!$A:$D,2,0)","v":"0302001219"},"2010230700",{"$f":"VLOOKUP(B71,[6]Список_компаний_полный!$A:$D,4,0)","v":"ОАО \"Хиагда\""},"Да"]
[71,"ЦентрАтом",{"$f":"VLOOKUP(B72,[6]Список_компаний_полный!$A:$D,2,0)","v":7706723156},"2010870000",{"$f":"VLOOKUP(B72,[6]Список_компаний_полный!$A:$D,4,0)","v":"ОАО \"Центр управления непрофильными активами атомной отрасли\""},"Да"]
[72,"ЦКБМ",{"$f":"VLOOKUP(B73,[6]Список_компаний_полный!$A:$D,2,0)","v":7806394392},"2010820000",{"$f":"VLOOKUP(B73,[6]Список_компаний_полный!$A:$D,4,0)","v":"ОАО \"Центральное конструкторское бюро машиностроения\""},"Да"]
[73,"ЧМЗ",{"$f":"VLOOKUP(B74,[6]Список_компаний_полный!$A:$D,2,0)","v":1829008035},"2010230300",{"$f":"VLOOKUP(B74,[6]Список_компаний_полный!$A:$D,4,0)","v":"ОАО \"Чепецкий механический завод\""},"Да"]
[74,"ЭГМК",{"$f":"VLOOKUP(B75,[6]Список_компаний_полный!$A:$D,2,0)","v":1402047530},"2010020400",{"$f":"VLOOKUP(B75,[6]Список_компаний_полный!$A:$D,4,0)","v":"ЗАО \"Эльконский горно-металлургический комбинат\""},"Да"]
[75,"Энергоспецмонтаж",{"$f":"VLOOKUP(B76,[6]Список_компаний_полный!$A:$D,2,0)","v":7718083574},"2010270000",{"$f":"VLOOKUP(B76,[6]Список_компаний_полный!$A:$D,4,0)","v":"ОАО \"Энергоспецмонтаж\""},"Да"]
[76,"ЭНИЦ",{"$f":"VLOOKUP(B77,[6]Список_компаний_полный!$A:$D,2,0)","v":5035037441},"2010830000",{"$f":"VLOOKUP(B77,[6]Список_компаний_полный!$A:$D,4,0)","v":"ОАО \"Электрогорский научно-исследовательский центр по безопасности атомных электростанций\""},"Да"]
[77,"ЭХЗ",{"$f":"VLOOKUP(B78,[6]Список_компаний_полный!$A:$D,2,0)","v":2453013555},"2010840000",{"$f":"VLOOKUP(B78,[6]Список_компаний_полный!$A:$D,4,0)","v":"ОАО \"Производственное объединение \"Электрохимический завод\""},"Да"]
[78,"НЗХК-Инструмент",{"$f":"VLOOKUP(B79,[6]Список_компаний_полный!$A:$D,2,0)","v":5410021660},"2010230207",{"$f":"VLOOKUP(B79,[6]Список_компаний_полный!$A:$D,4,0)","v":"ООО \"НЗХК-Инструмент\""},"Да"]
[79,"НЗХК-Энергия",{"$f":"VLOOKUP(B80,[6]Список_компаний_полный!$A:$D,2,0)","v":5410028351},"2010230210",{"$f":"VLOOKUP(B80,[6]Список_компаний_полный!$A:$D,4,0)","v":"ООО \"НЗХК-Энергия\""},"Да"]
[80,"Искра",{"$f":"VLOOKUP(B81,[6]Список_компаний_полный!$A:$D,2,0)","v":2453014750},"2010230001",{"$f":"VLOOKUP(B81,[6]Список_компаний_полный!$A:$D,4,0)","v":"ООО \"Искра\""},"Да"]
[81,"ЭЛЕМАШ-ТЭК",{"$f":"VLOOKUP(B82,[6]Список_компаний_полный!$A:$D,2,0)","v":5053055010},"2010230110",{"$f":"VLOOKUP(B82,[6]Список_компаний_полный!$A:$D,4,0)","v":"ООО \"ЭЛЕМАШ-ТЭК\""},"Да"]
[82,"Экоальянс",{"$f":"VLOOKUP(B83,[6]Список_компаний_полный!$A:$D,2,0)","v":6629026420},"2010800800",{"$f":"VLOOKUP(B83,[6]Список_компаний_полный!$A:$D,4,0)","v":"ООО \"Экоальянс\""},"Да"]
[83,"Тепловодоканал",{"$f":"VLOOKUP(B84,[6]Список_компаний_полный!$A:$D,2,0)","v":1837004370},"2010230306",{"$f":"VLOOKUP(B84,[6]Список_компаний_полный!$A:$D,4,0)","v":"ООО \"Тепловодоканал\""},"Да"]
[84,"Уралприбор",{"$f":"VLOOKUP(B85,[6]Список_компаний_полный!$A:$D,2,0)","v":6629020789},"2010242000",{"$f":"VLOOKUP(B85,[6]Список_компаний_полный!$A:$D,4,0)","v":"ООО \"Новоуральский приборный завод\""},"Да"]
[85,"ННКЦ",{"$f":"VLOOKUP(B86,[6]Список_компаний_полный!$A:$D,2,0)","v":6629020806},"2010241900",{"$f":"VLOOKUP(B86,[6]Список_компаний_полный!$A:$D,4,0)","v":"ООО \"Новоуральский научно-конструкторский центр\""},"Да"]
[86,"ОКБ-НН",{"$f":"VLOOKUP(B87,[6]Список_компаний_полный!$A:$D,2,0)","v":5256065824},"2010840400",{"$f":"VLOOKUP(B87,[6]Список_компаний_полный!$A:$D,4,0)","v":"ЗАО \"ОКБ - Нижний Новгород\""},"Да"]
[87,"Точмаш-авто",{"$f":"VLOOKUP(B88,[6]Список_компаний_полный!$A:$D,2,0)","v":3329064483},"2010440300",{"$f":"VLOOKUP(B88,[6]Список_компаний_полный!$A:$D,4,0)","v":"ООО \"Точмаш-авто\""},"Да"]
[88,"СибМЗ",{"$f":"VLOOKUP(B89,[6]Список_компаний_полный!$A:$D,2,0)","v":7024034562},"2010780900",{"$f":"VLOOKUP(B89,[6]Список_компаний_полный!$A:$D,4,0)","v":"ООО \"Сибирский механический завод\""},"Да"]
[89,"EMSS Holdings","EMSS Holdings",2010230948,"EMSS Holdings Limited (ЭМСС ХОЛДИНГЗ ЛИМИТЕД)","Да"]
[90,"UMP Trading","UMP Trading",2010230952,"UMP Trading (Швейцария)","Да"]
[91,"ЦНИИТМАШ",{"$f":"VLOOKUP(B92,[6]Список_компаний_полный!$A:$D,2,0)","v":7723564851},"2010140000",{"$f":"VLOOKUP(B92,[6]Список_компаний_полный!$A:$D,4,0)","v":"ОАО Государственный научный центр РФ \"Научно-производственное объединение \"Центральный научно-исследовательский институт технологии машиностроения\""},"Да"]
[92,"МСЗ-М",{"$f":"VLOOKUP(B93,[6]Список_компаний_полный!$A:$D,2,0)","v":5053066861},"2010230115",{"$f":"VLOOKUP(B93,[6]Список_компаний_полный!$A:$D,4,0)","v":"ООО \"МСЗ-МЕХАНИКА\""},"Да"]
[93,"АЛАБУГА-ВОЛОКНО",{"$f":"VLOOKUP(B94,[6]Список_компаний_полный!$A:$D,2,0)","v":1646031132},"2010242201",{"$f":"VLOOKUP(B94,[6]Список_компаний_полный!$A:$D,4,0)","v":"ООО \"Алабуга-Волокно\""},"Да"]
[94,"Русатом Сервис",{"$f":"VLOOKUP(B95,[6]Список_компаний_полный!$A:$D,2,0)","v":7705966318},"2010592200",{"$f":"VLOOKUP(B95,[6]Список_компаний_полный!$A:$D,4,0)","v":"ЗАО \"Русатом Сервис\""},"Да"]
[95,"НИИГрафит",{"$f":"VLOOKUP(B96,[6]Список_компаний_полный!$A:$D,2,0)","v":7720723422},"2010630000",{"$f":"VLOOKUP(B96,[6]Список_компаний_полный!$A:$D,4,0)","v":"ОАО \"Государственный научно-исследовательский институт конструкционных материалов на основе графита \"НИИграфит\""},"Да"]
[96,"Красная Звезда",{"$f":"VLOOKUP(B97,[6]Список_компаний_полный!$A:$D,2,0)","v":7726682003},"2010600000",{"$f":"VLOOKUP(B97,[6]Список_компаний_полный!$A:$D,4,0)","v":"ОАО \"Красная Звезда\""},"Да"]
[97,"Молния",{"$f":"VLOOKUP(B98,[6]Список_компаний_полный!$A:$D,2,0)","v":7721730486},"2010740000",{"$f":"VLOOKUP(B98,[6]Список_компаний_полный!$A:$D,4,0)","v":"ОАО \"Производственное объединение \"Машиностроительный завод \"Молния\""},"Да"]
[98,"Балтийская АЭС",{"$f":"VLOOKUP(B99,[6]Список_компаний_полный!$A:$D,2,0)","v":3904612644},"2010592100",{"$f":"VLOOKUP(B99,[6]Список_компаний_полный!$A:$D,4,0)","v":"ОАО \"Балтийская АЭС\""},"Да"]
[99,"ОГХК",{"$f":"VLOOKUP(B100,[6]Список_компаний_полный!$A:$D,2,0)","v":7536087158},"2010020300",{"$f":"VLOOKUP(B100,[6]Список_компаний_полный!$A:$D,4,0)","v":"ЗАО \"Оловская горно-химическая компания\""},"Да"]
[100,"УДК Горное",{"$f":"VLOOKUP(B101,[6]Список_компаний_полный!$A:$D,2,0)","v":7536087140},"2010020200",{"$f":"VLOOKUP(B101,[6]Список_компаний_полный!$A:$D,4,0)","v":"ЗАО \"Уранодобывающая компания \"Горное\""},"Да"]
[101,"СЕТЕС",7024037370,2010550001,"ОАО\"Северские теплосистемы\"","Да"]
[102,"ТЕНЕКС-Комплект",{"$f":"VLOOKUP(B103,[6]Список_компаний_полный!$A:$D,2,0)","v":7708541585},"2010240300",{"$f":"VLOOKUP(B103,[6]Список_компаний_полный!$A:$D,4,0)","v":"ООО \"ТЕНЕКС-Комплект\""},"Да"]
[103,"ТЕНЕКС-Логистика",{"$f":"VLOOKUP(B104,[6]Список_компаний_полный!$A:$D,2,0)","v":7706607400},"2010240400",{"$f":"VLOOKUP(B104,[6]Список_компаний_полный!$A:$D,4,0)","v":"ЗАО \"ТЕНЕКС-Логистика\""},"Да"]
[104,"НИИАР-ГЕНЕРАЦИЯ",7329008990,2010970000,"ООО «НИИАР-ГЕНЕРАЦИЯ»","Да"]
[105,"НИАЭП-Сервис",6916015670,2010620200,"ООО \"НИАЭП-Сервис\"","Да"]
[106,"ОООПетрозаводскмаш",1001270058,2010241205,"ООО\"Петрозаводскмаш\"","Да"]
[107,"Вента",{"$f":"VLOOKUP(B108,[6]Список_компаний_полный!$A:$D,2,0)","v":6624002377},"2010050000",{"$f":"VLOOKUP(B108,[6]Список_компаний_полный!$A:$D,4,0)","v":"ОАО \"Нижнетуринский машиностроительный завод \"Вента\""},"Да"]
[108,"ЭМКО",{"$f":"VLOOKUP(B109,[6]Список_компаний_полный!$A:$D,2,0)","v":7709735135},"2010230912",{"$f":"VLOOKUP(B109,[6]Список_компаний_полный!$A:$D,4,0)","v":"ООО \"Энергомашкомплекс\""},"Да"]
[109,"ОЗТМиТС",{"$f":"VLOOKUP(B110,[6]Список_компаний_полный!$A:$D,2,0)","v":7726633119},"2010700000",{"$f":"VLOOKUP(B110,[6]Список_компаний_полный!$A:$D,4,0)","v":"ОАО \"Опытный завод тугоплавких металлов и твердых сплавов\" (ОАО \"ОЗТМиТС\")"},"Да"]
[110,"Энергомашспецсталь","Энергомашспецсталь",2010230943,"ОАО \"Энергомашспецсталь\"","Да"]
[111,"Русатом МС",770680549,2010980000,"ЗАО \"Русатом-международная сеть\"","Да"]
[112,"ВНИПИПромтехнологии",{"$f":"VLOOKUP(B113,[6]Список_компаний_полный!$A:$D,2,0)","v":7724683379},"2010430000",{"$f":"VLOOKUP(B113,[6]Список_компаний_полный!$A:$D,4,0)","v":"ОАО \"Ведущий проектно-изыскательский и научно-исследовательский институт промышленной технологии\""},"Да"]
[113,"ОДЦ УГР",{"$f":"VLOOKUP(B114,[6]Список_компаний_полный!$A:$D,2,0)","v":7024033350},"2010780500",{"$f":"VLOOKUP(B114,[6]Список_компаний_полный!$A:$D,4,0)","v":"ООО \"Опытно-демонстрационный центр вывода из эксплуатации уран-графитовых ядерных реакторов\""},"Да"]
[114,"Трест РСЭМ",6916013425,2010620400,"ООО \"Трест Росспецэнергомонтаж\"","Да"]
[115,"ЖТЭЦ",2458013365,"2010551000","ОАО \"Железногорская ТЭЦ\"","Да"]
[116,"РАОС Войма Ои","РАОС Войма Ои","2010931000","РАОС Войма Ои","Да"]

{"sheet":"Периметр АЭПК 12 месяцев 2014","index":26,"n_rows":115,"n_cols":6,"rows_kept":115,"cut":false,"hidden":true,"merged":[]}
["№","Сокращенное название","ИНН","Номер ЦФО","Полное название","Включена в Периметр АЭПК по МСФО"]
[1,"INTERNEXCO",{"$f":"VLOOKUP(B2,[6]Список_компаний_полный!$A:$D,2,0)","v":"HBR 6557"},"2010241200",{"$f":"VLOOKUP(B2,[6]Список_компаний_полный!$A:$D,4,0)","v":"INTERNEXCO GmbH"},"Да"]
[2,"KWINDER HOLDINGS LIMITED","",2010240310,"KWINDER HOLDINGS LIMITED","Да"]
[3,"Mantra Resources Ltd.","Mantra Resources Ltd.",2010021600,"Mantra Resources Limited","Да"]
[4,"ROSATOM FINANCE","ROSATOM FINANCE","2010940000","ROSATOM FINANCE LTD","Да"]
[5,"ROSATOM Securities Limited","ROSATOM Securities Limited","2010950000","ROSATOM Securities Limited","Да"]
[6,"Аргон",{"$f":"VLOOKUP(B7,[6]Список_компаний_полный!$A:$D,2,0)","v":6454074501},"2010240800",{"$f":"VLOOKUP(B7,[6]Список_компаний_полный!$A:$D,4,0)","v":"ООО \"Аргон\""},"Да"]
[7,"АРМЗ",{"$f":"VLOOKUP(B8,[6]Список_компаний_полный!$A:$D,2,0)","v":7706016076},"2010020000",{"$f":"VLOOKUP(B8,[6]Список_компаний_полный!$A:$D,4,0)","v":"ОАО \"Урановый холдинг АРМЗ\" (\"Атомредметзолото\")"},"Да"]
[8,"Атомспецтранс",{"$f":"VLOOKUP(B9,[6]Список_компаний_полный!$A:$D,2,0)","v":7717609102},"2010340000",{"$f":"VLOOKUP(B9,[6]Список_компаний_полный!$A:$D,4,0)","v":"ОАО \"Атомспецтранс\" "},"Да"]
[9,"Атомтехэнерго",{"$f":"VLOOKUP(B10,[6]Список_компаний_полный!$A:$D,2,0)","v":5029106714},"2010350000",{"$f":"VLOOKUP(B10,[6]Список_компаний_полный!$A:$D,4,0)","v":"ОАО по наладке, совершенствованию эксплуатации и организации управления атомных станций \"Атомтехэнерго\" "},"Да"]
[10,"Атомэнергомаш",{"$f":"VLOOKUP(B11,[6]Список_компаний_полный!$A:$D,2,0)","v":7706614573},"2010230900",{"$f":"VLOOKUP(B11,[6]Список_компаний_полный!$A:$D,4,0)","v":"ОАО \"Атомное и энергетическое машиностроение\" (ОАО \"Атомэнергомаш\")"},"Да"]
[11,"Атомэнергоремонт",{"$f":"VLOOKUP(B12,[6]Список_компаний_полный!$A:$D,2,0)","v":5029112443},"2010590700",{"$f":"VLOOKUP(B12,[6]Список_компаний_полный!$A:$D,4,0)","v":"ОАО \"Атомэнергоремонт\""},"Да"]
[12,"АЭМ-лизинг",{"$f":"VLOOKUP(B13,[6]Список_компаний_полный!$A:$D,2,0)","v":7706673635},"2010230902",{"$f":"VLOOKUP(B13,[6]Список_компаний_полный!$A:$D,4,0)","v":"ЗАО \"АЭМ-лизинг\""},"Да"]
[13,"АЭМ-технологии",{"$f":"VLOOKUP(B14,[6]Список_компаний_полный!$A:$D,2,0)","v":7817311895},"2010230904",{"$f":"VLOOKUP(B14,[6]Список_компаний_полный!$A:$D,4,0)","v":"ЗАО \"АЭМ-технологии\""},"Да"]
[14,"АЭПК",{"$f":"VLOOKUP(B15,[6]Список_компаний_полный!$A:$D,2,0)","v":7706664260},"2010000000",{"$f":"VLOOKUP(B15,[6]Список_компаний_полный!$A:$D,4,0)","v":"ОАО \"Атомный энергопромышленный комплекс\" (ОАО \"Атомэнергопром\")"},"Да"]
[15,"Аккую Нуклеар","Аккую Нуклеар","2010450108","Аккую Нуклеар","Да"]
[16,"АЭХК",{"$f":"VLOOKUP(B17,[6]Список_компаний_полный!$A:$D,2,0)","v":3801098402},"2010370000",{"$f":"VLOOKUP(B17,[6]Список_компаний_полный!$A:$D,4,0)","v":"ОАО \"Ангарский электролизный химический комбинат\""},"Да"]
[17,"ВНИИАЭС",{"$f":"VLOOKUP(B18,[6]Список_компаний_полный!$A:$D,2,0)","v":7721247141},"2010591800",{"$f":"VLOOKUP(B18,[6]Список_компаний_полный!$A:$D,4,0)","v":"ОАО\"Всеросийский научно-исследовательский институт по эксплуатации атомных электростанций\""},"Да"]
[18,"ВНИИНМ",{"$f":"VLOOKUP(B19,[6]Список_компаний_полный!$A:$D,2,0)","v":7734598490},"2010400000",{"$f":"VLOOKUP(B19,[6]Список_компаний_полный!$A:$D,4,0)","v":"ОАО \"Всероссийский научно-исследовательский институт неорганических материалов имени академика А.А.Бочвара\""},"Да"]
[19,"ВНИИХТ",{"$f":"VLOOKUP(B20,[6]Список_компаний_полный!$A:$D,2,0)","v":7724675770},"2010420000",{"$f":"VLOOKUP(B20,[6]Список_компаний_полный!$A:$D,4,0)","v":"ОАО \"Ведущий научно-исследовательский институт химической технологии (ВНИИХТ)\""},"Да"]
[20,"АТОМПРОЕКТ",7814417371,2010460000,"ОАО «Научно-исследовательский и проектно-конструкторский институт энергетических технологий «АТОМПРОЕКТ»","Да"]
[21,"Гидропресс",{"$f":"VLOOKUP(B22,[6]Список_компаний_полный!$A:$D,2,0)","v":5036092340},"2010710000",{"$f":"VLOOKUP(B22,[6]Список_компаний_полный!$A:$D,4,0)","v":"ОАО \"Ордена Трудового Красного Знамени и ордена труда ЧССР - опытное конструкторское бюро \"ГИДРОПРЕСС\""},"Да"]
[22,"Гиредмет",{"$f":"VLOOKUP(B23,[6]Список_компаний_полный!$A:$D,2,0)","v":7706699062},"2010470000",{"$f":"VLOOKUP(B23,[6]Список_компаний_полный!$A:$D,4,0)","v":"ОАО \"Государственный научно-исследовательский проектный институт редкометаллической промышленности \"Гиредмет\""},"Да"]
[23,"Гринатом",{"$f":"VLOOKUP(B24,[6]Список_компаний_полный!$A:$D,2,0)","v":7706729736},"2010900000",{"$f":"VLOOKUP(B24,[6]Список_компаний_полный!$A:$D,4,0)","v":"ЗАО \"Гринатом\""},"Да"]
[24,"ГСПИ",{"$f":"VLOOKUP(B25,[6]Список_компаний_полный!$A:$D,2,0)","v":7708697977},"2010500000",{"$f":"VLOOKUP(B25,[6]Список_компаний_полный!$A:$D,4,0)","v":"ОАО \"Государственный специализированный проектный институт\" (ОАО \"ГСПИ\")"},"Да"]
[25,"Далур",{"$f":"VLOOKUP(B26,[6]Список_компаний_полный!$A:$D,2,0)","v":4506004751},"2010230800",{"$f":"VLOOKUP(B26,[6]Список_компаний_полный!$A:$D,4,0)","v":"ЗАО \"Далур\""},"Да"]
[26,"ДЕЗ",{"$f":"VLOOKUP(B27,[6]Список_компаний_полный!$A:$D,2,0)","v":7706730001},"2010890000",{"$f":"VLOOKUP(B27,[6]Список_компаний_полный!$A:$D,4,0)","v":"ОАО \"Дирекция Единого Заказа оборудования для АЭС\""},"Да"]
[27,"АРМЗ-Сервис",7708671295,2010020602,"ООО \"АРМЗ - сервис\" ","Да"]
[28,"ЗАЭС",{"$f":"VLOOKUP(B29,[6]Список_компаний_полный!$A:$D,2,0)","v":7701763846},"2010450000",{"$f":"VLOOKUP(B29,[6]Список_компаний_полный!$A:$D,4,0)","v":"ОАО \"Всероссийское производственное объединение \"Зарубежатомэнергострой\" (ОАО \"ВПО \"ЗАЭС\")"},"Да"]
[29,"ЗиО-Подольск",{"$f":"VLOOKUP(B30,[6]Список_компаний_полный!$A:$D,2,0)","v":5036040729},"2010230918",{"$f":"VLOOKUP(B30,[6]Список_компаний_полный!$A:$D,4,0)","v":"ОАО \"Машиностроительный завод \"ЗиО Подольск\""},"Да"]
[30,"ЗИОМАР",{"$f":"VLOOKUP(B31,[6]Список_компаний_полный!$A:$D,2,0)","v":5036039258},"2010230917",{"$f":"VLOOKUP(B31,[6]Список_компаний_полный!$A:$D,4,0)","v":"ОАО \"Инжиниринговая компания \"ЗИОМАР\""},"Да"]
[31,"ЗУКМ",{"$f":"VLOOKUP(B32,[6]Список_компаний_полный!$A:$D,2,0)","v":7450045935},"2010241600",{"$f":"VLOOKUP(B32,[6]Список_компаний_полный!$A:$D,4,0)","v":"ООО \"Завод углеродных и композиционных материалов\""},"Да"]
[32,"ИЦ РГЦ",{"$f":"VLOOKUP(B33,[6]Список_компаний_полный!$A:$D,2,0)","v":7706689000},"2010242300",{"$f":"VLOOKUP(B33,[6]Список_компаний_полный!$A:$D,4,0)","v":"ОАО \"Инжиниринговый центр \"Русская газовая центрифуга\""},"Да"]
[33,"КМЗ",{"$f":"VLOOKUP(B34,[6]Список_компаний_полный!$A:$D,2,0)","v":3305004397},"2010240600",{"$f":"VLOOKUP(B34,[6]Список_компаний_полный!$A:$D,4,0)","v":"ОАО \"Ковровский механический завод\""},"Да"]
[34,"Краун",{"$f":"VLOOKUP(B35,[6]Список_компаний_полный!$A:$D,2,0)","v":7705833438},"2010241100",{"$f":"VLOOKUP(B35,[6]Список_компаний_полный!$A:$D,4,0)","v":"ООО \"Краун\""},"Да"]
[35,"КЦ",7715020463,2010231300,"ОАО\"Коммерческий центр\"","Да"]
[36,"МЗП",{"$f":"VLOOKUP(B37,[6]Список_компаний_полный!$A:$D,2,0)","v":7724558466},"2010100000",{"$f":"VLOOKUP(B37,[6]Список_компаний_полный!$A:$D,4,0)","v":"ОАО \"Московский завод полиметаллов\""},"Да"]
[37,"МСЗ",{"$f":"VLOOKUP(B38,[6]Список_компаний_полный!$A:$D,2,0)","v":5053005918},"2010230100",{"$f":"VLOOKUP(B38,[6]Список_компаний_полный!$A:$D,4,0)","v":"ОАО \"Машиностроительный завод\""},"Да"]
[38,"НЗХК",{"$f":"VLOOKUP(B39,[6]Список_компаний_полный!$A:$D,2,0)","v":5410114184},"2010230200",{"$f":"VLOOKUP(B39,[6]Список_компаний_полный!$A:$D,4,0)","v":"ОАО \"Новосибирский завод химконцентратов\""},"Да"]
[39,"НИАЭП",{"$f":"VLOOKUP(B40,[6]Список_компаний_полный!$A:$D,2,0)","v":5260214123},"2010620000",{"$f":"VLOOKUP(B40,[6]Список_компаний_полный!$A:$D,4,0)","v":"ОАО Нижегородская инжиниринговая компания \"Атомэнергопроект\" (ОАО \"НИАЭП\")"},"Да"]
[40,"НИИАР",{"$f":"VLOOKUP(B41,[6]Список_компаний_полный!$A:$D,2,0)","v":7302040242},"2010480000",{"$f":"VLOOKUP(B41,[6]Список_компаний_полный!$A:$D,4,0)","v":"ОАО Государственный научный центр - Научно-исследовательский институт атомных реакторов (ОАО \"ГНЦ НИИАР\")"},"Да"]
[41,"НИИТФА",{"$f":"VLOOKUP(B42,[6]Список_компаний_полный!$A:$D,2,0)","v":7726606316},"2010410000",{"$f":"VLOOKUP(B42,[6]Список_компаний_полный!$A:$D,4,0)","v":"ОАО \"Научно-исследовательский институт технической физики и автоматизации (НИИТФА)\""},"Да"]
[42,"НИКИМТ-Атомстрой",{"$f":"VLOOKUP(B43,[6]Список_компаний_полный!$A:$D,2,0)","v":7715719854},"2010550000",{"$f":"VLOOKUP(B43,[6]Список_компаний_полный!$A:$D,4,0)","v":"ОАО \"НИКИМТ \"Атомстрой\""},"Да"]
[43,"НИКИЭТ",{"$f":"VLOOKUP(B44,[6]Список_компаний_полный!$A:$D,2,0)","v":7708698473},"2010650000",{"$f":"VLOOKUP(B44,[6]Список_компаний_полный!$A:$D,4,0)","v":"ОАО \"Научно-исследовательский и конструкторский институт энерготехники имени Н.А. Доллежаля\""},"Да"]
[44,"НПК ХПИ",{"$f":"VLOOKUP(B45,[6]Список_компаний_полный!$A:$D,2,0)","v":7706688991},"2010242200",{"$f":"VLOOKUP(B45,[6]Список_компаний_полный!$A:$D,4,0)","v":"ОАО \"НПК \"Химпроминжиниринг\""},"Да"]
[45,"ОИК",{"$f":"VLOOKUP(B46,[6]Список_компаний_полный!$A:$D,2,0)","v":7706751361},"2010910000",{"$f":"VLOOKUP(B46,[6]Список_компаний_полный!$A:$D,4,0)","v":"ООО \"Объединенная инновационная корпорация\""},"Да"]
[46,"ОК РСК",{"$f":"VLOOKUP(B47,[6]Список_компаний_полный!$A:$D,2,0)","v":7706704146},"2010860000",{"$f":"VLOOKUP(B47,[6]Список_компаний_полный!$A:$D,4,0)","v":"ОАО \"Объединенная компания “Разделительно-сублиматный комплекс”"},"Да"]
[47,"ОКБМ",{"$f":"VLOOKUP(B48,[6]Список_компаний_полный!$A:$D,2,0)","v":5259077666},"2010720000",{"$f":"VLOOKUP(B48,[6]Список_компаний_полный!$A:$D,4,0)","v":"ОАО \"Опытное Конструкторское Бюро Машиностроения имени И.И. Африкантова\""},"Да"]
[48,"Петрозаводскмаш",1001000358,2010242600,"ОАО\"Петрозаводскмаш\"","Да"]
[49,"ППГХО",{"$f":"VLOOKUP(B50,[6]Список_компаний_полный!$A:$D,2,0)","v":7530000048},"2010230400",{"$f":"VLOOKUP(B50,[6]Список_компаний_полный!$A:$D,4,0)","v":"ОАО \"Приаргунское производственное горно-химическое объединение\""},"Да"]
[50,"ПСР",{"$f":"VLOOKUP(B51,[6]Список_компаний_полный!$A:$D,2,0)","v":7721699740},"2010592000",{"$f":"VLOOKUP(B51,[6]Список_компаний_полный!$A:$D,4,0)","v":"ОАО \"Производственная система \"ПСР\""},"Да"]
[51,"РБМ",{"$f":"VLOOKUP(B52,[6]Список_компаний_полный!$A:$D,2,0)","v":7713190205},"2010020600",{"$f":"VLOOKUP(B52,[6]Список_компаний_полный!$A:$D,4,0)","v":"ЗАО \"РУСБУРМАШ\""},"Да"]
[52,"Росэнергоатом",{"$f":"VLOOKUP(B53,[6]Список_компаний_полный!$A:$D,2,0)","v":7721632827},"2010590000",{"$f":"VLOOKUP(B53,[6]Список_компаний_полный!$A:$D,4,0)","v":"ОАО \"Российский концерн по производству электрической и тепловой энергии на атомных станциях \"Росэнергоатом\""},"Да"]
[53,"Русатом Оверсиз",{"$f":"VLOOKUP(B54,[6]Список_компаний_полный!$A:$D,2,0)","v":7706759586},"2010930000",{"$f":"VLOOKUP(B54,[6]Список_компаний_полный!$A:$D,4,0)","v":"ЗАО \"Русатом Оверсиз\""},"Да"]
[54,"РЭМКО",{"$f":"VLOOKUP(B55,[6]Список_компаний_полный!$A:$D,2,0)","v":5036076690},"2010230911",{"$f":"VLOOKUP(B55,[6]Список_компаний_полный!$A:$D,4,0)","v":"ЗАО \"Русская ЭнергоМашиностроительная Компания\""},"Да"]
[55,"Сайпрус","Сайпрус",2010230916,"ATOMENERGOMASH CYPRUS LIMITED ЧК \"Атомэнергомаш Сайпрус Лимитед\"","Да"]
[56,"СвердНИИхиммаш",{"$f":"VLOOKUP(B57,[6]Список_компаний_полный!$A:$D,2,0)","v":6664003909},"2010200000",{"$f":"VLOOKUP(B57,[6]Список_компаний_полный!$A:$D,4,0)","v":"ОАО \"Свердловский научно-исследовательский институт химического машиностроения (\"СвердНИИхиммаш\")\""},"Да"]
[57,"СНВ",{"$f":"VLOOKUP(B58,[6]Список_компаний_полный!$A:$D,2,0)","v":6451420231},"2010242100",{"$f":"VLOOKUP(B58,[6]Список_компаний_полный!$A:$D,4,0)","v":"ООО \"СНВ\""},"Да"]
[58,"СНИИП",{"$f":"VLOOKUP(B59,[6]Список_компаний_полный!$A:$D,2,0)","v":7734592593},"2010660000",{"$f":"VLOOKUP(B59,[6]Список_компаний_полный!$A:$D,4,0)","v":"ОАО \"Специализированный научно-исследовательский институт приборостроения\" (ОАО \"СНИИП\")"},"Да"]
[59,"СХК",{"$f":"VLOOKUP(B60,[6]Список_компаний_полный!$A:$D,2,0)","v":7024029499},"2010780000",{"$f":"VLOOKUP(B60,[6]Список_компаний_полный!$A:$D,4,0)","v":"ОАО \"Сибирский химический комбинат\""},"Да"]
[60,"ТВЭЛ",{"$f":"VLOOKUP(B61,[6]Список_компаний_полный!$A:$D,2,0)","v":7706123550},"2010230000",{"$f":"VLOOKUP(B61,[6]Список_компаний_полный!$A:$D,4,0)","v":"ОАО \"ТВЭЛ\""},"Да"]
[61,"ТВЭЛ-Строй",{"$f":"VLOOKUP(B62,[6]Список_компаний_полный!$A:$D,2,0)","v":7726523814},"2010231100",{"$f":"VLOOKUP(B62,[6]Список_компаний_полный!$A:$D,4,0)","v":"ЗАО \"ТВЭЛ-СТРОИ\""},"Да"]
[62,"ТЕНЕКС-Сервис",{"$f":"VLOOKUP(B63,[6]Список_компаний_полный!$A:$D,2,0)","v":7706604582},"2010240100",{"$f":"VLOOKUP(B63,[6]Список_компаний_полный!$A:$D,4,0)","v":"ЗАО \"ТЕНЕКС-Сервис\""},"Да"]
[63,"Техснабэкспорт",{"$f":"VLOOKUP(B64,[6]Список_компаний_полный!$A:$D,2,0)","v":7706039242},"2010240000",{"$f":"VLOOKUP(B64,[6]Список_компаний_полный!$A:$D,4,0)","v":"ОАО \"Техснабэкспорт\""},"Да"]
[64,"Точмаш",{"$f":"VLOOKUP(B65,[6]Список_компаний_полный!$A:$D,2,0)","v":3329051460},"2010440000",{"$f":"VLOOKUP(B65,[6]Список_компаний_полный!$A:$D,4,0)","v":"ОАО \"Владимирское производственное объединение \"Точмаш\""},"Да"]
[65,"ТЦ ТЕНЕКС",{"$f":"VLOOKUP(B66,[6]Список_компаний_полный!$A:$D,2,0)","v":7706609414},"2010240200",{"$f":"VLOOKUP(B66,[6]Список_компаний_полный!$A:$D,4,0)","v":"ЗАО \"Технологический центр \"ТЕНЕКС\""},"Да"]
[66,"УГРК",{"$f":"VLOOKUP(B67,[6]Список_компаний_полный!$A:$D,2,0)","v":7706641432},"2010020100",{"$f":"VLOOKUP(B67,[6]Список_компаний_полный!$A:$D,4,0)","v":"ОАО \"Урановая Горнорудная компания\" (УГРК)"},"Да"]
[67,"УЗГЦ",{"$f":"VLOOKUP(B68,[6]Список_компаний_полный!$A:$D,2,0)","v":6629020796},"2010241800",{"$f":"VLOOKUP(B68,[6]Список_компаний_полный!$A:$D,4,0)","v":"ООО \"Уральский завод газовых центрифуг\""},"Да"]
[68,"УЭХК",{"$f":"VLOOKUP(B69,[6]Список_компаний_полный!$A:$D,2,0)","v":6629022962},"2010800000",{"$f":"VLOOKUP(B69,[6]Список_компаний_полный!$A:$D,4,0)","v":"ОАО \"Уральский электрохимический комбинат\""},"Да"]
[69,"Хиагда",{"$f":"VLOOKUP(B70,[6]Список_компаний_полный!$A:$D,2,0)","v":"0302001219"},"2010230700",{"$f":"VLOOKUP(B70,[6]Список_компаний_полный!$A:$D,4,0)","v":"ОАО \"Хиагда\""},"Да"]
[70,"ЦентрАтом",{"$f":"VLOOKUP(B71,[6]Список_компаний_полный!$A:$D,2,0)","v":7706723156},"2010870000",{"$f":"VLOOKUP(B71,[6]Список_компаний_полный!$A:$D,4,0)","v":"ОАО \"Центр управления непрофильными активами атомной отрасли\""},"Да"]
[71,"ЦКБМ",{"$f":"VLOOKUP(B72,[6]Список_компаний_полный!$A:$D,2,0)","v":7806394392},"2010820000",{"$f":"VLOOKUP(B72,[6]Список_компаний_полный!$A:$D,4,0)","v":"ОАО \"Центральное конструкторское бюро машиностроения\""},"Да"]
[72,"ЧМЗ",{"$f":"VLOOKUP(B73,[6]Список_компаний_полный!$A:$D,2,0)","v":1829008035},"2010230300",{"$f":"VLOOKUP(B73,[6]Список_компаний_полный!$A:$D,4,0)","v":"ОАО \"Чепецкий механический завод\""},"Да"]
[73,"ЭГМК",{"$f":"VLOOKUP(B74,[6]Список_компаний_полный!$A:$D,2,0)","v":1402047530},"2010020400",{"$f":"VLOOKUP(B74,[6]Список_компаний_полный!$A:$D,4,0)","v":"ЗАО \"Эльконский горно-металлургический комбинат\""},"Да"]
[74,"Энергоспецмонтаж",{"$f":"VLOOKUP(B75,[6]Список_компаний_полный!$A:$D,2,0)","v":7718083574},"2010270000",{"$f":"VLOOKUP(B75,[6]Список_компаний_полный!$A:$D,4,0)","v":"ОАО \"Энергоспецмонтаж\""},"Да"]
[75,"ЭНИЦ",{"$f":"VLOOKUP(B76,[6]Список_компаний_полный!$A:$D,2,0)","v":5035037441},"2010830000",{"$f":"VLOOKUP(B76,[6]Список_компаний_полный!$A:$D,4,0)","v":"ОАО \"Электрогорский научно-исследовательский центр по безопасности атомных электростанций\""},"Да"]
[76,"ЭХЗ",{"$f":"VLOOKUP(B77,[6]Список_компаний_полный!$A:$D,2,0)","v":2453013555},"2010840000",{"$f":"VLOOKUP(B77,[6]Список_компаний_полный!$A:$D,4,0)","v":"ОАО \"Производственное объединение \"Электрохимический завод\""},"Да"]
[77,"НЗХК-Инструмент",{"$f":"VLOOKUP(B78,[6]Список_компаний_полный!$A:$D,2,0)","v":5410021660},"2010230207",{"$f":"VLOOKUP(B78,[6]Список_компаний_полный!$A:$D,4,0)","v":"ООО \"НЗХК-Инструмент\""},"Да"]
[78,"НЗХК-Энергия",{"$f":"VLOOKUP(B79,[6]Список_компаний_полный!$A:$D,2,0)","v":5410028351},"2010230210",{"$f":"VLOOKUP(B79,[6]Список_компаний_полный!$A:$D,4,0)","v":"ООО \"НЗХК-Энергия\""},"Да"]
[79,"Искра",{"$f":"VLOOKUP(B80,[6]Список_компаний_полный!$A:$D,2,0)","v":2453014750},"2010230001",{"$f":"VLOOKUP(B80,[6]Список_компаний_полный!$A:$D,4,0)","v":"ООО \"Искра\""},"Да"]
[80,"ЭЛЕМАШ-ТЭК",{"$f":"VLOOKUP(B81,[6]Список_компаний_полный!$A:$D,2,0)","v":5053055010},"2010230110",{"$f":"VLOOKUP(B81,[6]Список_компаний_полный!$A:$D,4,0)","v":"ООО \"ЭЛЕМАШ-ТЭК\""},"Да"]
[81,"Экоальянс",{"$f":"VLOOKUP(B82,[6]Список_компаний_полный!$A:$D,2,0)","v":6629026420},"2010800800",{"$f":"VLOOKUP(B82,[6]Список_компаний_полный!$A:$D,4,0)","v":"ООО \"Экоальянс\""},"Да"]
[82,"Тепловодоканал",{"$f":"VLOOKUP(B83,[6]Список_компаний_полный!$A:$D,2,0)","v":1837004370},"2010230306",{"$f":"VLOOKUP(B83,[6]Список_компаний_полный!$A:$D,4,0)","v":"ООО \"Тепловодоканал\""},"Да"]
[83,"Уралприбор",{"$f":"VLOOKUP(B84,[6]Список_компаний_полный!$A:$D,2,0)","v":6629020789},"2010242000",{"$f":"VLOOKUP(B84,[6]Список_компаний_полный!$A:$D,4,0)","v":"ООО \"Новоуральский приборный завод\""},"Да"]
[84,"ННКЦ",{"$f":"VLOOKUP(B85,[6]Список_компаний_полный!$A:$D,2,0)","v":6629020806},"2010241900",{"$f":"VLOOKUP(B85,[6]Список_компаний_полный!$A:$D,4,0)","v":"ООО \"Новоуральский научно-конструкторский центр\""},"Да"]
[85,"ОКБ-НН",{"$f":"VLOOKUP(B86,[6]Список_компаний_полный!$A:$D,2,0)","v":5256065824},"2010840400",{"$f":"VLOOKUP(B86,[6]Список_компаний_полный!$A:$D,4,0)","v":"ЗАО \"ОКБ - Нижний Новгород\""},"Да"]
[86,"Точмаш-авто",{"$f":"VLOOKUP(B87,[6]Список_компаний_полный!$A:$D,2,0)","v":3329064483},"2010440300",{"$f":"VLOOKUP(B87,[6]Список_компаний_полный!$A:$D,4,0)","v":"ООО \"Точмаш-авто\""},"Да"]
[87,"EMSS Holdings","EMSS Holdings",2010230948,"EMSS Holdings Limited (ЭМСС ХОЛДИНГЗ ЛИМИТЕД)","Да"]
[88,"UMP Trading","UMP Trading",2010230952,"UMP Trading (Швейцария)","Да"]
[89,"ЦНИИТМАШ",{"$f":"VLOOKUP(B90,[6]Список_компаний_полный!$A:$D,2,0)","v":7723564851},"2010140000",{"$f":"VLOOKUP(B90,[6]Список_компаний_полный!$A:$D,4,0)","v":"ОАО Государственный научный центр РФ \"Научно-производственное объединение \"Центральный научно-исследовательский институт технологии машиностроения\""},"Да"]
[90,"МСЗ-М",{"$f":"VLOOKUP(B91,[6]Список_компаний_полный!$A:$D,2,0)","v":5053066861},"2010230115",{"$f":"VLOOKUP(B91,[6]Список_компаний_полный!$A:$D,4,0)","v":"ООО \"МСЗ-МЕХАНИКА\""},"Да"]
[91,"АЛАБУГА-ВОЛОКНО",{"$f":"VLOOKUP(B92,[6]Список_компаний_полный!$A:$D,2,0)","v":1646031132},"2010242201",{"$f":"VLOOKUP(B92,[6]Список_компаний_полный!$A:$D,4,0)","v":"ООО \"Алабуга-Волокно\""},"Да"]
[92,"Русатом Сервис",{"$f":"VLOOKUP(B93,[6]Список_компаний_полный!$A:$D,2,0)","v":7705966318},"2010592200",{"$f":"VLOOKUP(B93,[6]Список_компаний_полный!$A:$D,4,0)","v":"ЗАО \"Русатом Сервис\""},"Да"]
[93,"НИИГрафит",{"$f":"VLOOKUP(B94,[6]Список_компаний_полный!$A:$D,2,0)","v":7720723422},"2010630000",{"$f":"VLOOKUP(B94,[6]Список_компаний_полный!$A:$D,4,0)","v":"ОАО \"Государственный научно-исследовательский институт конструкционных материалов на основе графита \"НИИграфит\""},"Да"]
[94,"Красная Звезда",{"$f":"VLOOKUP(B95,[6]Список_компаний_полный!$A:$D,2,0)","v":7726682003},"2010600000",{"$f":"VLOOKUP(B95,[6]Список_компаний_полный!$A:$D,4,0)","v":"ОАО \"Красная Звезда\""},"Да"]
[95,"Молния",{"$f":"VLOOKUP(B96,[6]Список_компаний_полный!$A:$D,2,0)","v":7721730486},"2010740000",{"$f":"VLOOKUP(B96,[6]Список_компаний_полный!$A:$D,4,0)","v":"ОАО \"Производственное объединение \"Машиностроительный завод \"Молния\""},"Да"]
[96,"Балтийская АЭС",{"$f":"VLOOKUP(B97,[6]Список_компаний_полный!$A:$D,2,0)","v":3904612644},"2010592100",{"$f":"VLOOKUP(B97,[6]Список_компаний_полный!$A:$D,4,0)","v":"ОАО \"Балтийская АЭС\""},"Да"]
[97,"УДК Горное",{"$f":"VLOOKUP(B98,[6]Список_компаний_полный!$A:$D,2,0)","v":7536087140},"2010020200",{"$f":"VLOOKUP(B98,[6]Список_компаний_полный!$A:$D,4,0)","v":"ЗАО \"Уранодобывающая компания \"Горное\""},"Да"]
[98,"СЕТЕС",7024037370,2010550001,"ОАО\"Северские теплосистемы\"","Да"]
[99,"ТЕНЕКС-Комплект",{"$f":"VLOOKUP(B100,[6]Список_компаний_полный!$A:$D,2,0)","v":7708541585},"2010240300",{"$f":"VLOOKUP(B100,[6]Список_компаний_полный!$A:$D,4,0)","v":"ООО \"ТЕНЕКС-Комплект\""},"Да"]
[100,"ТЕНЕКС-Логистика",{"$f":"VLOOKUP(B101,[6]Список_компаний_полный!$A:$D,2,0)","v":7706607400},"2010240400",{"$f":"VLOOKUP(B101,[6]Список_компаний_полный!$A:$D,4,0)","v":"ЗАО \"ТЕНЕКС-Логистика\""},"Да"]
[101,"НИИАР-ГЕНЕРАЦИЯ",7329008990,2010970000,"ООО «НИИАР-ГЕНЕРАЦИЯ»","Да"]
[102,"НИАЭП-Сервис",6916015670,2010620200,"ООО \"НИАЭП-Сервис\"","Да"]
[103,"ОООПетрозаводскмаш",1001270058,2010241205,"ООО\"Петрозаводскмаш\"","Да"]
[104,"Вента",{"$f":"VLOOKUP(B105,[6]Список_компаний_полный!$A:$D,2,0)","v":6624002377},"2010050000",{"$f":"VLOOKUP(B105,[6]Список_компаний_полный!$A:$D,4,0)","v":"ОАО \"Нижнетуринский машиностроительный завод \"Вента\""},"Да"]
[105,"ЭМКО",{"$f":"VLOOKUP(B106,[6]Список_компаний_полный!$A:$D,2,0)","v":7709735135},"2010230912",{"$f":"VLOOKUP(B106,[6]Список_компаний_полный!$A:$D,4,0)","v":"ООО \"Энергомашкомплекс\""},"Да"]
[106,"ОЗТМиТС",{"$f":"VLOOKUP(B107,[6]Список_компаний_полный!$A:$D,2,0)","v":7726633119},"2010700000",{"$f":"VLOOKUP(B107,[6]Список_компаний_полный!$A:$D,4,0)","v":"ОАО \"Опытный завод тугоплавких металлов и твердых сплавов\" (ОАО \"ОЗТМиТС\")"},"Да"]
[107,"Энергомашспецсталь","Энергомашспецсталь",2010230943,"ОАО \"Энергомашспецсталь\"","Да"]
[108,"Русатом МС",770680549,2010980000,"ЗАО \"Русатом-международная сеть\"","Да"]
[109,"ВНИПИПромтехнологии",{"$f":"VLOOKUP(B110,[6]Список_компаний_полный!$A:$D,2,0)","v":7724683379},"2010430000",{"$f":"VLOOKUP(B110,[6]Список_компаний_полный!$A:$D,4,0)","v":"ОАО \"Ведущий проектно-изыскательский и научно-исследовательский институт промышленной технологии\""},"Да"]
[110,"ОДЦ УГР",{"$f":"VLOOKUP(B111,[6]Список_компаний_полный!$A:$D,2,0)","v":7024033350},"2010780500",{"$f":"VLOOKUP(B111,[6]Список_компаний_полный!$A:$D,4,0)","v":"ООО \"Опытно-демонстрационный центр вывода из эксплуатации уран-графитовых ядерных реакторов\""},"Да"]
[111,"Трест РСЭМ",6916013425,2010620400,"ООО \"Трест Росспецэнергомонтаж\"","Да"]
[112,"ЖТЭЦ",2458013365,"2010551000","ОАО \"Железногорская ТЭЦ\"","Да"]
[113,"РАОС Войма Ои","РАОС Войма Ои","2010931000","РАОС Войма Ои","Да"]
[114,{"$f":"#REF!","v":{"$error":"#REF!"}},7706785593,{"$f":"#REF!","v":{"$error":"#REF!"}},"ООО «АЭМ-активы»","Да"]

{"sheet":"Периметр АЭПК  2015","index":27,"n_rows":117,"n_cols":6,"rows_kept":117,"cut":false,"hidden":true,"merged":[]}
["№","Сокращенное название","ИНН","Номер ЦФО","Полное название","Включена в Периметр АЭПК по МСФО"]
[1,"INTERNEXCO","HBR 6557","2010241200","INTERNEXCO GmbH","Да"]
[2,"KWINDER HOLDINGS LIMITED","KWINDER HOLDINGS LIMITED",2010240310,"KWINDER HOLDINGS LIMITED","Да"]
[3,"Mantra Resources Ltd.","Mantra Resources Ltd.",2010021600,"Mantra Resources Limited","Да"]
[4,"ROSATOM FINANCE","ROSATOM FINANCE","2010940000","ROSATOM FINANCE LTD","Да"]
[5,"ROSATOM Securities Limited","ROSATOM Securities Limited","2010950000","ROSATOM Securities Limited","Да"]
[6,"Аргон",6454074501,"2010240800","ООО \"Аргон\"","Да"]
[7,"АРМЗ",7706016076,"2010020000","ОАО \"Урановый холдинг АРМЗ\" (\"Атомредметзолото\")","Да"]
[8,"Атомспецтранс",7717609102,"2010340000","ОАО \"Атомспецтранс\" ","Да"]
[9,"Атомтехэнерго",5029106714,"2010350000","ОАО по наладке, совершенствованию эксплуатации и организации управления атомных станций \"Атомтехэнерго\" ","Да"]
[10,"Атомэнергомаш",7706614573,"2010230900","ОАО \"Атомное и энергетическое машиностроение\" (ОАО \"Атомэнергомаш\")","Да"]
[11,"Атомэнергоремонт",5029112443,"2010590700","ОАО \"Атомэнергоремонт\"","Да"]
[12,"АЭМ-лизинг",7706673635,"2010230902","ЗАО \"АЭМ-лизинг\"","Да"]
[13,"АЭМ-технологии",7817311895,"2010230904","ЗАО \"АЭМ-технологии\"","Да"]
[14,"АЭПК",7706664260,"2010000000","ОАО \"Атомный энергопромышленный комплекс\" (ОАО \"Атомэнергопром\")","Да"]
[15,"Аккую Нуклеар","Аккую Нуклеар","2010450108","Аккую Нуклеар","Да"]
[16,"АЭХК",3801098402,"2010370000","ОАО \"Ангарский электролизный химический комбинат\"","Да"]
[17,"ВНИИАЭС",7721247141,"2010591800","ОАО\"Всеросийский научно-исследовательский институт по эксплуатации атомных электростанций\"","Да"]
[18,"ВНИИНМ",7734598490,"2010400000","ОАО \"Всероссийский научно-исследовательский институт неорганических материалов имени академика А.А.Бочвара\"","Да"]
[19,"ВНИИХТ",7724675770,"2010420000","ОАО \"Ведущий научно-исследовательский институт химической технологии (ВНИИХТ)\"","Да"]
[20,"АТОМПРОЕКТ",7814417371,2010460000,"ОАО «Научно-исследовательский и проектно-конструкторский институт энергетических технологий «АТОМПРОЕКТ»","Да"]
[21,"Гидропресс",5036092340,"2010710000","ОАО \"Ордена Трудового Красного Знамени и ордена труда ЧССР - опытное конструкторское бюро \"ГИДРОПРЕСС\"","Да"]
[22,"Гиредмет",7706699062,"2010470000","ОАО \"Государственный научно-исследовательский проектный институт редкометаллической промышленности \"Гиредмет\"","Да"]
[23,"Гринатом",7706729736,"2010900000","ЗАО \"Гринатом\"","Да"]
[24,"ГСПИ",7708697977,"2010500000","ОАО \"Государственный специализированный проектный институт\" (ОАО \"ГСПИ\")","Да"]
[25,"Далур",4506004751,"2010230800","ЗАО \"Далур\"","Да"]
[26,"ДЕЗ",7706730001,"2010890000","ОАО \"Дирекция Единого Заказа оборудования для АЭС\"","Да"]
[27,"АРМЗ-Сервис",7708671295,2010020602,"ООО \"АРМЗ - сервис\" ","Да"]
[28,"ЗАЭС",7701763846,"2010450000","ОАО \"Всероссийское производственное объединение \"Зарубежатомэнергострой\" (ОАО \"ВПО \"ЗАЭС\")","Да"]
[29,"ЗиО-Подольск",5036040729,"2010230918","ОАО \"Машиностроительный завод \"ЗиО Подольск\"","Да"]
[30,"ЗИОМАР",5036039258,"2010230917","ОАО \"Инжиниринговая компания \"ЗИОМАР\"","Да"]
[31,"ЗУКМ",7450045935,"2010241600","ООО \"Завод углеродных и композиционных материалов\"","Да"]
[32,"ИЦ РГЦ",7706689000,"2010242300","ОАО \"Инжиниринговый центр \"Русская газовая центрифуга\"","Да"]
[33,"КМЗ",3305004397,"2010240600","ОАО \"Ковровский механический завод\"","Да"]
[34,"Краун",7705833438,"2010241100","ООО \"Краун\"","Да"]
[35,"КЦ",7715020463,2010231300,"ОАО\"Коммерческий центр\"","Да"]
[36,"МЗП",7724558466,"2010100000","ОАО \"Московский завод полиметаллов\"","Да"]
[37,"МСЗ",5053005918,"2010230100","ОАО \"Машиностроительный завод\"","Да"]
[38,"НЗХК",5410114184,"2010230200","ОАО \"Новосибирский завод химконцентратов\"","Да"]
[39,"НИАЭП",5260214123,"2010620000","ОАО Нижегородская инжиниринговая компания \"Атомэнергопроект\" (ОАО \"НИАЭП\")","Да"]
[40,"НИИТФА",7726606316,"2010410000","ОАО \"Научно-исследовательский институт технической физики и автоматизации (НИИТФА)\"","Да"]
[41,"НИКИМТ-Атомстрой",7715719854,"2010550000","ОАО \"НИКИМТ \"Атомстрой\"","Да"]
[42,"НИКИЭТ",7708698473,"2010650000","ОАО \"Научно-исследовательский и конструкторский институт энерготехники имени Н.А. Доллежаля\"","Да"]
[43,"НПК ХПИ",7706688991,"2010242200","ОАО \"НПК \"Химпроминжиниринг\"","Да"]
[44,"ОИК",7706751361,"2010910000","ООО \"Объединенная инновационная корпорация\"","Да"]
[45,"ОК РСК",7706704146,"2010860000","ОАО \"Объединенная компания “Разделительно-сублиматный комплекс”","Да"]
[46,"ОКБМ",5259077666,"2010720000","ОАО \"Опытное Конструкторское Бюро Машиностроения имени И.И. Африкантова\"","Да"]
[47,"ППГХО",7530000048,"2010230400","ОАО \"Приаргунское производственное горно-химическое объединение\"","Да"]
[48,"ПСР",7721699740,"2010592000","ОАО \"Производственная система \"ПСР\"","Да"]
[49,"РБМ",7713190205,"2010020600","ЗАО \"РУСБУРМАШ\"","Да"]
[50,"Росэнергоатом",7721632827,"2010590000","ОАО \"Российский концерн по производству электрической и тепловой энергии на атомных станциях \"Росэнергоатом\"","Да"]
[51,"REIN ",7706759586,"2010930000","АО «Русатом Энерго Интернешнл»","Да"]
[52,"РЭМКО",5036076690,"2010230911","ЗАО \"Русская ЭнергоМашиностроительная Компания\"","Да"]
[53,"Сайпрус","Сайпрус",2010230916,"ATOMENERGOMASH CYPRUS LIMITED ЧК \"Атомэнергомаш Сайпрус Лимитед\"","Да"]
[54,"СвердНИИхиммаш",6664003909,"2010200000","ОАО \"Свердловский научно-исследовательский институт химического машиностроения (\"СвердНИИхиммаш\")\"","Да"]
[55,"СНВ",6451420231,"2010242100","ООО \"СНВ\"","Да"]
[56,"СНИИП",7734592593,"2010660000","ОАО \"Специализированный научно-исследовательский институт приборостроения\" (ОАО \"СНИИП\")","Да"]
[57,"СХК",7024029499,"2010780000","ОАО \"Сибирский химический комбинат\"","Да"]
[58,"ТВЭЛ",7706123550,"2010230000","ОАО \"ТВЭЛ\"","Да"]
[59,"ТВЭЛ-Строй",7726523814,"2010231100","ЗАО \"ТВЭЛ-СТРОИ\"","Да"]
[60,"ТЕНЕКС-Сервис",7706604582,"2010240100","ЗАО \"ТЕНЕКС-Сервис\"","Да"]
[61,"Техснабэкспорт",7706039242,"2010240000","ОАО \"Техснабэкспорт\"","Да"]
[62,"Точмаш",3329051460,"2010440000","ОАО \"Владимирское производственное объединение \"Точмаш\"","Да"]
[63,"ТЦ ТЕНЕКС",7706609414,"2010240200","ЗАО \"Технологический центр \"ТЕНЕКС\"","Да"]
[64,"УУГ",7706641432,"2010020100","АО \"Ураниум Уан Груп\"","Да"]
[65,"УЗГЦ",6629020796,"2010241800","ООО \"Уральский завод газовых центрифуг\"","Да"]
[66,"УЭХК",6629022962,"2010800000","ОАО \"Уральский электрохимический комбинат\"","Да"]
[67,"Хиагда","0302001219","2010230700","ОАО \"Хиагда\"","Да"]
[68,"ЦентрАтом",7706723156,"2010870000","ОАО \"Центр управления непрофильными активами атомной отрасли\"","Да"]
[69,"ЦКБМ",7806394392,"2010820000","ОАО \"Центральное конструкторское бюро машиностроения\"","Да"]
[70,"ЧМЗ",1829008035,"2010230300","ОАО \"Чепецкий механический завод\"","Да"]
[71,"ЭГМК",1402047530,"2010020400","ЗАО \"Эльконский горно-металлургический комбинат\"","Да"]
[72,"Энергоспецмонтаж",7718083574,"2010270000","ОАО \"Энергоспецмонтаж\"","Да"]
[73,"ЭНИЦ",5035037441,"2010830000","ОАО \"Электрогорский научно-исследовательский центр по безопасности атомных электростанций\"","Да"]
[74,"ЭХЗ",2453013555,"2010840000","ОАО \"Производственное объединение \"Электрохимический завод\"","Да"]
[75,"НЗХК-Инструмент",5410021660,"2010230207","ООО \"НЗХК-Инструмент\"","Да"]
[76,"НЗХК-Энергия",5410028351,"2010230210","ООО \"НЗХК-Энергия\"","Да"]
[77,"Искра",2453014750,"2010230001","ООО \"Искра\"","Да"]
[78,"ЭЛЕМАШ-ТЭК",5053055010,"2010230110","ООО \"ЭЛЕМАШ-ТЭК\"","Да"]
[79,"Экоальянс",6629026420,"2010800800","ООО \"Экоальянс\"","Да"]
[80,"Тепловодоканал",1837004370,"2010230306","ООО \"Тепловодоканал\"","Да"]
[81,"Уралприбор",6629020789,"2010242000","ООО \"Новоуральский приборный завод\"","Да"]
[82,"ННКЦ",6629020806,"2010241900","ООО \"Новоуральский научно-конструкторский центр\"","Да"]
[83,"ОКБ-НН",5256065824,"2010840400","ЗАО \"ОКБ - Нижний Новгород\"","Да"]
[84,"Точмаш-авто",3329064483,"2010440300","ООО \"Точмаш-авто\"","Да"]
[85,"EMSS Holdings","EMSS Holdings",2010230948,"EMSS Holdings Limited (ЭМСС ХОЛДИНГЗ ЛИМИТЕД)","Да"]
[86,"UMP Trading","UMP Trading",2010230952,"UMP Trading (Швейцария)","Да"]
[87,"ЦНИИТМАШ",7723564851,"2010140000","ОАО Государственный научный центр РФ \"Научно-производственное объединение \"Центральный научно-исследовательский институт технологии машиностроения\"","Да"]
[88,"МСЗ-М",5053066861,"2010230115","ООО \"МСЗ-МЕХАНИКА\"","Да"]
[89,"АЛАБУГА-ВОЛОКНО",1646031132,"2010242201","ООО \"Алабуга-Волокно\"","Да"]
[90,"Русатом Сервис",7705966318,"2010592200","ЗАО \"Русатом Сервис\"","Да"]
[91,"НИИГрафит",7720723422,"2010630000","ОАО \"Государственный научно-исследовательский институт конструкционных материалов на основе графита \"НИИграфит\"","Да"]
[92,"Красная Звезда",7726682003,"2010600000","ОАО \"Красная Звезда\"","Да"]
[93,"Молния",7721730486,"2010740000","ОАО \"Производственное объединение \"Машиностроительный завод \"Молния\"","Да"]
[94,"Балтийская АЭС",3904612644,"2010592100","ОАО \"Балтийская АЭС\"","Да"]
[95,"УДК Горное",7536087140,"2010020200","ЗАО \"Уранодобывающая компания \"Горное\"","Да"]
[96,"СЕТЕС",7024037370,2010550001,"ОАО\"Северские теплосистемы\"","Да"]
[97,"НИАЭП-Сервис",6916015670,2010620200,"ООО \"НИАЭП-Сервис\"","Да"]
[98,"Вента",6624002377,"2010050000","ОАО \"Нижнетуринский машиностроительный завод \"Вента\"","Да"]
[99,"ЭМКО",7709735135,"2010230912","ООО \"Энергомашкомплекс\"","Да"]
[100,"ОЗТМиТС",7726633119,"2010700000","ОАО \"Опытный завод тугоплавких металлов и твердых сплавов\" (ОАО \"ОЗТМиТС\")","Да"]
[101,"Энергомашспецсталь","Энергомашспецсталь",2010230943,"ОАО \"Энергомашспецсталь\"","Да"]
[102,"Русатом МС",770680549,2010980000,"ЗАО \"Русатом-международная сеть\"","Да"]
[103,"ВНИПИПромтехнологии",7724683379,"2010430000","ОАО \"Ведущий проектно-изыскательский и научно-исследовательский институт промышленной технологии\"","Да"]
[104,"ОДЦ УГР",7024033350,"2010780500","ООО \"Опытно-демонстрационный центр вывода из эксплуатации уран-графитовых ядерных реакторов\"","Да"]
[105,"Трест РСЭМ",6916013425,2010620400,"ООО \"Трест Росспецэнергомонтаж\"","Да"]
[106,"ЖТЭЦ",2458013365,"2010551000","ОАО \"Железногорская ТЭЦ\"","Да"]
[107,"РАОС Войма Ои","РАОС Войма Ои","2010931000","РАОС Войма Ои","Да"]
[108,"АЭМ-активы",7706785593,"6090010000","ООО «АЭМ-активы»","Да"]
[109,"Атомтехэкспорт",7705408850,2010591900,"ЗАО \"Атомтехэкспорт\" ","Да"]
[110,"Промышленные инновации",7725524660,2010231200,"ЗАО \"Промышленные инновации\"","Да"]
[111,"ВНИИАМ",7743654609,2010390000,"ОАО \"Всероссийский научно-исследовательский и проектно-конструкторский институт атомного энергетического машиностроения (ВНИИАМ)\"","Да"]
[112,"RAOS Project Oy",386588,2010932000,"RAOS Project Oy","Да"]
[113,"Uranium One Holding","8171.63.219",2010021200,"Uranium One Holding N.V.","Да"]
[114,"Uranium",817104549,2010021500,"Uranium One Inc.","Да"]
[115,"INTERNEXCO GmbH (Швейцария)","CHE-255.290.400",2010241000,"INTERNEXCO GmbH (Швейцария)","Да"]
[116,"РАСУ",7734358970,2010990000,"АО \"Русатом Автоматизированные Системы Управления\"","Да"]

{"sheet":"Лист1","index":28,"n_rows":556,"n_cols":4,"rows_kept":556,"cut":false,"hidden":true,"merged":[]}
[{"$f":"[7]Список_компаний!D3","v":0},{"$f":"[7]Список_компаний!A3","v":"Гос.контракты"},{"$f":"[7]Список_компаний!H3","v":0}]
[{"$f":"[7]Список_компаний!D4","v":0},{"$f":"[7]Список_компаний!A4","v":"Внешние контрагенты"},{"$f":"[7]Список_компаний!H4","v":"Нет"}]
[{"$f":"[7]Список_компаний!D5","v":0},{"$f":"[7]Список_компаний!A5","v":"Физические лица"},{"$f":"[7]Список_компаний!H5","v":"Нет"}]
[{"$f":"[7]Список_компаний!D6","v":0},{"$f":"[7]Список_компаний!A6","v":"НДС с авансов"},{"$f":"[7]Список_компаний!H6","v":"Нет"}]
[{"$f":"[7]Список_компаний!D7","v":2010230922},{"$f":"[7]Список_компаний!A7","v":"ARAKO"},{"$f":"[7]Список_компаний!H7","v":"Да"},{"$f":"VLOOKUP(A5,'Периметр АЭПК_2_кв_ 2017'!D:D,1,0)","v":2010230922}]
[{"$f":"[7]Список_компаний!D8","v":2010021200},{"$f":"[7]Список_компаний!A8","v":"Uranium One Holding N.V."},{"$f":"[7]Список_компаний!H8","v":"Да"},{"$f":"VLOOKUP(A6,'Периметр АЭПК_2_кв_ 2017'!D:D,1,0)","v":2010021200}]
[{"$f":"[7]Список_компаний!D9","v":2010021506},{"$f":"[7]Список_компаний!A9","v":"Uranium One Trading"},{"$f":"[7]Список_компаний!H9","v":"Да"},{"$f":"VLOOKUP(A7,'Периметр АЭПК_2_кв_ 2017'!D:D,1,0)","v":2010021506}]
[{"$f":"[7]Список_компаний!D10","v":2010241200},{"$f":"[7]Список_компаний!A10","v":"INTERNEXCO"},{"$f":"[7]Список_компаний!H10","v":"Да"},{"$f":"VLOOKUP(A8,'Периметр АЭПК_2_кв_ 2017'!D:D,1,0)","v":2010241200}]
[{"$f":"[7]Список_компаний!D11","v":2010241000},{"$f":"[7]Список_компаний!A11","v":"INTERNEXCO GmbH (Швейцария)"},{"$f":"[7]Список_компаний!H11","v":"Да"},{"$f":"VLOOKUP(A9,'Периметр АЭПК_2_кв_ 2017'!D:D,1,0)","v":2010241000}]
[{"$f":"[7]Список_компаний!D12","v":2010820100},{"$f":"[7]Список_компаний!A12","v":"Ganz"},{"$f":"[7]Список_компаний!H12","v":"Да"},{"$f":"VLOOKUP(A10,'Периметр АЭПК_2_кв_ 2017'!D:D,1,0)","v":2010820100}]
[{"$f":"[7]Список_компаний!D13","v":2010021600},{"$f":"[7]Список_компаний!A13","v":"Mantra Resources Ltd."},{"$f":"[7]Список_компаний!H13","v":"Да"},{"$f":"VLOOKUP(A11,'Периметр АЭПК_2_кв_ 2017'!D:D,1,0)","v":2010021600}]
[{"$f":"[7]Список_компаний!D14","v":2010450107},{"$f":"[7]Список_компаний!A14","v":"NUKEM"},{"$f":"[7]Список_компаний!H14","v":0}]
[{"$f":"[7]Список_компаний!D15","v":2010450112},{"$f":"[7]Список_компаний!A15","v":"Nukem Technologies"},{"$f":"[7]Список_компаний!H15","v":0}]
[{"$f":"[7]Список_компаний!D16","v":2010240310},{"$f":"[7]Список_компаний!A16","v":"KWINDER HOLDINGS LIMITED"},{"$f":"[7]Список_компаний!H16","v":"Да"},{"$f":"VLOOKUP(A14,'Периметр АЭПК_2_кв_ 2017'!D:D,1,0)","v":2010240310}]
[{"$f":"[7]Список_компаний!D17","v":2010021500},{"$f":"[7]Список_компаний!A17","v":"Uranium"},{"$f":"[7]Список_компаний!H17","v":"Да"},{"$f":"VLOOKUP(A15,'Периметр АЭПК_2_кв_ 2017'!D:D,1,0)","v":2010021500}]
[{"$f":"[7]Список_компаний!D18","v":2010230952},{"$f":"[7]Список_компаний!A18","v":"UMP Trading"},{"$f":"[7]Список_компаний!H18","v":"Да"},{"$f":"VLOOKUP(A16,'Периметр АЭПК_2_кв_ 2017'!D:D,1,0)","v":2010230952}]
[{"$f":"[7]Список_компаний!D19","v":2010940000},{"$f":"[7]Список_компаний!A19","v":"ROSATOM FINANCE"},{"$f":"[7]Список_компаний!H19","v":"Да"},{"$f":"VLOOKUP(A17,'Периметр АЭПК_2_кв_ 2017'!D:D,1,0)","v":2010940000}]
[{"$f":"[7]Список_компаний!D20","v":2010931000},{"$f":"[7]Список_компаний!A20","v":"RAOS Voima"},{"$f":"[7]Список_компаний!H20","v":"Да"},{"$f":"VLOOKUP(A18,'Периметр АЭПК_2_кв_ 2017'!D:D,1,0)","v":2010931000}]
[{"$f":"[7]Список_компаний!D21","v":2010932000},{"$f":"[7]Список_компаний!A21","v":"RAOS Project"},{"$f":"[7]Список_компаний!H21","v":"Да"},{"$f":"VLOOKUP(A19,'Периметр АЭПК_2_кв_ 2017'!D:D,1,0)","v":2010932000}]
[{"$f":"[7]Список_компаний!D22","v":2010242400},{"$f":"[7]Список_компаний!A22","v":"TRADEWILL"},{"$f":"[7]Список_компаний!H22","v":"Да"},{"$f":"VLOOKUP(A20,'Периметр АЭПК_2_кв_ 2017'!D:D,1,0)","v":2010242400}]
[{"$f":"[7]Список_компаний!D23","v":2010242500},{"$f":"[7]Список_компаний!A23","v":"TENAM"},{"$f":"[7]Список_компаний!H23","v":"Да"},{"$f":"VLOOKUP(A21,'Периметр АЭПК_2_кв_ 2017'!D:D,1,0)","v":2010242500}]
[{"$f":"[7]Список_компаний!D24","v":2010230948},{"$f":"[7]Список_компаний!A24","v":"EMSS Holdings"},{"$f":"[7]Список_компаний!H24","v":"Да"},{"$f":"VLOOKUP(A22,'Периметр АЭПК_2_кв_ 2017'!D:D,1,0)","v":2010230948}]
[{"$f":"[7]Список_компаний!D25","v":4160000000},{"$f":"[7]Список_компаний!A25","v":"АКМЭ-Инжиниринг"},{"$f":"[7]Список_компаний!H25","v":"сп"}]
[{"$f":"[7]Список_компаний!D26","v":2010242201},{"$f":"[7]Список_компаний!A26","v":"АЛАБУГА-ВОЛОКНО"},{"$f":"[7]Список_компаний!H26","v":"Да"},{"$f":"VLOOKUP(A24,'Периметр АЭПК_2_кв_ 2017'!D:D,1,0)","v":2010242201}]
[{"$f":"[7]Список_компаний!D27","v":2010240800},{"$f":"[7]Список_компаний!A27","v":"Аргон"},{"$f":"[7]Список_компаний!H27","v":"Да"},{"$f":"VLOOKUP(A25,'Периметр АЭПК_2_кв_ 2017'!D:D,1,0)","v":2010240800}]
[{"$f":"[7]Список_компаний!D28","v":2010020000},{"$f":"[7]Список_компаний!A28","v":"АРМЗ"},{"$f":"[7]Список_компаний!H28","v":"Да"},{"$f":"VLOOKUP(A26,'Периметр АЭПК_2_кв_ 2017'!D:D,1,0)","v":2010020000}]
[{"$f":"[7]Список_компаний!D29","v":2010450108},{"$f":"[7]Список_компаний!A29","v":"Аккую Нуклеар"},{"$f":"[7]Список_компаний!H29","v":"Да"},{"$f":"VLOOKUP(A27,'Периметр АЭПК_2_кв_ 2017'!D:D,1,0)","v":2010450108}]
[{"$f":"[7]Список_компаний!D30","v":2010450100},{"$f":"[7]Список_компаний!A30","v":"АСЭ"},{"$f":"[7]Список_компаний!H30","v":0}]
[{"$f":"[7]Список_компаний!D31","v":2010450103},{"$f":"[7]Список_компаний!A31","v":"АСЭ-Инжиниринг"},{"$f":"[7]Список_компаний!H31","v":"Да"},{"$f":"VLOOKUP(A29,'Периметр АЭПК_2_кв_ 2017'!D:D,1,0)","v":{"$error":"#N/A"}}]
[{"$f":"[7]Список_компаний!D32","v":2010010000},{"$f":"[7]Список_компаний!A32","v":"АТА"},{"$f":"[7]Список_компаний!H32","v":"Да"},{"$f":"VLOOKUP(A30,'Периметр АЭПК_2_кв_ 2017'!D:D,1,0)","v":2010010000}]
[{"$f":"[7]Список_компаний!D33","v":2010230915},{"$f":"[7]Список_компаний!A33","v":"АТМ"},{"$f":"[7]Список_компаний!H33","v":"Да"},{"$f":"VLOOKUP(A31,'Периметр АЭПК_2_кв_ 2017'!D:D,1,0)","v":2010230915}]
[{"$f":"[7]Список_компаний!D34","v":2010933000},{"$f":"[7]Список_компаний!A34","v":"АтомМедТехнолоджи-ДВ"},{"$f":"[7]Список_компаний!H34","v":"Да"},{"$f":"VLOOKUP(A32,'Периметр АЭПК_2_кв_ 2017'!D:D,1,0)","v":2010933000}]
[{"$f":"[7]Список_компаний!D35","v":3040000000},{"$f":"[7]Список_компаний!A35","v":"Атомбезопасность"},{"$f":"[7]Список_компаний!H35","v":0}]
[{"$f":"[7]Список_компаний!D36","v":3070000000},{"$f":"[7]Список_компаний!A36","v":"Атомзащитаинформ"},{"$f":"[7]Список_компаний!H36","v":0}]
[{"$f":"[7]Список_компаний!D37","v":6090000000},{"$f":"[7]Список_компаний!A37","v":"Атомкомплект"},{"$f":"[7]Список_компаний!H37","v":0}]
[{"$f":"[7]Список_компаний!D38","v":6020000000},{"$f":"[7]Список_компаний!A38","v":"Атом-охрана"},{"$f":"[7]Список_компаний!H38","v":0}]
[{"$f":"[7]Список_компаний!D39","v":2010340000},{"$f":"[7]Список_компаний!A39","v":"Атомспецтранс"},{"$f":"[7]Список_компаний!H39","v":"Да"},{"$f":"VLOOKUP(A37,'Периметр АЭПК_2_кв_ 2017'!D:D,1,0)","v":2010340000}]
[{"$f":"[7]Список_компаний!D40","v":2010350000},{"$f":"[7]Список_компаний!A40","v":"Атомтехэнерго"},{"$f":"[7]Список_компаний!H40","v":"Да"},{"$f":"VLOOKUP(A38,'Периметр АЭПК_2_кв_ 2017'!D:D,1,0)","v":2010350000}]
[{"$f":"[7]Список_компаний!D41","v":3100000000},{"$f":"[7]Список_компаний!A41","v":"Атомфлот"},{"$f":"[7]Список_компаний!H41","v":0}]
[{"$f":"[7]Список_компаний!D42","v":2010230900},{"$f":"[7]Список_компаний!A42","v":"Атомэнергомаш"},{"$f":"[7]Список_компаний!H42","v":"Да"},{"$f":"VLOOKUP(A40,'Периметр АЭПК_2_кв_ 2017'!D:D,1,0)","v":2010230900}]
[{"$f":"[7]Список_компаний!D43","v":2010591300},{"$f":"[7]Список_компаний!A43","v":"Атомэнергосбыт"},{"$f":"[7]Список_компаний!H43","v":"Да"},{"$f":"VLOOKUP(A41,'Периметр АЭПК_2_кв_ 2017'!D:D,1,0)","v":2010591300}]
[{"$f":"[7]Список_компаний!D44","v":2010590700},{"$f":"[7]Список_компаний!A44","v":"Атомэнергоремонт"},{"$f":"[7]Список_компаний!H44","v":"Да"},{"$f":"VLOOKUP(A42,'Периметр АЭПК_2_кв_ 2017'!D:D,1,0)","v":2010590700}]
[{"$f":"[7]Список_компаний!D45","v":2010591900},{"$f":"[7]Список_компаний!A45","v":"Атомтехэкспорт"},{"$f":"[7]Список_компаний!H45","v":"Да"},{"$f":"VLOOKUP(A43,'Периметр АЭПК_2_кв_ 2017'!D:D,1,0)","v":2010591900}]
[{"$f":"[7]Список_компаний!D46","v":2010591320},{"$f":"[7]Список_компаний!A46","v":"Атомэнергопромсбыт"},{"$f":"[7]Список_компаний!H46","v":"Да"},{"$f":"VLOOKUP(A44,'Периметр АЭПК_2_кв_ 2017'!D:D,1,0)","v":2010591320}]
[{"$f":"[7]Список_компаний!D47","v":2010110000},{"$f":"[7]Список_компаний!A47","v":"АтомКапитал"},{"$f":"[7]Список_компаний!H47","v":0}]
[{"$f":"[7]Список_компаний!D48","v":2010460000},{"$f":"[7]Список_компаний!A48","v":"АТОМПРОЕКТ"},{"$f":"[7]Список_компаний!H48","v":"Да"},{"$f":"VLOOKUP(A46,'Периметр АЭПК_2_кв_ 2017'!D:D,1,0)","v":2010460000}]
[{"$f":"[7]Список_компаний!D49","v":3010000000},{"$f":"[7]Список_компаний!A49","v":"АТЦ СПб"},{"$f":"[7]Список_компаний!H49","v":0}]
[{"$f":"[7]Список_компаний!D50","v":2010230904},{"$f":"[7]Список_компаний!A50","v":"АЭМ-технологии"},{"$f":"[7]Список_компаний!H50","v":"Да"},{"$f":"VLOOKUP(A48,'Периметр АЭПК_2_кв_ 2017'!D:D,1,0)","v":2010230904}]
[{"$f":"[7]Список_компаний!D51","v":6090010000},{"$f":"[7]Список_компаний!A51","v":"АЭМ-активы"},{"$f":"[7]Список_компаний!H51","v":"Да"},{"$f":"VLOOKUP(A49,'Периметр АЭПК_2_кв_ 2017'!D:D,1,0)","v":6090010000}]
[{"$f":"[7]Список_компаний!D52","v":2010230902},{"$f":"[7]Список_компаний!A52","v":"АЭМ-лизинг"},{"$f":"[7]Список_компаний!H52","v":"Да"},{"$f":"VLOOKUP(A50,'Периметр АЭПК_2_кв_ 2017'!D:D,1,0)","v":2010230902}]
[{"$f":"[7]Список_компаний!D53","v":2010360000},{"$f":"[7]Список_компаний!A53","v":"АЭП"},{"$f":"[7]Список_компаний!H53","v":0}]
[{"$f":"[7]Список_компаний!D54","v":2010000000},{"$f":"[7]Список_компаний!A54","v":"АЭПК"},{"$f":"[7]Список_компаний!H54","v":"Да"},{"$f":"VLOOKUP(A52,'Периметр АЭПК_2_кв_ 2017'!D:D,1,0)","v":2010000000}]
[{"$f":"[7]Список_компаний!D55","v":2010370000},{"$f":"[7]Список_компаний!A55","v":"АЭХК"},{"$f":"[7]Список_компаний!H55","v":"Да"},{"$f":"VLOOKUP(A53,'Периметр АЭПК_2_кв_ 2017'!D:D,1,0)","v":2010370000}]
[{"$f":"[7]Список_компаний!D56","v":1010000000},{"$f":"[7]Список_компаний!A56","v":"Базальт"},{"$f":"[7]Список_компаний!H56","v":0}]
[{"$f":"[7]Список_компаний!D57","v":2010592100},{"$f":"[7]Список_компаний!A57","v":"Балтийская АЭС"},{"$f":"[7]Список_компаний!H57","v":"Да"},{"$f":"VLOOKUP(A55,'Периметр АЭПК_2_кв_ 2017'!D:D,1,0)","v":2010592100}]
[{"$f":"[7]Список_компаний!D58","v":2010380000},{"$f":"[7]Список_компаний!A58","v":"ВО Изотоп"},{"$f":"[7]Список_компаний!H58","v":0}]
[{"$f":"[7]Список_компаний!D59","v":2010050000},{"$f":"[7]Список_компаний!A59","v":"Вента"},{"$f":"[7]Список_компаний!H59","v":"Да"},{"$f":"VLOOKUP(A57,'Периметр АЭПК_2_кв_ 2017'!D:D,1,0)","v":2010050000}]
[{"$f":"[7]Список_компаний!D60","v":2010230956},{"$f":"[7]Список_компаний!A60","v":"ВетроОГК"},{"$f":"[7]Список_компаний!H60","v":"Да"},{"$f":"VLOOKUP(A58,'Периметр АЭПК_2_кв_ 2017'!D:D,1,0)","v":2010230956}]
[{"$f":"[7]Список_компаний!D61","v":1020000000},{"$f":"[7]Список_компаний!A61","v":"ВНИИА"},{"$f":"[7]Список_компаний!H61","v":0}]
[{"$f":"[7]Список_компаний!D62","v":2010591800},{"$f":"[7]Список_компаний!A62","v":"ВНИИАЭС"},{"$f":"[7]Список_компаний!H62","v":"Да"},{"$f":"VLOOKUP(A60,'Периметр АЭПК_2_кв_ 2017'!D:D,1,0)","v":2010591800}]
[{"$f":"[7]Список_компаний!D63","v":2010390000},{"$f":"[7]Список_компаний!A63","v":"ВНИИАМ (АЭПК)"},{"$f":"[7]Список_компаний!H63","v":"Да"},{"$f":"VLOOKUP(A61,'Периметр АЭПК_2_кв_ 2017'!D:D,1,0)","v":2010390000}]
[{"$f":"[7]Список_компаний!D64","v":2010400000},{"$f":"[7]Список_компаний!A64","v":"ВНИИНМ"},{"$f":"[7]Список_компаний!H64","v":"Да"},{"$f":"VLOOKUP(A62,'Периметр АЭПК_2_кв_ 2017'!D:D,1,0)","v":2010400000}]
[{"$f":"[7]Список_компаний!D65","v":1110000000},{"$f":"[7]Список_компаний!A65","v":"ВНИИТФ"},{"$f":"[7]Список_компаний!H65","v":0}]
[{"$f":"[7]Список_компаний!D66","v":2010420000},{"$f":"[7]Список_компаний!A66","v":"ВНИИХТ"},{"$f":"[7]Список_компаний!H66","v":"Да"},{"$f":"VLOOKUP(A64,'Периметр АЭПК_2_кв_ 2017'!D:D,1,0)","v":2010420000}]
[{"$f":"[7]Список_компаний!D67","v":1150000000},{"$f":"[7]Список_компаний!A67","v":"ВНИИЭФ"},{"$f":"[7]Список_компаний!H67","v":0}]
[{"$f":"[7]Список_компаний!D68","v":2010430000},{"$f":"[7]Список_компаний!A68","v":"ВНИПИПромтехнологии"},{"$f":"[7]Список_компаний!H68","v":"Да"},{"$f":"VLOOKUP(A66,'Периметр АЭПК_2_кв_ 2017'!D:D,1,0)","v":2010430000}]
[{"$f":"[7]Список_компаний!D69","v":1170000000},{"$f":"[7]Список_компаний!A69","v":"ВЭИ"},{"$f":"[7]Список_компаний!H69","v":0}]
[{"$f":"[7]Список_компаний!D70","v":2010710000},{"$f":"[7]Список_компаний!A70","v":"Гидропресс"},{"$f":"[7]Список_компаний!H70","v":"Да"},{"$f":"VLOOKUP(A68,'Периметр АЭПК_2_кв_ 2017'!D:D,1,0)","v":2010710000}]
[{"$f":"[7]Список_компаний!D71","v":2010470000},{"$f":"[7]Список_компаний!A71","v":"Гиредмет"},{"$f":"[7]Список_компаний!H71","v":"Да"},{"$f":"VLOOKUP(A69,'Периметр АЭПК_2_кв_ 2017'!D:D,1,0)","v":2010470000}]
[{"$f":"[7]Список_компаний!D72","v":"0000000002"},{"$f":"[7]Список_компаний!A72","v":"Госкорпорация \"Росатом\""},{"$f":"[7]Список_компаний!H72","v":0}]
[{"$f":"[7]Список_компаний!D73","v":2010900000},{"$f":"[7]Список_компаний!A73","v":"Гринатом"},{"$f":"[7]Список_компаний!H73","v":"Да"},{"$f":"VLOOKUP(A71,'Периметр АЭПК_2_кв_ 2017'!D:D,1,0)","v":2010900000}]
[{"$f":"[7]Список_компаний!D74","v":2010500000},{"$f":"[7]Список_компаний!A74","v":"ГСПИ"},{"$f":"[7]Список_компаний!H74","v":"Да"},{"$f":"VLOOKUP(A72,'Периметр АЭПК_2_кв_ 2017'!D:D,1,0)","v":2010500000}]
[{"$f":"[7]Список_компаний!D75","v":3020000000},{"$f":"[7]Список_компаний!A75","v":"ГХК"},{"$f":"[7]Список_компаний!H75","v":0}]
[{"$f":"[7]Список_компаний!D76","v":2010230800},{"$f":"[7]Список_компаний!A76","v":"Далур"},{"$f":"[7]Список_компаний!H76","v":"Да"},{"$f":"VLOOKUP(A74,'Периметр АЭПК_2_кв_ 2017'!D:D,1,0)","v":2010230800}]
[{"$f":"[7]Список_компаний!D77","v":2010510000},{"$f":"[7]Список_компаний!A77","v":"Дедал"},{"$f":"[7]Список_компаний!H77","v":"Да"},{"$f":"VLOOKUP(A75,'Периметр АЭПК_2_кв_ 2017'!D:D,1,0)","v":2010510000}]
[{"$f":"[7]Список_компаний!D78","v":2010890000},{"$f":"[7]Список_компаний!A78","v":"ДЕЗ"},{"$f":"[7]Список_компаний!H78","v":"Да"},{"$f":"VLOOKUP(A76,'Периметр АЭПК_2_кв_ 2017'!D:D,1,0)","v":2010890000}]
[{"$f":"[7]Список_компаний!D79","v":2010020602},{"$f":"[7]Список_компаний!A79","v":"АРМЗ-Сервис"},{"$f":"[7]Список_компаний!H79","v":"Да"},{"$f":"VLOOKUP(A77,'Периметр АЭПК_2_кв_ 2017'!D:D,1,0)","v":2010020602}]
[{"$f":"[7]Список_компаний!D80","v":2010450000},{"$f":"[7]Список_компаний!A80","v":"ЗАЭС"},{"$f":"[7]Список_компаний!H80","v":"Да"},{"$f":"VLOOKUP(A78,'Периметр АЭПК_2_кв_ 2017'!D:D,1,0)","v":2010450000}]
[{"$f":"[7]Список_компаний!D81","v":2010230917},{"$f":"[7]Список_компаний!A81","v":"ЗИОМАР"},{"$f":"[7]Список_компаний!H81","v":"Да"},{"$f":"VLOOKUP(A79,'Периметр АЭПК_2_кв_ 2017'!D:D,1,0)","v":2010230917}]
[{"$f":"[7]Список_компаний!D82","v":2010230918},{"$f":"[7]Список_компаний!A82","v":"ЗиО-Подольск"},{"$f":"[7]Список_компаний!H82","v":"Да"},{"$f":"VLOOKUP(A80,'Периметр АЭПК_2_кв_ 2017'!D:D,1,0)","v":2010230918}]
[{"$f":"[7]Список_компаний!D83","v":2010241600},{"$f":"[7]Список_компаний!A83","v":"ЗУКМ"},{"$f":"[7]Список_компаний!H83","v":"Да"},{"$f":"VLOOKUP(A81,'Периметр АЭПК_2_кв_ 2017'!D:D,1,0)","v":2010241600}]
[{"$f":"[7]Список_компаний!D84","v":2010540000},{"$f":"[7]Список_компаний!A84","v":"ИРМ"},{"$f":"[7]Список_компаний!H84","v":"Да"},{"$f":"VLOOKUP(A82,'Периметр АЭПК_2_кв_ 2017'!D:D,1,0)","v":2010540000}]
[{"$f":"[7]Список_компаний!D85","v":2010242300},{"$f":"[7]Список_компаний!A85","v":"ИЦ РГЦ"},{"$f":"[7]Список_компаний!H85","v":"Да"},{"$f":"VLOOKUP(A83,'Периметр АЭПК_2_кв_ 2017'!D:D,1,0)","v":2010242300}]
[{"$f":"[7]Список_компаний!D86","v":2010230001},{"$f":"[7]Список_компаний!A86","v":"Искра"},{"$f":"[7]Список_компаний!H86","v":"Да"},{"$f":"VLOOKUP(A84,'Периметр АЭПК_2_кв_ 2017'!D:D,1,0)","v":2010230001}]
[{"$f":"[7]Список_компаний!D87","v":2010551000},{"$f":"[7]Список_компаний!A87","v":"ЖТЭЦ"},{"$f":"[7]Список_компаний!H87","v":"Да"},{"$f":"VLOOKUP(A85,'Периметр АЭПК_2_кв_ 2017'!D:D,1,0)","v":2010551000}]
[{"$f":"[7]Список_компаний!D88","v":2010240600},{"$f":"[7]Список_компаний!A88","v":"КМЗ"},{"$f":"[7]Список_компаний!H88","v":"Да"},{"$f":"VLOOKUP(A86,'Периметр АЭПК_2_кв_ 2017'!D:D,1,0)","v":2010240600}]
[{"$f":"[7]Список_компаний!D89","v":2010600000},{"$f":"[7]Список_компаний!A89","v":"Красная Звезда"},{"$f":"[7]Список_компаний!H89","v":"Да"},{"$f":"VLOOKUP(A87,'Периметр АЭПК_2_кв_ 2017'!D:D,1,0)","v":2010600000}]
[{"$f":"[7]Список_компаний!D90","v":2010241100},{"$f":"[7]Список_компаний!A90","v":"Краун"},{"$f":"[7]Список_компаний!H90","v":"Да"},{"$f":"VLOOKUP(A88,'Периметр АЭПК_2_кв_ 2017'!D:D,1,0)","v":2010241100}]
[{"$f":"[7]Список_компаний!D91","v":2010590317},{"$f":"[7]Список_компаний!A91","v":"Консист-ОС"},{"$f":"[7]Список_компаний!H91","v":"Да"},{"$f":"VLOOKUP(A89,'Периметр АЭПК_2_кв_ 2017'!D:D,1,0)","v":2010590317}]
[{"$f":"[7]Список_компаний!D92","v":2010231300},{"$f":"[7]Список_компаний!A92","v":"КЦ"},{"$f":"[7]Список_компаний!H92","v":"Да"},{"$f":"VLOOKUP(A90,'Периметр АЭПК_2_кв_ 2017'!D:D,1,0)","v":2010231300}]
[{"$f":"[7]Список_компаний!D93","v":2010242601},{"$f":"[7]Список_компаний!A93","v":"Литейный завод \"ПетрозаводскМаш\""},{"$f":"[7]Список_компаний!H93","v":"Да"},{"$f":"VLOOKUP(A91,'Периметр АЭПК_2_кв_ 2017'!D:D,1,0)","v":2010242601}]
[{"$f":"[7]Список_компаний!D94","v":1070000000},{"$f":"[7]Список_компаний!A94","v":"Маяк"},{"$f":"[7]Список_компаний!H94","v":0}]
[{"$f":"[7]Список_компаний!D95","v":2010100000},{"$f":"[7]Список_компаний!A95","v":"МЗП"},{"$f":"[7]Список_компаний!H95","v":"Да"},{"$f":"VLOOKUP(A93,'Периметр АЭПК_2_кв_ 2017'!D:D,1,0)","v":2010100000}]
[{"$f":"[7]Список_компаний!D96","v":2010740000},{"$f":"[7]Список_компаний!A96","v":"Молния"},{"$f":"[7]Список_компаний!H96","v":"Да"},{"$f":"VLOOKUP(A94,'Периметр АЭПК_2_кв_ 2017'!D:D,1,0)","v":2010740000}]
[{"$f":"[7]Список_компаний!D97","v":2010230115},{"$f":"[7]Список_компаний!A97","v":"МСЗ-М"},{"$f":"[7]Список_компаний!H97","v":"Да"},{"$f":"VLOOKUP(A95,'Периметр АЭПК_2_кв_ 2017'!D:D,1,0)","v":2010230115}]
[{"$f":"[7]Список_компаний!D98","v":2010230100},{"$f":"[7]Список_компаний!A98","v":"МСЗ"},{"$f":"[7]Список_компаний!H98","v":"Да"},{"$f":"VLOOKUP(A96,'Периметр АЭПК_2_кв_ 2017'!D:D,1,0)","v":2010230100}]
[{"$f":"[7]Список_компаний!D99","v":4010000100},{"$f":"[7]Список_компаний!A99","v":"Наука и инновации"},{"$f":"[7]Список_компаний!H99","v":"Да"},{"$f":"VLOOKUP(A97,'Периметр АЭПК_2_кв_ 2017'!D:D,1,0)","v":4010000100}]
[{"$f":"[7]Список_компаний!D100","v":2010630000},{"$f":"[7]Список_компаний!A100","v":"НИИГрафит"},{"$f":"[7]Список_компаний!H100","v":"Да"},{"$f":"VLOOKUP(A98,'Периметр АЭПК_2_кв_ 2017'!D:D,1,0)","v":2010630000}]
[{"$f":"[7]Список_компаний!D101","v":2010620200},{"$f":"[7]Список_компаний!A101","v":"НИАЭП-Сервис"},{"$f":"[7]Список_компаний!H101","v":0}]
[{"$f":"[7]Список_компаний!D102","v":2010970000},{"$f":"[7]Список_компаний!A102","v":"НИИАР-ГЕНЕРАЦИЯ"},{"$f":"[7]Список_компаний!H102","v":"Да"},{"$f":"VLOOKUP(A100,'Периметр АЭПК_2_кв_ 2017'!D:D,1,0)","v":2010970000}]
[{"$f":"[7]Список_компаний!D103","v":2010230207},{"$f":"[7]Список_компаний!A103","v":"НЗХК-Инструмент"},{"$f":"[7]Список_компаний!H103","v":"Да"},{"$f":"VLOOKUP(A101,'Периметр АЭПК_2_кв_ 2017'!D:D,1,0)","v":2010230207}]
[{"$f":"[7]Список_компаний!D104","v":2010230210},{"$f":"[7]Список_компаний!A104","v":"НЗХК-Энергия"},{"$f":"[7]Список_компаний!H104","v":"Да"},{"$f":"VLOOKUP(A102,'Периметр АЭПК_2_кв_ 2017'!D:D,1,0)","v":2010230210}]
[{"$f":"[7]Список_компаний!D105","v":2010241900},{"$f":"[7]Список_компаний!A105","v":"ННКЦ"},{"$f":"[7]Список_компаний!H105","v":"Да"},{"$f":"VLOOKUP(A103,'Периметр АЭПК_2_кв_ 2017'!D:D,1,0)","v":2010241900}]
[{"$f":"[7]Список_компаний!D106","v":2010230200},{"$f":"[7]Список_компаний!A106","v":"НЗХК"},{"$f":"[7]Список_компаний!H106","v":"Да"},{"$f":"VLOOKUP(A104,'Периметр АЭПК_2_кв_ 2017'!D:D,1,0)","v":2010230200}]
[{"$f":"[7]Список_компаний!D107","v":2010620000},{"$f":"[7]Список_компаний!A107","v":"ИК АСЭ"},{"$f":"[7]Список_компаний!H107","v":0}]
[{"$f":"[7]Список_компаний!D108","v":2010480000},{"$f":"[7]Список_компаний!A108","v":"НИИАР"},{"$f":"[7]Список_компаний!H108","v":"Да"},{"$f":"VLOOKUP(A106,'Периметр АЭПК_2_кв_ 2017'!D:D,1,0)","v":2010480000}]
[{"$f":"[7]Список_компаний!D109","v":1130000000},{"$f":"[7]Список_компаний!A109","v":"НИИИС"},{"$f":"[7]Список_компаний!H109","v":0}]
[{"$f":"[7]Список_компаний!D110","v":4070000000},{"$f":"[7]Список_компаний!A110","v":"НИИП"},{"$f":"[7]Список_компаний!H110","v":0}]
[{"$f":"[7]Список_компаний!D111","v":2010410000},{"$f":"[7]Список_компаний!A111","v":"НИИТФА"},{"$f":"[7]Список_компаний!H111","v":"Да"},{"$f":"VLOOKUP(A109,'Периметр АЭПК_2_кв_ 2017'!D:D,1,0)","v":2010410000}]
[{"$f":"[7]Список_компаний!D112","v":4080000000},{"$f":"[7]Список_компаний!A112","v":"НИИЭФА"},{"$f":"[7]Список_компаний!H112","v":0}]
[{"$f":"[7]Список_компаний!D113","v":2010550000},{"$f":"[7]Список_компаний!A113","v":"НИКИМТ-Атомстрой"},{"$f":"[7]Список_компаний!H113","v":"Да"},{"$f":"VLOOKUP(A111,'Периметр АЭПК_2_кв_ 2017'!D:D,1,0)","v":2010550000}]
[{"$f":"[7]Список_компаний!D114","v":2010650000},{"$f":"[7]Список_компаний!A114","v":"НИКИЭТ"},{"$f":"[7]Список_компаний!H114","v":"Да"},{"$f":"VLOOKUP(A112,'Периметр АЭПК_2_кв_ 2017'!D:D,1,0)","v":2010650000}]
[{"$f":"[7]Список_компаний!D115","v":4090000000},{"$f":"[7]Список_компаний!A115","v":"НИТИ"},{"$f":"[7]Список_компаний!H115","v":0}]
[{"$f":"[7]Список_компаний!D116","v":4140000000},{"$f":"[7]Список_компаний!A116","v":"НИФХИ"},{"$f":"[7]Список_компаний!H116","v":0}]
[{"$f":"[7]Список_компаний!D117","v":2010411100},{"$f":"[7]Список_компаний!A117","v":"Нижние котлы - ДУ"},{"$f":"[7]Список_компаний!H117","v":0}]
[{"$f":"[7]Список_компаний!D118","v":2010242200},{"$f":"[7]Список_компаний!A118","v":"НПК ХПИ"},{"$f":"[7]Список_компаний!H118","v":"Да"},{"$f":"VLOOKUP(A116,'Периметр АЭПК_2_кв_ 2017'!D:D,1,0)","v":2010242200}]
[{"$f":"[7]Список_компаний!D119","v":4060000000},{"$f":"[7]Список_компаний!A119","v":"НПО Луч"},{"$f":"[7]Список_компаний!H119","v":0}]
[{"$f":"[7]Список_компаний!D120","v":4010000000},{"$f":"[7]Список_компаний!A120","v":"НПО РИ"},{"$f":"[7]Список_компаний!H120","v":0}]
[{"$f":"[7]Список_компаний!D121","v":4110000000},{"$f":"[7]Список_компаний!A121","v":"НО РАО"},{"$f":"[7]Список_компаний!H121","v":0}]
[{"$f":"[7]Список_компаний!D122","v":2010690000},{"$f":"[7]Список_компаний!A122","v":"НТЦ ЯФИ"},{"$f":"[7]Список_компаний!H122","v":"Да"},{"$f":"VLOOKUP(A120,'Периметр АЭПК_2_кв_ 2017'!D:D,1,0)","v":2010690000}]
[{"$f":"[7]Список_компаний!D123","v":2010150000},{"$f":"[7]Список_компаний!A123","v":"Обесп РФЯЦ-ВНИИЭФ"},{"$f":"[7]Список_компаний!H123","v":"Да"},{"$f":"VLOOKUP(A121,'Периметр АЭПК_2_кв_ 2017'!D:D,1,0)","v":2010150000}]
[{"$f":"[7]Список_компаний!D124","v":2010920000},{"$f":"[7]Список_компаний!A124","v":"ОТЭК"},{"$f":"[7]Список_компаний!H124","v":"Да"},{"$f":"VLOOKUP(A122,'Периметр АЭПК_2_кв_ 2017'!D:D,1,0)","v":2010920000}]
[{"$f":"[7]Список_компаний!D125","v":2010840400},{"$f":"[7]Список_компаний!A125","v":"ОКБ-НН"},{"$f":"[7]Список_компаний!H125","v":0}]
[{"$f":"[7]Список_компаний!D126","v":2010700000},{"$f":"[7]Список_компаний!A126","v":"ОЗТМиТС"},{"$f":"[7]Список_компаний!H126","v":"Да"},{"$f":"VLOOKUP(A124,'Периметр АЭПК_2_кв_ 2017'!D:D,1,0)","v":2010700000}]
[{"$f":"[7]Список_компаний!D127","v":2010910000},{"$f":"[7]Список_компаний!A127","v":"ОИК"},{"$f":"[7]Список_компаний!H127","v":"Да"},{"$f":"VLOOKUP(A125,'Периметр АЭПК_2_кв_ 2017'!D:D,1,0)","v":2010910000}]
[{"$f":"[7]Список_компаний!D128","v":2010860000},{"$f":"[7]Список_компаний!A128","v":"ОК РСК"},{"$f":"[7]Список_компаний!H128","v":"Да"},{"$f":"VLOOKUP(A126,'Периметр АЭПК_2_кв_ 2017'!D:D,1,0)","v":2010860000}]
[{"$f":"[7]Список_компаний!D129","v":2010720000},{"$f":"[7]Список_компаний!A129","v":"ОКБМ"},{"$f":"[7]Список_компаний!H129","v":"Да"},{"$f":"VLOOKUP(A127,'Периметр АЭПК_2_кв_ 2017'!D:D,1,0)","v":2010720000}]
[{"$f":"[7]Список_компаний!D130","v":2010780500},{"$f":"[7]Список_компаний!A130","v":"ОДЦ УГР"},{"$f":"[7]Список_компаний!H130","v":"Да"},{"$f":"VLOOKUP(A128,'Периметр АЭПК_2_кв_ 2017'!D:D,1,0)","v":2010780500}]
[{"$f":"[7]Список_компаний!D131","v":1180000000},{"$f":"[7]Список_компаний!A131","v":"ОзВЭИ"},{"$f":"[7]Список_компаний!H131","v":0}]
[{"$f":"[7]Список_компаний!D132","v":2010021800},{"$f":"[7]Список_компаний!A132","v":"Первая горнорудная компания"},{"$f":"[7]Список_компаний!H132","v":"сп"}]
[{"$f":"[7]Список_компаний!D133","v":1080000000},{"$f":"[7]Список_компаний!A133","v":"ПО Север"},{"$f":"[7]Список_компаний!H133","v":0}]
[{"$f":"[7]Список_компаний!D134","v":2010230400},{"$f":"[7]Список_компаний!A134","v":"ППГХО"},{"$f":"[7]Список_компаний!H134","v":"Да"},{"$f":"VLOOKUP(A132,'Периметр АЭПК_2_кв_ 2017'!D:D,1,0)","v":2010230400}]
[{"$f":"[7]Список_компаний!D135","v":1100000000},{"$f":"[7]Список_компаний!A135","v":"ПСЗ"},{"$f":"[7]Список_компаний!H135","v":0}]
[{"$f":"[7]Список_компаний!D136","v":2010592000},{"$f":"[7]Список_компаний!A136","v":"ПСР"},{"$f":"[7]Список_компаний!H136","v":"Да"},{"$f":"VLOOKUP(A134,'Периметр АЭПК_2_кв_ 2017'!D:D,1,0)","v":2010592000}]
[{"$f":"[7]Список_компаний!D137","v":2010231200},{"$f":"[7]Список_компаний!A137","v":"Промышленные инновации"},{"$f":"[7]Список_компаний!H137","v":"Да"},{"$f":"VLOOKUP(A135,'Периметр АЭПК_2_кв_ 2017'!D:D,1,0)","v":2010231200}]
[{"$f":"[7]Список_компаний!D138","v":2010991100},{"$f":"[7]Список_компаний!A138","v":"Простое товарищество Русреактор-ВНИИЭФ"},{"$f":"[7]Список_компаний!H138","v":0}]
[{"$f":"[7]Список_компаний!D139","v":3110000000},{"$f":"[7]Список_компаний!A139","v":"РАДОН"},{"$f":"[7]Список_компаний!H139","v":0}]
[{"$f":"[7]Список_компаний!D140","v":2010990000},{"$f":"[7]Список_компаний!A140","v":"РАСУ"},{"$f":"[7]Список_компаний!H140","v":"Да"},{"$f":"VLOOKUP(A138,'Периметр АЭПК_2_кв_ 2017'!D:D,1,0)","v":2010990000}]
[{"$f":"[7]Список_компаний!D141","v":2010230912},{"$f":"[7]Список_компаний!A141","v":"РАОС"},{"$f":"[7]Список_компаний!H141","v":"Да"},{"$f":"VLOOKUP(A139,'Периметр АЭПК_2_кв_ 2017'!D:D,1,0)","v":2010230912}]
[{"$f":"[7]Список_компаний!D142","v":2010020600},{"$f":"[7]Список_компаний!A142","v":"РБМ"},{"$f":"[7]Список_компаний!H142","v":"Да"},{"$f":"VLOOKUP(A140,'Периметр АЭПК_2_кв_ 2017'!D:D,1,0)","v":2010020600}]
[{"$f":"[7]Список_компаний!D143","v":2010590000},{"$f":"[7]Список_компаний!A143","v":"Росэнергоатом"},{"$f":"[7]Список_компаний!H143","v":"Да"},{"$f":"VLOOKUP(A141,'Периметр АЭПК_2_кв_ 2017'!D:D,1,0)","v":2010590000}]
[{"$f":"[7]Список_компаний!D144","v":3260000000},{"$f":"[7]Список_компаний!A144","v":"РосРАО"},{"$f":"[7]Список_компаний!H144","v":0}]
[{"$f":"[7]Список_компаний!D145","v":2011000000},{"$f":"[7]Список_компаний!A145","v":"РХК"},{"$f":"[7]Список_компаний!H145","v":"Да"},{"$f":"VLOOKUP(A143,'Периметр АЭПК_2_кв_ 2017'!D:D,1,0)","v":2011000000}]
[{"$f":"[7]Список_компаний!D146","v":2010930000},{"$f":"[7]Список_компаний!A146","v":"REIN"},{"$f":"[7]Список_компаний!H146","v":"Да"},{"$f":"VLOOKUP(A144,'Периметр АЭПК_2_кв_ 2017'!D:D,1,0)","v":2010930000}]
[{"$f":"[7]Список_компаний!D147","v":2010592200},{"$f":"[7]Список_компаний!A147","v":"Русатом Сервис"},{"$f":"[7]Список_компаний!H147","v":"Да"},{"$f":"VLOOKUP(A145,'Периметр АЭПК_2_кв_ 2017'!D:D,1,0)","v":2010592200}]
[{"$f":"[7]Список_компаний!D148","v":2010991000},{"$f":"[7]Список_компаний!A148","v":"Русреактор"},{"$f":"[7]Список_компаний!H148","v":"Да"},{"$f":"VLOOKUP(A146,'Периметр АЭПК_2_кв_ 2017'!D:D,1,0)","v":2010991000}]
[{"$f":"[7]Список_компаний!D149","v":4180000000},{"$f":"[7]Список_компаний!A149","v":"РСП"},{"$f":"[7]Список_компаний!H149","v":0}]
[{"$f":"[7]Список_компаний!D150","v":2010230911},{"$f":"[7]Список_компаний!A150","v":"РЭМКО"},{"$f":"[7]Список_компаний!H150","v":"Да"},{"$f":"VLOOKUP(A148,'Периметр АЭПК_2_кв_ 2017'!D:D,1,0)","v":2010230911}]
[{"$f":"[7]Список_компаний!D151","v":2010630100},{"$f":"[7]Список_компаний!A151","v":"С-плюс"},{"$f":"[7]Список_компаний!H151","v":0}]
[{"$f":"[7]Список_компаний!D152","v":2010230916},{"$f":"[7]Список_компаний!A152","v":"Сайпрус"},{"$f":"[7]Список_компаний!H152","v":"Да"},{"$f":"VLOOKUP(A150,'Периметр АЭПК_2_кв_ 2017'!D:D,1,0)","v":2010230916}]
[{"$f":"[7]Список_компаний!D153","v":2010200000},{"$f":"[7]Список_компаний!A153","v":"СвердНИИхиммаш"},{"$f":"[7]Список_компаний!H153","v":"Да"},{"$f":"VLOOKUP(A151,'Периметр АЭПК_2_кв_ 2017'!D:D,1,0)","v":2010200000}]
[{"$f":"[7]Список_компаний!D154","v":2010150300},{"$f":"[7]Список_компаний!A154","v":"СГК"},{"$f":"[7]Список_компаний!H154","v":"Да"},{"$f":"VLOOKUP(A152,'Периметр АЭПК_2_кв_ 2017'!D:D,1,0)","v":2010150300}]
[{"$f":"[7]Список_компаний!D155","v":3080000000},{"$f":"[7]Список_компаний!A155","v":"СКЦ"},{"$f":"[7]Список_компаний!H155","v":0}]
[{"$f":"[7]Список_компаний!D156","v":2010992000},{"$f":"[7]Список_компаний!A156","v":"СМБ"},{"$f":"[7]Список_компаний!H156","v":"Да"},{"$f":"VLOOKUP(A154,'Периметр АЭПК_2_кв_ 2017'!D:D,1,0)","v":2010992000}]
[{"$f":"[7]Список_компаний!D157","v":2010660000},{"$f":"[7]Список_компаний!A157","v":"СНИИП"},{"$f":"[7]Список_компаний!H157","v":"Да"},{"$f":"VLOOKUP(A155,'Периметр АЭПК_2_кв_ 2017'!D:D,1,0)","v":2010660000}]
[{"$f":"[7]Список_компаний!D158","v":2010750000},{"$f":"[7]Список_компаний!A158","v":"СПб ИЗОТОП"},{"$f":"[7]Список_компаний!H158","v":"Да"},{"$f":"VLOOKUP(A156,'Периметр АЭПК_2_кв_ 2017'!D:D,1,0)","v":2010750000}]
[{"$f":"[7]Список_компаний!D159","v":2010150200},{"$f":"[7]Список_компаний!A159","v":"СТСК"},{"$f":"[7]Список_компаний!H159","v":"Да"},{"$f":"VLOOKUP(A157,'Периметр АЭПК_2_кв_ 2017'!D:D,1,0)","v":2010150200}]
[{"$f":"[7]Список_компаний!D160","v":1090000000},{"$f":"[7]Список_компаний!A160","v":"Старт"},{"$f":"[7]Список_компаний!H160","v":0}]
[{"$f":"[7]Список_компаний!D161","v":2010550001},{"$f":"[7]Список_компаний!A161","v":"СЕТЕС"},{"$f":"[7]Список_компаний!H161","v":"Да"},{"$f":"VLOOKUP(A159,'Периметр АЭПК_2_кв_ 2017'!D:D,1,0)","v":2010550001}]
[{"$f":"[7]Список_компаний!D162","v":2010780000},{"$f":"[7]Список_компаний!A162","v":"СХК"},{"$f":"[7]Список_компаний!H162","v":"Да"},{"$f":"VLOOKUP(A160,'Периметр АЭПК_2_кв_ 2017'!D:D,1,0)","v":2010780000}]
[{"$f":"[7]Список_компаний!D163","v":2010230306},{"$f":"[7]Список_компаний!A163","v":"Тепловодоканал"},{"$f":"[7]Список_компаний!H163","v":"Да"},{"$f":"VLOOKUP(A161,'Периметр АЭПК_2_кв_ 2017'!D:D,1,0)","v":2010230306}]
[{"$f":"[7]Список_компаний!D164","v":2010440300},{"$f":"[7]Список_компаний!A164","v":"Точмаш-авто"},{"$f":"[7]Список_компаний!H164","v":"Да"},{"$f":"VLOOKUP(A162,'Периметр АЭПК_2_кв_ 2017'!D:D,1,0)","v":2010440300}]
[{"$f":"[7]Список_компаний!D165","v":2010230000},{"$f":"[7]Список_компаний!A165","v":"ТВЭЛ"},{"$f":"[7]Список_компаний!H165","v":"Да"},{"$f":"VLOOKUP(A163,'Периметр АЭПК_2_кв_ 2017'!D:D,1,0)","v":2010230000}]
[{"$f":"[7]Список_компаний!D166","v":2010231100},{"$f":"[7]Список_компаний!A166","v":"ТВЭЛ-Строй"},{"$f":"[7]Список_компаний!H166","v":"Да"},{"$f":"VLOOKUP(A164,'Периметр АЭПК_2_кв_ 2017'!D:D,1,0)","v":2010231100}]
[{"$f":"[7]Список_компаний!D167","v":2010240100},{"$f":"[7]Список_компаний!A167","v":"ТЕНЕКС-Сервис"},{"$f":"[7]Список_компаний!H167","v":"Да"},{"$f":"VLOOKUP(A165,'Периметр АЭПК_2_кв_ 2017'!D:D,1,0)","v":2010240100}]
[{"$f":"[7]Список_компаний!D168","v":4150000000},{"$f":"[7]Список_компаний!A168","v":"Технопарк-Технология"},{"$f":"[7]Список_компаний!H168","v":0}]
[{"$f":"[7]Список_компаний!D169","v":2010240000},{"$f":"[7]Список_компаний!A169","v":"Техснабэкспорт"},{"$f":"[7]Список_компаний!H169","v":"Да"},{"$f":"VLOOKUP(A167,'Периметр АЭПК_2_кв_ 2017'!D:D,1,0)","v":2010240000}]
[{"$f":"[7]Список_компаний!D170","v":2010440000},{"$f":"[7]Список_компаний!A170","v":"Точмаш"},{"$f":"[7]Список_компаний!H170","v":"Да"},{"$f":"VLOOKUP(A168,'Периметр АЭПК_2_кв_ 2017'!D:D,1,0)","v":2010440000}]
[{"$f":"[7]Список_компаний!D171","v":4030000000},{"$f":"[7]Список_компаний!A171","v":"ТРИНИТИ"},{"$f":"[7]Список_компаний!H171","v":0}]
[{"$f":"[7]Список_компаний!D172","v":2010620400},{"$f":"[7]Список_компаний!A172","v":"Трест РСЭМ"},{"$f":"[7]Список_компаний!H172","v":0}]
[{"$f":"[7]Список_компаний!D173","v":2010240200},{"$f":"[7]Список_компаний!A173","v":"ТЦ ТЕНЕКС"},{"$f":"[7]Список_компаний!H173","v":"Да"},{"$f":"VLOOKUP(A171,'Периметр АЭПК_2_кв_ 2017'!D:D,1,0)","v":2010240200}]
[{"$f":"[7]Список_компаний!D174","v":2010242000},{"$f":"[7]Список_компаний!A174","v":"Уралприбор"},{"$f":"[7]Список_компаний!H174","v":"Да"},{"$f":"VLOOKUP(A172,'Периметр АЭПК_2_кв_ 2017'!D:D,1,0)","v":2010242000}]
[{"$f":"[7]Список_компаний!D175","v":6010000000},{"$f":"[7]Список_компаний!A175","v":"УАЗ"},{"$f":"[7]Список_компаний!H175","v":0}]
[{"$f":"[7]Список_компаний!D176","v":2010020100},{"$f":"[7]Список_компаний!A176","v":"УУГ"},{"$f":"[7]Список_компаний!H176","v":"Да"},{"$f":"VLOOKUP(A174,'Периметр АЭПК_2_кв_ 2017'!D:D,1,0)","v":2010020100}]
[{"$f":"[7]Список_компаний!D177","v":2010411000},{"$f":"[7]Список_компаний!A177","v":"УК Нижние котлы"},{"$f":"[7]Список_компаний!H177","v":"Да"},{"$f":"VLOOKUP(A175,'Периметр АЭПК_2_кв_ 2017'!D:D,1,0)","v":2010411000}]
[{"$f":"[7]Список_компаний!D178","v":2010020200},{"$f":"[7]Список_компаний!A178","v":"УДК Горное"},{"$f":"[7]Список_компаний!H178","v":"Да"},{"$f":"VLOOKUP(A176,'Периметр АЭПК_2_кв_ 2017'!D:D,1,0)","v":2010020200}]
[{"$f":"[7]Список_компаний!D179","v":2010241800},{"$f":"[7]Список_компаний!A179","v":"НПО Центротех"},{"$f":"[7]Список_компаний!H179","v":"Да"},{"$f":"VLOOKUP(A177,'Периметр АЭПК_2_кв_ 2017'!D:D,1,0)","v":2010241800}]
[{"$f":"[7]Список_компаний!D180","v":1120000000},{"$f":"[7]Список_компаний!A180","v":"УЭМЗ"},{"$f":"[7]Список_компаний!H180","v":0}]
[{"$f":"[7]Список_компаний!D181","v":2010800000},{"$f":"[7]Список_компаний!A181","v":"УЭХК"},{"$f":"[7]Список_компаний!H181","v":"Да"},{"$f":"VLOOKUP(A179,'Периметр АЭПК_2_кв_ 2017'!D:D,1,0)","v":2010800000}]
[{"$f":"[7]Список_компаний!D182","v":3090000000},{"$f":"[7]Список_компаний!A182","v":"ФЦЯРБ"},{"$f":"[7]Список_компаний!H182","v":0}]
[{"$f":"[7]Список_компаний!D183","v":4040000000},{"$f":"[7]Список_компаний!A183","v":"ФЭИ"},{"$f":"[7]Список_компаний!H183","v":0}]
[{"$f":"[7]Список_компаний!D184","v":2010230700},{"$f":"[7]Список_компаний!A184","v":"Хиагда"},{"$f":"[7]Список_компаний!H184","v":"Да"},{"$f":"VLOOKUP(A182,'Периметр АЭПК_2_кв_ 2017'!D:D,1,0)","v":2010230700}]
[{"$f":"[7]Список_компаний!D185","v":2010911000},{"$f":"[7]Список_компаний!A185","v":"ЦВТД"},{"$f":"[7]Список_компаний!H185","v":"Да"},{"$f":"VLOOKUP(A183,'Периметр АЭПК_2_кв_ 2017'!D:D,1,0)","v":2010911000}]
[{"$f":"[7]Список_компаний!D186","v":2010591306},{"$f":"[7]Список_компаний!A186","v":"Центр энергоэффективности ИНТЕР РАО ЕЭС"},{"$f":"[7]Список_компаний!H186","v":"сп"}]
[{"$f":"[7]Список_компаний!D187","v":2010870000},{"$f":"[7]Список_компаний!A187","v":"ЦентрАтом"},{"$f":"[7]Список_компаний!H187","v":"Да"},{"$f":"VLOOKUP(A185,'Периметр АЭПК_2_кв_ 2017'!D:D,1,0)","v":2010870000}]
[{"$f":"[7]Список_компаний!D188","v":2010820000},{"$f":"[7]Список_компаний!A188","v":"ЦКБМ"},{"$f":"[7]Список_компаний!H188","v":"Да"},{"$f":"VLOOKUP(A186,'Периметр АЭПК_2_кв_ 2017'!D:D,1,0)","v":2010820000}]
[{"$f":"[7]Список_компаний!D189","v":2010140000},{"$f":"[7]Список_компаний!A189","v":"ЦНИИТМАШ"},{"$f":"[7]Список_компаний!H189","v":"Да"},{"$f":"VLOOKUP(A187,'Периметр АЭПК_2_кв_ 2017'!D:D,1,0)","v":2010140000}]
[{"$f":"[7]Список_компаний!D190","v":2010290000},{"$f":"[7]Список_компаний!A190","v":"ЦОиС ОЛенКур"},{"$f":"[7]Список_компаний!H190","v":"Да"},{"$f":"VLOOKUP(A188,'Периметр АЭПК_2_кв_ 2017'!D:D,1,0)","v":2010290000}]
[{"$f":"[7]Список_компаний!D191","v":2010240900},{"$f":"[7]Список_компаний!A191","v":"ЦОУ"},{"$f":"[7]Список_компаний!H191","v":"сп"}]
[{"$f":"[7]Список_компаний!D192","v":6080000000},{"$f":"[7]Список_компаний!A192","v":"ЦУФС"},{"$f":"[7]Список_компаний!H192","v":0}]
[{"$f":"[7]Список_компаний!D193","v":2010230300},{"$f":"[7]Список_компаний!A193","v":"ЧМЗ"},{"$f":"[7]Список_компаний!H193","v":"Да"},{"$f":"VLOOKUP(A191,'Периметр АЭПК_2_кв_ 2017'!D:D,1,0)","v":2010230300}]
[{"$f":"[7]Список_компаний!D194","v":2010230110},{"$f":"[7]Список_компаний!A194","v":"ЭЛЕМАШ-ТЭК"},{"$f":"[7]Список_компаний!H194","v":"Да"},{"$f":"VLOOKUP(A192,'Периметр АЭПК_2_кв_ 2017'!D:D,1,0)","v":2010230110}]
[{"$f":"[7]Список_компаний!D195","v":2010800800},{"$f":"[7]Список_компаний!A195","v":"Экоальянс"},{"$f":"[7]Список_компаний!H195","v":"Да"},{"$f":"VLOOKUP(A193,'Периметр АЭПК_2_кв_ 2017'!D:D,1,0)","v":2010800800}]
[{"$f":"[7]Список_компаний!D196","v":2010020400},{"$f":"[7]Список_компаний!A196","v":"ЭГМК"},{"$f":"[7]Список_компаний!H196","v":"Да"},{"$f":"VLOOKUP(A194,'Периметр АЭПК_2_кв_ 2017'!D:D,1,0)","v":2010020400}]
[{"$f":"[7]Список_компаний!D197","v":2060000000},{"$f":"[7]Список_компаний!A197","v":"ЭГМК-проект"},{"$f":"[7]Список_компаний!H197","v":" "}]
[{"$f":"[7]Список_компаний!D198","v":1140000000},{"$f":"[7]Список_компаний!A198","v":"Эксп №2"},{"$f":"[7]Список_компаний!H198","v":0}]
[{"$f":"[7]Список_компаний!D199","v":4100000000},{"$f":"[7]Список_компаний!A199","v":"Элерон"},{"$f":"[7]Список_компаний!H199","v":0}]
[{"$f":"[7]Список_компаний!D200","v":2010230943},{"$f":"[7]Список_компаний!A200","v":"Энергомашспецсталь"},{"$f":"[7]Список_компаний!H200","v":"Да"},{"$f":"VLOOKUP(A198,'Периметр АЭПК_2_кв_ 2017'!D:D,1,0)","v":2010230943}]
[{"$f":"[7]Список_компаний!D201","v":2010270000},{"$f":"[7]Список_компаний!A201","v":"Энергоспецмонтаж"},{"$f":"[7]Список_компаний!H201","v":"Да"},{"$f":"VLOOKUP(A199,'Периметр АЭПК_2_кв_ 2017'!D:D,1,0)","v":2010270000}]
[{"$f":"[7]Список_компаний!D202","v":2010830000},{"$f":"[7]Список_компаний!A202","v":"ЭНИЦ"},{"$f":"[7]Список_компаний!H202","v":"Да"},{"$f":"VLOOKUP(A200,'Периметр АЭПК_2_кв_ 2017'!D:D,1,0)","v":2010830000}]
[{"$f":"[7]Список_компаний!D203","v":2010840000},{"$f":"[7]Список_компаний!A203","v":"ЭХЗ"},{"$f":"[7]Список_компаний!H203","v":"Да"},{"$f":"VLOOKUP(A201,'Периметр АЭПК_2_кв_ 2017'!D:D,1,0)","v":2010840000}]
[{"$f":"[7]Список_компаний!D204","v":1050000000},{"$f":"[7]Список_компаний!A204","v":"ЭХП"},{"$f":"[7]Список_компаний!H204","v":0}]
[{"$f":"[7]Список_компаний!D205","v":2010912000},{"$f":"[7]Список_компаний!A205","v":"ЯМТ-Снежинск"},{"$f":"[7]Список_компаний!H205","v":"Да"},{"$f":"VLOOKUP(A203,'Периметр АЭПК_2_кв_ 2017'!D:D,1,0)","v":2010912000}]
[{"$f":"[7]Список_компаний!D206","v":2010021520},{"$f":"[7]Список_компаний!A206","v":"Canada Limited"},{"$f":"[7]Список_компаний!H206","v":0}]
[{"$f":"[7]Список_компаний!D207","v":2010021501},{"$f":"[7]Список_компаний!A207","v":"Cheetah Resources s.a.r.l."},{"$f":"[7]Список_компаний!H207","v":0}]
[{"$f":"[7]Список_компаний!D208","v":2010230914},{"$f":"[7]Список_компаний!A208","v":"Chladici veze Praha, a.s."},{"$f":"[7]Список_компаний!H208","v":0}]
[{"$f":"[7]Список_компаний!D209","v":2010021310},{"$f":"[7]Список_компаний!A209","v":"Headspring Investments (PTY.) Ltd."},{"$f":"[7]Список_компаний!H209","v":0}]
[{"$f":"[7]Список_компаний!D210","v":2010230913},{"$f":"[7]Список_компаний!A210","v":"Liges"},{"$f":"[7]Список_компаний!H210","v":0}]
[{"$f":"[7]Список_компаний!D211","v":2010021702},{"$f":"[7]Список_компаний!A211","v":"Likuyu Resources Limited"},{"$f":"[7]Список_компаний!H211","v":0}]
[{"$f":"[7]Список_компаний!D212","v":2010021620},{"$f":"[7]Список_компаний!A212","v":"Mantra East Africa Limited"},{"$f":"[7]Список_компаний!H212","v":0}]
[{"$f":"[7]Список_компаний!D213","v":2010021670},{"$f":"[7]Список_компаний!A213","v":"Mantra Mozambique"},{"$f":"[7]Список_компаний!H213","v":0}]
[{"$f":"[7]Список_компаний!D214","v":2010021630},{"$f":"[7]Список_компаний!A214","v":"Mantra Tanzania Limited"},{"$f":"[7]Список_компаний!H214","v":0}]
[{"$f":"[7]Список_компаний!D215","v":2010021660},{"$f":"[7]Список_компаний!A215","v":"Mantra Uranium South Africa (Pty) Ltd"},{"$f":"[7]Список_компаний!H215","v":0}]
[{"$f":"[7]Список_компаний!D216","v":2010021703},{"$f":"[7]Список_компаний!A216","v":"Namtumbo Resources Pty Ltd"},{"$f":"[7]Список_компаний!H216","v":0}]
[{"$f":"[7]Список_компаний!D217","v":2010021640},{"$f":"[7]Список_компаний!A217","v":"Nyanza Goldfields Limited"},{"$f":"[7]Список_компаний!H217","v":0}]
[{"$f":"[7]Список_компаний!D218","v":2010021671},{"$f":"[7]Список_компаний!A218","v":"OmegaCorp Minerais Limitada"},{"$f":"[7]Список_компаний!H218","v":0}]
[{"$f":"[7]Список_компаний!D219","v":2010380200},{"$f":"[7]Список_компаний!A219","v":"Raims"},{"$f":"[7]Список_компаний!H219","v":0}]
[{"$f":"[7]Список_компаний!D220","v":1070010000},{"$f":"[7]Список_компаний!A220","v":"Reviss Servis Limited"},{"$f":"[7]Список_компаний!H220","v":0}]
[{"$f":"[7]Список_компаний!D221","v":2010021100},{"$f":"[7]Список_компаний!A221","v":"Runex"},{"$f":"[7]Список_компаний!H221","v":0}]
[{"$f":"[7]Список_компаний!D222","v":2010021650},{"$f":"[7]Список_компаний!A222","v":"Ruvuma Resources Limited"},{"$f":"[7]Список_компаний!H222","v":0}]
[{"$f":"[7]Список_компаний!D223","v":2010840200},{"$f":"[7]Список_компаний!A223","v":"SELMI"},{"$f":"[7]Список_компаний!H223","v":0}]
[{"$f":"[7]Список_компаний!D224","v":2010021505},{"$f":"[7]Список_компаний!A224","v":"SX Resources Inc."},{"$f":"[7]Список_компаний!H224","v":0}]
[{"$f":"[7]Список_компаний!D225","v":2010241400},{"$f":"[7]Список_компаний!A225","v":"TENEX-Japan"},{"$f":"[7]Список_компаний!H225","v":0}]
[{"$f":"[7]Список_компаний!D226","v":2010241300},{"$f":"[7]Список_компаний!A226","v":"TENEX-Korea"},{"$f":"[7]Список_компаний!H226","v":0}]
[{"$f":"[7]Список_компаний!D227","v":2010021701},{"$f":"[7]Список_компаний!A227","v":"Uranium One Exploration Pty Ltd"},{"$f":"[7]Список_компаний!H227","v":0}]
[{"$f":"[7]Список_компаний!D228","v":2010021510},{"$f":"[7]Список_компаний!A228","v":"Uranium One Friesland"},{"$f":"[7]Список_компаний!H228","v":0}]
[{"$f":"[7]Список_компаний!D229","v":2010021503},{"$f":"[7]Список_компаний!A229","v":"Uranium One Investments Inc."},{"$f":"[7]Список_компаний!H229","v":0}]
[{"$f":"[7]Список_компаний!D230","v":2010021661},{"$f":"[7]Список_компаний!A230","v":"Uranium One Technical Services"},{"$f":"[7]Список_компаний!H230","v":0}]
[{"$f":"[7]Список_компаний!D231","v":2010021502},{"$f":"[7]Список_компаний!A231","v":"UrAsia Energy Ltd."},{"$f":"[7]Список_компаний!H231","v":0}]
[{"$f":"[7]Список_компаний!D232","v":2010021300},{"$f":"[7]Список_компаний!A232","v":"VPR"},{"$f":"[7]Список_компаний!H232","v":0}]
[{"$f":"[7]Список_компаний!D233","v":2010230928},{"$f":"[7]Список_компаний!A233","v":"ААЭМ"},{"$f":"[7]Список_компаний!H233","v":0}]
[{"$f":"[7]Список_компаний!D234","v":2010830300},{"$f":"[7]Список_компаний!A234","v":"АвтоДом"},{"$f":"[7]Список_компаний!H234","v":0}]
[{"$f":"[7]Список_компаний!D235","v":2010242640},{"$f":"[7]Список_компаний!A235","v":"Автотранс – А"},{"$f":"[7]Список_компаний!H235","v":0}]
[{"$f":"[7]Список_компаний!D236","v":2010230405},{"$f":"[7]Список_компаний!A236","v":"Автохозяйство Уртуйское"},{"$f":"[7]Список_компаний!H236","v":0}]
[{"$f":"[7]Список_компаний!D237","v":2010590318},{"$f":"[7]Список_компаний!A237","v":"АПМ"},{"$f":"[7]Список_компаний!H237","v":0}]
[{"$f":"[7]Список_компаний!D238","v":2010021400},{"$f":"[7]Список_компаний!A238","v":"АРМЗ Намибия"},{"$f":"[7]Список_компаний!H238","v":0}]
[{"$f":"[7]Список_компаний!D239","v":2010242651},{"$f":"[7]Список_компаний!A239","v":"АТОММАШ-СЕРВИС"},{"$f":"[7]Список_компаний!H239","v":0}]
[{"$f":"[7]Список_компаний!D240","v":2010591305},{"$f":"[7]Список_компаний!A240","v":"АтомТеплоСбыт"},{"$f":"[7]Список_компаний!H240","v":0}]
[{"$f":"[7]Список_компаний!D241","v":2010591307},{"$f":"[7]Список_компаний!A241","v":"АтомТеплоЭлектроСеть"},{"$f":"[7]Список_компаний!H241","v":0}]
[{"$f":"[7]Список_компаний!D242","v":2010590800},{"$f":"[7]Список_компаний!A242","v":"Атомтранс"},{"$f":"[7]Список_компаний!H242","v":0}]
[{"$f":"[7]Список_компаний!D243","v":2010230406},{"$f":"[7]Список_компаний!A243","v":"АТП"},{"$f":"[7]Список_компаний!H243","v":0}]
[{"$f":"[7]Список_компаний!D244","v":2010590301},{"$f":"[7]Список_компаний!A244","v":"Балаковская АЭС-Авто"},{"$f":"[7]Список_компаний!H244","v":0}]
[{"$f":"[7]Список_компаний!D245","v":2010590900},{"$f":"[7]Список_компаний!A245","v":"БАЭС-2"},{"$f":"[7]Список_компаний!H245","v":0}]
[{"$f":"[7]Список_компаний!D246","v":2010590303},{"$f":"[7]Список_компаний!A246","v":"Белоярская АЭС-Авто"},{"$f":"[7]Список_компаний!H246","v":0}]
[{"$f":"[7]Список_компаний!D247","v":2010840010},{"$f":"[7]Список_компаний!A247","v":"Березка"},{"$f":"[7]Список_компаний!H247","v":0}]
[{"$f":"[7]Список_компаний!D248","v":2010230201},{"$f":"[7]Список_компаний!A248","v":"Былина"},{"$f":"[7]Список_компаний!H248","v":0}]
[{"$f":"[7]Список_компаний!D249","v":2010590305},{"$f":"[7]Список_компаний!A249","v":"ВАЭС-Сервис"},{"$f":"[7]Список_компаний!H249","v":0}]
[{"$f":"[7]Список_компаний!D250","v":2010620300},{"$f":"[7]Список_компаний!A250","v":"ВДМУ"},{"$f":"[7]Список_компаний!H250","v":0}]
[{"$f":"[7]Список_компаний!D251","v":2010230966},{"$f":"[7]Список_компаний!A251","v":"ВНИИАМ(АЭМ – технологии)"},{"$f":"[7]Список_компаний!H251","v":0}]
[{"$f":"[7]Список_компаний!D252","v":2010660100},{"$f":"[7]Список_компаний!A252","v":"ВНИИАСУ"},{"$f":"[7]Список_компаний!H252","v":0}]
[{"$f":"[7]Список_компаний!D253","v":1150000008},{"$f":"[7]Список_компаний!A253","v":"ВНИИЭФ-Гарант"},{"$f":"[7]Список_компаний!H253","v":0}]
[{"$f":"[7]Список_компаний!D254","v":2010020901},{"$f":"[7]Список_компаний!A254","v":"Геостар"},{"$f":"[7]Список_компаний!H254","v":0}]
[{"$f":"[7]Список_компаний!D255","v":2010230304},{"$f":"[7]Список_компаний!A255","v":"ГК Глазов"},{"$f":"[7]Список_компаний!H255","v":0}]
[{"$f":"[7]Список_компаний!D256","v":1070020000},{"$f":"[7]Список_компаний!A256","v":"Гуанья"},{"$f":"[7]Список_компаний!H256","v":0}]
[{"$f":"[7]Список_компаний!D257","v":2010230802},{"$f":"[7]Список_компаний!A257","v":"Далур-Сервис"},{"$f":"[7]Список_компаний!H257","v":0}]
[{"$f":"[7]Список_компаний!D258","v":2010800900},{"$f":"[7]Список_компаний!A258","v":"ЗЭП"},{"$f":"[7]Список_компаний!H258","v":0}]
[{"$f":"[7]Список_компаний!D259","v":2010070000},{"$f":"[7]Список_компаний!A259","v":"Изотоп Ектб"},{"$f":"[7]Список_компаний!H259","v":0}]
[{"$f":"[7]Список_компаний!D260","v":2010480300},{"$f":"[7]Список_компаний!A260","v":"Изотоп техно"},{"$f":"[7]Список_компаний!H260","v":0}]
[{"$f":"[7]Список_компаний!D261","v":2010590400},{"$f":"[7]Список_компаний!A261","v":"ИКАО"},{"$f":"[7]Список_компаний!H261","v":0}]
[{"$f":"[7]Список_компаний!D262","v":2010830200},{"$f":"[7]Список_компаний!A262","v":"ИКБ ВНИИАЭС"},{"$f":"[7]Список_компаний!H262","v":0}]
[{"$f":"[7]Список_компаний!D263","v":2010601001},{"$f":"[7]Список_компаний!A263","v":"Инжект"},{"$f":"[7]Список_компаний!H263","v":0}]
[{"$f":"[7]Список_компаний!D264","v":2010231201},{"$f":"[7]Список_компаний!A264","v":"ИНТЕР СМАРТ"},{"$f":"[7]Список_компаний!H264","v":0}]
[{"$f":"[7]Список_компаний!D265","v":2010020900},{"$f":"[7]Список_компаний!A265","v":"Итманово"},{"$f":"[7]Список_компаний!H265","v":0}]
[{"$f":"[7]Список_компаний!D266","v":2010440100},{"$f":"[7]Список_компаний!A266","v":"ИФ Пионер"},{"$f":"[7]Список_компаний!H266","v":0}]
[{"$f":"[7]Список_компаний!D267","v":2010560000},{"$f":"[7]Список_компаний!A267","v":"ИФТП"},{"$f":"[7]Список_компаний!H267","v":0}]
[{"$f":"[7]Список_компаний!D268","v":1150000007},{"$f":"[7]Список_компаний!A268","v":"ИС РФЯЦ - ВНИИЭФ"},{"$f":"[7]Список_компаний!H268","v":0}]
[{"$f":"[7]Список_компаний!D269","v":2010590306},{"$f":"[7]Список_компаний!A269","v":"КАЭС-Сервис"},{"$f":"[7]Список_компаний!H269","v":0}]
[{"$f":"[7]Список_компаний!D270","v":2010480200},{"$f":"[7]Список_компаний!A270","v":"КИАЭ-НИИАР"},{"$f":"[7]Список_компаний!H270","v":0}]
[{"$f":"[7]Список_компаний!D271","v":2010230212},{"$f":"[7]Список_компаний!A271","v":"КМ"},{"$f":"[7]Список_компаний!H271","v":0}]
[{"$f":"[7]Список_компаний!D272","v":2010240700},{"$f":"[7]Список_компаний!A272","v":"КМЗ Спецмаш"},{"$f":"[7]Список_компаний!H272","v":0}]
[{"$f":"[7]Список_компаний!D273","v":2010240601},{"$f":"[7]Список_компаний!A273","v":"КМЗ-Авто"},{"$f":"[7]Список_компаний!H273","v":0}]
[{"$f":"[7]Список_компаний!D274","v":2010590319},{"$f":"[7]Список_компаний!A274","v":"Кольская АЭС - Сервис"},{"$f":"[7]Список_компаний!H274","v":0}]
[{"$f":"[7]Список_компаний!D275","v":2010590307},{"$f":"[7]Список_компаний!A275","v":"Кольская АЭС-Авто"},{"$f":"[7]Список_компаний!H275","v":0}]
[{"$f":"[7]Список_компаний!D276","v":2010780300},{"$f":"[7]Список_компаний!A276","v":"Комбинат питания СХК"},{"$f":"[7]Список_компаний!H276","v":0}]
[{"$f":"[7]Список_компаний!D277","v":1120010000},{"$f":"[7]Список_компаний!A277","v":"КП Урал"},{"$f":"[7]Список_компаний!H277","v":0}]
[{"$f":"[7]Список_компаний!D278","v":2010450102},{"$f":"[7]Список_компаний!A278","v":"КРК Атомные станции"},{"$f":"[7]Список_компаний!H278","v":0}]
[{"$f":"[7]Список_компаний!D279","v":2010150800},{"$f":"[7]Список_компаний!A279","v":"КУЖФ"},{"$f":"[7]Список_компаний!H279","v":0}]
[{"$f":"[7]Список_компаний!D280","v":2010590308},{"$f":"[7]Список_компаний!A280","v":"КурскАЭС-Сервис"},{"$f":"[7]Список_компаний!H280","v":0}]
[{"$f":"[7]Список_компаний!D281","v":2010290010},{"$f":"[7]Список_компаний!A281","v":"Курчатовец"},{"$f":"[7]Список_компаний!H281","v":0}]
[{"$f":"[7]Список_компаний!D282","v":2010590309},{"$f":"[7]Список_компаний!A282","v":"Ленинградская АЭС – Авто"},{"$f":"[7]Список_компаний!H282","v":0}]
[{"$f":"[7]Список_компаний!D283","v":2010230101},{"$f":"[7]Список_компаний!A283","v":"ЛОК Колонтаево"},{"$f":"[7]Список_компаний!H283","v":0}]
[{"$f":"[7]Список_компаний!D284","v":2010020500},{"$f":"[7]Список_компаний!A284","v":"Лунное"},{"$f":"[7]Список_компаний!H284","v":0}]
[{"$f":"[7]Список_компаний!D285","v":2010242650},{"$f":"[7]Список_компаний!A285","v":"Медсанчасть"},{"$f":"[7]Список_компаний!H285","v":0}]
[{"$f":"[7]Список_компаний!D286","v":2010800600},{"$f":"[7]Список_компаний!A286","v":"МЦ Изумруд"},{"$f":"[7]Список_компаний!H286","v":0}]
[{"$f":"[7]Список_компаний!D287","v":1110000006},{"$f":"[7]Список_компаний!A287","v":"МЦКДМ"},{"$f":"[7]Список_компаний!H287","v":0}]
[{"$f":"[7]Список_компаний!D288","v":2010241700},{"$f":"[7]Список_компаний!A288","v":"МЦОУ"},{"$f":"[7]Список_компаний!H288","v":0}]
[{"$f":"[7]Список_компаний!D289","v":2010230945},{"$f":"[7]Список_компаний!A289","v":"НГСС"},{"$f":"[7]Список_компаний!H289","v":0}]
[{"$f":"[7]Список_компаний!D290","v":2010230209},{"$f":"[7]Список_компаний!A290","v":"НЗХК-Инжиниринг"},{"$f":"[7]Список_компаний!H290","v":0}]
[{"$f":"[7]Список_компаний!D291","v":2010670100},{"$f":"[7]Список_компаний!A291","v":"НИЦАЭС"},{"$f":"[7]Список_компаний!H291","v":0}]
[{"$f":"[7]Список_компаний!D292","v":2010590310},{"$f":"[7]Список_компаний!A292","v":"Нововоронежская АЭС – Авто"},{"$f":"[7]Список_компаний!H292","v":0}]
[{"$f":"[7]Список_компаний!D293","v":2010403000},{"$f":"[7]Список_компаний!A293","v":"НП-Атом"},{"$f":"[7]Список_компаний!H293","v":0}]
[{"$f":"[7]Список_компаний!D294","v":2010402000},{"$f":"[7]Список_компаний!A294","v":"НПП НАНОЭЛЕКТРО"},{"$f":"[7]Список_компаний!H294","v":0}]
[{"$f":"[7]Список_компаний!D295","v":2010021000},{"$f":"[7]Список_компаний!A295","v":"Объединенные урановые предприятия"},{"$f":"[7]Список_компаний!H295","v":0}]
[{"$f":"[7]Список_компаний!D296","v":3020060000},{"$f":"[7]Список_компаний!A296","v":"ОКБ КИПиА ГХК"},{"$f":"[7]Список_компаний!H296","v":0}]
[{"$f":"[7]Список_компаний!D297","v":2010730000},{"$f":"[7]Список_компаний!A297","v":"ОКТБ ИС"},{"$f":"[7]Список_компаний!H297","v":0}]
[{"$f":"[7]Список_компаний!D298","v":2010231022},{"$f":"[7]Список_компаний!A298","v":"ООО АРАКО"},{"$f":"[7]Список_компаний!H298","v":0}]
[{"$f":"[7]Список_компаний!D299","v":5036035447},{"$f":"[7]Список_компаний!A299","v":"Опыт"},{"$f":"[7]Список_компаний!H299","v":0}]
[{"$f":"[7]Список_компаний!D300","v":2010170000},{"$f":"[7]Список_компаний!A300","v":"Оргстройпроект"},{"$f":"[7]Список_компаний!H300","v":0}]
[{"$f":"[7]Список_компаний!D301","v":2010242630},{"$f":"[7]Список_компаний!A301","v":"ПМЗсервис"},{"$f":"[7]Список_компаний!H301","v":0}]
[{"$f":"[7]Список_компаний!D302","v":2010592300},{"$f":"[7]Список_компаний!A302","v":"ПНФ Термоксид"},{"$f":"[7]Список_компаний!H302","v":0}]
[{"$f":"[7]Список_компаний!D303","v":2010780800},{"$f":"[7]Список_компаний!A303","v":"Прибор-сервис(СХК)"},{"$f":"[7]Список_компаний!H303","v":0}]
[{"$f":"[7]Список_компаний!D304","v":2010230310},{"$f":"[7]Список_компаний!A304","v":"Прибор-Сервис(ЧМЗ)"},{"$f":"[7]Список_компаний!H304","v":0}]
[{"$f":"[7]Список_компаний!D305","v":2010440400},{"$f":"[7]Список_компаний!A305","v":"Промпарксервис"},{"$f":"[7]Список_компаний!H305","v":0}]
[{"$f":"[7]Список_компаний!D306","v":3020050000},{"$f":"[7]Список_компаний!A306","v":"ПРЭХ ГХК"},{"$f":"[7]Список_компаний!H306","v":0}]
[{"$f":"[7]Список_компаний!D307","v":2010230407},{"$f":"[7]Список_компаний!A307","v":"ПЭС"},{"$f":"[7]Список_компаний!H307","v":0}]
[{"$f":"[7]Список_компаний!D308","v":2010230935},{"$f":"[7]Список_компаний!A308","v":"РАС-Менеджмент"},{"$f":"[7]Список_компаний!H308","v":0}]
[{"$f":"[7]Список_компаний!D309","v":2010020601},{"$f":"[7]Список_компаний!A309","v":"РБМ-Казахстан"},{"$f":"[7]Список_компаний!H309","v":0}]
[{"$f":"[7]Список_компаний!D310","v":2010230408},{"$f":"[7]Список_компаний!A310","v":"РМЗ"},{"$f":"[7]Список_компаний!H310","v":0}]
[{"$f":"[7]Список_компаний!D311","v":3020040000},{"$f":"[7]Список_компаний!A311","v":"РМЗ ГХК"},{"$f":"[7]Список_компаний!H311","v":0}]
[{"$f":"[7]Список_компаний!D312","v":2010960000},{"$f":"[7]Список_компаний!A312","v":"РР-Энергия"},{"$f":"[7]Список_компаний!H312","v":0}]
[{"$f":"[7]Список_компаний!D313","v":2010150400},{"$f":"[7]Список_компаний!A313","v":"СаровГаз"},{"$f":"[7]Список_компаний!H313","v":0}]
[{"$f":"[7]Список_компаний!D314","v":2010590315},{"$f":"[7]Список_компаний!A314","v":"САЭС-Сервис"},{"$f":"[7]Список_компаний!H314","v":0}]
[{"$f":"[7]Список_компаний!D315","v":2010780700},{"$f":"[7]Список_компаний!A315","v":"СибРегионПромсервис"},{"$f":"[7]Список_компаний!H315","v":0}]
[{"$f":"[7]Список_компаний!D316","v":2010780100},{"$f":"[7]Список_компаний!A316","v":"Синий Утёс"},{"$f":"[7]Список_компаний!H316","v":0}]
[{"$f":"[7]Список_компаний!D317","v":2010230930},{"$f":"[7]Список_компаний!A317","v":"СМК-ЮГ"},{"$f":"[7]Список_компаний!H317","v":0}]
[{"$f":"[7]Список_компаний!D318","v":3020000002},{"$f":"[7]Список_компаний!A318","v":"СМРП ГХК"},{"$f":"[7]Список_компаний!H318","v":0}]
[{"$f":"[7]Список_компаний!D319","v":2010620100},{"$f":"[7]Список_компаний!A319","v":"СМУ№1ооо"},{"$f":"[7]Список_компаний!H319","v":0}]
[{"$f":"[7]Список_компаний!D320","v":2010230305},{"$f":"[7]Список_компаний!A320","v":"СП Чепца"},{"$f":"[7]Список_компаний!H320","v":0}]
[{"$f":"[7]Список_компаний!D321","v":2010440200},{"$f":"[7]Список_компаний!A321","v":"Станкомаш"},{"$f":"[7]Список_компаний!H321","v":0}]
[{"$f":"[7]Список_компаний!D322","v":2010780400},{"$f":"[7]Список_компаний!A322","v":"СТК"},{"$f":"[7]Список_компаний!H322","v":0}]
[{"$f":"[7]Список_компаний!D323","v":2010230403},{"$f":"[7]Список_компаний!A323","v":"Стрельцовский СРТ"},{"$f":"[7]Список_компаний!H323","v":0}]
[{"$f":"[7]Список_компаний!D324","v":3020000003},{"$f":"[7]Список_компаний!A324","v":"СТС"},{"$f":"[7]Список_компаний!H324","v":0}]
[{"$f":"[7]Список_компаний!D325","v":2010370100},{"$f":"[7]Список_компаний!A325","v":"СЦ Прогресс"},{"$f":"[7]Список_компаний!H325","v":0}]
[{"$f":"[7]Список_компаний!D326","v":2010150100},{"$f":"[7]Список_компаний!A326","v":"СЭСК"},{"$f":"[7]Список_компаний!H326","v":0}]
[{"$f":"[7]Список_компаний!D327","v":2010230401},{"$f":"[7]Список_компаний!A327","v":"Телевизионный центр"},{"$f":"[7]Список_компаний!H327","v":0}]
[{"$f":"[7]Список_компаний!D328","v":3020000004},{"$f":"[7]Список_компаний!A328","v":"Телеком ГХК"},{"$f":"[7]Список_компаний!H328","v":0}]
[{"$f":"[7]Список_компаний!D329","v":2010240400},{"$f":"[7]Список_компаний!A329","v":"ТЕНЕКС-Логистика"},{"$f":"[7]Список_компаний!H329","v":0}]
[{"$f":"[7]Список_компаний!D330","v":2010592201},{"$f":"[7]Список_компаний!A330","v":"Технатом"},{"$f":"[7]Список_компаний!H330","v":0}]
[{"$f":"[7]Список_компаний!D331","v":1051000000},{"$f":"[7]Список_компаний!A331","v":"Техэнерго-ЭХП"},{"$f":"[7]Список_компаний!H331","v":0}]
[{"$f":"[7]Список_компаний!D332","v":1110020000},{"$f":"[7]Список_компаний!A332","v":"Трансэнерго"},{"$f":"[7]Список_компаний!H332","v":0}]
[{"$f":"[7]Список_компаний!D333","v":2010230929},{"$f":"[7]Список_компаний!A333","v":"Трест САЭМ"},{"$f":"[7]Список_компаний!H333","v":0}]
[{"$f":"[7]Список_компаний!D334","v":2010230303},{"$f":"[7]Список_компаний!A334","v":"УАТ"},{"$f":"[7]Список_компаний!H334","v":0}]
[{"$f":"[7]Список_компаний!D335","v":2010230205},{"$f":"[7]Список_компаний!A335","v":"УАТ НЗХК"},{"$f":"[7]Список_компаний!H335","v":0}]
[{"$f":"[7]Список_компаний!D336","v":2010781000},{"$f":"[7]Список_компаний!A336","v":"УАТ Северск"},{"$f":"[7]Список_компаний!H336","v":0}]
[{"$f":"[7]Список_компаний!D337","v":1110000002},{"$f":"[7]Список_компаний!A337","v":"УГК-Холдинг"},{"$f":"[7]Список_компаний!H337","v":0}]
[{"$f":"[7]Список_компаний!D338","v":3020000005},{"$f":"[7]Список_компаний!A338","v":"УЖТ"},{"$f":"[7]Список_компаний!H338","v":0}]
[{"$f":"[7]Список_компаний!D339","v":2010590320},{"$f":"[7]Список_компаний!A339","v":"УКИПСМ"},{"$f":"[7]Список_компаний!H339","v":0}]
[{"$f":"[7]Список_компаний!D340","v":2010230404},{"$f":"[7]Список_компаний!A340","v":"УОП и РТ"},{"$f":"[7]Список_компаний!H340","v":0}]
[{"$f":"[7]Список_компаний!D341","v":1050010000},{"$f":"[7]Список_компаний!A341","v":"Уралит"},{"$f":"[7]Список_компаний!H341","v":0}]
[{"$f":"[7]Список_компаний!D342","v":2010800500},{"$f":"[7]Список_компаний!A342","v":"УЭХК-ТЕЛЕКОМ"},{"$f":"[7]Список_компаний!H342","v":0}]
[{"$f":"[7]Список_компаний!D343","v":2010840500},{"$f":"[7]Список_компаний!A343","v":"Центротех"},{"$f":"[7]Список_компаний!H343","v":0}]
[{"$f":"[7]Список_компаний!D344","v":4011000000},{"$f":"[7]Список_компаний!A344","v":"ЦИРФРИ"},{"$f":"[7]Список_компаний!H344","v":0}]
[{"$f":"[7]Список_компаний!D345","v":1150000005},{"$f":"[7]Список_компаний!A345","v":"ЦКО ООО"},{"$f":"[7]Список_компаний!H345","v":0}]
[{"$f":"[7]Список_компаний!D346","v":2010231400},{"$f":"[7]Список_компаний!A346","v":"ЦПТИ"},{"$f":"[7]Список_компаний!H346","v":0}]
[{"$f":"[7]Список_компаний!D347","v":2010640000},{"$f":"[7]Список_компаний!A347","v":"ЭИЗ"},{"$f":"[7]Список_компаний!H347","v":0}]
[{"$f":"[7]Список_компаний!D348","v":2010230108},{"$f":"[7]Список_компаний!A348","v":"ЭЛЕМАШ-АВТО"},{"$f":"[7]Список_компаний!H348","v":0}]
[{"$f":"[7]Список_компаний!D349","v":2010230109},{"$f":"[7]Список_компаний!A349","v":"ЭЛЕМАШ-МАГНИТ"},{"$f":"[7]Список_компаний!H349","v":0}]
[{"$f":"[7]Список_компаний!D350","v":2010230114},{"$f":"[7]Список_компаний!A350","v":"ЭЛЕМАШ-СТП"},{"$f":"[7]Список_компаний!H350","v":0}]
[{"$f":"[7]Список_компаний!D351","v":2010150600},{"$f":"[7]Список_компаний!A351","v":"ЭнергоАвтотранс"},{"$f":"[7]Список_компаний!H351","v":0}]
[{"$f":"[7]Список_компаний!D352","v":2010590300},{"$f":"[7]Список_компаний!A352","v":"Энергоатоминвест"},{"$f":"[7]Список_компаний!H352","v":0}]
[{"$f":"[7]Список_компаний!D353","v":2010230307},{"$f":"[7]Список_компаний!A353","v":"Энергоремонт"},{"$f":"[7]Список_компаний!H353","v":0}]
[{"$f":"[7]Список_компаний!D354","v":2010780600},{"$f":"[7]Список_компаний!A354","v":"Энергосервисная компания"},{"$f":"[7]Список_компаний!H354","v":0}]
[{"$f":"[7]Список_компаний!D355","v":6080010000},{"$f":"[7]Список_компаний!A355","v":"ЭНПРАН"},{"$f":"[7]Список_компаний!H355","v":0}]
[{"$f":"[7]Список_компаний!D356","v":2010450101},{"$f":"[7]Список_компаний!A356","v":"АСЭ-Финанс"},{"$f":"[7]Список_компаний!H356","v":0}]
[{"$f":"[7]Список_компаний!D357","v":2010591312},{"$f":"[7]Список_компаний!A357","v":"Атом-ЖКХ. Полярные Зори"},{"$f":"[7]Список_компаний!H357","v":0}]
[{"$f":"[7]Список_компаний!D358","v":2010770000},{"$f":"[7]Список_компаний!A358","v":"Ленатомэнергострой"},{"$f":"[7]Список_компаний!H358","v":0}]
[{"$f":"[7]Список_компаний!D359","v":2010242660},{"$f":"[7]Список_компаний!A359","v":"ПЗМ-ТНП"},{"$f":"[7]Список_компаний!H359","v":0}]
[{"$f":"[7]Список_компаний!D360","v":2010230309},{"$f":"[7]Список_компаний!A360","v":"Точмаш Глазов"},{"$f":"[7]Список_компаний!H360","v":0}]
[{"$f":"[7]Список_компаний!D361","v":2010450109},{"$f":"[7]Список_компаний!A361","v":"УМПК"},{"$f":"[7]Список_компаний!H361","v":0}]
[{"$f":"[7]Список_компаний!D362","v":6090011000},{"$f":"[7]Список_компаний!A362","v":"Энергомаш (Волгодонск) – Атоммаш"},{"$f":"[7]Список_компаний!H362","v":0}]
[{"$f":"[7]Список_компаний!D363","v":0},{"$f":"[7]Список_компаний!A363","v":"Прочие организации для  заполнения  ИНН на листе 58.02"},{"$f":"[7]Список_компаний!H363","v":0}]
[{"$f":"[7]Список_компаний!D364","v":2039000000},{"$f":"[7]Список_компаний!A364","v":"1-НПФ фонд"},{"$f":"[7]Список_компаний!H364","v":0}]
[{"$f":"[7]Список_компаний!D365","v":0},{"$f":"[7]Список_компаний!A365","v":"AFEX COMPANY"},{"$f":"[7]Список_компаний!H365","v":0}]
[{"$f":"[7]Список_компаний!D366","v":0},{"$f":"[7]Список_компаний!A366","v":"FAIR GmbH (ФАИР)"},{"$f":"[7]Список_компаний!H366","v":0}]
[{"$f":"[7]Список_компаний!D367","v":0},{"$f":"[7]Список_компаний!A367","v":"Fennovoima Oy"},{"$f":"[7]Список_компаний!H367","v":0}]
[{"$f":"[7]Список_компаний!D368","v":0},{"$f":"[7]Список_компаний!A368","v":"GLADSTONE PTE. LTD."},{"$f":"[7]Список_компаний!H368","v":0}]
[{"$f":"[7]Список_компаний!D369","v":0},{"$f":"[7]Список_компаний!A369","v":"HVCom s.r.o."},{"$f":"[7]Список_компаний!H369","v":0}]
[{"$f":"[7]Список_компаний!D370","v":0},{"$f":"[7]Список_компаний!A370","v":"IES-EnergoStroyEngineering S.A.R.L."},{"$f":"[7]Список_компаний!H370","v":0}]
[{"$f":"[7]Список_компаний!D371","v":2010450111},{"$f":"[7]Список_компаний!A371","v":"Nuclear Power Alliance a.s."},{"$f":"[7]Список_компаний!H371","v":0}]
[{"$f":"[7]Список_компаний!D372","v":0},{"$f":"[7]Список_компаний!A372","v":"PASEK - stavebni firma spol. s.r.o."},{"$f":"[7]Список_компаний!H372","v":0}]
[{"$f":"[7]Список_компаний!D373","v":0},{"$f":"[7]Список_компаний!A373","v":"Rosatom Africa (Pty) Ltd"},{"$f":"[7]Список_компаний!H373","v":0}]
[{"$f":"[7]Список_компаний!D374","v":0},{"$f":"[7]Список_компаний!A374","v":"Rosatom Asia PTE. LTD"},{"$f":"[7]Список_компаний!H374","v":0}]
[{"$f":"[7]Список_компаний!D375","v":0},{"$f":"[7]Список_компаний!A375","v":"Rosatom Central Europe s.r.o."},{"$f":"[7]Список_компаний!H375","v":0}]
[{"$f":"[7]Список_компаний!D376","v":0},{"$f":"[7]Список_компаний!A376","v":"Rosatom France SARL"},{"$f":"[7]Список_компаний!H376","v":0}]
[{"$f":"[7]Список_компаний!D377","v":0},{"$f":"[7]Список_компаний!A377","v":"SWA URANIUM MINES (PTY) LIMITED"},{"$f":"[7]Список_компаний!H377","v":0}]
[{"$f":"[7]Список_компаний!D378","v":0},{"$f":"[7]Список_компаний!A378","v":"Topmax"},{"$f":"[7]Список_компаний!H378","v":0}]
[{"$f":"[7]Список_компаний!D379","v":0},{"$f":"[7]Список_компаний!A379","v":"Tri Alpha Energy, Inc."},{"$f":"[7]Список_компаний!H379","v":0}]
[{"$f":"[7]Список_компаний!D380","v":0},{"$f":"[7]Список_компаний!A380","v":"Uranium One Australia Pty Ltd."},{"$f":"[7]Список_компаний!H380","v":0}]
[{"$f":"[7]Список_компаний!D381","v":0},{"$f":"[7]Список_компаний!A381","v":"А.С.Т."},{"$f":"[7]Список_компаний!H381","v":0}]
[{"$f":"[7]Список_компаний!D382","v":0},{"$f":"[7]Список_компаний!A382","v":"Алвэл"},{"$f":"[7]Список_компаний!H382","v":0}]
[{"$f":"[7]Список_компаний!D383","v":2010470001},{"$f":"[7]Список_компаний!A383","v":"Ансертэко"},{"$f":"[7]Список_компаний!H383","v":0}]
[{"$f":"[7]Список_компаний!D384","v":0},{"$f":"[7]Список_компаний!A384","v":"Атом-спорт"},{"$f":"[7]Список_компаний!H384","v":0}]
[{"$f":"[7]Список_компаний!D385","v":2010450106},{"$f":"[7]Список_компаний!A385","v":"Атомстройинвест"},{"$f":"[7]Список_компаний!H385","v":0}]
[{"$f":"[7]Список_компаний!D386","v":2010720001},{"$f":"[7]Список_компаний!A386","v":"Атомэнерго"},{"$f":"[7]Список_компаний!H386","v":0}]
[{"$f":"[7]Список_компаний!D387","v":2010230946},{"$f":"[7]Список_компаний!A387","v":"АТОМЭНЕРГОПРОМ (Киев)"},{"$f":"[7]Список_компаний!H387","v":0}]
[{"$f":"[7]Список_компаний!D388","v":2010591302},{"$f":"[7]Список_компаний!A388","v":"АЭС Северо-Запад"},{"$f":"[7]Список_компаний!H388","v":0}]
[{"$f":"[7]Список_компаний!D389","v":1150010000},{"$f":"[7]Список_компаний!A389","v":"БИТЕХ"},{"$f":"[7]Список_компаний!H389","v":0}]
[{"$f":"[7]Список_компаний!D390","v":0},{"$f":"[7]Список_компаний!A390","v":"БСУ-1"},{"$f":"[7]Список_компаний!H390","v":0}]
[{"$f":"[7]Список_компаний!D391","v":2010591315},{"$f":"[7]Список_компаний!A391","v":"ВАЭС"},{"$f":"[7]Список_компаний!H391","v":0}]
[{"$f":"[7]Список_компаний!D392","v":1110000001},{"$f":"[7]Список_компаний!A392","v":"Взрывиспытания"},{"$f":"[7]Список_компаний!H392","v":0}]
[{"$f":"[7]Список_компаний!D393","v":1150000003},{"$f":"[7]Список_компаний!A393","v":"ВНИИЭФ \"ТАНИК\""},{"$f":"[7]Список_компаний!H393","v":0}]
[{"$f":"[7]Список_компаний!D394","v":1150000018},{"$f":"[7]Список_компаний!A394","v":"ВНИИЭФ-Конверсия"},{"$f":"[7]Список_компаний!H394","v":0}]
[{"$f":"[7]Список_компаний!D395","v":1150000001},{"$f":"[7]Список_компаний!A395","v":"Газета \"Город Номер\""},{"$f":"[7]Список_компаний!H395","v":0}]
[{"$f":"[7]Список_компаний!D396","v":0},{"$f":"[7]Список_компаний!A396","v":"Гардеа"},{"$f":"[7]Список_компаний!H396","v":0}]
[{"$f":"[7]Список_компаний!D397","v":0},{"$f":"[7]Список_компаний!A397","v":"Гидроаппарат"},{"$f":"[7]Список_компаний!H397","v":0}]
[{"$f":"[7]Список_компаний!D398","v":2010230927},{"$f":"[7]Список_компаний!A398","v":"ГЭМ"},{"$f":"[7]Список_компаний!H398","v":0}]
[{"$f":"[7]Список_компаний!D399","v":2010230951},{"$f":"[7]Список_компаний!A399","v":"Е4-ЦЭМ"},{"$f":"[7]Список_компаний!H399","v":0}]
[{"$f":"[7]Список_компаний!D400","v":4150000001},{"$f":"[7]Список_компаний!A400","v":"ЗАО \"Технопарк \"Саров\""},{"$f":"[7]Список_компаний!H400","v":0}]
[{"$f":"[7]Список_компаний!D401","v":0},{"$f":"[7]Список_компаний!A401","v":"ЗПЯТ"},{"$f":"[7]Список_компаний!H401","v":0}]
[{"$f":"[7]Список_компаний!D402","v":2010230350},{"$f":"[7]Список_компаний!A402","v":"Иж-Астро"},{"$f":"[7]Список_компаний!H402","v":0}]
[{"$f":"[7]Список_компаний!D403","v":0},{"$f":"[7]Список_компаний!A403","v":"Издательская фирма \"Нейва-пресс\""},{"$f":"[7]Список_компаний!H403","v":0}]
[{"$f":"[7]Список_компаний!D404","v":2010590350},{"$f":"[7]Список_компаний!A404","v":"Интерфакс-АЭИ"},{"$f":"[7]Список_компаний!H404","v":0}]
[{"$f":"[7]Список_компаний!D405","v":0},{"$f":"[7]Список_компаний!A405","v":"Казатомпром-Демеу"},{"$f":"[7]Список_компаний!H405","v":0}]
[{"$f":"[7]Список_компаний!D406","v":1150070000},{"$f":"[7]Список_компаний!A406","v":"Квантовые технологии"},{"$f":"[7]Список_компаний!H406","v":0}]
[{"$f":"[7]Список_компаний!D407","v":0},{"$f":"[7]Список_компаний!A407","v":"Компания  ЦАУ"},{"$f":"[7]Список_компаний!H407","v":0}]
[{"$f":"[7]Список_компаний!D408","v":0},{"$f":"[7]Список_компаний!A408","v":"Корпоративная Академия Росатома"},{"$f":"[7]Список_компаний!H408","v":0}]
[{"$f":"[7]Список_компаний!D409","v":0},{"$f":"[7]Список_компаний!A409","v":"Кривское"},{"$f":"[7]Список_компаний!H409","v":0}]
[{"$f":"[7]Список_компаний!D410","v":2010020001},{"$f":"[7]Список_компаний!A410","v":"КРЮЯ"},{"$f":"[7]Список_компаний!H410","v":0}]
[{"$f":"[7]Список_компаний!D411","v":0},{"$f":"[7]Список_компаний!A411","v":"Люмпекс"},{"$f":"[7]Список_компаний!H411","v":0}]
[{"$f":"[7]Список_компаний!D412","v":2010470002},{"$f":"[7]Список_компаний!A412","v":"МА Титан"},{"$f":"[7]Список_компаний!H412","v":0}]
[{"$f":"[7]Список_компаний!D413","v":2010000001},{"$f":"[7]Список_компаний!A413","v":"МосСАЭМ"},{"$f":"[7]Список_компаний!H413","v":0}]
[{"$f":"[7]Список_компаний!D414","v":1020000001},{"$f":"[7]Список_компаний!A414","v":"МХО ИАЭ"},{"$f":"[7]Список_компаний!H414","v":0}]
[{"$f":"[7]Список_компаний!D415","v":0},{"$f":"[7]Список_компаний!A415","v":"МЭА"},{"$f":"[7]Список_компаний!H415","v":0}]
[{"$f":"[7]Список_компаний!D416","v":0},{"$f":"[7]Список_компаний!A416","v":"НПО \"САТИС\""},{"$f":"[7]Список_компаний!H416","v":0}]
[{"$f":"[7]Список_компаний!D417","v":2036000000},{"$f":"[7]Список_компаний!A417","v":"НПО «Энергоатоминвент»"},{"$f":"[7]Список_компаний!H417","v":0}]
[{"$f":"[7]Список_компаний!D418","v":2010800001},{"$f":"[7]Список_компаний!A418","v":"НПП Термотекс"},{"$f":"[7]Список_компаний!H418","v":0}]
[{"$f":"[7]Список_компаний!D419","v":0},{"$f":"[7]Список_компаний!A419","v":"НТА \"Актис\""},{"$f":"[7]Список_компаний!H419","v":0}]
[{"$f":"[7]Список_компаний!D420","v":0},{"$f":"[7]Список_компаний!A420","v":"Нуклеарконтроль"},{"$f":"[7]Список_компаний!H420","v":0}]
[{"$f":"[7]Список_компаний!D421","v":0},{"$f":"[7]Список_компаний!A421","v":"Нуклид-Транс"},{"$f":"[7]Список_компаний!H421","v":0}]
[{"$f":"[7]Список_компаний!D422","v":0},{"$f":"[7]Список_компаний!A422","v":"ООО «РОСАТОМ ВЕ»"},{"$f":"[7]Список_компаний!H422","v":0}]
[{"$f":"[7]Список_компаний!D423","v":0},{"$f":"[7]Список_компаний!A423","v":"ОЦНТ"},{"$f":"[7]Список_компаний!H423","v":0}]
[{"$f":"[7]Список_компаний!D424","v":0},{"$f":"[7]Список_компаний!A424","v":"Прогресс"},{"$f":"[7]Список_компаний!H424","v":0}]
[{"$f":"[7]Список_компаний!D425","v":0},{"$f":"[7]Список_компаний!A425","v":"РАДЭФ"},{"$f":"[7]Список_компаний!H425","v":0}]
[{"$f":"[7]Список_компаний!D426","v":2010591802},{"$f":"[7]Список_компаний!A426","v":"РАОТЕХ"},{"$f":"[7]Список_компаний!H426","v":0}]
[{"$f":"[7]Список_компаний!D427","v":0},{"$f":"[7]Список_компаний!A427","v":"Редметсервис"},{"$f":"[7]Список_компаний!H427","v":0}]
[{"$f":"[7]Список_компаний!D428","v":0},{"$f":"[7]Список_компаний!A428","v":"РИТВЕРЦ"},{"$f":"[7]Список_компаний!H428","v":0}]
[{"$f":"[7]Список_компаний!D429","v":0},{"$f":"[7]Список_компаний!A429","v":"РОСАТОМ ЛАТИНСКАЯ АМЕРИКА"},{"$f":"[7]Список_компаний!H429","v":0}]
[{"$f":"[7]Список_компаний!D430","v":2010240610},{"$f":"[7]Список_компаний!A430","v":"РПД  Радуга"},{"$f":"[7]Список_компаний!H430","v":0}]
[{"$f":"[7]Список_компаний!D431","v":1150000004},{"$f":"[7]Список_компаний!A431","v":"САРОВ-ВОЛГОГАЗ"},{"$f":"[7]Список_компаний!H431","v":0}]
[{"$f":"[7]Список_компаний!D432","v":1110010000},{"$f":"[7]Список_компаний!A432","v":"Сервис"},{"$f":"[7]Список_компаний!H432","v":0}]
[{"$f":"[7]Список_компаний!D433","v":2010660101},{"$f":"[7]Список_компаний!A433","v":"СКУ- атом"},{"$f":"[7]Список_компаний!H433","v":0}]
[{"$f":"[7]Список_компаний!D434","v":2010230950},{"$f":"[7]Список_компаний!A434","v":"СКЭМ"},{"$f":"[7]Список_компаний!H434","v":0}]
[{"$f":"[7]Список_компаний!D435","v":4050010000},{"$f":"[7]Список_компаний!A435","v":"СОИСК"},{"$f":"[7]Список_компаний!H435","v":0}]
[{"$f":"[7]Список_компаний!D436","v":0},{"$f":"[7]Список_компаний!A436","v":"СП ООО \"СКС\""},{"$f":"[7]Список_компаний!H436","v":0}]
[{"$f":"[7]Список_компаний!D437","v":0},{"$f":"[7]Список_компаний!A437","v":"СП УКРТВС"},{"$f":"[7]Список_компаний!H437","v":0}]
[{"$f":"[7]Список_компаний!D438","v":2010000009},{"$f":"[7]Список_компаний!A438","v":"Спецмонтажмеханизация"},{"$f":"[7]Список_компаний!H438","v":0}]
[{"$f":"[7]Список_компаний!D439","v":1080000001},{"$f":"[7]Список_компаний!A439","v":"СЭлС"},{"$f":"[7]Список_компаний!H439","v":0}]
[{"$f":"[7]Список_компаний!D440","v":2010230931},{"$f":"[7]Список_компаний!A440","v":"ТАЭМ"},{"$f":"[7]Список_компаний!H440","v":0}]
[{"$f":"[7]Список_компаний!D441","v":0},{"$f":"[7]Список_компаний!A441","v":"ТД ГЭМ-Белгород"},{"$f":"[7]Список_компаний!H441","v":0}]
[{"$f":"[7]Список_компаний!D442","v":0},{"$f":"[7]Список_компаний!A442","v":"Титан"},{"$f":"[7]Список_компаний!H442","v":0}]
[{"$f":"[7]Список_компаний!D443","v":0},{"$f":"[7]Список_компаний!A443","v":"ТОО «Росатом Центральная Азия»"},{"$f":"[7]Список_компаний!H443","v":0}]
[{"$f":"[7]Список_компаний!D444","v":2010591700},{"$f":"[7]Список_компаний!A444","v":"Триада"},{"$f":"[7]Список_компаний!H444","v":0}]
[{"$f":"[7]Список_компаний!D445","v":2010010001},{"$f":"[7]Список_компаний!A445","v":"УАТГАЗ"},{"$f":"[7]Список_компаний!H445","v":0}]
[{"$f":"[7]Список_компаний!D446","v":0},{"$f":"[7]Список_компаний!A446","v":"ФБВТ"},{"$f":"[7]Список_компаний!H446","v":0}]
[{"$f":"[7]Список_компаний!D447","v":0},{"$f":"[7]Список_компаний!A447","v":"ФРЗТ"},{"$f":"[7]Список_компаний!H447","v":0}]
[{"$f":"[7]Список_компаний!D448","v":2010230926},{"$f":"[7]Список_компаний!A448","v":"Хладици Веже - Восток"},{"$f":"[7]Список_компаний!H448","v":0}]
[{"$f":"[7]Список_компаний!D449","v":2010230450},{"$f":"[7]Список_компаний!A449","v":"Цеолиты Забайкалья"},{"$f":"[7]Список_компаний!H449","v":0}]
[{"$f":"[7]Список_компаний!D450","v":0},{"$f":"[7]Список_компаний!A450","v":"ЦИМТ"},{"$f":"[7]Список_компаний!H450","v":0}]
[{"$f":"[7]Список_компаний!D451","v":0},{"$f":"[7]Список_компаний!A451","v":"ЭКОцентр"},{"$f":"[7]Список_компаний!H451","v":0}]
[{"$f":"[7]Список_компаний!D452","v":1150000002},{"$f":"[7]Список_компаний!A452","v":"Элегаз-Конверсия"},{"$f":"[7]Список_компаний!H452","v":0}]
[{"$f":"[7]Список_компаний!D453","v":0},{"$f":"[7]Список_компаний!A453","v":"ЭЛЕМАШ-ЭНЕРГО"},{"$f":"[7]Список_компаний!H453","v":0}]
[{"$f":"[7]Список_компаний!D454","v":0},{"$f":"[7]Список_компаний!A454","v":"ЮУрСЦУ"},{"$f":"[7]Список_компаний!H454","v":0}]
[{"$f":"[7]Список_компаний!D455","v":0},{"$f":"[7]Список_компаний!A455","v":"Компании ФГУП в которых есть доля владения"},{"$f":"[7]Список_компаний!H455","v":0}]
[{"$f":"[7]Список_компаний!D456","v":1150000006},{"$f":"[7]Список_компаний!A456","v":"ИИС РФЯЦ - ВНИИЭФ\n"},{"$f":"[7]Список_компаний!H456","v":0}]
[{"$f":"[7]Список_компаний!D457","v":3020000001},{"$f":"[7]Список_компаний!A457","v":"Юбилейный ГХК"},{"$f":"[7]Список_компаний!H457","v":0}]
[{"$f":"[7]Список_компаний!D458","v":0},{"$f":"[7]Список_компаний!A458","v":"ЭКА"},{"$f":"[7]Список_компаний!H458","v":0}]
[{"$f":"[7]Список_компаний!D459","v":1150040000},{"$f":"[7]Список_компаний!A459","v":"КП"},{"$f":"[7]Список_компаний!H459","v":0}]
[{"$f":"[7]Список_компаний!D460","v":0},{"$f":"[7]Список_компаний!A460","v":0},{"$f":"[7]Список_компаний!H460","v":0}]
[{"$f":"[7]Список_компаний!D461","v":0},{"$f":"[7]Список_компаний!A461","v":0},{"$f":"[7]Список_компаний!H461","v":" "}]
[{"$f":"[7]Список_компаний!D462","v":0},{"$f":"[7]Список_компаний!A462","v":0},{"$f":"[7]Список_компаний!H462","v":0}]
[{"$f":"[7]Список_компаний!D463","v":0},{"$f":"[7]Список_компаний!A463","v":0},{"$f":"[7]Список_компаний!H463","v":0}]
[{"$f":"[7]Список_компаний!D464","v":0},{"$f":"[7]Список_компаний!A464","v":0},{"$f":"[7]Список_компаний!H464","v":0}]
[{"$f":"[7]Список_компаний!D465","v":0},{"$f":"[7]Список_компаний!A465","v":0},{"$f":"[7]Список_компаний!H465","v":0}]
[{"$f":"[7]Список_компаний!D466","v":0},{"$f":"[7]Список_компаний!A466","v":0},{"$f":"[7]Список_компаний!H466","v":0}]
[{"$f":"[7]Список_компаний!D467","v":0},{"$f":"[7]Список_компаний!A467","v":0},{"$f":"[7]Список_компаний!H467","v":0}]
[{"$f":"[7]Список_компаний!D468","v":0},{"$f":"[7]Список_компаний!A468","v":0},{"$f":"[7]Список_компаний!H468","v":0}]
[{"$f":"[7]Список_компаний!D469","v":0},{"$f":"[7]Список_компаний!A469","v":0},{"$f":"[7]Список_компаний!H469","v":0}]
[{"$f":"[7]Список_компаний!D470","v":0},{"$f":"[7]Список_компаний!A470","v":0},{"$f":"[7]Список_компаний!H470","v":0}]
[{"$f":"[7]Список_компаний!D471","v":0},{"$f":"[7]Список_компаний!A471","v":0},{"$f":"[7]Список_компаний!H471","v":0}]
[{"$f":"[7]Список_компаний!D472","v":0},{"$f":"[7]Список_компаний!A472","v":0},{"$f":"[7]Список_компаний!H472","v":0}]
[{"$f":"[7]Список_компаний!D473","v":0},{"$f":"[7]Список_компаний!A473","v":0},{"$f":"[7]Список_компаний!H473","v":0}]
[{"$f":"[7]Список_компаний!D474","v":0},{"$f":"[7]Список_компаний!A474","v":0},{"$f":"[7]Список_компаний!H474","v":0}]
[{"$f":"[7]Список_компаний!D475","v":0},{"$f":"[7]Список_компаний!A475","v":0},{"$f":"[7]Список_компаний!H475","v":0}]
[{"$f":"[7]Список_компаний!D476","v":0},{"$f":"[7]Список_компаний!A476","v":0},{"$f":"[7]Список_компаний!H476","v":0}]
[{"$f":"[7]Список_компаний!D477","v":0},{"$f":"[7]Список_компаний!A477","v":0},{"$f":"[7]Список_компаний!H477","v":0}]
[{"$f":"[7]Список_компаний!D478","v":0},{"$f":"[7]Список_компаний!A478","v":0},{"$f":"[7]Список_компаний!H478","v":0}]
[{"$f":"[7]Список_компаний!D479","v":0},{"$f":"[7]Список_компаний!A479","v":0},{"$f":"[7]Список_компаний!H479","v":0}]
[{"$f":"[7]Список_компаний!D480","v":0},{"$f":"[7]Список_компаний!A480","v":0},{"$f":"[7]Список_компаний!H480","v":0}]
[{"$f":"[7]Список_компаний!D481","v":0},{"$f":"[7]Список_компаний!A481","v":0},{"$f":"[7]Список_компаний!H481","v":0}]
[{"$f":"[7]Список_компаний!D482","v":0},{"$f":"[7]Список_компаний!A482","v":0},{"$f":"[7]Список_компаний!H482","v":0}]
[{"$f":"[7]Список_компаний!D483","v":0},{"$f":"[7]Список_компаний!A483","v":0},{"$f":"[7]Список_компаний!H483","v":0}]
[{"$f":"[7]Список_компаний!D484","v":0},{"$f":"[7]Список_компаний!A484","v":0},{"$f":"[7]Список_компаний!H484","v":0}]
[{"$f":"[7]Список_компаний!D485","v":0},{"$f":"[7]Список_компаний!A485","v":0},{"$f":"[7]Список_компаний!H485","v":0}]
[{"$f":"[7]Список_компаний!D486","v":0},{"$f":"[7]Список_компаний!A486","v":0},{"$f":"[7]Список_компаний!H486","v":0}]
[{"$f":"[7]Список_компаний!D487","v":0},{"$f":"[7]Список_компаний!A487","v":0},{"$f":"[7]Список_компаний!H487","v":0}]
[{"$f":"[7]Список_компаний!D488","v":0},{"$f":"[7]Список_компаний!A488","v":0},{"$f":"[7]Список_компаний!H488","v":0}]
[{"$f":"[7]Список_компаний!D489","v":0},{"$f":"[7]Список_компаний!A489","v":0},{"$f":"[7]Список_компаний!H489","v":0}]
[{"$f":"[7]Список_компаний!D490","v":0},{"$f":"[7]Список_компаний!A490","v":0},{"$f":"[7]Список_компаний!H490","v":0}]
[{"$f":"[7]Список_компаний!D491","v":0},{"$f":"[7]Список_компаний!A491","v":0},{"$f":"[7]Список_компаний!H491","v":0}]
[{"$f":"[7]Список_компаний!D492","v":0},{"$f":"[7]Список_компаний!A492","v":0},{"$f":"[7]Список_компаний!H492","v":0}]
[{"$f":"[7]Список_компаний!D493","v":0},{"$f":"[7]Список_компаний!A493","v":0},{"$f":"[7]Список_компаний!H493","v":0}]
[{"$f":"[7]Список_компаний!D494","v":0},{"$f":"[7]Список_компаний!A494","v":0},{"$f":"[7]Список_компаний!H494","v":0}]
[{"$f":"[7]Список_компаний!D495","v":0},{"$f":"[7]Список_компаний!A495","v":0},{"$f":"[7]Список_компаний!H495","v":0}]
[{"$f":"[7]Список_компаний!D496","v":0},{"$f":"[7]Список_компаний!A496","v":0},{"$f":"[7]Список_компаний!H496","v":0}]
[{"$f":"[7]Список_компаний!D497","v":0},{"$f":"[7]Список_компаний!A497","v":0},{"$f":"[7]Список_компаний!H497","v":0}]
[{"$f":"[7]Список_компаний!D498","v":0},{"$f":"[7]Список_компаний!A498","v":0},{"$f":"[7]Список_компаний!H498","v":0}]
[{"$f":"[7]Список_компаний!D499","v":0},{"$f":"[7]Список_компаний!A499","v":0},{"$f":"[7]Список_компаний!H499","v":0}]
[{"$f":"[7]Список_компаний!D500","v":0},{"$f":"[7]Список_компаний!A500","v":0},{"$f":"[7]Список_компаний!H500","v":0}]
[{"$f":"[7]Список_компаний!D501","v":0},{"$f":"[7]Список_компаний!A501","v":0},{"$f":"[7]Список_компаний!H501","v":0}]
[{"$f":"[7]Список_компаний!D502","v":0},{"$f":"[7]Список_компаний!A502","v":0},{"$f":"[7]Список_компаний!H502","v":0}]
[{"$f":"[7]Список_компаний!D503","v":0},{"$f":"[7]Список_компаний!A503","v":0},{"$f":"[7]Список_компаний!H503","v":0}]
[{"$f":"[7]Список_компаний!D504","v":0},{"$f":"[7]Список_компаний!A504","v":0},{"$f":"[7]Список_компаний!H504","v":0}]
[{"$f":"[7]Список_компаний!D505","v":0},{"$f":"[7]Список_компаний!A505","v":0},{"$f":"[7]Список_компаний!H505","v":0}]
[{"$f":"[7]Список_компаний!D506","v":0},{"$f":"[7]Список_компаний!A506","v":0},{"$f":"[7]Список_компаний!H506","v":0}]
[{"$f":"[7]Список_компаний!D507","v":0},{"$f":"[7]Список_компаний!A507","v":0},{"$f":"[7]Список_компаний!H507","v":0}]
[{"$f":"[7]Список_компаний!D508","v":0},{"$f":"[7]Список_компаний!A508","v":0},{"$f":"[7]Список_компаний!H508","v":0}]
[{"$f":"[7]Список_компаний!D509","v":0},{"$f":"[7]Список_компаний!A509","v":0},{"$f":"[7]Список_компаний!H509","v":0}]
[{"$f":"[7]Список_компаний!D510","v":0},{"$f":"[7]Список_компаний!A510","v":0},{"$f":"[7]Список_компаний!H510","v":0}]
[{"$f":"[7]Список_компаний!D511","v":0},{"$f":"[7]Список_компаний!A511","v":0},{"$f":"[7]Список_компаний!H511","v":0}]
[{"$f":"[7]Список_компаний!D512","v":0},{"$f":"[7]Список_компаний!A512","v":0},{"$f":"[7]Список_компаний!H512","v":0}]
[{"$f":"[7]Список_компаний!D513","v":0},{"$f":"[7]Список_компаний!A513","v":0},{"$f":"[7]Список_компаний!H513","v":0}]
[{"$f":"[7]Список_компаний!D514","v":0},{"$f":"[7]Список_компаний!A514","v":0},{"$f":"[7]Список_компаний!H514","v":0}]
[{"$f":"[7]Список_компаний!D515","v":0},{"$f":"[7]Список_компаний!A515","v":0},{"$f":"[7]Список_компаний!H515","v":0}]
[{"$f":"[7]Список_компаний!D516","v":0},{"$f":"[7]Список_компаний!A516","v":0},{"$f":"[7]Список_компаний!H516","v":0}]
[{"$f":"[7]Список_компаний!D517","v":0},{"$f":"[7]Список_компаний!A517","v":0},{"$f":"[7]Список_компаний!H517","v":0}]
[{"$f":"[7]Список_компаний!D518","v":0},{"$f":"[7]Список_компаний!A518","v":0},{"$f":"[7]Список_компаний!H518","v":0}]
[{"$f":"[7]Список_компаний!D519","v":0},{"$f":"[7]Список_компаний!A519","v":0},{"$f":"[7]Список_компаний!H519","v":0}]
[{"$f":"[7]Список_компаний!D520","v":0},{"$f":"[7]Список_компаний!A520","v":0},{"$f":"[7]Список_компаний!H520","v":0}]
[{"$f":"[7]Список_компаний!D521","v":0},{"$f":"[7]Список_компаний!A521","v":0},{"$f":"[7]Список_компаний!H521","v":0}]
[{"$f":"[7]Список_компаний!D522","v":0},{"$f":"[7]Список_компаний!A522","v":0},{"$f":"[7]Список_компаний!H522","v":0}]
[{"$f":"[7]Список_компаний!D523","v":0},{"$f":"[7]Список_компаний!A523","v":0},{"$f":"[7]Список_компаний!H523","v":0}]
[{"$f":"[7]Список_компаний!D524","v":0},{"$f":"[7]Список_компаний!A524","v":0},{"$f":"[7]Список_компаний!H524","v":0}]
[{"$f":"[7]Список_компаний!D525","v":0},{"$f":"[7]Список_компаний!A525","v":0},{"$f":"[7]Список_компаний!H525","v":0}]
[{"$f":"[7]Список_компаний!D526","v":0},{"$f":"[7]Список_компаний!A526","v":0},{"$f":"[7]Список_компаний!H526","v":0}]
[{"$f":"[7]Список_компаний!D527","v":0},{"$f":"[7]Список_компаний!A527","v":0},{"$f":"[7]Список_компаний!H527","v":0}]
[{"$f":"[7]Список_компаний!D528","v":0},{"$f":"[7]Список_компаний!A528","v":0},{"$f":"[7]Список_компаний!H528","v":0}]
[{"$f":"[7]Список_компаний!D529","v":0},{"$f":"[7]Список_компаний!A529","v":0},{"$f":"[7]Список_компаний!H529","v":0}]
[{"$f":"[7]Список_компаний!D530","v":0},{"$f":"[7]Список_компаний!A530","v":0},{"$f":"[7]Список_компаний!H530","v":0}]
[{"$f":"[7]Список_компаний!D531","v":0},{"$f":"[7]Список_компаний!A531","v":0},{"$f":"[7]Список_компаний!H531","v":0}]
[{"$f":"[7]Список_компаний!D532","v":0},{"$f":"[7]Список_компаний!A532","v":0},{"$f":"[7]Список_компаний!H532","v":0}]
[{"$f":"[7]Список_компаний!D533","v":0},{"$f":"[7]Список_компаний!A533","v":0},{"$f":"[7]Список_компаний!H533","v":0}]
[{"$f":"[7]Список_компаний!D534","v":0},{"$f":"[7]Список_компаний!A534","v":0},{"$f":"[7]Список_компаний!H534","v":0}]
[{"$f":"[7]Список_компаний!D535","v":0},{"$f":"[7]Список_компаний!A535","v":0},{"$f":"[7]Список_компаний!H535","v":0}]
[{"$f":"[7]Список_компаний!D536","v":0},{"$f":"[7]Список_компаний!A536","v":0},{"$f":"[7]Список_компаний!H536","v":0}]
[{"$f":"[7]Список_компаний!D537","v":0},{"$f":"[7]Список_компаний!A537","v":0},{"$f":"[7]Список_компаний!H537","v":0}]
[{"$f":"[7]Список_компаний!D538","v":0},{"$f":"[7]Список_компаний!A538","v":0},{"$f":"[7]Список_компаний!H538","v":0}]
[{"$f":"[7]Список_компаний!D539","v":0},{"$f":"[7]Список_компаний!A539","v":0},{"$f":"[7]Список_компаний!H539","v":0}]
[{"$f":"[7]Список_компаний!D540","v":0},{"$f":"[7]Список_компаний!A540","v":0},{"$f":"[7]Список_компаний!H540","v":0}]
[{"$f":"[7]Список_компаний!D541","v":0},{"$f":"[7]Список_компаний!A541","v":0},{"$f":"[7]Список_компаний!H541","v":0}]
[{"$f":"[7]Список_компаний!D542","v":0},{"$f":"[7]Список_компаний!A542","v":0},{"$f":"[7]Список_компаний!H542","v":0}]
[{"$f":"[7]Список_компаний!D543","v":0},{"$f":"[7]Список_компаний!A543","v":0},{"$f":"[7]Список_компаний!H543","v":0}]
[{"$f":"[7]Список_компаний!D544","v":0},{"$f":"[7]Список_компаний!A544","v":0},{"$f":"[7]Список_компаний!H544","v":0}]
[{"$f":"[7]Список_компаний!D545","v":0},{"$f":"[7]Список_компаний!A545","v":0},{"$f":"[7]Список_компаний!H545","v":0}]
[{"$f":"[7]Список_компаний!D546","v":0},{"$f":"[7]Список_компаний!A546","v":0},{"$f":"[7]Список_компаний!H546","v":0}]
[{"$f":"[7]Список_компаний!D547","v":0},{"$f":"[7]Список_компаний!A547","v":0},{"$f":"[7]Список_компаний!H547","v":0}]
[{"$f":"[7]Список_компаний!D548","v":0},{"$f":"[7]Список_компаний!A548","v":0},{"$f":"[7]Список_компаний!H548","v":0}]
[{"$f":"[7]Список_компаний!D549","v":0},{"$f":"[7]Список_компаний!A549","v":0},{"$f":"[7]Список_компаний!H549","v":0}]
[{"$f":"[7]Список_компаний!D550","v":0},{"$f":"[7]Список_компаний!A550","v":0},{"$f":"[7]Список_компаний!H550","v":0}]
[{"$f":"[7]Список_компаний!D551","v":0},{"$f":"[7]Список_компаний!A551","v":0},{"$f":"[7]Список_компаний!H551","v":0}]
[{"$f":"[7]Список_компаний!D552","v":0},{"$f":"[7]Список_компаний!A552","v":0},{"$f":"[7]Список_компаний!H552","v":0}]
[{"$f":"[7]Список_компаний!D553","v":0},{"$f":"[7]Список_компаний!A553","v":0},{"$f":"[7]Список_компаний!H553","v":0}]
[{"$f":"[7]Список_компаний!D554","v":0},{"$f":"[7]Список_компаний!A554","v":0},{"$f":"[7]Список_компаний!H554","v":0}]
[{"$f":"[7]Список_компаний!D555","v":0},{"$f":"[7]Список_компаний!A555","v":0},{"$f":"[7]Список_компаний!H555","v":0}]
[{"$f":"[7]Список_компаний!D556","v":0},{"$f":"[7]Список_компаний!A556","v":0},{"$f":"[7]Список_компаний!H556","v":0}]
[{"$f":"[7]Список_компаний!D557","v":0},{"$f":"[7]Список_компаний!A557","v":0},{"$f":"[7]Список_компаний!H557","v":0}]
[{"$f":"[7]Список_компаний!D558","v":0},{"$f":"[7]Список_компаний!A558","v":0},{"$f":"[7]Список_компаний!H558","v":0}]

{"sheet":"Лист2","index":29,"n_rows":144,"n_cols":38,"rows_kept":144,"cut":false,"hidden":true,"merged":[]}
[null,"Версия состава собственников","Организация","Метод консолидации",null,"Индекс контроля в периоде","Дата вхождения в периметр","Валюта показателей","Чистые активы на начало периода","Чистые активы на конец периода","Чистые активы оборот","Полная доля владения на начало периода","Полная доля владения на конец периода","Полная доля владения оборот","Денежный эквивалентв ч а на начало периода","Денежный эквивалентв ч а на конец периода","Денежный эквивалентв ч а оборот","Гудвилл на начало периода","Гудвилл на конец периода","Гудвилл оборот","Инвестиции на начало периода","Инвестиции на конец периода","Инвестиции оборот","Процент привилегированных акций на начало периода","Процент привилегированных акций на конец периода","Процент привилегированных акций оборот","Период на момент приобретения","Период на момент выбытия","Сценарий на момент приобретения","Сценарий на момент выбытия","Предыдущий метод консолидации","Дата потери контроля","Валюта организации","Признак2","Группа трансформации","Тип контроля","Контролируемая доля владения","Доля прочих владельцев"]
[2010230922,"2010230922 ARAKO","ARAKO","Полная",{"$f":"VLOOKUP(A2,'Периметр АЭПК_3_кв_ 2017'!D:F,3,0)","v":"Да"},0,"01.01.0001 0:00:00",null,0,0,0,0,76.459999999999994,76.459999999999994,0,0,0,0,0,0,0,0,0,0,0,0,null,null,null,null,null,"01.01.0001 0:00:00",null,null,null,null,76.459999999999994,0]
[2010230948,"2010230948 EMSS Holdings","EMSS Holdings","Полная",{"$f":"VLOOKUP(A3,'Периметр АЭПК_3_кв_ 2017'!D:F,3,0)","v":"Да"},0,"01.01.0001 0:00:00",null,0,0,0,0,50.0002,50.0002,0,0,0,0,0,0,0,0,0,0,0,0,null,null,null,null,null,"01.01.0001 0:00:00",null,null,null,null,50,0]
[2010820100,"2010820100 Ganz","Ganz","Полная",{"$f":"VLOOKUP(A4,'Периметр АЭПК_3_кв_ 2017'!D:F,3,0)","v":"Да"},0,"01.01.0001 0:00:00",null,0,0,0,0,100,100,0,0,0,0,0,0,0,0,0,0,0,0,null,null,null,null,null,"01.01.0001 0:00:00",null,null,null,null,100,0]
[2010241200,"2010241200 INTERNEXCO","INTERNEXCO","Полная",{"$f":"VLOOKUP(A5,'Периметр АЭПК_3_кв_ 2017'!D:F,3,0)","v":"Да"},0,"01.01.0001 0:00:00",null,0,0,0,0,100,100,0,0,0,0,0,0,0,0,0,0,0,0,null,null,null,null,null,"01.01.0001 0:00:00",null,null,null,null,100,0]
[2010241000,"2010241000 INTERNEXCO GmbH (Швейцария)","INTERNEXCO GmbH (Швейцария)","Полная",{"$f":"VLOOKUP(A6,'Периметр АЭПК_3_кв_ 2017'!D:F,3,0)","v":"Да"},0,"01.01.0001 0:00:00",null,0,0,0,0,100,100,0,0,0,0,0,0,0,0,0,0,0,0,null,null,null,null,null,"01.01.0001 0:00:00",null,null,null,null,100,0]
[2010240310,"2010240310 KWINDER HOLDINGS LIMITED","KWINDER HOLDINGS LIMITED","Полная",{"$f":"VLOOKUP(A7,'Периметр АЭПК_3_кв_ 2017'!D:F,3,0)","v":"Да"},0,"01.01.0001 0:00:00",null,0,0,0,0,100,100,0,0,0,0,0,0,0,0,0,0,0,0,null,null,null,null,null,"01.01.0001 0:00:00",null,null,null,null,100,0]
[2010021600,"2010021600 Mantra Resources Ltd.","Mantra Resources Ltd.","Полная",{"$f":"VLOOKUP(A8,'Периметр АЭПК_3_кв_ 2017'!D:F,3,0)","v":"Да"},0,"01.01.0001 0:00:00",null,0,0,0,0,84.976600000000005,84.976600000000005,0,0,0,0,0,0,0,0,0,0,0,0,null,null,null,null,null,"01.01.0001 0:00:00",null,null,null,null,86.09,0]
[2010932000,"2010932000 RAOS Project","RAOS Project","Полная",{"$f":"VLOOKUP(A9,'Периметр АЭПК_3_кв_ 2017'!D:F,3,0)","v":"Да"},0,"01.01.0001 0:00:00",null,0,0,0,0,58.514600000000002,58.514600000000002,0,0,0,0,0,0,0,0,0,0,0,0,null,null,null,null,null,"01.01.0001 0:00:00",null,null,null,null,100,0]
[2010931000,"2010931000 RAOS Voima","RAOS Voima","Полная",{"$f":"VLOOKUP(A10,'Периметр АЭПК_3_кв_ 2017'!D:F,3,0)","v":"Да"},0,"01.01.0001 0:00:00",null,0,0,0,0,58.514600000000002,58.514600000000002,0,0,0,0,0,0,0,0,0,0,0,0,null,null,null,null,null,"01.01.0001 0:00:00",null,null,null,null,100,0]
[2010930000,"2010930000 REIN","REIN","Полная",{"$f":"VLOOKUP(A11,'Периметр АЭПК_3_кв_ 2017'!D:F,3,0)","v":"Да"},0,"01.01.0001 0:00:00",null,0,0,0,0,58.514600000000002,58.514600000000002,0,0,0,0,0,0,0,0,0,0,0,0,null,null,null,null,null,"01.01.0001 0:00:00",null,null,null,null,58.51,0]
[2010940000,"2010940000 ROSATOM FINANCE","ROSATOM FINANCE","Полная",{"$f":"VLOOKUP(A12,'Периметр АЭПК_3_кв_ 2017'!D:F,3,0)","v":"Да"},0,"01.01.0001 0:00:00",null,0,0,0,0,100,100,0,0,0,0,0,0,0,0,0,0,0,0,null,null,null,null,null,"01.01.0001 0:00:00",null,null,null,null,100,0]
[2010242500,"2010242500 TENAM","TENAM","Полная",{"$f":"VLOOKUP(A13,'Периметр АЭПК_3_кв_ 2017'!D:F,3,0)","v":"Да"},0,"01.01.0001 0:00:00",null,0,0,0,0,100,100,0,0,0,0,0,0,0,0,0,0,0,0,null,null,null,null,null,"01.01.0001 0:00:00",null,null,null,null,100,0]
[2010242400,"2010242400 TRADEWILL LIMITED","TRADEWILL LIMITED","Полная",{"$f":"VLOOKUP(A14,'Периметр АЭПК_3_кв_ 2017'!D:F,3,0)","v":"Да"},0,"01.01.0001 0:00:00",null,0,0,0,0,100,100,0,0,0,0,0,0,0,0,0,0,0,0,null,null,null,null,null,"01.01.0001 0:00:00",null,null,null,null,100,0]
[2010230952,"2010230952 UMP Trading","UMP Trading","Полная",{"$f":"VLOOKUP(A15,'Периметр АЭПК_3_кв_ 2017'!D:F,3,0)","v":"Да"},0,"01.01.0001 0:00:00",null,0,0,0,0,50.0002,50.0002,0,0,0,0,0,0,0,0,0,0,0,0,null,null,null,null,null,"01.01.0001 0:00:00",null,null,null,null,100,0]
[2010021500,"2010021500 Uranium","Uranium","Полная",{"$f":"VLOOKUP(A16,'Периметр АЭПК_3_кв_ 2017'!D:F,3,0)","v":"Да"},0,"01.01.0001 0:00:00",null,0,0,0,0,99.721000000000004,99.721000000000004,0,0,0,0,0,0,0,0,0,0,0,0,null,null,null,null,null,"01.01.0001 0:00:00",null,null,null,null,100,0]
[2010021200,"2010021200 Uranium One Holding N.V.","Uranium One Holding N.V.","Полная",{"$f":"VLOOKUP(A17,'Периметр АЭПК_3_кв_ 2017'!D:F,3,0)","v":"Да"},0,"01.01.0001 0:00:00",null,0,0,0,0,99.721000000000004,99.721000000000004,0,0,0,0,0,0,0,0,0,0,0,0,null,null,null,null,null,"01.01.0001 0:00:00",null,null,null,null,100,0]
[2010021506,"2010021506 Uranium One Trading AG","Uranium One Trading AG","Полная",{"$f":"VLOOKUP(A18,'Периметр АЭПК_3_кв_ 2017'!D:F,3,0)","v":"Да"},0,"01.01.0001 0:00:00",null,0,0,0,0,99.721000000000004,99.721000000000004,0,0,0,0,0,0,0,0,0,0,0,0,null,null,null,null,null,"01.01.0001 0:00:00",null,null,null,null,100,0]
[2010450108,"2010450108 Аккую Нуклеар","Аккую Нуклеар","Полная",{"$f":"VLOOKUP(A19,'Периметр АЭПК_3_кв_ 2017'!D:F,3,0)","v":"Да"},0,"01.01.0001 0:00:00",null,0,0,0,0,63.2712,63.2712,0,0,0,0,0,0,0,0,0,0,0,0,null,null,null,null,null,"01.01.0001 0:00:00",null,null,null,null,96.91,0]
[2010242201,"2010242201 АЛАБУГА-ВОЛОКНО","АЛАБУГА-ВОЛОКНО","Полная",{"$f":"VLOOKUP(A20,'Периметр АЭПК_3_кв_ 2017'!D:F,3,0)","v":"Да"},0,"01.01.0001 0:00:00",null,0,0,0,0,59.176000000000002,59.176000000000002,0,0,0,0,0,0,0,0,0,0,0,0,null,null,null,null,null,"01.01.0001 0:00:00",null,null,null,null,100,0]
[2010240800,"2010240800 Аргон","Аргон","Полная",{"$f":"VLOOKUP(A21,'Периметр АЭПК_3_кв_ 2017'!D:F,3,0)","v":"Да"},0,"01.01.0001 0:00:00",null,0,0,0,0,59.176000000000002,59.176000000000002,0,0,0,0,0,0,0,0,0,0,0,0,null,null,null,null,null,"01.01.0001 0:00:00",null,null,null,null,100,0]
[2010020000,"2010020000 АРМЗ","АРМЗ","Полная",{"$f":"VLOOKUP(A22,'Периметр АЭПК_3_кв_ 2017'!D:F,3,0)","v":"Да"},0,"01.01.0001 0:00:00",null,0,0,0,0,98.706699999999998,98.706699999999998,0,0,0,0,0,0,0,0,0,0,0,0,null,null,null,null,null,"01.01.0001 0:00:00",null,null,null,null,98.71,0]
[2010020602,"2010020602 АРМЗ-Сервис","АРМЗ-Сервис","Полная",{"$f":"VLOOKUP(A23,'Периметр АЭПК_3_кв_ 2017'!D:F,3,0)","v":"Да"},0,"01.01.0001 0:00:00",null,0,0,0,0,97.422399999999996,97.422399999999996,0,0,0,0,0,0,0,0,0,0,0,0,null,null,null,null,null,"01.01.0001 0:00:00",null,null,null,null,100,0]
[2010010000,"2010010000 АТА","АТА","Полная",{"$f":"VLOOKUP(A24,'Периметр АЭПК_3_кв_ 2017'!D:F,3,0)","v":"Да"},0,"01.01.0001 0:00:00",null,0,0,0,0,100,100,0,0,0,0,0,0,0,0,0,0,0,0,null,null,null,null,null,"01.01.0001 0:00:00",null,null,null,null,100,0]
[2010230915,"2010230915 АТМ","АТМ","Полная",{"$f":"VLOOKUP(A25,'Периметр АЭПК_3_кв_ 2017'!D:F,3,0)","v":"Да"},0,"01.01.0001 0:00:00",null,0,0,0,0,51,51,0,0,0,0,0,0,0,0,0,0,0,0,null,null,null,null,null,"01.01.0001 0:00:00",null,null,null,null,51,0]
[2010933000,"2010933000 АтомМедТехнолоджи-ДВ","АтомМедТехнолоджи-ДВ","Полная",{"$f":"VLOOKUP(A26,'Периметр АЭПК_3_кв_ 2017'!D:F,3,0)","v":"Да"},0,"01.01.0001 0:00:00",null,0,0,0,0,66.849999999999994,66.849999999999994,0,0,0,0,0,0,0,0,0,0,0,0,null,null,null,null,null,"01.01.0001 0:00:00",null,null,null,null,100,0]
[2010460000,"2010460000 АТОМПРОЕКТ","АТОМПРОЕКТ","Полная",{"$f":"VLOOKUP(A27,'Периметр АЭПК_3_кв_ 2017'!D:F,3,0)","v":"Да"},0,"01.01.0001 0:00:00",null,0,0,0,0,100,100,0,0,0,0,0,0,0,0,0,0,0,0,null,null,null,null,null,"01.01.0001 0:00:00",null,null,null,null,100,0]
[2010340000,"2010340000 Атомспецтранс","Атомспецтранс","Полная",{"$f":"VLOOKUP(A28,'Периметр АЭПК_3_кв_ 2017'!D:F,3,0)","v":"Да"},0,"01.01.0001 0:00:00",null,0,0,0,0,80.087000000000003,80.087000000000003,0,0,0,0,0,0,0,0,0,0,0,0,null,null,null,null,null,"01.01.0001 0:00:00",null,null,null,null,80.09,0]
[2010591900,"2010591900 Атомтехэкспорт","Атомтехэкспорт","Долевое участие",{"$f":"VLOOKUP(A29,'Периметр АЭПК_3_кв_ 2017'!D:F,3,0)","v":"Да"},0,"01.01.0001 0:00:00",null,0,0,0,0,45.190100000000001,45.190100000000001,0,0,0,0,0,0,0,0,0,0,0,0,null,null,null,null,null,"01.01.0001 0:00:00",null,null,null,null,51,0]
[2010350000,"2010350000 Атомтехэнерго","Атомтехэнерго","Полная",{"$f":"VLOOKUP(A30,'Периметр АЭПК_3_кв_ 2017'!D:F,3,0)","v":"Да"},0,"01.01.0001 0:00:00",null,0,0,0,0,88.350999999999999,88.350999999999999,0,0,0,0,0,0,0,0,0,0,0,0,null,null,null,null,null,"01.01.0001 0:00:00",null,null,null,null,100,0]
[2010230900,"2010230900 Атомэнергомаш","Атомэнергомаш","Полная",{"$f":"VLOOKUP(A31,'Периметр АЭПК_3_кв_ 2017'!D:F,3,0)","v":"Да"},0,"01.01.0001 0:00:00",null,0,0,0,0,100,100,0,0,0,0,0,0,0,0,0,0,0,0,null,null,null,null,null,"01.01.0001 0:00:00",null,null,null,null,100,0]
[2010591320,"2010591320 Атомэнергопромсбыт","Атомэнергопромсбыт","Полная",{"$f":"VLOOKUP(A32,'Периметр АЭПК_3_кв_ 2017'!D:F,3,0)","v":"Да"},0,"01.01.0001 0:00:00",null,0,0,0,0,100,100,0,0,0,0,0,0,0,0,0,0,0,0,null,null,null,null,null,"01.01.0001 0:00:00",null,null,null,null,100,0]
[2010590700,"2010590700 Атомэнергоремонт","Атомэнергоремонт","Полная",{"$f":"VLOOKUP(A33,'Периметр АЭПК_3_кв_ 2017'!D:F,3,0)","v":"Да"},0,"01.01.0001 0:00:00",null,0,0,0,0,88.350999999999999,88.350999999999999,0,0,0,0,0,0,0,0,0,0,0,0,null,null,null,null,null,"01.01.0001 0:00:00",null,null,null,null,100,0]
[2010591300,"2010591300 Атомэнергосбыт","Атомэнергосбыт","Полная",{"$f":"VLOOKUP(A34,'Периметр АЭПК_3_кв_ 2017'!D:F,3,0)","v":"Да"},0,"01.01.0001 0:00:00",null,0,0,0,0,88.350999999999999,88.350999999999999,0,0,0,0,0,0,0,0,0,0,0,0,null,null,null,null,null,"01.01.0001 0:00:00",null,null,null,null,100,0]
[6090010000,"6090010000 АЭМ-активы","АЭМ-активы","Не консолидируется",{"$f":"VLOOKUP(A35,'Периметр АЭПК_3_кв_ 2017'!D:F,3,0)","v":"Ликвидирован"},0,"01.01.0001 0:00:00",null,0,0,0,0,0,0,0,0,0,0,0,0,0,0,0,0,0,0,null,null,null,null,null,"01.01.0001 0:00:00",null,null,null,null,0,0]
[2010230902,"2010230902 АЭМ-лизинг","АЭМ-лизинг","Полная",{"$f":"VLOOKUP(A36,'Периметр АЭПК_3_кв_ 2017'!D:F,3,0)","v":"Да"},0,"01.01.0001 0:00:00",null,0,0,0,0,100,100,0,0,0,0,0,0,0,0,0,0,0,0,null,null,null,null,null,"01.01.0001 0:00:00",null,null,null,null,100,0]
[2010230904,"2010230904 АЭМ-технологии","АЭМ-технологии","Полная",{"$f":"VLOOKUP(A37,'Периметр АЭПК_3_кв_ 2017'!D:F,3,0)","v":"Да"},0,"01.01.0001 0:00:00",null,0,0,0,0,100,100,0,0,0,0,0,0,0,0,0,0,0,0,null,null,null,null,null,"01.01.0001 0:00:00",null,null,null,null,100,0]
[2010000000,"2010000000 АЭПК","АЭПК","Полная",{"$f":"VLOOKUP(A38,'Периметр АЭПК_3_кв_ 2017'!D:F,3,0)","v":"Да"},0,"01.01.0001 0:00:00",null,0,0,0,0,100,100,0,0,0,0,0,0,0,0,0,0,0,0,null,null,null,null,null,"01.01.0001 0:00:00",null,null,null,null,0,0]
[2010370000,"2010370000 АЭХК","АЭХК","Полная",{"$f":"VLOOKUP(A39,'Периметр АЭПК_3_кв_ 2017'!D:F,3,0)","v":"Да"},0,"01.01.0001 0:00:00",null,0,0,0,0,100,100,0,0,0,0,0,0,0,0,0,0,0,0,null,null,null,null,null,"01.01.0001 0:00:00",null,null,null,null,100,0]
[2010592100,"2010592100 Балтийская АЭС","Балтийская АЭС","Полная",{"$f":"VLOOKUP(A40,'Периметр АЭПК_3_кв_ 2017'!D:F,3,0)","v":"Да"},0,"01.01.0001 0:00:00",null,0,0,0,0,88.350999999999999,88.350999999999999,0,0,0,0,0,0,0,0,0,0,0,0,null,null,null,null,null,"01.01.0001 0:00:00",null,null,null,null,100,0]
[2010050000,"2010050000 Вента","Вента","Полная",{"$f":"VLOOKUP(A41,'Периметр АЭПК_3_кв_ 2017'!D:F,3,0)","v":"Да"},0,"01.01.0001 0:00:00",null,0,0,0,0,74.84,74.84,0,0,0,0,0,0,0,0,0,0,0,0,null,null,null,null,null,"01.01.0001 0:00:00",null,null,null,null,74.84,0]
[2010230956,"2010230956 ВетроОГК","ВетроОГК","Полная",{"$f":"VLOOKUP(A42,'Периметр АЭПК_3_кв_ 2017'!D:F,3,0)","v":"Да"},0,"01.01.0001 0:00:00",null,0,0,0,0,100,100,0,0,0,0,0,0,0,0,0,0,0,0,null,null,null,null,null,"01.01.0001 0:00:00",null,null,null,null,100,0]
[2010390000,"2010390000 ВНИИАМ (АЭПК)","ВНИИАМ (АЭПК)","Полная",{"$f":"VLOOKUP(A43,'Периметр АЭПК_3_кв_ 2017'!D:F,3,0)","v":"Да"},0,"01.01.0001 0:00:00",null,0,0,0,0,74.84,74.84,0,0,0,0,0,0,0,0,0,0,0,0,null,null,null,null,null,"01.01.0001 0:00:00",null,null,null,null,74.84,0]
[2010591800,"2010591800 ВНИИАЭС","ВНИИАЭС","Полная",{"$f":"VLOOKUP(A44,'Периметр АЭПК_3_кв_ 2017'!D:F,3,0)","v":"Да"},0,"01.01.0001 0:00:00",null,0,0,0,0,66.265000000000001,66.265000000000001,0,0,0,0,0,0,0,0,0,0,0,0,null,null,null,null,null,"01.01.0001 0:00:00",null,null,null,null,75,0]
[2010400000,"2010400000 ВНИИНМ","ВНИИНМ","Полная",{"$f":"VLOOKUP(A45,'Периметр АЭПК_3_кв_ 2017'!D:F,3,0)","v":"Да"},0,"01.01.0001 0:00:00",null,0,0,0,0,88.182100000000005,88.182100000000005,0,0,0,0,0,0,0,0,0,0,0,0,null,null,null,null,null,"01.01.0001 0:00:00",null,null,null,null,88.18,0]
[2010420000,"2010420000 ВНИИХТ","ВНИИХТ","Полная",{"$f":"VLOOKUP(A46,'Периметр АЭПК_3_кв_ 2017'!D:F,3,0)","v":"Да"},0,"01.01.0001 0:00:00",null,0,0,0,0,96.754599999999996,96.754599999999996,0,0,0,0,0,0,0,0,0,0,0,0,null,null,null,null,null,"01.01.0001 0:00:00",null,null,null,null,96.75,0]
[2010430000,"2010430000 ВНИПИПромтехнологии","ВНИПИПромтехнологии","Полная",{"$f":"VLOOKUP(A47,'Периметр АЭПК_3_кв_ 2017'!D:F,3,0)","v":"Да"},0,"01.01.0001 0:00:00",null,0,0,0,0,98.706699999999998,98.706699999999998,0,0,0,0,0,0,0,0,0,0,0,0,null,null,null,null,null,"01.01.0001 0:00:00",null,null,null,null,100,0]
[2010710000,"2010710000 Гидропресс","Гидропресс","Полная",{"$f":"VLOOKUP(A48,'Периметр АЭПК_3_кв_ 2017'!D:F,3,0)","v":"Да"},0,"01.01.0001 0:00:00",null,0,0,0,0,99.876599999999996,99.876599999999996,0,0,0,0,0,0,0,0,0,0,0,0,null,null,null,null,null,"01.01.0001 0:00:00",null,null,null,null,99.88,0]
[2010470000,"2010470000 Гиредмет","Гиредмет","Полная",{"$f":"VLOOKUP(A49,'Периметр АЭПК_3_кв_ 2017'!D:F,3,0)","v":"Да"},0,"01.01.0001 0:00:00",null,0,0,0,0,90.756200000000007,90.756200000000007,0,0,0,0,0,0,0,0,0,0,0,0,null,null,null,null,null,"01.01.0001 0:00:00",null,null,null,null,94.48,0]
[2010900000,"2010900000 Гринатом","Гринатом","Полная",{"$f":"VLOOKUP(A50,'Периметр АЭПК_3_кв_ 2017'!D:F,3,0)","v":"Да"},0,"01.01.0001 0:00:00",null,0,0,0,0,100,100,0,0,0,0,0,0,0,0,0,0,0,0,null,null,null,null,null,"01.01.0001 0:00:00",null,null,null,null,100,0]
[2010500000,"2010500000 ГСПИ","ГСПИ","Полная",{"$f":"VLOOKUP(A51,'Периметр АЭПК_3_кв_ 2017'!D:F,3,0)","v":"Да"},0,"01.01.0001 0:00:00",null,0,0,0,0,100,100,0,0,0,0,0,0,0,0,0,0,0,0,null,null,null,null,null,"01.01.0001 0:00:00",null,null,null,null,100,0]
[2010230800,"2010230800 Далур","Далур","Полная",{"$f":"VLOOKUP(A52,'Периметр АЭПК_3_кв_ 2017'!D:F,3,0)","v":"Да"},0,"01.01.0001 0:00:00",null,0,0,0,0,97.611099999999993,97.611099999999993,0,0,0,0,0,0,0,0,0,0,0,0,null,null,null,null,null,"01.01.0001 0:00:00",null,null,null,null,98.89,0]
[2010510000,"2010510000 Дедал","Дедал","Полная",{"$f":"VLOOKUP(A53,'Периметр АЭПК_3_кв_ 2017'!D:F,3,0)","v":"Да"},0,"01.01.0001 0:00:00",null,0,0,0,0,100,100,0,0,0,0,0,0,0,0,0,0,0,0,null,null,null,null,null,"01.01.0001 0:00:00",null,null,null,null,100,0]
[2010890000,"2010890000 ДЕЗ","ДЕЗ","Полная",{"$f":"VLOOKUP(A54,'Периметр АЭПК_3_кв_ 2017'!D:F,3,0)","v":"Да"},0,"01.01.0001 0:00:00",null,0,0,0,0,100,100,0,0,0,0,0,0,0,0,0,0,0,0,null,null,null,null,null,"01.01.0001 0:00:00",null,null,null,null,100,0]
[2010551000,"2010551000 ЖТЭЦ","ЖТЭЦ","Полная",{"$f":"VLOOKUP(A55,'Периметр АЭПК_3_кв_ 2017'!D:F,3,0)","v":"Да"},0,"01.01.0001 0:00:00",null,0,0,0,0,100,100,0,0,0,0,0,0,0,0,0,0,0,0,null,null,null,null,null,"01.01.0001 0:00:00",null,null,null,null,100,0]
[2010450000,"2010450000 ЗАЭС","ЗАЭС","Полная",{"$f":"VLOOKUP(A56,'Периметр АЭПК_3_кв_ 2017'!D:F,3,0)","v":"Да"},0,"01.01.0001 0:00:00",null,0,0,0,0,88.350999999999999,88.350999999999999,0,0,0,0,0,0,0,0,0,0,0,0,null,null,null,null,null,"01.01.0001 0:00:00",null,null,null,null,100,0]
[2010230918,"2010230918 ЗиО-Подольск","ЗиО-Подольск","Полная",{"$f":"VLOOKUP(A57,'Периметр АЭПК_3_кв_ 2017'!D:F,3,0)","v":"Да"},0,"01.01.0001 0:00:00",null,0,0,0,0,99.520600000000002,99.520600000000002,0,0,0,0,0,0,0,0,0,0,0,0,null,null,null,null,null,"01.01.0001 0:00:00",null,null,null,null,99.52,0]
[2010230917,"2010230917 ЗИОМАР","ЗИОМАР","Полная",{"$f":"VLOOKUP(A58,'Периметр АЭПК_3_кв_ 2017'!D:F,3,0)","v":"Да"},0,"01.01.0001 0:00:00",null,0,0,0,0,100,100,0,0,0,0,0,0,0,0,0,0,0,0,null,null,null,null,null,"01.01.0001 0:00:00",null,null,null,null,100,0]
[2010241600,"2010241600 ЗУКМ","ЗУКМ","Полная",{"$f":"VLOOKUP(A59,'Периметр АЭПК_3_кв_ 2017'!D:F,3,0)","v":"Да"},0,"01.01.0001 0:00:00",null,0,0,0,0,59.170099999999998,59.170099999999998,0,0,0,0,0,0,0,0,0,0,0,0,null,null,null,null,null,"01.01.0001 0:00:00",null,null,null,null,100,0]
[2010540000,"2010540000 ИРМ","ИРМ","Полная",{"$f":"VLOOKUP(A60,'Периметр АЭПК_3_кв_ 2017'!D:F,3,0)","v":"Да"},0,"01.01.0001 0:00:00",null,0,0,0,0,93.071799999999996,93.071799999999996,0,0,0,0,0,0,0,0,0,0,0,0,null,null,null,null,null,"01.01.0001 0:00:00",null,null,null,null,93.07,0]
[2010230001,"2010230001 Искра","Искра","Полная",{"$f":"VLOOKUP(A61,'Периметр АЭПК_3_кв_ 2017'!D:F,3,0)","v":"Да"},0,"01.01.0001 0:00:00",null,0,0,0,0,99.998999999999995,99.998999999999995,0,0,0,0,0,0,0,0,0,0,0,0,null,null,null,null,null,"01.01.0001 0:00:00",null,null,null,null,100,0]
[2010242300,"2010242300 ИЦ РГЦ","ИЦ РГЦ","Полная",{"$f":"VLOOKUP(A62,'Периметр АЭПК_3_кв_ 2017'!D:F,3,0)","v":"Да"},0,"01.01.0001 0:00:00",null,0,0,0,0,100,100,0,0,0,0,0,0,0,0,0,0,0,0,null,null,null,null,null,"01.01.0001 0:00:00",null,null,null,null,100,0]
[2010240600,"2010240600 КМЗ","КМЗ","Полная",{"$f":"VLOOKUP(A63,'Периметр АЭПК_3_кв_ 2017'!D:F,3,0)","v":"Да"},0,"01.01.0001 0:00:00",null,0,0,0,0,94.201899999999995,94.201899999999995,0,0,0,0,0,0,0,0,0,0,0,0,null,null,null,null,null,"01.01.0001 0:00:00",null,null,null,null,94.2,0]
[2010590317,"2010590317 Консист-ОС","Консист-ОС","Полная",{"$f":"VLOOKUP(A64,'Периметр АЭПК_3_кв_ 2017'!D:F,3,0)","v":"Да"},0,"01.01.0001 0:00:00",null,0,0,0,0,88.350999999999999,88.350999999999999,0,0,0,0,0,0,0,0,0,0,0,0,null,null,null,null,null,"01.01.0001 0:00:00",null,null,null,null,100,0]
[2010600000,"2010600000 Красная Звезда","Красная Звезда","Полная",{"$f":"VLOOKUP(A65,'Периметр АЭПК_3_кв_ 2017'!D:F,3,0)","v":"Да"},0,"01.01.0001 0:00:00",null,0,0,0,0,94.688100000000006,94.688100000000006,0,0,0,0,0,0,0,0,0,0,0,0,null,null,null,null,null,"01.01.0001 0:00:00",null,null,null,null,94.69,0]
[2010241100,"2010241100 Краун","Краун","Полная",{"$f":"VLOOKUP(A66,'Периметр АЭПК_3_кв_ 2017'!D:F,3,0)","v":"Да"},0,"01.01.0001 0:00:00",null,0,0,0,0,99.999799999999993,99.999799999999993,0,0,0,0,0,0,0,0,0,0,0,0,null,null,null,null,null,"01.01.0001 0:00:00",null,null,null,null,100,0]
[2010231300,"2010231300 КЦ","КЦ","Полная",{"$f":"VLOOKUP(A67,'Периметр АЭПК_3_кв_ 2017'!D:F,3,0)","v":"Да"},0,"01.01.0001 0:00:00",null,0,0,0,0,97.82,97.82,0,0,0,0,0,0,0,0,0,0,0,0,null,null,null,null,null,"01.01.0001 0:00:00",null,null,null,null,97.82,0]
[2010242601,"2010242601 ЛЗ Петрозаводскмаш","ЛЗ Петрозаводскмаш","Полная",{"$f":"VLOOKUP(A68,'Периметр АЭПК_3_кв_ 2017'!D:F,3,0)","v":"Да"},0,"01.01.0001 0:00:00",null,0,0,0,0,100,100,0,0,0,0,0,0,0,0,0,0,0,0,null,null,null,null,null,"01.01.0001 0:00:00",null,null,null,null,100,0]
[2010100000,"2010100000 МЗП","МЗП","Полная",{"$f":"VLOOKUP(A69,'Периметр АЭПК_3_кв_ 2017'!D:F,3,0)","v":"Да"},0,"01.01.0001 0:00:00",null,0,0,0,0,100,100,0,0,0,0,0,0,0,0,0,0,0,0,null,null,null,null,null,"01.01.0001 0:00:00",null,null,null,null,100,0]
[2010740000,"2010740000 Молния","Молния","Полная",{"$f":"VLOOKUP(A70,'Периметр АЭПК_3_кв_ 2017'!D:F,3,0)","v":"Да"},0,"01.01.0001 0:00:00",null,0,0,0,0,100,100,0,0,0,0,0,0,0,0,0,0,0,0,null,null,null,null,null,"01.01.0001 0:00:00",null,null,null,null,100,0]
[2010230100,"2010230100 МСЗ","МСЗ","Полная",{"$f":"VLOOKUP(A71,'Периметр АЭПК_3_кв_ 2017'!D:F,3,0)","v":"Да"},0,"01.01.0001 0:00:00",null,0,0,0,0,75.3947,75.3947,0,0,0,0,0,0,0,0,0,0,0,0,null,null,null,null,null,"01.01.0001 0:00:00",null,null,null,null,75.39,0]
[2010230115,"2010230115 МСЗ-М","МСЗ-М","Полная",{"$f":"VLOOKUP(A72,'Периметр АЭПК_3_кв_ 2017'!D:F,3,0)","v":"Да"},0,"01.01.0001 0:00:00",null,0,0,0,0,75.3947,75.3947,0,0,0,0,0,0,0,0,0,0,0,0,null,null,null,null,null,"01.01.0001 0:00:00",null,null,null,null,100,0]
[4010000100,"4010000100 Наука и инновации","Наука и инновации","Полная",{"$f":"VLOOKUP(A73,'Периметр АЭПК_3_кв_ 2017'!D:F,3,0)","v":"Да"},0,"01.01.0001 0:00:00",null,0,0,0,0,100,100,0,0,0,0,0,0,0,0,0,0,0,0,null,null,null,null,null,"01.01.0001 0:00:00",null,null,null,null,100,0]
[2010230200,"2010230200 НЗХК","НЗХК","Полная",{"$f":"VLOOKUP(A74,'Периметр АЭПК_3_кв_ 2017'!D:F,3,0)","v":"Да"},0,"01.01.0001 0:00:00",null,0,0,0,0,88.509,88.509,0,0,0,0,0,0,0,0,0,0,0,0,null,null,null,null,null,"01.01.0001 0:00:00",null,null,null,null,88.51,0]
[2010230207,"2010230207 НЗХК-Инструмент","НЗХК-Инструмент","Полная",{"$f":"VLOOKUP(A75,'Периметр АЭПК_3_кв_ 2017'!D:F,3,0)","v":"Да"},0,"01.01.0001 0:00:00",null,0,0,0,0,88.509,88.509,0,0,0,0,0,0,0,0,0,0,0,0,null,null,null,null,null,"01.01.0001 0:00:00",null,null,null,null,100,0]
[2010230210,"2010230210 НЗХК-Энергия","НЗХК-Энергия","Полная",{"$f":"VLOOKUP(A76,'Периметр АЭПК_3_кв_ 2017'!D:F,3,0)","v":"Да"},0,"01.01.0001 0:00:00",null,0,0,0,0,88.509,88.509,0,0,0,0,0,0,0,0,0,0,0,0,null,null,null,null,null,"01.01.0001 0:00:00",null,null,null,null,100,0]
[2010480000,"2010480000 НИИАР","НИИАР","Полная",{"$f":"VLOOKUP(A77,'Периметр АЭПК_3_кв_ 2017'!D:F,3,0)","v":"Да"},0,"01.01.0001 0:00:00",null,0,0,0,0,52.614600000000003,52.614600000000003,0,0,0,0,0,0,0,0,0,0,0,0,null,null,null,null,null,"01.01.0001 0:00:00",null,null,null,null,52.61,0]
[2010970000,"2010970000 НИИАР-Генерация","НИИАР-Генерация","Полная",{"$f":"VLOOKUP(A78,'Периметр АЭПК_3_кв_ 2017'!D:F,3,0)","v":"Да"},0,"01.01.0001 0:00:00",null,0,0,0,0,52.614600000000003,52.614600000000003,0,0,0,0,0,0,0,0,0,0,0,0,null,null,null,null,null,"01.01.0001 0:00:00",null,null,null,null,100,0]
[2010630000,"2010630000 НИИГрафит","НИИГрафит","Полная",{"$f":"VLOOKUP(A79,'Периметр АЭПК_3_кв_ 2017'!D:F,3,0)","v":"Да"},0,"01.01.0001 0:00:00",null,0,0,0,0,77.260000000000005,77.260000000000005,0,0,0,0,0,0,0,0,0,0,0,0,null,null,null,null,null,"01.01.0001 0:00:00",null,null,null,null,77.260000000000005,0]
[2010550000,"2010550000 НИКИМТ-Атомстрой","НИКИМТ-Атомстрой","Полная",{"$f":"VLOOKUP(A80,'Периметр АЭПК_3_кв_ 2017'!D:F,3,0)","v":"Да"},0,"01.01.0001 0:00:00",null,0,0,0,0,100,100,0,0,0,0,0,0,0,0,0,0,0,0,null,null,null,null,null,"01.01.0001 0:00:00",null,null,null,null,100,0]
[2010650000,"2010650000 НИКИЭТ","НИКИЭТ","Полная",{"$f":"VLOOKUP(A81,'Периметр АЭПК_3_кв_ 2017'!D:F,3,0)","v":"Да"},0,"01.01.0001 0:00:00",null,0,0,0,0,59.854100000000003,59.854100000000003,0,0,0,0,0,0,0,0,0,0,0,0,null,null,null,null,null,"01.01.0001 0:00:00",null,null,null,null,59.85,0]
[2010241900,"2010241900 ННКЦ","ННКЦ","Полная",{"$f":"VLOOKUP(A82,'Периметр АЭПК_3_кв_ 2017'!D:F,3,0)","v":"Да"},0,"01.01.0001 0:00:00",null,0,0,0,0,100,100,0,0,0,0,0,0,0,0,0,0,0,0,null,null,null,null,null,"01.01.0001 0:00:00",null,null,null,null,100,0]
[2010242200,"2010242200 НПК ХПИ","НПК ХПИ","Полная",{"$f":"VLOOKUP(A83,'Периметр АЭПК_3_кв_ 2017'!D:F,3,0)","v":"Да"},0,"01.01.0001 0:00:00",null,0,0,0,0,59.176000000000002,59.176000000000002,0,0,0,0,0,0,0,0,0,0,0,0,null,null,null,null,null,"01.01.0001 0:00:00",null,null,null,null,59.18,0]
[2010241800,"2010241800 НПО Центротех","НПО Центротех","Полная",{"$f":"VLOOKUP(A84,'Периметр АЭПК_3_кв_ 2017'!D:F,3,0)","v":"Да"},0,"01.01.0001 0:00:00",null,0,0,0,0,100,100,0,0,0,0,0,0,0,0,0,0,0,0,null,null,null,null,null,"01.01.0001 0:00:00",null,null,null,null,100,0]
[2010690000,"2010690000 НТЦ ЯФИ","НТЦ ЯФИ","Полная",{"$f":"VLOOKUP(A85,'Периметр АЭПК_3_кв_ 2017'!D:F,3,0)","v":"Да"},0,"01.01.0001 0:00:00",null,0,0,0,0,100,100,0,0,0,0,0,0,0,0,0,0,0,0,null,null,null,null,null,"01.01.0001 0:00:00",null,null,null,null,100,0]
[2010150000,"2010150000 Обесп РФЯЦ-ВНИИЭФ","Обесп РФЯЦ-ВНИИЭФ","Полная",{"$f":"VLOOKUP(A86,'Периметр АЭПК_3_кв_ 2017'!D:F,3,0)","v":"Да"},0,"01.01.0001 0:00:00",null,0,0,0,0,100,100,0,0,0,0,0,0,0,0,0,0,0,0,null,null,null,null,null,"01.01.0001 0:00:00",null,null,null,null,100,0]
[2010780500,"2010780500 ОДЦ УГР","ОДЦ УГР","Полная",{"$f":"VLOOKUP(A87,'Периметр АЭПК_3_кв_ 2017'!D:F,3,0)","v":"Да"},0,"01.01.0001 0:00:00",null,0,0,0,0,100,100,0,0,0,0,0,0,0,0,0,0,0,0,null,null,null,null,null,"01.01.0001 0:00:00",null,null,null,null,100,0]
[2010700000,"2010700000 ОЗТМиТС","ОЗТМиТС","Полная",{"$f":"VLOOKUP(A88,'Периметр АЭПК_3_кв_ 2017'!D:F,3,0)","v":"Да"},0,"01.01.0001 0:00:00",null,0,0,0,0,100,100,0,0,0,0,0,0,0,0,0,0,0,0,null,null,null,null,null,"01.01.0001 0:00:00",null,null,null,null,100,0]
[2010910000,"2010910000 ОИК","ОИК","Полная",{"$f":"VLOOKUP(A89,'Периметр АЭПК_3_кв_ 2017'!D:F,3,0)","v":"Да"},0,"01.01.0001 0:00:00",null,0,0,0,0,66.849999999999994,66.849999999999994,0,0,0,0,0,0,0,0,0,0,0,0,null,null,null,null,null,"01.01.0001 0:00:00",null,null,null,null,66.849999999999994,0]
[2010860000,"2010860000 ОК РСК","ОК РСК","Полная",{"$f":"VLOOKUP(A90,'Периметр АЭПК_3_кв_ 2017'!D:F,3,0)","v":"Да"},0,"01.01.0001 0:00:00",null,0,0,0,0,100,100,0,0,0,0,0,0,0,0,0,0,0,0,null,null,null,null,null,"01.01.0001 0:00:00",null,null,null,null,100,0]
[2010720000,"2010720000 ОКБМ","ОКБМ","Полная",{"$f":"VLOOKUP(A91,'Периметр АЭПК_3_кв_ 2017'!D:F,3,0)","v":"Да"},0,"01.01.0001 0:00:00",null,0,0,0,0,62.154600000000002,62.154600000000002,0,0,0,0,0,0,0,0,0,0,0,0,null,null,null,null,null,"01.01.0001 0:00:00",null,null,null,null,62.15,0]
[2010920000,"2010920000 ОТЭК","ОТЭК","Полная",{"$f":"VLOOKUP(A92,'Периметр АЭПК_3_кв_ 2017'!D:F,3,0)","v":"Да"},0,"01.01.0001 0:00:00",null,0,0,0,0,95.186400000000006,95.186400000000006,0,0,0,0,0,0,0,0,0,0,0,0,null,null,null,null,null,"01.01.0001 0:00:00",null,null,null,null,100,0]
[2010230400,"2010230400 ППГХО","ППГХО","Полная",{"$f":"VLOOKUP(A93,'Периметр АЭПК_3_кв_ 2017'!D:F,3,0)","v":"Да"},0,"01.01.0001 0:00:00",null,0,0,0,0,93.682500000000005,93.682500000000005,0,0,0,0,0,0,0,0,0,0,0,0,null,null,null,null,null,"01.01.0001 0:00:00",null,null,null,null,94.91,0]
[2010231200,"2010231200 Промышленные инновации","Промышленные инновации","Полная",{"$f":"VLOOKUP(A94,'Периметр АЭПК_3_кв_ 2017'!D:F,3,0)","v":"Да"},0,"01.01.0001 0:00:00",null,0,0,0,0,100,100,0,0,0,0,0,0,0,0,0,0,0,0,null,null,null,null,null,"01.01.0001 0:00:00",null,null,null,null,100,0]
[2010592000,"2010592000 ПСР","ПСР","Полная",{"$f":"VLOOKUP(A95,'Периметр АЭПК_3_кв_ 2017'!D:F,3,0)","v":"Да"},0,"01.01.0001 0:00:00",null,0,0,0,0,100,100,0,0,0,0,0,0,0,0,0,0,0,0,null,null,null,null,null,"01.01.0001 0:00:00",null,null,null,null,100,0]
[2010230912,"2010230912 РАОС","РАОС","Полная",{"$f":"VLOOKUP(A96,'Периметр АЭПК_3_кв_ 2017'!D:F,3,0)","v":"Да"},0,"01.01.0001 0:00:00",null,0,0,0,0,100,100,0,0,0,0,0,0,0,0,0,0,0,0,null,null,null,null,null,"01.01.0001 0:00:00",null,null,null,null,100,0]
[2010990000,"2010990000 РАСУ","РАСУ","Полная",{"$f":"VLOOKUP(A97,'Периметр АЭПК_3_кв_ 2017'!D:F,3,0)","v":"Да"},0,"01.01.0001 0:00:00",null,0,0,0,0,100,100,0,0,0,0,0,0,0,0,0,0,0,0,null,null,null,null,null,"01.01.0001 0:00:00",null,null,null,null,100,0]
[2010020600,"2010020600 РБМ","РБМ","Полная",{"$f":"VLOOKUP(A98,'Периметр АЭПК_3_кв_ 2017'!D:F,3,0)","v":"Да"},0,"01.01.0001 0:00:00",null,0,0,0,0,98.706699999999998,98.706699999999998,0,0,0,0,0,0,0,0,0,0,0,0,null,null,null,null,null,"01.01.0001 0:00:00",null,null,null,null,100,0]
[2010590000,"2010590000 Росэнергоатом","Росэнергоатом","Полная",{"$f":"VLOOKUP(A99,'Периметр АЭПК_3_кв_ 2017'!D:F,3,0)","v":"Да"},0,"01.01.0001 0:00:00",null,0,0,0,0,88.350999999999999,88.350999999999999,0,0,0,0,0,0,0,0,0,0,0,0,null,null,null,null,null,"01.01.0001 0:00:00",null,null,null,null,88.35,0]
[2010592200,"2010592200 Русатом Сервис","Русатом Сервис","Полная",{"$f":"VLOOKUP(A100,'Периметр АЭПК_3_кв_ 2017'!D:F,3,0)","v":"Да"},0,"01.01.0001 0:00:00",null,0,0,0,0,88.608000000000004,88.608000000000004,0,0,0,0,0,0,0,0,0,0,0,0,null,null,null,null,null,"01.01.0001 0:00:00",null,null,null,null,100,0]
[2010991000,"2010991000 Русреактор","Русреактор","Полная",{"$f":"VLOOKUP(A101,'Периметр АЭПК_3_кв_ 2017'!D:F,3,0)","v":"Да"},0,"01.01.0001 0:00:00",null,0,0,0,0,100,100,0,0,0,0,0,0,0,0,0,0,0,0,null,null,null,null,null,"01.01.0001 0:00:00",null,null,null,null,100,0]
[2011000000,"2011000000 РХК","РХК","Полная",{"$f":"VLOOKUP(A102,'Периметр АЭПК_3_кв_ 2017'!D:F,3,0)","v":"Да"},0,"01.01.0001 0:00:00",null,0,0,0,0,100,100,0,0,0,0,0,0,0,0,0,0,0,0,null,null,null,null,null,"01.01.0001 0:00:00",null,null,null,null,100,0]
[2010230911,"2010230911 РЭМКО","РЭМКО","Полная",{"$f":"VLOOKUP(A103,'Периметр АЭПК_3_кв_ 2017'!D:F,3,0)","v":"Да"},0,"01.01.0001 0:00:00",null,0,0,0,0,100,100,0,0,0,0,0,0,0,0,0,0,0,0,null,null,null,null,null,"01.01.0001 0:00:00",null,null,null,null,100,0]
[2010230916,"2010230916 Сайпрус","Сайпрус","Полная",{"$f":"VLOOKUP(A104,'Периметр АЭПК_3_кв_ 2017'!D:F,3,0)","v":"Да"},0,"01.01.0001 0:00:00",null,0,0,0,0,100,100,0,0,0,0,0,0,0,0,0,0,0,0,null,null,null,null,null,"01.01.0001 0:00:00",null,null,null,null,100,0]
[2010200000,"2010200000 СвердНИИхиммаш","СвердНИИхиммаш","Полная",{"$f":"VLOOKUP(A105,'Периметр АЭПК_3_кв_ 2017'!D:F,3,0)","v":"Да"},0,"01.01.0001 0:00:00",null,0,0,0,0,91.670199999999994,91.670199999999994,0,0,0,0,0,0,0,0,0,0,0,0,null,null,null,null,null,"01.01.0001 0:00:00",null,null,null,null,92.02,0]
[2010150300,"2010150300 СГК","СГК","Полная",{"$f":"VLOOKUP(A106,'Периметр АЭПК_3_кв_ 2017'!D:F,3,0)","v":"Да"},0,"01.01.0001 0:00:00",null,0,0,0,0,100,100,0,0,0,0,0,0,0,0,0,0,0,0,null,null,null,null,null,"01.01.0001 0:00:00",null,null,null,null,100,0]
[2010550001,"2010550001 СЕТЕС","СЕТЕС","Полная",{"$f":"VLOOKUP(A107,'Периметр АЭПК_3_кв_ 2017'!D:F,3,0)","v":"Да"},0,"01.01.0001 0:00:00",null,0,0,0,0,100,100,0,0,0,0,0,0,0,0,0,0,0,0,null,null,null,null,null,"01.01.0001 0:00:00",null,null,null,null,100,0]
[2010992000,"2010992000 СМБ","СМБ","Полная",{"$f":"VLOOKUP(A108,'Периметр АЭПК_3_кв_ 2017'!D:F,3,0)","v":"Да"},0,"01.01.0001 0:00:00",null,0,0,0,0,100,100,0,0,0,0,0,0,0,0,0,0,0,0,null,null,null,null,null,"01.01.0001 0:00:00",null,null,null,null,100,0]
[2010660000,"2010660000 СНИИП","СНИИП","Полная",{"$f":"VLOOKUP(A109,'Периметр АЭПК_3_кв_ 2017'!D:F,3,0)","v":"Да"},0,"01.01.0001 0:00:00",null,0,0,0,0,100,100,0,0,0,0,0,0,0,0,0,0,0,0,null,null,null,null,null,"01.01.0001 0:00:00",null,null,null,null,100,0]
[2010750000,"2010750000 СПб ИЗОТОП","СПб ИЗОТОП","Полная",{"$f":"VLOOKUP(A110,'Периметр АЭПК_3_кв_ 2017'!D:F,3,0)","v":"Да"},0,"01.01.0001 0:00:00",null,0,0,0,0,100,100,0,0,0,0,0,0,0,0,0,0,0,0,null,null,null,null,null,"01.01.0001 0:00:00",null,null,null,null,100,0]
[2010150200,"2010150200 СТСК","СТСК","Полная",{"$f":"VLOOKUP(A111,'Периметр АЭПК_3_кв_ 2017'!D:F,3,0)","v":"Да"},0,"01.01.0001 0:00:00",null,0,0,0,0,100,100,0,0,0,0,0,0,0,0,0,0,0,0,null,null,null,null,null,"01.01.0001 0:00:00",null,null,null,null,100,0]
[2010780000,"2010780000 СХК","СХК","Полная",{"$f":"VLOOKUP(A112,'Периметр АЭПК_3_кв_ 2017'!D:F,3,0)","v":"Да"},0,"01.01.0001 0:00:00",null,0,0,0,0,97.860900000000001,97.860900000000001,0,0,0,0,0,0,0,0,0,0,0,0,null,null,null,null,null,"01.01.0001 0:00:00",null,null,null,null,97.86,0]
[2010230000,"2010230000 ТВЭЛ","ТВЭЛ","Полная",{"$f":"VLOOKUP(A113,'Периметр АЭПК_3_кв_ 2017'!D:F,3,0)","v":"Да"},0,"01.01.0001 0:00:00",null,0,0,0,0,100,100,0,0,0,0,0,0,0,0,0,0,0,0,null,null,null,null,null,"01.01.0001 0:00:00",null,null,null,null,100,0]
[2010231100,"2010231100 ТВЭЛ-Строй","ТВЭЛ-Строй","Полная",{"$f":"VLOOKUP(A114,'Периметр АЭПК_3_кв_ 2017'!D:F,3,0)","v":"Да"},0,"01.01.0001 0:00:00",null,0,0,0,0,90.981999999999999,90.981999999999999,0,0,0,0,0,0,0,0,0,0,0,0,null,null,null,null,null,"01.01.0001 0:00:00",null,null,null,null,100,0]
[2010240100,"2010240100 ТЕНЕКС-Сервис","ТЕНЕКС-Сервис","Полная",{"$f":"VLOOKUP(A115,'Периметр АЭПК_3_кв_ 2017'!D:F,3,0)","v":"Да"},0,"01.01.0001 0:00:00",null,0,0,0,0,100,100,0,0,0,0,0,0,0,0,0,0,0,0,null,null,null,null,null,"01.01.0001 0:00:00",null,null,null,null,100,0]
[2010230306,"2010230306 Тепловодоканал","Тепловодоканал","Полная",{"$f":"VLOOKUP(A116,'Периметр АЭПК_3_кв_ 2017'!D:F,3,0)","v":"Да"},0,"01.01.0001 0:00:00",null,0,0,0,0,100,100,0,0,0,0,0,0,0,0,0,0,0,0,null,null,null,null,null,"01.01.0001 0:00:00",null,null,null,null,100,0]
[2010240000,"2010240000 Техснабэкспорт","Техснабэкспорт","Полная",{"$f":"VLOOKUP(A117,'Периметр АЭПК_3_кв_ 2017'!D:F,3,0)","v":"Да"},0,"01.01.0001 0:00:00",null,0,0,0,0,100,100,0,0,0,0,0,0,0,0,0,0,0,0,null,null,null,null,null,"01.01.0001 0:00:00",null,null,null,null,100,0]
[2010440000,"2010440000 Точмаш","Точмаш","Полная",{"$f":"VLOOKUP(A118,'Периметр АЭПК_3_кв_ 2017'!D:F,3,0)","v":"Да"},0,"01.01.0001 0:00:00",null,0,0,0,0,100,100,0,0,0,0,0,0,0,0,0,0,0,0,null,null,null,null,null,"01.01.0001 0:00:00",null,null,null,null,100,0]
[2010440300,"2010440300 Точмаш-авто","Точмаш-авто","Полная",{"$f":"VLOOKUP(A119,'Периметр АЭПК_3_кв_ 2017'!D:F,3,0)","v":"Да"},0,"01.01.0001 0:00:00",null,0,0,0,0,100,100,0,0,0,0,0,0,0,0,0,0,0,0,null,null,null,null,null,"01.01.0001 0:00:00",null,null,null,null,100,0]
[2010240200,"2010240200 ТЦ ТЕНЕКС","ТЦ ТЕНЕКС","Полная",{"$f":"VLOOKUP(A120,'Периметр АЭПК_3_кв_ 2017'!D:F,3,0)","v":"Да"},0,"01.01.0001 0:00:00",null,0,0,0,0,58.584200000000003,58.584200000000003,0,0,0,0,0,0,0,0,0,0,0,0,null,null,null,null,null,"01.01.0001 0:00:00",null,null,null,null,99,0]
[2010020200,"2010020200 УДК Горное","УДК Горное","Полная",{"$f":"VLOOKUP(A121,'Периметр АЭПК_3_кв_ 2017'!D:F,3,0)","v":"Да"},0,"01.01.0001 0:00:00",null,0,0,0,0,98.706699999999998,98.706699999999998,0,0,0,0,0,0,0,0,0,0,0,0,null,null,null,null,null,"01.01.0001 0:00:00",null,null,null,null,100,0]
[2010411000,"2010411000 УК Нижние котлы","УК Нижние котлы","Полная",{"$f":"VLOOKUP(A122,'Периметр АЭПК_3_кв_ 2017'!D:F,3,0)","v":"Да"},0,"01.01.0001 0:00:00",null,0,0,0,0,95.554500000000004,95.554500000000004,0,0,0,0,0,0,0,0,0,0,0,0,null,null,null,null,null,"01.01.0001 0:00:00",null,null,null,null,100,0]
[2010242000,"2010242000 Уралприбор","Уралприбор","Полная",{"$f":"VLOOKUP(A123,'Периметр АЭПК_3_кв_ 2017'!D:F,3,0)","v":"Да"},0,"01.01.0001 0:00:00",null,0,0,0,0,100,100,0,0,0,0,0,0,0,0,0,0,0,0,null,null,null,null,null,"01.01.0001 0:00:00",null,null,null,null,100,0]
[2010020100,"2010020100 УУГ","УУГ","Полная",{"$f":"VLOOKUP(A124,'Периметр АЭПК_3_кв_ 2017'!D:F,3,0)","v":"Да"},0,"01.01.0001 0:00:00",null,0,0,0,0,99.721000000000004,99.721000000000004,0,0,0,0,0,0,0,0,0,0,0,0,null,null,null,null,null,"01.01.0001 0:00:00",null,null,null,null,100,0]
[2010800000,"2010800000 УЭХК","УЭХК","Полная",{"$f":"VLOOKUP(A125,'Периметр АЭПК_3_кв_ 2017'!D:F,3,0)","v":"Да"},0,"01.01.0001 0:00:00",null,0,0,0,0,74.989999999999995,74.989999999999995,0,0,0,0,0,0,0,0,0,0,0,0,null,null,null,null,null,"01.01.0001 0:00:00",null,null,null,null,74.989999999999995,0]
[2010230700,"2010230700 Хиагда","Хиагда","Полная",{"$f":"VLOOKUP(A126,'Периметр АЭПК_3_кв_ 2017'!D:F,3,0)","v":"Да"},0,"01.01.0001 0:00:00",null,0,0,0,0,98.706699999999998,98.706699999999998,0,0,0,0,0,0,0,0,0,0,0,0,null,null,null,null,null,"01.01.0001 0:00:00",null,null,null,null,100,0]
[2010911000,"2010911000 ЦВТД","ЦВТД","Полная",{"$f":"VLOOKUP(A127,'Периметр АЭПК_3_кв_ 2017'!D:F,3,0)","v":"Да"},0,"01.01.0001 0:00:00",null,0,0,0,0,71.655199999999994,71.655199999999994,0,0,0,0,0,0,0,0,0,0,0,0,null,null,null,null,null,"01.01.0001 0:00:00",null,null,null,null,100,0]
[2010870000,"2010870000 ЦентрАтом","ЦентрАтом","Полная",{"$f":"VLOOKUP(A128,'Периметр АЭПК_3_кв_ 2017'!D:F,3,0)","v":"Да"},0,"01.01.0001 0:00:00",null,0,0,0,0,100,100,0,0,0,0,0,0,0,0,0,0,0,0,null,null,null,null,null,"01.01.0001 0:00:00",null,null,null,null,100,0]
[2010820000,"2010820000 ЦКБМ","ЦКБМ","Полная",{"$f":"VLOOKUP(A129,'Периметр АЭПК_3_кв_ 2017'!D:F,3,0)","v":"Да"},0,"01.01.0001 0:00:00",null,0,0,0,0,100,100,0,0,0,0,0,0,0,0,0,0,0,0,null,null,null,null,null,"01.01.0001 0:00:00",null,null,null,null,100,0]
[2010140000,"2010140000 ЦНИИТМАШ","ЦНИИТМАШ","Полная",{"$f":"VLOOKUP(A130,'Периметр АЭПК_3_кв_ 2017'!D:F,3,0)","v":"Да"},0,"01.01.0001 0:00:00",null,0,0,0,0,61.131500000000003,61.131500000000003,0,0,0,0,0,0,0,0,0,0,0,0,null,null,null,null,null,"01.01.0001 0:00:00",null,null,null,null,61.13,0]
[2010290000,"2010290000 ЦОиС ОЛенКур","ЦОиС ОЛенКур","Полная",{"$f":"VLOOKUP(A131,'Периметр АЭПК_3_кв_ 2017'!D:F,3,0)","v":"Да"},0,"01.01.0001 0:00:00",null,0,0,0,0,100,100,0,0,0,0,0,0,0,0,0,0,0,0,null,null,null,null,null,"01.01.0001 0:00:00",null,null,null,null,100,0]
[2010230300,"2010230300 ЧМЗ","ЧМЗ","Полная",{"$f":"VLOOKUP(A132,'Периметр АЭПК_3_кв_ 2017'!D:F,3,0)","v":"Да"},0,"01.01.0001 0:00:00",null,0,0,0,0,100,100,0,0,0,0,0,0,0,0,0,0,0,0,null,null,null,null,null,"01.01.0001 0:00:00",null,null,null,null,100,0]
[2010020400,"2010020400 ЭГМК","ЭГМК","Полная",{"$f":"VLOOKUP(A133,'Периметр АЭПК_3_кв_ 2017'!D:F,3,0)","v":"Да"},0,"01.01.0001 0:00:00",null,0,0,0,0,98.706699999999998,98.706699999999998,0,0,0,0,0,0,0,0,0,0,0,0,null,null,null,null,null,"01.01.0001 0:00:00",null,null,null,null,100,0]
[2010800800,"2010800800 Экоальянс","Экоальянс","Полная",{"$f":"VLOOKUP(A134,'Периметр АЭПК_3_кв_ 2017'!D:F,3,0)","v":"Да"},0,"01.01.0001 0:00:00",null,0,0,0,0,81.492599999999996,81.492599999999996,0,0,0,0,0,0,0,0,0,0,0,0,null,null,null,null,null,"01.01.0001 0:00:00",null,null,null,null,100,0]
[2010230110,"2010230110 ЭЛЕМАШ-ТЭК","ЭЛЕМАШ-ТЭК","Полная",{"$f":"VLOOKUP(A135,'Периметр АЭПК_3_кв_ 2017'!D:F,3,0)","v":"Да"},0,"01.01.0001 0:00:00",null,0,0,0,0,75.3947,75.3947,0,0,0,0,0,0,0,0,0,0,0,0,null,null,null,null,null,"01.01.0001 0:00:00",null,null,null,null,100,0]
[2010230943,"2010230943 Энергомашспецсталь","Энергомашспецсталь","Долевое участие",{"$f":"VLOOKUP(A136,'Периметр АЭПК_3_кв_ 2017'!D:F,3,0)","v":"Да"},0,"01.01.0001 0:00:00",null,0,0,0,0,46.338700000000003,46.338700000000003,0,0,0,0,0,0,0,0,0,0,0,0,null,null,null,null,null,"01.01.0001 0:00:00",null,null,null,null,92.68,0]
[2010270000,"2010270000 Энергоспецмонтаж","Энергоспецмонтаж","Полная",{"$f":"VLOOKUP(A137,'Периметр АЭПК_3_кв_ 2017'!D:F,3,0)","v":"Да"},0,"01.01.0001 0:00:00",null,0,0,0,0,99.956500000000005,99.956500000000005,0,0,0,0,0,0,0,0,0,0,0,0,null,null,null,null,null,"01.01.0001 0:00:00",null,null,null,null,99.96,0]
[2010830000,"2010830000 ЭНИЦ","ЭНИЦ","Полная",{"$f":"VLOOKUP(A138,'Периметр АЭПК_3_кв_ 2017'!D:F,3,0)","v":"Да"},0,"01.01.0001 0:00:00",null,0,0,0,0,88.350999999999999,88.350999999999999,0,0,0,0,0,0,0,0,0,0,0,0,null,null,null,null,null,"01.01.0001 0:00:00",null,null,null,null,100,0]
[2010840000,"2010840000 ЭХЗ","ЭХЗ","Полная",{"$f":"VLOOKUP(A139,'Периметр АЭПК_3_кв_ 2017'!D:F,3,0)","v":"Да"},0,"01.01.0001 0:00:00",null,0,0,0,0,100,100,0,0,0,0,0,0,0,0,0,0,0,0,null,null,null,null,null,"01.01.0001 0:00:00",null,null,null,null,100,0]
[2010912000,"2010912000 ЯМТ-Снежинск","ЯМТ-Снежинск","Полная",{"$f":"VLOOKUP(A140,'Периметр АЭПК_3_кв_ 2017'!D:F,3,0)","v":"Да"},0,"01.01.0001 0:00:00",null,0,0,0,0,50.805999999999997,50.805999999999997,0,0,0,0,0,0,0,0,0,0,0,0,null,null,null,null,null,"01.01.0001 0:00:00",null,null,null,null,76,0]
[2010410000,"2010410000 НИИТФА","НИИТФА","Полная",{"$f":"VLOOKUP(A141,'Периметр АЭПК_3_кв_ 2017'!D:F,3,0)","v":"Да"},0,"01.01.0001 0:00:00",null,0,0,0,0,95.554500000000004,95.554500000000004,0,0,0,0,0,0,0,0,0,0,0,0,null,null,null,null,null,"01.01.0001 0:00:00",null,null,null,null,95.55,0]
["",null,"Нижние котлы-ДУ","Не консолидируется",{"$f":"VLOOKUP(A142,'Периметр АЭПК_3_кв_ 2017'!D:F,3,0)","v":{"$error":"#N/A"}},0,"01.01.0001 0:00:00",null,0,0,0,0,0,0,0,0,0,0,0,0,0,0,0,0,0,0,null,null,null,null,null,"01.01.0001 0:00:00",null,null,null,null,0,0]
[2010630100,"2010630100 С-плюс","С-плюс","Долевое участие",{"$f":"VLOOKUP(A143,'Периметр АЭПК_3_кв_ 2017'!D:F,3,0)","v":"Да"},0,"01.01.0001 0:00:00",null,0,0,0,0,39.4026,39.4026,0,0,0,0,0,0,0,0,0,0,0,0,null,null,null,null,null,"01.01.0001 0:00:00",null,null,null,null,51,0]
[6080000000,"6080000000 ЦУФС","ЦУФС","Полная",{"$f":"VLOOKUP(A144,'Периметр АЭПК_3_кв_ 2017'!D:F,3,0)","v":"Да"},0,"01.01.0001 0:00:00",null,0,0,0,0,100,100,0,0,0,0,0,0,0,0,0,0,0,0,null,null,null,null,null,"01.01.0001 0:00:00",null,null,null,null,100,0]

{"sheet":"Лист3","index":30,"n_rows":504,"n_cols":11,"rows_kept":504,"cut":false,"hidden":true,"merged":[]}
[]
["Сокращенное название","ИНН","ГИД НСИ","Номер ЦФО","Сокращенное название","Организации Госкорпорации «Росатом», \n предоставляют информацию для финансовой отчетности (ФСД)  и осуществляют сверку в Портале ВГО.","Организации Госкорпорации «Росатом», включены в периметр ПФА","Включена в Периметр АЭПК по МСФО","Включена в Периметр ГК по МСФО","Признак КГН","Компании с эффективной долей Госкорпорации \"Росатом\" более 50%, но по которым планируется мероприятия по отчуждению акций/долей в уставном капитале, или находящиеся  в стадии ликвидации/реорганизации или банкротства"]
["Гос.контракты","Гос.контракты",10011,null,"Гос.контракты"]
["Внешние контрагенты","Внешние контрагенты",10015,null,"Внешние контрагенты","Нет",null,"Нет","Нет"]
["Физические лица","Физические лица",10000,null,"Физические лица","Нет",null,"Нет","Нет"]
["НДС с авансов","НДС с авансов",10018,null,"НДС с авансов","Нет",null,"Нет","Нет"]
["ARAKO","CZ47152371",104,2010230922,"ARAKO","Да","Да","Да","Да"]
["Uranium One Holding N.V.",817104549,254,2010021200,"Uranium One Holding N.V.","Да","Да","Да","Да"]
["Uranium One Trading AG","CHE-233.935.921 ",484676,2010021506,"Uranium One Trading AG","Да","Да","Да","Да"]
["INTERNEXCO",4023602999,124,2010241200,"INTERNEXCO","Да","Да","Да","Да"]
["INTERNEXCO GmbH (Швейцария)","CHE-255.290.400",407428,2010241000,"INTERNEXCO GmbH (Швейцария)","Да","Да","Да","Да"]
["Ganz","10806481-2-42",141186,2010820100,"Ganz","Да","Да","Да","Да"]
["Mantra Resources Ltd.",833296300,193128,2010021600,"Mantra Resources Ltd.","Да","Да","Да","Да"]
["NUKEM","204/115/21479",276,2010450107,"NUKEM","Да","Да",null,"Да"]
["Nukem Technologies","204/115/21517",360342,2010450112,"Nukem Technologies","Да","Да",null,"Да"]
["KWINDER HOLDINGS LIMITED","12277016L",219342,2010240310,"KWINDER HOLDINGS LIMITED","Да",null,"Да","Да"]
["Uranium","88897 7170 RC0001",154744,2010021500,"Uranium","Да","Да","Да","Да"]
["UMP Trading","903.1.000.8205",389124,2010230952,"UMP Trading","Да","Да","Да","Да"]
["ROSATOM FINANCE",9909431723,206017,2010940000,"ROSATOM FINANCE","Да","Да","Да","Да"]
["RAOS Voima","2596476-2",340080,2010931000,"RAOS Voima","Да",null,"Да","Да"]
["RAOS Project",386588,386588,2010932000,"RAOS Project","Да","Да","Да","Да"]
["TRADEWILL LIMITED","GB987386840",268,2010242400,"TRADEWILL LIMITED","Да","Да","Да","Да"]
["TENAM","68-068-0771",185864,2010242500,"TENAM","Да","Да","Да","Да"]
["EMSS Holdings","HE 245521",219340,2010230948,"EMSS Holdings","Да","Да","Да","Да"]
["АКМЭ-Инжиниринг",7706729140,337,4160000000,"АКМЭ-Инжиниринг","Да","Да","сп","сп"]
["АЛАБУГА-ВОЛОКНО",1646031132,228298,2010242201,"АЛАБУГА-ВОЛОКНО","Да","Да","Да","Да"]
["Аргон",6454074501,121,2010240800,"Аргон","Да","Да","Да","Да"]
["АРМЗ",7706016076,17,2010020000,"АРМЗ","Да","Да","Да","Да","Да"]
["Аккую Нуклеар",310546698,261459,2010450108,"Аккую Нуклеар","Да","Да","Да","Да"]
["АСЭ",7701186067,153,2010450100,"АСЭ","Да","Да",null,"Да","Да"]
["АСЭ-Инжиниринг",7705856636,156,2010450103,"АСЭ-Инжиниринг","Да","Да","Да","Да"]
["АТА",7724560930,251,2010010000,"АТА","Да","Да","Да","Да","Да"]
["АТМ",7734242302,97,2010230915,"АТМ","Да","Да","Да","Да"]
["АтомМедТехнолоджи-ДВ",2536279414,385789,2010933000,"АтомМедТехнолоджи-ДВ","Да","Да","Да","Да"]
["Атомбезопасность",5042009244,224,3040000000,"Атомбезопасность","Да","Да",null,"Да"]
["Атомзащитаинформ",7706031557,227,3070000000,"Атомзащитаинформ","Да","Да",null,"Да"]
["Атомкомплект",7706738770,336,6090000000,"Атомкомплект","Да","Да",null,"Да"]
["Атом-охрана",7706289940,334,6020000000,"Атом-охрана","Да","Да",null,"Да"]
["Атомспецтранс",7717609102,140,2010340000,"Атомспецтранс","Да","Да","Да","Да"]
["Атомтехэнерго",5029106714,141,2010350000,"Атомтехэнерго","Да","Да","Да","Да","Да"]
["Атомфлот",5192110268,230,3100000000,"Атомфлот","Да","Да",null,"Да"]
["Атомэнергомаш",7706614573,88,2010230900,"Атомэнергомаш","Да","Да","Да","Да","Да"]
["Атомэнергосбыт",7704228075,172,2010591300,"Атомэнергосбыт","Да","Да","Да","Да"]
["Атомэнергоремонт",5029112443,296,2010590700,"Атомэнергоремонт","Да","Да","Да","Да","Да"]
["Атомтехэкспорт",7705408850,343,2010591900,"Атомтехэкспорт","Да","Да","Да","Да"]
["Атомэнергопромсбыт",7725828549,365478,2010591320,"Атомэнергопромсбыт","Да","Да","Да","Да"]
["АтомКапитал",7706792008,308377,2010110000,"АтомКапитал","Да","Да","","Да"]
["АТОМПРОЕКТ",7814417371,158,2010460000,"АТОМПРОЕКТ","Да","Да","Да","Да","Да"]
["АТЦ СПб",7802145892,221,3010000000,"АТЦ СПб","Да","Да",null,"Да"]
["АЭМ-технологии",7817311895,353,2010230904,"АЭМ-технологии","Да","Да","Да","Да","Да"]
["АЭМ-активы",7706785593,300641,6090010000,"АЭМ-активы","Да","Да","Да","Да"]
["АЭМ-лизинг",7706673635,90,2010230902,"АЭМ-лизинг","Да","Да","Да","Да"]
["АЭП",7701796320,143,2010360000,"АЭП","Да","Да",null,"Да","Да"]
["АЭПК",7706664260,16,2010000000,"АЭПК","Да","Да","Да","Да","Да"]
["АЭХК",3801098402,144,2010370000,"АЭХК","Да","Да","Да","Да","Да"]
["Базальт",6432003698,1,1010000000,"Базальт","Да","Да",null,"Да"]
["Балтийская АЭС",3904612644,360,2010592100,"Балтийская АЭС","Да",null,"Да","Да"]
["ВО Изотоп",7704674312,145,2010380000,"ВО Изотоп","Да","Да",null,"Да"]
["Вента",6624002377,28,2010050000,"Вента","Да","Да","Да","Да"]
["ВетроОГК",5036118291,261160,2010230956,"ВетроОГК","Да","Да","Да","Да"]
["ВНИИА",7707074137,2,1020000000,"ВНИИА","Да","Да",null,"Да"]
["ВНИИАЭС",7721247141,348,2010591800,"ВНИИАЭС","Да","Да","Да","Да","Да"]
["ВНИИАМ (АЭПК)",7743654609,147,2010390000,"ВНИИАМ (АЭПК)","Да","Да","Да","Да"]
["ВНИИНМ",7734598490,148,2010400000,"ВНИИНМ","Да","Да","Да","Да","Да"]
["ВНИИТФ",7423000572,10,1110000000,"ВНИИТФ","Да","Да",null,"Да"]
["ВНИИХТ",7724675770,272,2010420000,"ВНИИХТ","Да","Да","Да","Да"]
["ВНИИЭФ",5254001230,14,1150000000,"ВНИИЭФ","Да","Да",null,"Да"]
["ВНИПИПромтехнологии",7724683379,150,2010430000,"ВНИПИПромтехнологии","Да","Да","Да","Да","Да"]
["ВЭИ",7722026032,136942,1170000000,"ВЭИ","Да","Да",null,"Да"]
["Гидропресс",5036092340,184,2010710000,"Гидропресс","Да","Да","Да","Да","Да"]
["Гиредмет",7706699062,279,2010470000,"Гиредмет","Да","Да","Да","Да"]
["Госкорпорация Росатом",7706413348,250,"0000000002","Госкорпорация Росатом","Да","Да",null,"Да","Да"]
["Гринатом",7706729736,246,2010900000,"Гринатом","Да","Да","Да","Да"]
["ГСПИ",7708697977,162,2010500000,"ГСПИ","Да","Да","Да","Да"]
["ГХК",2452000401,222,3020000000,"ГХК","Да","Да",null,"Да"]
["Далур",4506004751,87,2010230800,"Далур","Да","Да","Да","Да","Да"]
["Дедал",5010036460,281,2010510000,"Дедал","Да","Да","Да","Да"]
["ДЕЗ",7706730001,347,2010890000,"ДЕЗ","Да","Да","Да","Да","Да"]
["АРМЗ-Сервис",7708671295,24,2010020602,"АРМЗ-Сервис","Да","Да","Да","Да","Да"]
["ЗАЭС",7701763846,152,2010450000,"ЗАЭС","Да","Да","Да","Да"]
["ЗИОМАР",5036039258,99,2010230917,"ЗИОМАР","Да","Да","Да","Да"]
["ЗиО-Подольск",5036040729,100,2010230918,"ЗиО-Подольск","Да","Да","Да","Да","Да"]
["ЗУКМ",7450045935,127,2010241600,"ЗУКМ","Да","Да","Да","Да"]
["ИРМ",6639019655,163,2010540000,"ИРМ","Да","Да","Да","Да"]
["ИЦ РГЦ",7706689000,134,2010242300,"ИЦ РГЦ","Да","Да","Да","Да"]
["Искра",2453014750,339,2010230001,"Искра","Да",null,"Да","Да"]
["ЖТЭЦ",2458013365,367574,2010551000,"ЖТЭЦ","Да","Да","Да","Да"]
["КМЗ",3305004397,119,2010240600,"КМЗ","Да","Да","Да","Да","Да"]
["Красная Звезда",7726682003,217178,2010600000,"Красная Звезда","Да","Да","Да","Да"]
["Краун",7705833438,123,2010241100,"Краун","Да","Да","Да","Да"]
["Консист-ОС",7711077412,285,2010590317,"Консист-ОС","Да","Да","Да","Да"]
["КЦ",7715020463,113,2010231300,"КЦ","Да",null,"Да","Да"]
["ЛЗ Петрозаводскмаш",1001201343,359,2010242601,"ЛЗ Петрозаводскмаш","Да","Да","Да","Да"]
["Маяк",7422000795,6,1070000000,"Маяк","Да","Да",null,"Да"]
["МЗП",7724558466,30,2010100000,"МЗП","Да","Да","Да","Да","Да"]
["Молния",7721730486,214196,2010740000,"Молния","Да","Да","Да","Да"]
["МСЗ-М",5053066861,59,2010230115,"МСЗ-М","Да",null,"Да","Да"]
["МСЗ",5053005918,46,2010230100,"МСЗ","Да","Да","Да","Да"]
["Наука и инновации",7706760091,215181,4010000100,"Наука и инновации","Да","Да","Да","Да"]
["НИИГрафит",7720723422,219385,2010630000,"НИИГрафит","Да","Да","Да","Да"]
["НИАЭП-Сервис",6916015670,302,2010620200,"НИАЭП-Сервис","Да","Да",null,"Да"]
["НИИАР-ГЕНЕРАЦИЯ",7329008990,304288,2010970000,"НИИАР-ГЕНЕРАЦИЯ","Да","Да","Да","Да"]
["НЗХК-Инструмент",5410021660,67,2010230207,"НЗХК-Инструмент","Да",null,"Да","Да"]
["НЗХК-Энергия",5410028351,70,2010230210,"НЗХК-Энергия","Да",null,"Да","Да"]
["ННКЦ",6629020806,130,2010241900,"ННКЦ","Да",null,"Да","Да"]
["НЗХК",5410114184,61,2010230200,"НЗХК","Да","Да","Да","Да"]
["ИК АСЭ",5260214123,176,2010620000,"ИК АСЭ","Да","Да",null,"Да","Да"]
["НИИАР",7302040242,159,2010480000,"НИИАР","Да","Да","Да","Да"]
["НИИИС",5261000011,12,1130000000,"НИИИС","Да","Да",null,"Да"]
["НИИП",5027241394,449522,4070000000,"НИИП","Да","Да",null,"Да"]
["НИИТФА",7726606316,149,2010410000,"НИИТФА","Да","Да","Да","Да","Да"]
["НИИЭФА",7817331468,340028,4080000000,"НИИЭФА","Да","Да",null,"Да"]
["НИКИМТ-Атомстрой",7715719854,164,2010550000,"НИКИМТ-Атомстрой","Да","Да","Да","Да"]
["НИКИЭТ",7708698473,304,2010650000,"НИКИЭТ","Да","Да","Да","Да"]
["НИТИ",4714000067,240,4090000000,"НИТИ","Да","Да",null,"Да"]
["НИФХИ",7709944065,340270,4140000000,"НИФХИ","Да","Да",null,"Да"]
["Нижние котлы - ДУ",null,10020,2010411100,"Нижние котлы - ДУ","Да",null,null,"Да"]
["НПК ХПИ",7706688991,133,2010242200,"НПК ХПИ","Да","Да","Да","Да"]
["НПО Луч",5036005308,237,4060000000,"НПО Луч","Да","Да",null,"Да"]
["НПО РИ",7802846922,338909,4010000000,"НПО РИ","Да","Да",null,"Да"]
["НО РАО",5838009089,242,4110000000,"НО РАО","Да","Да",null,"Да"]
["НТЦ ЯФИ",7802441926,182,2010690000,"НТЦ ЯФИ","Да","Да","Да","Да"]
["Обесп РФЯЦ-ВНИИЭФ",5254081010,32,2010150000,"Обесп РФЯЦ-ВНИИЭФ","Да","Да","Да","Да"]
["ОТЭК",7706757331,208117,2010920000,"ОТЭК","Да","Да","Да","Да"]
["ОКБ-НН",5256065824,203,2010840400,"ОКБ-НН"]
["ОЗТМиТС",7726633119,183,2010700000,"ОЗТМиТС","Да","Да","Да","Да"]
["ОИК",7706751361,367,2010910000,"ОИК","Да","Да","Да","Да"]
["ОК РСК",7706704146,204,2010860000,"ОК РСК","Да","Да","Да","Да"]
["ОКБМ",5259077666,185,2010720000,"ОКБМ","Да","Да","Да","Да","Да"]
["ОДЦ УГР",7024033350,177333,2010780500,"ОДЦ УГР","Да","Да","Да","Да"]
["ОзВЭИ",7722024973,275627,1180000000,"ОзВЭИ","Да","Да",null,"Да"]
["Первая горнорудная компания",7703197508,298588,2010021800,"Первая горнорудная компания",null,null,"сп","сп"]
["ПО Север",5410101900,7,1080000000,"ПО Север","Да","Да",null,"Да"]
["ППГХО",7530000048,84,2010230400,"ППГХО","Да","Да","Да","Да","Да"]
["ПСЗ",7405000428,9,1100000000,"ПСЗ","Да","Да",null,"Да"]
["ПСР",7721699740,368,2010592000,"ПСР","Да","Да","Да","Да"]
["Промышленные инновации",7725524660,112,2010231200,"Промышленные инновации","Да",null,"Да","Да"]
["Простое товарищество Русреактор-ВНИИЭФ",null,10019,2010991100,"Простое товарищество Русреактор-ВНИИЭФ","Да",null,null,"Да"]
["РАДОН",7704009700,133437,3110000000,"РАДОН","Да","Да",null,"Да"]
["РАСУ",7734358970,417501,2010990000,"РАСУ","Да","Да","Да","Да"]
["РАОС",7709735135,96,2010230912,"РАОС","Да","Да","Да","Да","Да"]
["РБМ",7713190205,23,2010020600,"РБМ","Да","Да","Да","Да","Да"]
["Росэнергоатом",7721632827,166,2010590000,"Росэнергоатом","Да","Да","Да","Да","Да"]
["РосРАО",4714004270,231,3260000000,"РосРАО","Да","Да",null,"Да"]
["РХК",7726396281,486175,2011000000,"РХК","Да","Да","Да","Да"]
["REIN",7706759586,215514,2010930000,"REIN","Да","Да","Да","Да"]
["Русатом Сервис",7705966318,224845,2010592200,"Русатом Сервис","Да","Да","Да","Да"]
["Русреактор",7726367354,430687,2010991000,"Русреактор","Да","Да","Да","Да"]
["РСП",7726667090,198346,4180000000,"РСП","Да","Да",null,"Да"]
["РЭМКО",5036076690,95,2010230911,"РЭМКО","Да","Да","Да","Да"]
["С-плюс",7720325407,428981,2010630100,"С-плюс","Да","Да","Да","Да"]
["Сайпрус",9909449262,98,2010230916,"Сайпрус","Да","Да","Да","Да"]
["СвердНИИхиммаш",6664003909,41,2010200000,"СвердНИИхиммаш","Да","Да","Да","Да"]
["СГК",5254082550,35,2010150300,"СГК","Да","Да","Да","Да"]
["СКЦ",7706187089,228,3080000000,"СКЦ","Да","Да",null,"Да"]
["СМБ",7706433961,431962,2010992000,"СМБ","Да","Да","Да","Да"]
["СНИИП",7734592593,179,2010660000,"СНИИП","Да","Да","Да","Да"]
["СПб ИЗОТОП",7840393624,189,2010750000,"СПб ИЗОТОП","Да","Да","Да","Да"]
["СТСК",5254082630,34,2010150200,"СТСК","Да","Да","Да","Да"]
["Старт",5838000953,8,1090000000,"Старт","Да","Да",null,"Да"]
["СЕТЕС",7024037370,316804,2010550001,"СЕТЕС","Да","Да","Да","Да"]
["СХК",7024029499,192,2010780000,"СХК","Да","Да","Да","Да","Да"]
["Тепловодоканал",1837004370,77,2010230306,"Тепловодоканал","Да",null,"Да","Да"]
["Точмаш-авто",3329064483,201363,2010440300,"Точмаш-авто","Да",null,"Да","Да"]
["ТВЭЛ",7706123550,45,2010230000,"ТВЭЛ","Да","Да","Да","Да","Да"]
["ТВЭЛ-Строй",7726523814,111,2010231100,"ТВЭЛ-Строй","Да",null,"Да","Да"]
["ТЕНЕКС-Сервис",7706604582,267,2010240100,"ТЕНЕКС-Сервис","Да","Да","Да","Да","Да"]
["Технопарк-Технология",5216017711,331,4150000000,"Технопарк-Технология","Да","Да",null,"Да"]
["Техснабэкспорт",7706039242,114,2010240000,"Техснабэкспорт","Да","Да","Да","Да","Да"]
["Точмаш",3329051460,151,2010440000,"Точмаш","Да","Да","Да","Да"]
["ТРИНИТИ",7751002460,391705,4030000000,"ТРИНИТИ","Да","Да",null,"Да"]
["Трест РСЭМ",6916013425,132192,2010620400,"Трест РСЭМ","Да","Да",null,"Да","Да"]
["ТЦ ТЕНЕКС",7706609414,115,2010240200,"ТЦ ТЕНЕКС","Да","Да","Да","Да"]
["Уралприбор",6629020789,131,2010242000,"Уралприбор","Да",null,"Да","Да"]
["УАЗ",7706804447,339228,6010000000,"УАЗ","Да","Да",null,"Да"]
["УУГ",7706641432,18,2010020100,"УУГ","Да","Да","Да","Да"]
["УК Нижние котлы",7726390113,470332,2010411000,"УК Нижние котлы","Да","Да","Да","Да"]
["УДК Горное",7536087140,19,2010020200,"УДК Горное","Да",null,"Да","Да"]
["НПО Центротех",6629020796,129,2010241800,"НПО Центротех","Да","Да","Да","Да","Да"]
["УЭМЗ",6608004641,11,1120000000,"УЭМЗ","Да","Да",null,"Да"]
["УЭХК",6629022962,196,2010800000,"УЭХК","Да","Да","Да","Да"]
["ФЦЯРБ",7706801975,329348,3090000000,"ФЦЯРБ","Да","Да",null,"Да"]
["ФЭИ",4025442583,390564,4040000000,"ФЭИ","Да","Да",null,"Да"]
["Хиагда","0302001219",86,2010230700,"Хиагда","Да","Да","Да","Да","Да"]
["ЦВТД",7726750415,366881,2010911000,"ЦВТД","Да","Да","Да","Да"]
["Центр энергоэффективности ИНТЕР РАО ЕЭС",7704765961,362,2010591306,"Центр энергоэффективности ИНТЕР РАО ЕЭС",null,null,"сп","сп"]
["ЦентрАтом",7706723156,329,2010870000,"ЦентрАтом","Да","Да","Да","Да"]
["ЦКБМ",7806394392,197,2010820000,"ЦКБМ","Да","Да","Да","Да","Да"]
["ЦНИИТМАШ",7723564851,31,2010140000,"ЦНИИТМАШ","Да","Да","Да","Да","Да"]
["ЦОиС ОЛенКур",5024076079,271,2010290000,"ЦОиС ОЛенКур","Да","Да","Да","Да"]
["ЦОУ",3801085668,122,2010240900,"ЦОУ",null,null,"сп","сп"]
["ЦУФС",7715470328,395865,6080000000,"ЦУФС","Да","Да",null,"Да"]
["ЧМЗ",1829008035,71,2010230300,"ЧМЗ","Да","Да","Да","Да","Да"]
["ЭЛЕМАШ-ТЭК",5053055010,54,2010230110,"ЭЛЕМАШ-ТЭК","Да",null,"Да","Да"]
["Экоальянс",6629026420,190116,2010800800,"Экоальянс","Да",null,"Да","Да"]
["ЭГМК",1402047530,21,2010020400,"ЭГМК","Да","Да","Да","Да"]
["ЭГМК-проект",1402048660,330,2060000000,"ЭГМК-проект","Да","Да"," "]
["Эксп №2",2901255495,390341,1140000000,"Эксп №2","Да","Да",null,"Да"]
["Элерон",7724313681,396021,4100000000,"Элерон","Да","Да",null,"Да"]
["Энергомашспецсталь",2106005156,361,2010230943,"Энергомашспецсталь","Да","Да","Да","Да"]
["Энергоспецмонтаж",7718083574,136,2010270000,"Энергоспецмонтаж","Да","Да","Да","Да"]
["ЭНИЦ",5035037441,198,2010830000,"ЭНИЦ","Да",null,"Да","Да"]
["ЭХЗ",2453013555,200,2010840000,"ЭХЗ","Да","Да","Да","Да","Да"]
["ЭХП",6630002336,5,1050000000,"ЭХП","Да","Да",null,"Да"]
["ЯМТ-Снежинск",7459003496,387083,2010912000,"ЯМТ-Снежинск","Да","Да","Да","Да"]
["Canada Limited","80931 9247 RC0001",251789,2010021520,"Canada Limited"]
["Cheetah Resources s.a.r.l.",20092434304,257652,2010021501,"Cheetah Resources s.a.r.l."]
["Chladici veze Praha, a.s.","CZ 452 73 651",248957,2010230914,"Chladici veze Praha, a.s."]
["Headspring Investments (PTY.) Ltd.","2010/0624",230025,2010021310,"Headspring Investments (PTY.) Ltd."]
["Liges","CZ 279 33 270",149623,2010230913,"Liges"]
["Likuyu Resources Limited",124215706,481212,2010021702,"Likuyu Resources Limited"]
["Mantra East Africa Limited",138090,296835,2010021620,"Mantra East Africa Limited"]
["Mantra Mozambique",400663521,472976,2010021670,"Mantra Mozambique"]
["Mantra Tanzania Limited","105-158-750",210119,2010021630,"Mantra Tanzania Limited"]
["Mantra Uranium South Africa (Pty) Ltd",9214145147,293830,2010021660,"Mantra Uranium South Africa (Pty) Ltd"]
["Namtumbo Resources Pty Ltd",882627035,481209,2010021703,"Namtumbo Resources Pty Ltd"]
["Nyanza Goldfields Limited","115-109-731",296836,2010021640,"Nyanza Goldfields Limited"]
["OmegaCorp Minerais Limitada",400132852,300825,2010021671,"OmegaCorp Minerais Limitada"]
["Raims",7247740,205526,2010380200,"Raims"]
["Reviss Servis Limited","HE 48824",365,1070010000,"Reviss Servis Limited"]
["Runex","4705199-01-1",154796,2010021100,"Runex"]
["Ruvuma Resources Limited","115-110-829",296838,2010021650,"Ruvuma Resources Limited"]
["SELMI",4136,121527,2010840200,"SELMI"]
["SX Resources Inc.","89007 6961 RC0001",null,2010021505,"SX Resources Inc."]
["TENEX-Japan","00379387",126,2010241400,"TENEX-Japan"]
["TENEX-Korea","120-86-48471",125,2010241300,"TENEX-Korea"]
["Uranium One Exploration Pty Ltd",859064780,481214,2010021701,"Uranium One Exploration Pty Ltd"]
["Uranium One Friesland",854088325,474468,2010021510,"Uranium One Friesland"]
["Uranium One Investments Inc.","10561 0190 RC0002",476191,2010021503,"Uranium One Investments Inc."]
["Uranium One Technical Services",null,481215,2010021661,"Uranium One Technical Services"]
["UrAsia Energy Ltd.","89745 1936 RC0001",476877,2010021502,"UrAsia Energy Ltd."]
["UMATEX Group Europe",null,null,2010243200,"UMATEX Group Europe"]
["UMATEX Composite Materials Trading",null,null,2010244200,"UMATEX Composite Materials Trading"]
["RAOS Energy",null,null,2010935000,"RAOS Energy"]
["VPR","GB981159595",154774,2010021300,"VPR"]
["ААЭМ",5036083578,258,2010230928,"ААЭМ"]
["АвтоДом",5035043950,367912,2010830300,"АвтоДом"]
["Автотранс – А",6143038846,297557,2010242640,"Автотранс – А"]
["Автохозяйство Уртуйское",7530012621,162559,2010230405,"Автохозяйство Уртуйское"]
["АПМ",2080209,219343,2010590318,"АПМ"]
["АРМЗ Намибия","2010/0109",219867,2010021400,"АРМЗ Намибия"]
["АТОММАШ-СЕРВИС",6143083535,365614,2010242651,"АТОММАШ-СЕРВИС"]
["АтомТеплоСбыт",7709733339,345,2010591305,"АтомТеплоСбыт"]
["АтомТеплоЭлектроСеть",7705923730,179781,2010591307,"АтомТеплоЭлектроСеть"]
["Атомтранс",6724008446,297,2010590800,"Атомтранс"]
["АТП",7530012614,162226,2010230406,"АТП"]
["Балаковская АЭС-Авто",6439071143,287,2010590301,"Балаковская АЭС-Авто"]
["БАЭС-2",6609007758,170,2010590900,"БАЭС-2"]
["Белоярская АЭС-Авто",6639019528,288,2010590303,"Белоярская АЭС-Авто"]
["Березка",2448005630,211874,2010840010,"Березка"]
["Былина",5445101362,62,2010230201,"Былина"]
["ВАЭС-Сервис",6143072318,127283,2010590305,"ВАЭС-Сервис"]
["ВДМУ",6143066681,303,2010620300,"ВДМУ"]
["ВНИИАМ(АЭМ – технологии)",6143059719,127226,2010230966,"ВНИИАМ(АЭМ – технологии)"]
["ВНИИАСУ",7721566412,174298,2010660100,"ВНИИАСУ"]
["ВНИИЭФ-Гарант",5254025015,213050,1150000008,"ВНИИЭФ-Гарант"]
["Геостар",5213000558,253,2010020901,"Геостар"]
["ГК Глазов",1837003961,75,2010230304,"ГК Глазов"]
["Гуанья",1000000001,481088,1070020000,"Гуанья"]
["Далур-Сервис",4506009051,153118,2010230802,"Далур-Сервис"]
["ЗЭП",6629027216,213663,2010800900,"ЗЭП"]
["Изотоп Ектб",6672219595,256,2010070000,"Изотоп Ектб"]
["Изотоп техно",101553117,161,2010480300,"Изотоп техно"]
["ИКАО",7704670879,155680,2010590400,"ИКАО",null,null,null,null,"Да"]
["ИКБ ВНИИАЭС",7725727702,269343,2010830200,"ИКБ ВНИИАЭС"]
["Инжект",6453087730,201839,2010601001,"Инжект"]
["ИНТЕР СМАРТ",3329032065,317836,2010231201,"ИНТЕР СМАРТ"]
["Итманово",5213004023,25,2010020900,"Итманово"]
["ИФ Пионер",3329064081,199121,2010440100,"ИФ Пионер"]
["ИФТП",5010036527,284,2010560000,"ИФТП"]
["ИС РФЯЦ - ВНИИЭФ",5254491182,"481853",1150000006,"ИС РФЯЦ - ВНИИЭФ"]
["КАЭС-Сервис",6916015990,132232,2010590306,"КАЭС-Сервис"]
["КИАЭ-НИИАР",110106102189908,306003,2010480200,"КИАЭ-НИИАР"]
["КМ",5410043399,222683,2010230212,"КМ"]
["КМЗ Спецмаш",3305709037,172959,2010240700,"КМЗ Спецмаш"]
["КМЗ-Авто",3305709196,199315,2010240601,"КМЗ-Авто"]
["Кольская АЭС-Авто",5117065288,290,2010590307,"Кольская АЭС-Авто"]
["Комбинат питания СХК",7024032205,169278,2010780300,"Комбинат питания СХК"]
["КП Урал",6660011592,482369,1120010000,"КП Урал"]
["КРК Атомные станции","600700580386",155,2010450102,"КРК Атомные станции"]
["КУЖФ",5254082616,39,2010150800,"КУЖФ"]
["КурскАЭС-Сервис",4634010454,291,2010590308,"КурскАЭС-Сервис"]
["Курчатовец",4007017120,284547,2010290010,"Курчатовец"]
["Ленинградская АЭС – Авто",4714023385,292,2010590309,"Ленинградская АЭС – Авто"]
["ЛОК Колонтаево",5031009115,47,2010230101,"ЛОК Колонтаево"]
["Лунное",1402046871,22,2010020500,"Лунное"]
["Медсанчасть",6143057983,184628,2010242650,"Медсанчасть"]
["МЦ Изумруд",6629026340,193100,2010800600,"МЦ Изумруд"]
["МЦКДМ",7423024076,399172,1110000006,"МЦКДМ"]
["МЦОУ",3801091245,128,2010241700,"МЦОУ"]
["НГСС",7123008877,203976,2010230945,"НГСС"]
["НЗХК-Инжиниринг",5410027319,69,2010230209,"НЗХК-Инжиниринг"]
["НИЦАЭС",5019021966,314,2010670100,"НИЦАЭС"]
["Нововоронежская АЭС – Авто",3651008478,293,2010590310,"Нововоронежская АЭС – Авто"]
["НП-Атом",7734667104,225805,2010403000,"НП-Атом"]
["НПП НАНОЭЛЕКТРО",7734653790,204504,2010402000,"НПП НАНОЭЛЕКТРО"]
["Объединенные урановые предприятия",7705849332,26,2010021000,"Объединенные урановые предприятия",null,null,null,null,"Да"]
["ОКБ КИПиА ГХК",2452044014,462826,3020060000,"ОКБ КИПиА ГХК"]
["ОКТБ ИС",5047125572,215147,2010730000,"ОКТБ ИС"]
["ООО АРАКО",7817323763,222715,2010231022,"ООО АРАКО"]
["Опыт",5036035447,"149639",5036035447,"Опыт"]
["Оргстройпроект",3801069786,40,2010170000,"Оргстройпроект"]
["ПЗМсервис",1001156891,187796,2010242630,"ПЗМсервис"]
["ПНФ Термоксид",6609000583,99018,2010592300,"ПНФ Термоксид"]
["Прибор-сервис(СХК)",7024034587,208961,2010780800,"Прибор-сервис(СХК)"]
["Прибор-Сервис(ЧМЗ)",1837005119,81,2010230310,"Прибор-Сервис(ЧМЗ)"]
["Промпарксервис",3329065342,202477,2010440400,"Промпарксервис"]
["ПРЭХ ГХК",2452040122,337037,3020050000,"ПРЭХ ГХК"]
["ПЭС",7530012639,168317,2010230407,"ПЭС"]
["РАС-Менеджмент",7736554699,356,2010230935,"РАС-Менеджмент"]
["РБМ-Казахстан",70540003292,252,2010020601,"РБМ-Казахстан"]
["РМЗ",7530012660,168307,2010230408,"РМЗ"]
["РМЗ ГХК",2452201891,299816,3020040000,"РМЗ ГХК"]
["РР-Энергия",7726704313,293674,2010960000,"РР-Энергия"]
["СаровГаз",5254082542,36,2010150400,"СаровГаз"]
["САЭС-Сервис",6724008661,295,2010590315,"САЭС-Сервис"]
["СибРегионПромсервис",7024034570,210989,2010780700,"СибРегионПромсервис"]
["Синий Утёс",7014041634,177085,2010780100,"Синий Утёс"]
["СМК-ЮГ",6143055200,342,2010230930,"СМК-ЮГ"]
["СПЮ ГХК",2452040108,339103,3020000001,"СПЮ ГХК"]
["СМРП ГХК",2452201901,301720,3020000002,"СМРП ГХК"]
["СМУ№1ооо",5260234539,301,2010620100,"СМУ№1ооо",null,null,null,null,"Да"]
["СП Чепца",1837004309,76,2010230305,"СП Чепца"]
["Станкомаш",3329064290,201365,2010440200,"Станкомаш"]
["СТК",7024034001,205297,2010780400,"СТК"]
["Стрельцовский СРТ",7530012491,260,2010230403,"Стрельцовский СРТ"]
["СТС",2452201637,292795,3020000003,"СТС"]
["СЦ Прогресс",3801120337,284648,2010370100,"СЦ Прогресс"]
["СЭСК",5254082581,33,2010150100,"СЭСК"]
["Телевизионный центр",7530003426,259,2010230401,"Телевизионный центр"]
["Телеком ГХК",2452201651,294831,3020000004,"Телеком ГХК"]
["ТЕНЕКС-Логистика",7706607400,117,2010240400,"ТЕНЕКС-Логистика"]
["Технатом",7718160684,136290,2010592201,"Технатом"]
["Техэнерго-ЭХП","7701927935","402234",1051000000,"Техэнерго-ЭХП"]
["Трансэнерго",7423023178,197744,1110020000,"Трансэнерго"]
["Трест САЭМ",7719632308,265,2010230929,"Трест САЭМ"]
["УАТ",1837003150,74,2010230303,"УАТ"]
["УАТ НЗХК",5410153786,65,2010230205,"УАТ НЗХК"]
["УАТ Северск",7024034428,204870,2010781000,"УАТ Северск"]
["УГК-Холдинг",7451382644,399601,1110000002,"УГК-Холдинг"]
["УЖТ",2452201644,294541,3020000005,"УЖТ"]
["УКИПСМ","0253018827",218924,2010590320,"УКИПСМ"]
["УОП и РТ",7530012519,261,2010230404,"УОП и РТ"]
["Уралит",7724228179,239106,1050010000,"Уралит"]
["УЭХК-ТЕЛЕКОМ",6629026082,177696,2010800500,"УЭХК-ТЕЛЕКОМ"]
["Центротех",7805416607,327,2010840500,"Центротех"]
["ЦИРФРИ",7802809705,377574,4011000000,"ЦИРФРИ"]
["ЦКО ООО",5216000193,225731,1150000005,"ЦКО ООО"]
["ЦПТИ",7724779465,203706,2010231400,"ЦПТИ"]
["ЭИЗ",7811411780,178,2010640000,"ЭИЗ"]
["ЭЛЕМАШ-АВТО",5053054827,52,2010230108,"ЭЛЕМАШ-АВТО"]
["ЭЛЕМАШ-МАГНИТ",5053054810,53,2010230109,"ЭЛЕМАШ-МАГНИТ"]
["ЭЛЕМАШ-СТП",5053066854,58,2010230114,"ЭЛЕМАШ-СТП"]
["ЭнергоАвтотранс",5254082648,173052,2010150600,"ЭнергоАвтотранс"]
["Энергоатоминвест",4027055893,169,2010590300,"Энергоатоминвест"]
["Энергоремонт",1837004362,78,2010230307,"Энергоремонт"]
["Энергосервисная компания",7024034594,212643,2010780600,"Энергосервисная компания"]
["ЭНПРАН",7706716631,150158,6080010000,"ЭНПРАН"]
["АСЭ-Финанс",7705762628,154,2010450101,"АСЭ-Финанс",null,null,null,null,null,"Да"]
["Атом-ЖКХ. Полярные Зори",7726656162,168298,2010591312,"Атом-ЖКХ. Полярные Зори",null,null,null,null,null,"Да"]
["Ленатомэнергострой",4714023642,191,2010770000,"Ленатомэнергострой",null,null,null,null,null,"Да"]
["ПЗМ-ТНП",1001169266,187798,2010242660,"ПЗМ-ТНП",null,null,null,null,null,"Да"]
["Точмаш Глазов",1837004980,80,2010230309,"Точмаш Глазов",null,null,null,null,null,"Да"]
["УМПК",7422032148,132635,2010450109,"УМПК",null,null,null,null,null,"Да"]
["АНО ТАР ",4025450383,514998,5500000000,"АНО ТАР "]
[]
["1-НПФ фонд",7724186930,151080,2039000000,"1-НПФ фонд"]
["FAIR GmbH (ФАИР)",99999999,321765,null,"FAIR GmbH (ФАИР)"]
["Nuclear Power Alliance a.s.",1781570,325852,2010450111,"Nuclear Power Alliance a.s."]
["PASEK - stavebni firma spol. s.r.o.",25281607,249010,null,"PASEK - stavebni firma spol. s.r.o."]
["Rosatom Africa (Pty) Ltd","2014/073014/07",374593,null,"Rosatom Africa (Pty) Ltd"]
["Rosatom Asia PTE. LTD","201411806N",374580,null,"Rosatom Asia PTE. LTD"]
["Rosatom Central Europe s.r.o.",3033716,368503,null,"Rosatom Central Europe s.r.o."]
["Rosatom France SARL",804720555,374631,null,"Rosatom France SARL"]
["Tri Alpha Energy, Inc.",22222222,null,null,"Tri Alpha Energy, Inc."]
["Uranium One Australia Pty Ltd.",94057007,null,null,"Uranium One Australia Pty Ltd."]
["А.С.Т.",5254021525,339382,null,"А.С.Т."]
["Ансертэко",7706026412,152124,2010470001,"Ансертэко"]
["Атом-спорт",3801111332,195880,null,"Атом-спорт"]
["Атомстройинвест",7705570531,275,2010450106,"Атомстройинвест"]
["АЭС Северо-Запад",7801268130,354,2010591302,"АЭС Северо-Запад"]
["БИТЕХ",5254023547,232664,1150010000,"БИТЕХ"]
["БСУ-1",6639012579,130985,null,"БСУ-1"]
["Взрывиспытания",5040006777,179676,1110000001,"Взрывиспытания"]
["ВНИИЭФ \"ТАНИК\"",5254001945,190718,1150000003,"ВНИИЭФ \"ТАНИК\""]
["Газета \"Город Номер\"",5254021677,203910,1150000001,"Газета \"Город Номер\""]
["Гидроаппарат",5254019396,218326,null,"Гидроаппарат"]
["ГЭМ",5036105172,149666,2010230927,"ГЭМ"]
["Иж-Астро",1831010987,176484,2010230350,"Иж-Астро"]
["Издательская фирма \"Нейва-пресс\"",6629000366,106518,null,"Издательская фирма \"Нейва-пресс\""]
["Квантовые технологии",5018049479,267200,1150070000,"Квантовые технологии"]
["Компания  ЦАУ",2076748,493609,null,"Компания  ЦАУ"]
["Кривское",4003003825,241159,null,"Кривское"]
["МА Титан",6607000411,153566,2010470002,"МА Титан"]
["МХО ИАЭ",7724180826,150448,1020000001,"МХО ИАЭ"]
["МЭА",28612007575,413222,null,"МЭА"]
["НПО \"САТИС\"",5254025248,268477,null,"НПО \"САТИС\""]
["НПП Термотекс",5029040598,112469,2010800001,"НПП Термотекс"]
["НТА \"Актис\"",4025004928,123943,null,"НТА \"Актис\""]
["Нуклеарконтроль",7726030128,116016,null,"Нуклеарконтроль"]
["ООО «РОСАТОМ ВЕ»",39255244,null,null,"ООО «РОСАТОМ ВЕ»"]
["Прогресс",5037004040,125227,null,"Прогресс"]
["РАДЭФ",5254483760,243957,null,"РАДЭФ"]
["РАОТЕХ",7719202457,113700,2010591802,"РАОТЕХ"]
["Редметсервис",7717036589,232705,null,"Редметсервис"]
["РОСАТОМ ЛАТИНСКАЯ АМЕРИКА",44444444,409317,null,"РОСАТОМ ЛАТИНСКАЯ АМЕРИКА"]
["САРОВ-ВОЛГОГАЗ",5254026273,125783,1150000004,"САРОВ-ВОЛГОГАЗ"]
["Сервис",7423022400,435251,1110010000,"Сервис"]
["СКЭМ",2312032555,151528,2010230950,"СКЭМ"]
["СЭлС",5406222395,238604,1080000001,"СЭлС"]
["ТД ГЭМ-Белгород",3123283361,243820,null,"ТД ГЭМ-Белгород"]
["Титан",5254018339,null,null,"Титан"]
["ТОО «Росатом Центральная Азия»",141240022860,397923,null,"ТОО «Росатом Центральная Азия»"]
["Триада",7825436390,116291,2010591700,"Триада"]
["ФБВТ",7703530990,233992,null,"ФБВТ"]
["ФРЗТ",6600001442,217382,null,"ФРЗТ"]
["ЦИМТ",7722816908,null,null,"ЦИМТ"]
["ЭКОцентр",7405003891,123489,null,"ЭКОцентр"]
["ЭЛЕМАШ-ЭНЕРГО",5053020289,150821,null,"ЭЛЕМАШ-ЭНЕРГО"]
[]
["ЭКА",5054002290,109132,4061000000,"ЭКА"]
["КП",5254482357,203903,1150040000,"КП"]
[]
["ЧУ ЦТРПЭ",7706414704,96799,5100000000,"ЧУ ЦТРПЭ",null,null," "]
["ЧУ СГИК",7705096054,96825,5090000000,"ЧУ СГИК"]
["ЧУ ЦАА",5029133115,96981,5150000000,"ЧУ ЦАА"]
["ЧУ ПЦИТЭР",7734269417,204687,5160000000,"ЧУ ПЦИТЭР"]
["ЧУ ПРОРЫВ",7726485277,292959,5170000000,"ЧУ ПРОРЫВ"]
["ЧУ ОЦКС",7706470770,293823,5120000000,"ЧУ ОЦКС"]
["ЧУ ИКЦ",7725351697,318855,5180000000,"ЧУ ИКЦ"]
["ЧУ Атомстандарт",7706416170,386744,5190000000,"ЧУ Атомстандарт"]
["ЧУ СКЦ Росатома",7706445460,481198,5210000000,"ЧУ СКЦ Росатома"]
["ЧУ Атом-ТОР",7706422695,409863,5110000000,"ЧУ Атом-ТОР"]
["ЧУ РМС",7706471614,379434,2010980001,"ЧУ РМС"]
["АНО КАР",7706470787,293828,6100000000,"АНО КАР"]
[]
[" СП УКРТВС",5259007884,96762,2010260000," СП УКРТВС"]
["AFEX COMPANY","081158 C2/GBL",0,2010021110,"AFEX COMPANY"]
["ALVEL",29305322,227317,2010230008,"ALVEL"]
["Fennovoima Oy","2125678-5",299332,2010941000,"Fennovoima Oy"]
["GLADSTONE PTE. LTD.","201131275K",262246,2010022200,"GLADSTONE PTE. LTD."]
["HVCom",27607542,0,2010231914,"HVCom"]
["IES-EnergoStroyEngineering S.A.R.L.",152053,219339,2010230145,"IES-EnergoStroyEngineering S.A.R.L."]
["SWA URANIUM MINES (PTY) LIMITED","2008/0152",0,2010935100,"SWA URANIUM MINES (PTY) LIMITED"]
["Topmax ","IC/2077/09",203589,2010231016,"Topmax "]
["АО \"СП \"Акбастау\"",61140001976,0,2010024000,"АО \"СП \"Акбастау\""]
["АО \"СП \"Заречное\"",30140000870,0,2010025000,"АО \"СП \"Заречное\""]
["Атомэнерго",7801031451,138745,2010720001,"Атомэнерго"]
["АТОМЭНЕРГОПРОМ (Киев)",34544144,0,2010230946,"АТОМЭНЕРГОПРОМ (Киев)"]
["Бирюза-М",7737054177,0,2010410100,"Бирюза-М"]
["ВАЭС",3666092377,123734,2010591315,"ВАЭС"]
["ВНИИЭФ-Конверсия ",5254488969,125773,1150000018,"ВНИИЭФ-Конверсия "]
["Гардеа","CZ26426129",0,2012309000,"Гардеа"]
["Е4-ЦЭМ",7710111808,135217,2010230951,"Е4-ЦЭМ"]
["ЗАО \"Технопарк \"Саров\"",5216017398,210166,4150000001,"ЗАО \"Технопарк \"Саров\""]
["ЗиО-Хим Энерго АД ИК",131568201,0,2010230992,"ЗиО-Хим Энерго АД ИК"]
["ЗПЯТ",37705342,225000,2010261000,"ЗПЯТ"]
["Интерфакс-АЭИ",7710667017,202315,2010590350,"Интерфакс-АЭИ"]
["Казатомпром-Демеу",50341007567,140856,2010022300,"Казатомпром-Демеу"]
["КРЮЯ",1434034068,152476,2010020001,"КРЮЯ"]
["Люмпекс",7622009820,233965,2010471000,"Люмпекс"]
["МК ЧМЗ",1837004725,0,2010230308,"МК ЧМЗ"]
["МосСАЭМ",7716099522,97331,2010000001,"МосСАЭМ"]
["НКМ",7727703094,0,2030000000,"НКМ"]
["НПО «Энергоатоминвент» ",7825111650,0,2036000000,"НПО «Энергоатоминвент» "]
["Нуклид-Транс",7728055167,150660,4041000000,"Нуклид-Транс"]
["ОЦНТ",4025068978,123982,4042000000,"ОЦНТ"]
["РИТВЕРЦ",7802001185,149881,4012000000,"РИТВЕРЦ"]
["РПД  Радуга",3305015705,238783,2010240610,"РПД  Радуга"]
["СКУ- атом",7734578729,208919,2010660101,"СКУ- атом"]
["СОИСК",5254026121,218931,4050010000,"СОИСК"]
["СП ООО \"СКС\"",5410118502,0,1083000000,"СП ООО \"СКС\""]
["Спецмонтажмеханизация",7724073006,137240,2010000009,"Спецмонтажмеханизация"]
["Стерион",7777777777,0,2010921000,"Стерион"]
["ТАЭМ",6916014919,352,2010230931,"ТАЭМ"]
["ТОО \"Кызылкум\"",50540001926,0,2010445000,"ТОО \"Кызылкум\""]
["ТОО \"СКЗ-Пирит\"",111140017365,0,2010234924,"ТОО \"СКЗ-Пирит\""]
["Трекмарк","Трекмарк",0,2038000000,"Трекмарк"]
["УАТГАЗ",7724207203,150470,2010010001,"УАТГАЗ"]
["Хладици Веже - Восток",7704673647,0,2010230926,"Хладици Веже - Восток"]
["Хладици Веже Прага - Киев",345316526598,0,2010232914,"Хладици Веже Прага - Киев"]
["Цеолиты Забайкалья",7536124177,"493593",2010230450,"Цеолиты Забайкалья"]
["Элегаз-Конверсия",7721114871,219346,1150000002,"Элегаз-Конверсия"]
["ЮУрСЦУ",7415020430,267498,1111000000,"ЮУрСЦУ"]
["Rosatom Middle East and North Africa FZ-LLC",93390,0,2010980011,"Rosatom Middle East and North Africa FZ-LLC"]
["Uranium One Netherlands B.V.",820882343,0,2010980021,"Uranium One Netherlands B.V."]
["Uranium One Amsterdam B.V.",822602155,0,2010021601,"Uranium One Amsterdam B.V."]
["Uranium One Holland B.V. ",822602271,0,2010021801,"Uranium One Holland B.V. "]
["Uranium One Rotterdam B.V.",854092158,0,2010021610,"Uranium One Rotterdam B.V."]
["Uranium One Utrecht B.V.",854092419,0,2010321660,"Uranium One Utrecht B.V."]
["Rosatom East Asia (Beijing) Consulting Co. Ltd.",1300003333,0,2010021210,"Rosatom East Asia (Beijing) Consulting Co. Ltd."]
["РадонИТ",5042142655,0,3112000000,"РадонИТ"]
["Uranium One Technical Services (Pty) Ltd",9338919179,0,2010221660,"Uranium One Technical Services (Pty) Ltd"]
["UrAsia Energy Holdings Ltd. s.a.r.l.",20092431534,0,2010521660,"UrAsia Energy Holdings Ltd. s.a.r.l."]
["ТОО \"Казахстанская Инвестиционная Группа \"Астана\"",30840004162,0,2010621660,"ТОО \"Казахстанская Инвестиционная Группа \"Астана\""]
["ROSATOM NORTH AMERICA LLC","36-4822984",0,2010021410,"ROSATOM NORTH AMERICA LLC"]
["UrAsia Energy (U.S.A.) Holdings Inc.","74-3179319",0,2010721660,"UrAsia Energy (U.S.A.) Holdings Inc."]
["Uranium One Ticaboo Inc.","74-3235859",0,2010821660,"Uranium One Ticaboo Inc."]
["UrAsia London Limited","820215260 (the Netherlands)",0,2010921660,"UrAsia London Limited"]
["Deanco Limited","820223463 (the Netherlands)",0,2011221660,"Deanco Limited"]
["URN Resources Inc.","90-0288451",0,2011321660,"URN Resources Inc."]
["Rosatom South Asia Marketing (India) Private Limited","AAHCR5543B",0,2010021710,"Rosatom South Asia Marketing (India) Private Limited"]
["Christina Investments Limited","N/A - BVI",0,2011421660,"Christina Investments Limited"]
["Интерстрой","Интерстрой",0,4015000000,"Интерстрой"]